{"text_format":"1","workbook":"xlsx","n_sheets":13,"sheets":["Dagbok","Kontoplan","Register","VRFORMEL.XLS","regformel","Utplukk","Årsoppgjer","Nær.spes","MVA","Rapport","NØK","SKATT","Oppdat"],"not_rendered":{"charts":0,"images":11,"macros":1,"external_links":1,"defined_names":173,"comments":3,"pivot_tables":0},"unopened":[],"bounds":{"document_bytes":16777216,"sheet_cells":100000,"rows_first":2000,"rows_last":500,"rows_between":2000,"halvings":0,"cell_chars":16384,"cell_head_chars":4096},"cells_cut":0,"cells_raw":0,"read":"whole","date_system":"1900"}

{"sheet":"Dagbok","index":0,"n_rows":2500,"n_cols":32,"rows_kept":2500,"cut":false,"hidden":false,"merged":[]}
[null,null,"Dagbok  2022",null,{"$f":"Årsoppgjer!F3","v":"test"},null,null,null,null,null,null,null,null,null,null,"Sortert dagbok  2022",null,{"$f":"E1","v":"test"}]
[null,null,null,{"$f":"IF(E2+F2>0,\"DIFFERANSE\",IF(E2+F2<0,\"DIFFERANSE\",))","v":0},{"$f":"ROUND(E4-VRFORMEL.XLS!B8,)","v":0},{"$f":"ROUND(F4-VRFORMEL.XLS!C8,)","v":0},null,null,null,null,null,null,null,null,null,null,{"$f":"D2","v":0},{"$f":"E2","v":0},{"$f":"F2","v":0}]
["fakt. dato","bilag nummer","konto","bilagtekst","utgift","inntekt","kunde lev.nr","betal. dato","bet-kode","faktura sum","betaling sum","kunde/lev.-namn",null,"fakt. dato","bilag nummer","konto","bilagtekst","utgift","inntekt","inng mva","utg mva","netto utg","netto innt","UtgSum kt ","InntSum kt"]
[null,null,null,"ÅRSSUM  2022",{"$f":"SUM(E5:E2500)","v":36000},{"$f":"SUM(F5:F2500)","v":180000},null,null,"Driftskontosaldo:",{"$f":"VRFORMEL.XLS!F5","v":108000},"Privatkt:",{"$f":"regformel!D609+VRFORMEL.XLS!B6","v":0},1,null,null,null,"ÅRSSUM  2022",{"$f":"SUM(R5:R2500)","v":36000},180000,7200,36000,28800,144000,28800,144000,null,1079,"Feil kontonummer !",null,null,"utg","innt"]
[null,{"$f":"IF(A5>0,B4+1,)","v":0},null,{"$f":"IF(C5=0,,VLOOKUP(C5,$AA$4:$AB$320,2))","v":0},null,null,null,{"$f":"A5","v":"00:00:00"},{"$f":"IF(H5>0,\"d\",)","v":0},{"$f":"E5*-1+F5","v":0},{"$f":"IF(AND(A5>0,H5>0),J5*-1,)","v":0},{"$f":"IF(AND(J5=0,K5=0),,IF(G5=0,\"KUNDE/LEV NR ?\",VLOOKUP(G5,Register!$K$1:$L$618,2)))","v":0},{"$f":"IF(ISNUMBER(A5+B5+E5+F5+G5+H5+J5+K5),A5+B5+E5+F5+G5+H5+J5+K5,\"FEIL\")","v":0},"2023-02-01",1,3000,"Salsinntekt og uttak, avg.pliktig",null,180000,{"$f":"R5-V5","v":0},{"$f":"S5-W5","v":36000},{"$f":"IF(R5=0,,R5/(1+VLOOKUP(P5,$AC$5:$AD$362,2)))","v":0},{"$f":"IF(S5=0,,S5/(1+VLOOKUP(P5,$AC$5:$AD$362,2)))","v":144000},{"$f":"IF(P5=0,,IF(P5=P6,,VLOOKUP(P5,$AC$5:$AE$364,3)))","v":0},{"$f":"IF(P5=0,,IF(P5=P6,,VLOOKUP(P5,$AC$5:$AF$362,4)))","v":144000},null,1080,{"$f":"Kontoplan!C3","v":"Goodwill (saldogruppe b)"},1080,0,{"$f":"VRFORMEL.XLS!G9","v":0}]
[null,0,null,0,null,null,null,"00:00:00",0,0,0,{"$f":"IF(AND(J6=0,K6=0),,IF(G6=0,\"KUNDE/LEV NR ?\",VLOOKUP(G6,Register!$K$1:$L$618,2)))","v":0},{"$f":"IF(ISNUMBER(A6+B6+E6+F6+G6+H6+J6+K6),A6+B6+E6+F6+G6+H6+J6+K6,\"FEIL\")","v":0},"2023-04-01",2,4005,"Varekostnad",36000,null,{"$f":"R6-V6","v":7200},{"$f":"S6-W6","v":0},28800,0,28800,0,null,1081,"Feil kontonummer !",1105,0.25,{"$f":"VRFORMEL.XLS!G10","v":0}]
[null,0,null,0,null,null,null,"00:00:00",0,0,0,{"$f":"IF(AND(J7=0,K7=0),,IF(G7=0,\"KUNDE/LEV NR ?\",VLOOKUP(G7,Register!$K$1:$L$618,2)))","v":0},{"$f":"IF(ISNUMBER(A7+B7+E7+F7+G7+H7+J7+K7),A7+B7+E7+F7+G7+H7+J7+K7,\"FEIL\")","v":0},null,0,null,0,null,null,0,0,0,0,0,0,null,1104,"Feil kontonummer !",1106,0,{"$f":"VRFORMEL.XLS!G11","v":0}]
[null,0,null,0,null,null,null,"00:00:00",0,0,0,{"$f":"IF(AND(J8=0,K8=0),,IF(G8=0,\"KUNDE/LEV NR ?\",VLOOKUP(G8,Register!$K$1:$L$618,2)))","v":0},0,null,0,null,0,null,null,0,0,0,0,0,0,null,1105,{"$f":"Kontoplan!C4","v":"Forretningsbygg (saldogr i)"},1107,0,null,{"$f":"VRFORMEL.XLS!H12","v":0}]
[null,0,null,0,null,null,null,"00:00:00",0,0,0,{"$f":"IF(AND(J9=0,K9=0),,IF(G9=0,\"KUNDE/LEV NR ?\",VLOOKUP(G9,Register!$K$1:$L$618,2)))","v":0},0,null,0,null,0,null,null,0,0,0,0,0,0,null,1106,{"$f":"Kontoplan!C5","v":"Forretningsbygg (s.gr i), avg.fritt"},1115,0.25,{"$f":"VRFORMEL.XLS!G13","v":0}]
[null,0,null,0,null,null,null,"00:00:00",0,0,0,{"$f":"IF(AND(J10=0,K10=0),,IF(G10=0,\"KUNDE/LEV NR ?\",VLOOKUP(G10,Register!$K$1:$L$618,2)))","v":0},0,null,0,null,0,null,null,0,0,0,0,0,0,null,1107,{"$f":"Kontoplan!C6","v":"Sal av forretningsbygg (s.gr i)"},1116,0,{"$f":"VRFORMEL.XLS!G14","v":0}]
[null,0,null,0,null,null,null,"00:00:00",0,0,0,{"$f":"IF(AND(J11=0,K11=0),,IF(G11=0,\"KUNDE/LEV NR ?\",VLOOKUP(G11,Register!$K$1:$L$618,2)))","v":0},0,null,0,null,0,null,null,0,0,0,0,0,0,null,1108,"Feil kontonummer !",1117,0,null,{"$f":"VRFORMEL.XLS!H15","v":0}]
[null,0,null,0,null,null,null,"00:00:00",0,0,0,{"$f":"IF(AND(J12=0,K12=0),,IF(G12=0,\"KUNDE/LEV NR ?\",VLOOKUP(G12,Register!$K$1:$L$618,2)))","v":0},0,null,0,null,0,null,null,0,0,0,0,0,0,null,1114,"Feil kontonummer !",1118,0,null,{"$f":"VRFORMEL.XLS!H16","v":0}]
["2023-02-01",{"$f":"IF(A13>0,B12+1,)","v":1},3000,{"$f":"IF(C13=0,,VLOOKUP(C13,$AA$4:$AB$320,2))","v":"Salsinntekt og uttak, avg.pliktig"},null,180000,2,{"$f":"A13","v":"2023-02-01"},{"$f":"IF(H13>0,\"d\",)","v":"d"},{"$f":"E13*-1+F13","v":180000},{"$f":"IF(AND(A13>0,H13>0),J13*-1,)","v":-180000},{"$f":"IF(AND(J13=0,K13=0),,IF(G13=0,\"KUNDE/LEV NR ?\",VLOOKUP(G13,Register!$K$1:$L$618,2)))","v":"Arne Arnesen"},269919,null,0,null,0,null,null,0,0,0,0,0,0,null,1115,{"$f":"Kontoplan!C7","v":"Bygg og anlegg,(saldogr h)"},1120,0.25,{"$f":"VRFORMEL.XLS!G17","v":0}]
["2023-04-01",{"$f":"IF(A14>0,B13+1,)","v":2},4005,{"$f":"IF(C14=0,,VLOOKUP(C14,$AA$4:$AB$320,2))","v":"Varekostnad"},36000,null,301,{"$f":"A14","v":"2023-04-01"},{"$f":"IF(H14>0,\"d\",)","v":"d"},{"$f":"E14*-1+F14","v":-36000},{"$f":"IF(AND(A14>0,H14>0),J14*-1,)","v":36000},{"$f":"IF(AND(J14=0,K14=0),,IF(G14=0,\"KUNDE/LEV NR ?\",VLOOKUP(G14,Register!$K$1:$L$618,2)))","v":"Jernia"},126337,null,0,null,0,null,null,{"$f":"R14-V14","v":0},{"$f":"S14-W14","v":0},0,0,0,0,null,1116,{"$f":"Kontoplan!C8","v":"Bygg og anlegg,(s.gr h), avg.fritt"},1121,null,{"$f":"VRFORMEL.XLS!G18","v":0}]
[null,3,null,"Oppgjer av mva",null,null,2740,"2023-04-10","d",0,36000,{"$f":"IF(AND(J15=0,K15=0),,IF(G15=0,\"KUNDE/LEV NR ?\",VLOOKUP(G15,Register!$K$1:$L$618,2)))","v":"Oppgjerskonto mva"},83769,null,3,null,"Oppgjer av mva",null,null,0,0,0,0,0,0,null,1117,{"$f":"Kontoplan!C9","v":"Sal av bygg og anl,(saldogr h)"},1122,null,null,{"$f":"VRFORMEL.XLS!H19","v":0}]
[null,0,null,0,null,null,null,"00:00:00",0,0,0,{"$f":"IF(AND(J16=0,K16=0),,IF(G16=0,\"KUNDE/LEV NR ?\",VLOOKUP(G16,Register!$K$1:$L$618,2)))","v":0},0,null,0,null,0,null,null,0,0,0,0,0,0,null,1118,{"$f":"Kontoplan!C10","v":"Nedskrivingstilskot, bygg/anlegg"},1130,0.25,{"$f":"VRFORMEL.XLS!G20","v":0}]
[null,0,null,0,null,null,null,"00:00:00",0,0,0,{"$f":"IF(AND(J17=0,K17=0),,IF(G17=0,\"KUNDE/LEV NR ?\",VLOOKUP(G17,Register!$K$1:$L$618,2)))","v":0},0,null,0,null,0,null,null,0,0,0,0,0,0,null,1119,"Feil kontonummer !",1131,0,{"$f":"VRFORMEL.XLS!G21","v":0}]
[null,0,null,0,null,null,null,"00:00:00",0,0,0,{"$f":"IF(AND(J18=0,K18=0),,IF(G18=0,\"KUNDE/LEV NR ?\",VLOOKUP(G18,Register!$K$1:$L$618,2)))","v":0},0,null,0,null,0,null,null,0,0,0,0,0,0,null,1120,"Fast teknisk install i bygn.(sgr j)",1132,0,null,{"$f":"VRFORMEL.XLS!H22","v":0}]
[null,0,null,0,null,null,null,"00:00:00",0,0,0,{"$f":"IF(AND(J19=0,K19=0),,IF(G19=0,\"KUNDE/LEV NR ?\",VLOOKUP(G19,Register!$K$1:$L$618,2)))","v":0},0,null,0,null,0,null,null,0,0,0,0,0,0,null,1121,"Fast teknisk install avgiftsfri (sgr j)",1150,0,{"$f":"VRFORMEL.XLS!G23","v":0}]
[null,0,null,0,null,null,null,"00:00:00",0,0,0,{"$f":"IF(AND(J20=0,K20=0),,IF(G20=0,\"KUNDE/LEV NR ?\",VLOOKUP(G20,Register!$K$1:$L$618,2)))","v":0},0,null,0,null,0,null,null,0,0,0,0,0,0,null,1122,"Sal av fast tekn. Install (sgr j)",1151,0,null,{"$f":"VRFORMEL.XLS!H24","v":0}]
[null,0,null,0,null,null,null,"00:00:00",0,0,0,{"$f":"IF(AND(J21=0,K21=0),,IF(G21=0,\"KUNDE/LEV NR ?\",VLOOKUP(G21,Register!$K$1:$L$618,2)))","v":0},0,null,0,null,0,null,null,0,0,0,0,0,0,null,1123,"Feil kontonummer !",1160,0,{"$f":"VRFORMEL.XLS!G25","v":0}]
[null,0,null,0,null,null,null,"00:00:00",0,0,0,{"$f":"IF(AND(J22=0,K22=0),,IF(G22=0,\"KUNDE/LEV NR ?\",VLOOKUP(G22,Register!$K$1:$L$618,2)))","v":0},0,null,0,null,0,null,null,0,0,0,0,0,0,null,1129,"Feil kontonummer !",1161,0,null,{"$f":"VRFORMEL.XLS!H26","v":0}]
[null,0,null,0,null,null,null,"00:00:00",0,0,0,{"$f":"IF(AND(J23=0,K23=0),,IF(G23=0,\"KUNDE/LEV NR ?\",VLOOKUP(G23,Register!$K$1:$L$618,2)))","v":0},0,null,0,null,0,null,null,0,0,0,0,0,0,null,1130,{"$f":"Kontoplan!C14","v":"Bygg og anl under arbeid"},1205,0.25,{"$f":"VRFORMEL.XLS!G27","v":0}]
[null,0,null,0,null,null,null,"00:00:00",0,0,0,{"$f":"IF(AND(J24=0,K24=0),,IF(G24=0,\"KUNDE/LEV NR ?\",VLOOKUP(G24,Register!$K$1:$L$618,2)))","v":0},0,null,0,null,0,null,null,0,0,0,0,0,0,null,1131,{"$f":"Kontoplan!C15","v":"Bygg og anl under arb, avg.fritt"},1206,0,{"$f":"VRFORMEL.XLS!G28","v":0}]
[null,0,null,0,null,null,null,"00:00:00",0,0,0,{"$f":"IF(AND(J25=0,K25=0),,IF(G25=0,\"KUNDE/LEV NR ?\",VLOOKUP(G25,Register!$K$1:$L$618,2)))","v":0},0,null,0,null,0,null,null,0,0,0,0,0,0,null,1132,{"$f":"Kontoplan!C16","v":"Nedskrivingstilskot, bygg/anl.u.arb"},1207,0.25,null,{"$f":"VRFORMEL.XLS!H29","v":0}]
[null,0,null,0,null,null,null,"00:00:00",0,0,0,{"$f":"IF(AND(J26=0,K26=0),,IF(G26=0,\"KUNDE/LEV NR ?\",VLOOKUP(G26,Register!$K$1:$L$618,2)))","v":0},0,null,0,null,0,null,null,0,0,0,0,0,0,null,1133,"Feil kontonummer !",1208,0,null,{"$f":"VRFORMEL.XLS!H30","v":0}]
[null,0,null,0,null,null,null,"00:00:00",0,0,0,{"$f":"IF(AND(J27=0,K27=0),,IF(G27=0,\"KUNDE/LEV NR ?\",VLOOKUP(G27,Register!$K$1:$L$618,2)))","v":0},0,null,0,null,0,null,null,0,0,0,0,0,0,null,1149,"Feil kontonummer !",1239,0.25,{"$f":"VRFORMEL.XLS!G31","v":0}]
[null,0,null,0,null,null,null,"00:00:00",0,0,0,{"$f":"IF(AND(J28=0,K28=0),,IF(G28=0,\"KUNDE/LEV NR ?\",VLOOKUP(G28,Register!$K$1:$L$618,2)))","v":0},0,null,0,null,0,null,null,0,0,0,0,0,0,null,1150,{"$f":"Kontoplan!C17","v":"Tomter og andre grunnareal"},1240,0,{"$f":"VRFORMEL.XLS!G32","v":0}]
[null,0,null,0,null,null,null,"00:00:00",0,0,0,{"$f":"IF(AND(J29=0,K29=0),,IF(G29=0,\"KUNDE/LEV NR ?\",VLOOKUP(G29,Register!$K$1:$L$618,2)))","v":0},0,null,0,null,0,null,null,0,0,0,0,0,0,null,1151,{"$f":"Kontoplan!C18","v":"Sal av grunnareal"},1241,0,null,{"$f":"VRFORMEL.XLS!H33","v":0}]
[null,0,null,0,null,null,null,"00:00:00",0,0,0,{"$f":"IF(AND(J30=0,K30=0),,IF(G30=0,\"KUNDE/LEV NR ?\",VLOOKUP(G30,Register!$K$1:$L$618,2)))","v":0},0,null,0,null,0,null,null,0,0,0,0,0,0,null,1152,"Feil kontonummer !",1242,0.25,{"$f":"VRFORMEL.XLS!G34","v":0}]
[null,0,null,0,null,null,null,"00:00:00",0,0,0,{"$f":"IF(AND(J31=0,K31=0),,IF(G31=0,\"KUNDE/LEV NR ?\",VLOOKUP(G31,Register!$K$1:$L$618,2)))","v":0},0,null,0,null,0,null,null,0,0,0,0,0,0,null,1159,"Feil kontonummer !",1243,null,{"$f":"VRFORMEL.XLS!G35","v":0}]
[null,0,null,0,null,null,null,"00:00:00",0,0,0,{"$f":"IF(AND(J32=0,K32=0),,IF(G32=0,\"KUNDE/LEV NR ?\",VLOOKUP(G32,Register!$K$1:$L$618,2)))","v":0},0,null,0,null,0,null,null,0,0,0,0,0,0,null,1160,{"$f":"Kontoplan!C19","v":"Bustad inkl tomter, hytter"},1244,null,null,{"$f":"VRFORMEL.XLS!H36","v":0}]
[null,0,null,0,null,null,null,"00:00:00",0,0,0,{"$f":"IF(AND(J33=0,K33=0),,IF(G33=0,\"KUNDE/LEV NR ?\",VLOOKUP(G33,Register!$K$1:$L$618,2)))","v":0},0,null,0,null,0,null,null,0,0,0,0,0,0,null,1161,{"$f":"Kontoplan!C20","v":"Sal av bustad o.l."},1280,0.25,{"$f":"VRFORMEL.XLS!G37","v":0}]
[null,0,null,0,null,null,null,"00:00:00",0,0,0,{"$f":"IF(AND(J34=0,K34=0),,IF(G34=0,\"KUNDE/LEV NR ?\",VLOOKUP(G34,Register!$K$1:$L$618,2)))","v":0},0,null,0,null,0,null,null,0,0,0,0,0,0,null,1162,"Feil kontonummer !",1281,0,{"$f":"VRFORMEL.XLS!G38","v":0}]
[null,0,null,0,null,null,null,"00:00:00",0,0,0,{"$f":"IF(AND(J35=0,K35=0),,IF(G35=0,\"KUNDE/LEV NR ?\",VLOOKUP(G35,Register!$K$1:$L$618,2)))","v":0},0,null,0,null,0,null,null,0,0,0,0,0,0,null,1204,"Feil kontonummer !",1282,0.25,null,{"$f":"VRFORMEL.XLS!H39","v":0}]
[null,0,null,0,null,null,null,"00:00:00",0,0,0,{"$f":"IF(AND(J36=0,K36=0),,IF(G36=0,\"KUNDE/LEV NR ?\",VLOOKUP(G36,Register!$K$1:$L$618,2)))","v":0},0,null,0,null,0,null,null,0,0,0,0,0,0,null,1205,{"$f":"Kontoplan!C21","v":"Maskiner, (saldogruppe d)"},1295,0.25,{"$f":"VRFORMEL.XLS!G40","v":0}]
[null,0,null,0,null,null,null,"00:00:00",0,0,0,{"$f":"IF(AND(J37=0,K37=0),,IF(G37=0,\"KUNDE/LEV NR ?\",VLOOKUP(G37,Register!$K$1:$L$618,2)))","v":0},0,null,0,null,0,null,null,0,0,0,0,0,0,null,1206,{"$f":"Kontoplan!C22","v":"Maskiner,(saldogruppe d), avgfri"},1299,0,{"$f":"VRFORMEL.XLS!G41","v":0}]
[null,0,null,0,null,null,null,"00:00:00",0,0,0,{"$f":"IF(AND(J38=0,K38=0),,IF(G38=0,\"KUNDE/LEV NR ?\",VLOOKUP(G38,Register!$K$1:$L$618,2)))","v":0},0,null,0,null,0,null,null,0,0,0,0,0,0,null,1207,{"$f":"Kontoplan!C23","v":"Sal av maskiner (saldogr d)"},2051,null,{"$f":"VRFORMEL.XLS!B159","v":0}]
[null,0,null,0,null,null,null,"00:00:00",0,0,0,{"$f":"IF(AND(J39=0,K39=0),,IF(G39=0,\"KUNDE/LEV NR ?\",VLOOKUP(G39,Register!$K$1:$L$618,2)))","v":0},0,null,0,null,0,null,null,0,0,0,0,0,0,null,1208,"Avg.fritt sal av maskiner (gr d)",2052,null,{"$f":"VRFORMEL.XLS!B160","v":0}]
[null,0,null,0,null,null,null,"00:00:00",0,0,0,{"$f":"IF(AND(J40=0,K40=0),,IF(G40=0,\"KUNDE/LEV NR ?\",VLOOKUP(G40,Register!$K$1:$L$618,2)))","v":0},0,null,0,null,0,null,null,0,0,0,0,0,0,null,1209,"Feil kontonummer !",2054,null,null,{"$f":"VRFORMEL.XLS!C161","v":0}]
[null,0,null,0,null,null,null,"00:00:00",0,0,0,{"$f":"IF(AND(J41=0,K41=0),,IF(G41=0,\"KUNDE/LEV NR ?\",VLOOKUP(G41,Register!$K$1:$L$618,2)))","v":0},0,null,0,null,0,null,null,0,0,0,0,0,0,null,1238,"Feil kontonummer !",2056,null,{"$f":"VRFORMEL.XLS!B162","v":0}]
[null,0,null,0,null,null,null,"00:00:00",0,0,0,{"$f":"IF(AND(J42=0,K42=0),,IF(G42=0,\"KUNDE/LEV NR ?\",VLOOKUP(G42,Register!$K$1:$L$618,2)))","v":0},0,null,0,null,0,null,null,0,0,0,0,0,0,null,1239,{"$f":"Kontoplan!C25","v":"Vare-, lastebilar, bussar mv  (saldogr c)"},2058,null,{"$f":"VRFORMEL.XLS!B163","v":0}]
[null,0,null,0,null,null,null,"00:00:00",0,0,0,{"$f":"IF(AND(J43=0,K43=0),,IF(G43=0,\"KUNDE/LEV NR ?\",VLOOKUP(G43,Register!$K$1:$L$618,2)))","v":0},0,null,0,null,0,null,null,0,0,0,0,0,0,null,1240,{"$f":"Kontoplan!C26","v":"Vare-, lastebilar, (s.gr c), avg.fritt"},2059,null,{"$f":"VRFORMEL.XLS!B164","v":0}]
[null,0,null,0,null,null,null,"00:00:00",0,0,0,{"$f":"IF(AND(J44=0,K44=0),,IF(G44=0,\"KUNDE/LEV NR ?\",VLOOKUP(G44,Register!$K$1:$L$618,2)))","v":0},0,null,0,null,0,null,null,0,0,0,0,0,0,null,1241,{"$f":"Kontoplan!C27","v":"Sal av varebilar mv (saldogr c)"},2063,null,{"$f":"VRFORMEL.XLS!B165","v":0}]
[null,0,null,0,null,null,null,"00:00:00",0,0,0,{"$f":"IF(AND(J45=0,K45=0),,IF(G45=0,\"KUNDE/LEV NR ?\",VLOOKUP(G45,Register!$K$1:$L$618,2)))","v":0},0,null,0,null,0,null,null,0,0,0,0,0,0,null,1242,{"$f":"Kontoplan!C28","v":"Varebilar med nullutslepp (sgr c)"},2064,null,{"$f":"VRFORMEL.XLS!B166","v":0}]
[null,0,null,0,null,null,null,"00:00:00",0,0,0,{"$f":"IF(AND(J46=0,K46=0),,IF(G46=0,\"KUNDE/LEV NR ?\",VLOOKUP(G46,Register!$K$1:$L$618,2)))","v":0},0,null,0,null,0,null,null,0,0,0,0,0,0,null,1243,{"$f":"Kontoplan!C29","v":"Varebilar med nullutsl (sgr c) avg.fritt"},2067,null,{"$f":"VRFORMEL.XLS!B167","v":0}]
[null,0,null,0,null,null,null,"00:00:00",0,0,0,{"$f":"IF(AND(J47=0,K47=0),,IF(G47=0,\"KUNDE/LEV NR ?\",VLOOKUP(G47,Register!$K$1:$L$618,2)))","v":0},0,null,0,null,0,null,null,0,0,0,0,0,0,null,1244,{"$f":"Kontoplan!C30","v":"Sal av vareb.m.nullutslepp (sgr c)"},2068,null,{"$f":"VRFORMEL.XLS!B168","v":0}]
[null,0,null,0,null,null,null,"00:00:00",0,0,0,{"$f":"IF(AND(J48=0,K48=0),,IF(G48=0,\"KUNDE/LEV NR ?\",VLOOKUP(G48,Register!$K$1:$L$618,2)))","v":0},0,null,0,null,0,null,null,0,0,0,0,0,0,null,1245,"Feil kontonummer !",2072,null,{"$f":"VRFORMEL.XLS!B169","v":0}]
[null,0,null,0,null,null,null,"00:00:00",0,0,0,{"$f":"IF(AND(J49=0,K49=0),,IF(G49=0,\"KUNDE/LEV NR ?\",VLOOKUP(G49,Register!$K$1:$L$618,2)))","v":0},0,null,0,null,0,null,null,0,0,0,0,0,0,null,1279,"Feil kontonummer !",2077,null,{"$f":"VRFORMEL.XLS!B170","v":0}]
[null,0,null,0,null,null,null,"00:00:00",0,0,0,{"$f":"IF(AND(J50=0,K50=0),,IF(G50=0,\"KUNDE/LEV NR ?\",VLOOKUP(G50,Register!$K$1:$L$618,2)))","v":0},0,null,0,null,0,null,null,0,0,0,0,0,0,null,1280,{"$f":"Kontoplan!C31","v":"Kontormaskiner (saldogr a)"},2078,null,{"$f":"VRFORMEL.XLS!B171","v":0}]
[null,0,null,0,null,null,null,"00:00:00",0,0,0,{"$f":"IF(AND(J51=0,K51=0),,IF(G51=0,\"KUNDE/LEV NR ?\",VLOOKUP(G51,Register!$K$1:$L$618,2)))","v":0},0,null,0,null,0,null,null,0,0,0,0,0,0,null,1281,{"$f":"Kontoplan!C32","v":"Kontormaskiner (s.gr a), avg.fritt"},2096,0,{"$f":"VRFORMEL.XLS!B172","v":0},{"$f":"VRFORMEL.XLS!C42","v":0}]
[null,0,null,0,null,null,null,"00:00:00",0,0,0,{"$f":"IF(AND(J52=0,K52=0),,IF(G52=0,\"KUNDE/LEV NR ?\",VLOOKUP(G52,Register!$K$1:$L$618,2)))","v":0},0,null,0,null,0,null,null,0,0,0,0,0,0,null,1282,{"$f":"Kontoplan!C33","v":"Sal av kontormask. (s.gr a)"},2710,1000000,{"$f":"VRFORMEL.XLS!B43","v":0}]
[null,0,null,0,null,null,null,"00:00:00",0,0,0,{"$f":"IF(AND(J53=0,K53=0),,IF(G53=0,\"KUNDE/LEV NR ?\",VLOOKUP(G53,Register!$K$1:$L$618,2)))","v":0},0,null,0,null,0,null,null,0,0,0,0,0,0,null,1283,"Feil kontonummer !",2711,1000000,{"$f":"VRFORMEL.XLS!B44","v":0}]
[null,0,null,0,null,null,null,"00:00:00",0,0,0,{"$f":"IF(AND(J54=0,K54=0),,IF(G54=0,\"KUNDE/LEV NR ?\",VLOOKUP(G54,Register!$K$1:$L$618,2)))","v":0},0,null,0,null,0,null,null,0,0,0,0,0,0,null,1294,"Feil kontonummer !",2712,1000000,{"$f":"VRFORMEL.XLS!B45","v":0}]
[null,0,null,0,null,null,null,"00:00:00",0,0,0,{"$f":"IF(AND(J55=0,K55=0),,IF(G55=0,\"KUNDE/LEV NR ?\",VLOOKUP(G55,Register!$K$1:$L$618,2)))","v":0},0,null,0,null,0,null,null,0,0,0,0,0,0,null,1295,{"$f":"Kontoplan!C34","v":"Forskotsleige leasing"},3000,0.25,null,{"$f":"VRFORMEL.XLS!H49","v":144000}]
[null,0,null,0,null,null,null,"00:00:00",0,0,0,{"$f":"IF(AND(J56=0,K56=0),,IF(G56=0,\"KUNDE/LEV NR ?\",VLOOKUP(G56,Register!$K$1:$L$618,2)))","v":0},0,null,0,null,0,null,null,0,0,0,0,0,0,null,1296,"Feil kontonummer !",3001,0.25,null,{"$f":"VRFORMEL.XLS!H50","v":0}]
[null,0,null,0,null,null,null,"00:00:00",0,0,0,{"$f":"IF(AND(J57=0,K57=0),,IF(G57=0,\"KUNDE/LEV NR ?\",VLOOKUP(G57,Register!$K$1:$L$618,2)))","v":0},0,null,0,null,0,null,null,0,0,0,0,0,0,null,1298,"Feil kontonummer !",3002,0.25,null,{"$f":"VRFORMEL.XLS!H51","v":0}]
[null,0,null,0,null,null,null,"00:00:00",0,0,0,{"$f":"IF(AND(J58=0,K58=0),,IF(G58=0,\"KUNDE/LEV NR ?\",VLOOKUP(G58,Register!$K$1:$L$618,2)))","v":0},0,null,0,null,0,null,null,0,0,0,0,0,0,null,1299,{"$f":"Kontoplan!C35","v":"Negativ vinst- og tapskonto"},3003,0.25,null,{"$f":"VRFORMEL.XLS!H52","v":0}]
[null,0,null,0,null,null,null,"00:00:00",0,0,0,{"$f":"IF(AND(J59=0,K59=0),,IF(G59=0,\"KUNDE/LEV NR ?\",VLOOKUP(G59,Register!$K$1:$L$618,2)))","v":0},0,null,0,null,0,null,null,0,0,0,0,0,0,null,1300,"Feil kontonummer !",3004,0.25,null,{"$f":"VRFORMEL.XLS!H53","v":0}]
[null,0,null,0,null,null,null,"00:00:00",0,0,0,{"$f":"IF(AND(J60=0,K60=0),,IF(G60=0,\"KUNDE/LEV NR ?\",VLOOKUP(G60,Register!$K$1:$L$618,2)))","v":0},0,null,0,null,0,null,null,0,0,0,0,0,0,null,2050,"Feil kontonummer !",3005,0.15,null,{"$f":"VRFORMEL.XLS!H54","v":0}]
[null,0,null,0,null,null,null,"00:00:00",0,0,0,{"$f":"IF(AND(J61=0,K61=0),,IF(G61=0,\"KUNDE/LEV NR ?\",VLOOKUP(G61,Register!$K$1:$L$618,2)))","v":0},0,null,0,null,0,null,null,0,0,0,0,0,0,null,2051,"Representasjonskostn utan frådr.rett",3050,0.12,null,{"$f":"VRFORMEL.XLS!H55","v":0}]
[null,0,null,0,null,null,null,"00:00:00",0,0,0,{"$f":"IF(AND(J62=0,K62=0),,IF(G62=0,\"KUNDE/LEV NR ?\",VLOOKUP(G62,Register!$K$1:$L$618,2)))","v":0},0,null,0,null,0,null,null,0,0,0,0,0,0,null,2052,"Kontingentar utan frådragsrett",3100,0,null,{"$f":"VRFORMEL.XLS!H56","v":0}]
[null,0,null,0,null,null,null,"00:00:00",0,0,0,{"$f":"IF(AND(J63=0,K63=0),,IF(G63=0,\"KUNDE/LEV NR ?\",VLOOKUP(G63,Register!$K$1:$L$618,2)))","v":0},0,null,0,null,0,null,null,0,0,0,0,0,0,null,2053,"Feil kontonummer !",3200,0,null,{"$f":"VRFORMEL.XLS!H57","v":0}]
[null,0,null,0,null,null,null,"00:00:00",0,0,0,{"$f":"IF(AND(J64=0,K64=0),,IF(G64=0,\"KUNDE/LEV NR ?\",VLOOKUP(G64,Register!$K$1:$L$618,2)))","v":0},0,null,0,null,0,null,null,0,0,0,0,0,0,null,2054,"Skattefrie inntekter",3400,0,null,{"$f":"VRFORMEL.XLS!H58","v":0}]
[null,0,null,0,null,null,null,"00:00:00",0,0,0,{"$f":"IF(AND(J65=0,K65=0),,IF(G65=0,\"KUNDE/LEV NR ?\",VLOOKUP(G65,Register!$K$1:$L$618,2)))","v":0},0,null,0,null,0,null,null,0,0,0,0,0,0,null,2055,"Feil kontonummer !",3410,null,null,{"$f":"VRFORMEL.XLS!H59","v":0}]
[null,0,null,0,null,null,null,"00:00:00",0,0,0,{"$f":"IF(AND(J66=0,K66=0),,IF(G66=0,\"KUNDE/LEV NR ?\",VLOOKUP(G66,Register!$K$1:$L$618,2)))","v":0},0,null,0,null,0,null,null,0,0,0,0,0,0,null,2056,"Innskot av heimekontor",3600,0.25,null,{"$f":"VRFORMEL.XLS!H60","v":0}]
[null,0,null,0,null,null,null,"00:00:00",0,0,0,{"$f":"IF(AND(J67=0,K67=0),,IF(G67=0,\"KUNDE/LEV NR ?\",VLOOKUP(G67,Register!$K$1:$L$618,2)))","v":0},0,null,0,null,0,null,null,0,0,0,0,0,0,null,2057,"Feil kontonummer !",3601,0.12,null,{"$f":"VRFORMEL.XLS!H61","v":0}]
[null,0,null,0,null,null,null,"00:00:00",0,0,0,{"$f":"IF(AND(J68=0,K68=0),,IF(G68=0,\"KUNDE/LEV NR ?\",VLOOKUP(G68,Register!$K$1:$L$618,2)))","v":0},0,null,0,null,0,null,null,0,0,0,0,0,0,null,2058,"Positive eigenkapitalkorr",3602,null,null,{"$f":"VRFORMEL.XLS!H62","v":0}]
[null,{"$f":"IF(A69>0,B68+1,)","v":0},null,{"$f":"IF(C69=0,,VLOOKUP(C69,$AA$4:$AB$320,2))","v":0},null,null,null,{"$f":"A69","v":"00:00:00"},{"$f":"IF(H69>0,\"d\",)","v":0},{"$f":"E69*-1+F69","v":0},{"$f":"IF(AND(A69>0,H69>0),J69*-1,)","v":0},{"$f":"IF(AND(J69=0,K69=0),,IF(G69=0,\"KUNDE/LEV NR ?\",VLOOKUP(G69,Register!$K$1:$L$618,2)))","v":0},0,null,0,null,0,null,null,0,0,{"$f":"IF(R69=0,,R69/(1+VLOOKUP(P69,$AC$5:$AD$362,2)))","v":0},{"$f":"IF(S69=0,,S69/(1+VLOOKUP(P69,$AC$5:$AD$362,2)))","v":0},{"$f":"IF(P69=0,,IF(P69=P70,,VLOOKUP(P69,$AC$5:$AE$364,3)))","v":0},{"$f":"IF(P69=0,,IF(P69=P70,,VLOOKUP(P69,$AC$5:$AF$362,4)))","v":0},null,2059,"Negative eigenkapitalkorr",3695,0,null,{"$f":"VRFORMEL.XLS!H63","v":0}]
[null,0,null,0,null,null,null,"00:00:00",0,0,0,{"$f":"IF(AND(J70=0,K70=0),,IF(G70=0,\"KUNDE/LEV NR ?\",VLOOKUP(G70,Register!$K$1:$L$618,2)))","v":0},0,null,0,null,0,null,null,0,0,0,0,0,0,null,2060,"Feil kontonummer !",3700,0.25,null,{"$f":"VRFORMEL.XLS!H64","v":0}]
[null,0,null,0,null,null,null,"00:00:00",0,0,0,{"$f":"IF(AND(J71=0,K71=0),,IF(G71=0,\"KUNDE/LEV NR ?\",VLOOKUP(G71,Register!$K$1:$L$618,2)))","v":0},{"$f":"IF(ISNUMBER(A71+B71+E71+F71+G71+H71+J71+K71),A71+B71+E71+F71+G71+H71+J71+K71,\"FEIL\")","v":0},null,0,null,0,null,null,0,0,0,0,0,0,null,2062,"Feil kontonummer !",3900,0.25,null,{"$f":"VRFORMEL.XLS!H65","v":0}]
[null,0,null,0,null,null,null,"00:00:00",0,0,0,{"$f":"IF(AND(J72=0,K72=0),,IF(G72=0,\"KUNDE/LEV NR ?\",VLOOKUP(G72,Register!$K$1:$L$618,2)))","v":0},0,null,0,null,0,null,null,0,0,0,0,0,0,null,2063,"Uttak av driftsmidlar",3901,0,null,{"$f":"VRFORMEL.XLS!H66","v":0}]
[null,0,null,0,null,null,null,"00:00:00",0,0,0,{"$f":"IF(AND(J73=0,K73=0),,IF(G73=0,\"KUNDE/LEV NR ?\",VLOOKUP(G73,Register!$K$1:$L$618,2)))","v":0},0,null,0,null,0,null,null,0,0,0,0,0,0,null,2064,"Uttak av varer og tenester",4005,0.25,{"$f":"VRFORMEL.XLS!G73","v":28800}]
[null,0,null,0,null,null,null,"00:00:00",0,0,0,{"$f":"IF(AND(J74=0,K74=0),,IF(G74=0,\"KUNDE/LEV NR ?\",VLOOKUP(G74,Register!$K$1:$L$618,2)))","v":0},0,null,0,null,0,null,null,0,0,0,0,0,0,null,2065,"Feil kontonummer !",4006,0.25,{"$f":"VRFORMEL.XLS!G74","v":0}]
[null,0,null,0,null,null,null,"00:00:00",0,0,0,{"$f":"IF(AND(J75=0,K75=0),,IF(G75=0,\"KUNDE/LEV NR ?\",VLOOKUP(G75,Register!$K$1:$L$618,2)))","v":0},0,null,0,null,0,null,null,0,0,0,0,0,0,null,2066,"Feil kontonummer !",4007,0.25,{"$f":"VRFORMEL.XLS!G75","v":0}]
[null,0,null,0,null,null,null,"00:00:00",0,0,0,{"$f":"IF(AND(J76=0,K76=0),,IF(G76=0,\"KUNDE/LEV NR ?\",VLOOKUP(G76,Register!$K$1:$L$618,2)))","v":0},0,null,0,null,0,null,null,0,0,0,0,0,0,null,2067,"Privat del straum",4008,0.25,{"$f":"VRFORMEL.XLS!G76","v":0}]
[null,0,null,0,null,null,null,"00:00:00",0,0,0,{"$f":"IF(AND(J77=0,K77=0),,IF(G77=0,\"KUNDE/LEV NR ?\",VLOOKUP(G77,Register!$K$1:$L$618,2)))","v":0},0,null,0,null,0,null,null,0,0,0,0,0,0,null,2068,"Feil kontonummer !",4009,0.25,{"$f":"VRFORMEL.XLS!G77","v":0}]
[null,0,null,0,null,null,null,"00:00:00",0,0,0,{"$f":"IF(AND(J78=0,K78=0),,IF(G78=0,\"KUNDE/LEV NR ?\",VLOOKUP(G78,Register!$K$1:$L$618,2)))","v":0},0,null,0,null,0,null,null,{"$f":"R78-V78","v":0},{"$f":"S78-W78","v":0},0,0,0,0,null,2069,"Feil kontonummer !",4010,0,{"$f":"VRFORMEL.XLS!G78","v":0}]
[null,0,null,0,null,null,null,"00:00:00",0,0,0,{"$f":"IF(AND(J79=0,K79=0),,IF(G79=0,\"KUNDE/LEV NR ?\",VLOOKUP(G79,Register!$K$1:$L$618,2)))","v":0},0,null,0,null,0,null,null,0,0,0,0,0,0,null,2071,"Feil kontonummer !",4011,0.15,{"$f":"VRFORMEL.XLS!G79","v":0}]
[null,0,null,0,null,null,null,"00:00:00",0,0,0,{"$f":"IF(AND(J80=0,K80=0),,IF(G80=0,\"KUNDE/LEV NR ?\",VLOOKUP(G80,Register!$K$1:$L$618,2)))","v":0},0,null,0,null,0,null,null,0,0,0,0,0,0,null,2072,"Skattar betalt frå driftskonto",4380,0.25,{"$f":"VRFORMEL.XLS!G46","v":0}]
[null,0,null,0,null,null,null,"00:00:00",0,0,0,{"$f":"IF(AND(J81=0,K81=0),,IF(G81=0,\"KUNDE/LEV NR ?\",VLOOKUP(G81,Register!$K$1:$L$618,2)))","v":0},0,null,0,null,0,null,null,0,0,0,0,0,0,null,2073,"Feil kontonummer !",4382,0.15,{"$f":"VRFORMEL.XLS!G47","v":0}]
[null,0,null,0,null,null,null,"00:00:00",0,0,0,{"$f":"IF(AND(J82=0,K82=0),,IF(G82=0,\"KUNDE/LEV NR ?\",VLOOKUP(G82,Register!$K$1:$L$618,2)))","v":0},0,null,0,null,0,null,null,0,0,0,0,0,0,null,2076,"Feil kontonummer !",4500,0.25,{"$f":"VRFORMEL.XLS!G80","v":0}]
[null,0,null,0,null,null,null,"00:00:00",0,0,0,{"$f":"IF(AND(J83=0,K83=0),,IF(G83=0,\"KUNDE/LEV NR ?\",VLOOKUP(G83,Register!$K$1:$L$618,2)))","v":0},0,null,0,null,0,null,null,0,0,0,0,0,0,null,2077,"Premie til eiga sjuke og u.forsikr",4501,0.25,{"$f":"VRFORMEL.XLS!G81","v":0}]
[null,0,null,0,null,null,null,"00:00:00",0,0,0,{"$f":"IF(AND(J84=0,K84=0),,IF(G84=0,\"KUNDE/LEV NR ?\",VLOOKUP(G84,Register!$K$1:$L$618,2)))","v":0},0,null,0,null,0,null,null,0,0,0,0,0,0,null,2078,"Premie til tilleggstr. for sjukep",4502,0.25,{"$f":"VRFORMEL.XLS!G82","v":0}]
[null,0,null,0,null,null,null,"00:00:00",0,0,0,{"$f":"IF(AND(J85=0,K85=0),,IF(G85=0,\"KUNDE/LEV NR ?\",VLOOKUP(G85,Register!$K$1:$L$618,2)))","v":0},0,null,0,null,0,null,null,0,0,0,0,0,0,null,2079,"Feil kontonummer !",4503,0.25,{"$f":"VRFORMEL.XLS!G83","v":0}]
[null,0,null,0,null,null,null,"00:00:00",0,0,0,{"$f":"IF(AND(J86=0,K86=0),,IF(G86=0,\"KUNDE/LEV NR ?\",VLOOKUP(G86,Register!$K$1:$L$618,2)))","v":0},0,null,0,null,0,null,null,0,0,0,0,0,0,null,2095,"Feil kontonummer !",4504,0.25,{"$f":"VRFORMEL.XLS!G84","v":0}]
[null,0,null,0,null,null,null,"00:00:00",0,0,0,{"$f":"IF(AND(J87=0,K87=0),,IF(G87=0,\"KUNDE/LEV NR ?\",VLOOKUP(G87,Register!$K$1:$L$618,2)))","v":0},0,null,0,null,0,null,null,0,0,0,0,0,0,null,2096,{"$f":"Kontoplan!C36","v":"Positiv vinst- og tapskonto"},4510,0,{"$f":"VRFORMEL.XLS!G85","v":0}]
[null,0,null,0,null,null,null,"00:00:00",0,0,0,{"$f":"IF(AND(J88=0,K88=0),,IF(G88=0,\"KUNDE/LEV NR ?\",VLOOKUP(G88,Register!$K$1:$L$618,2)))","v":0},0,null,0,null,0,null,null,0,0,0,0,0,0,null,2097,"Feil kontonummer !",5000,0,{"$f":"VRFORMEL.XLS!G86","v":0}]
[null,0,null,0,null,null,null,"00:00:00",0,0,0,{"$f":"IF(AND(J89=0,K89=0),,IF(G89=0,\"KUNDE/LEV NR ?\",VLOOKUP(G89,Register!$K$1:$L$618,2)))","v":0},0,null,0,null,0,null,null,0,0,0,0,0,0,null,2709,"Feil kontonummer !",5001,0,{"$f":"VRFORMEL.XLS!G87","v":0}]
[null,0,null,0,null,null,null,"00:00:00",0,0,0,{"$f":"IF(AND(J90=0,K90=0),,IF(G90=0,\"KUNDE/LEV NR ?\",VLOOKUP(G90,Register!$K$1:$L$618,2)))","v":0},0,null,0,null,0,null,null,0,0,0,0,0,0,null,2710,{"$f":"Kontoplan!C37","v":"Inngåande mva  25%"},5002,0,{"$f":"VRFORMEL.XLS!G88","v":0}]
[null,0,null,0,null,null,null,"00:00:00",0,0,0,{"$f":"IF(AND(J91=0,K91=0),,IF(G91=0,\"KUNDE/LEV NR ?\",VLOOKUP(G91,Register!$K$1:$L$618,2)))","v":0},0,null,0,null,0,null,null,0,0,0,0,0,0,null,2711,{"$f":"Kontoplan!C38","v":"Inngåande mva  15%"},5003,0,{"$f":"VRFORMEL.XLS!G89","v":0}]
[null,0,null,0,null,null,null,"00:00:00",0,0,0,{"$f":"IF(AND(J92=0,K92=0),,IF(G92=0,\"KUNDE/LEV NR ?\",VLOOKUP(G92,Register!$K$1:$L$618,2)))","v":0},0,null,0,null,0,null,null,0,0,0,0,0,0,null,2712,{"$f":"Kontoplan!C39","v":"Inngåande mva  10%"},5300,0,{"$f":"VRFORMEL.XLS!G90","v":0}]
[null,0,null,0,null,null,null,"00:00:00",0,0,0,{"$f":"IF(AND(J93=0,K93=0),,IF(G93=0,\"KUNDE/LEV NR ?\",VLOOKUP(G93,Register!$K$1:$L$618,2)))","v":0},0,null,0,null,0,null,null,0,0,0,0,0,0,null,2713,"Feil kontonummer !",5400,0,{"$f":"VRFORMEL.XLS!G91","v":0}]
[null,0,null,0,null,null,null,"00:00:00",0,0,0,{"$f":"IF(AND(J94=0,K94=0),,IF(G94=0,\"KUNDE/LEV NR ?\",VLOOKUP(G94,Register!$K$1:$L$618,2)))","v":0},0,null,0,null,0,null,null,0,0,0,0,0,0,null,2999,"Feil kontonummer !",5401,0,{"$f":"VRFORMEL.XLS!G92","v":0}]
[null,0,null,0,null,null,null,"00:00:00",0,0,0,{"$f":"IF(AND(J95=0,K95=0),,IF(G95=0,\"KUNDE/LEV NR ?\",VLOOKUP(G95,Register!$K$1:$L$618,2)))","v":0},0,null,0,null,0,null,null,0,0,0,0,0,0,null,3000,{"$f":"IF(Kontoplan!D43=\"\",Kontoplan!C43,Kontoplan!D43)","v":"Salsinntekt og uttak, avg.pliktig"},5900,0,{"$f":"VRFORMEL.XLS!G93","v":0}]
[null,0,null,0,null,null,null,"00:00:00",0,0,0,{"$f":"IF(AND(J96=0,K96=0),,IF(G96=0,\"KUNDE/LEV NR ?\",VLOOKUP(G96,Register!$K$1:$L$618,2)))","v":0},0,null,0,null,0,null,null,0,0,0,0,0,0,null,3001,{"$f":"IF(Kontoplan!D44=\"\",Kontoplan!C44,Kontoplan!D44)","v":"Salsinntekt og uttak, avg.pliktig"},5950,null,{"$f":"VRFORMEL.XLS!G94","v":0}]
[null,0,null,0,null,null,null,"00:00:00",0,0,0,{"$f":"IF(AND(J97=0,K97=0),,IF(G97=0,\"KUNDE/LEV NR ?\",VLOOKUP(G97,Register!$K$1:$L$618,2)))","v":0},0,null,0,null,0,null,null,0,0,0,0,0,0,null,3002,{"$f":"IF(Kontoplan!D45=\"\",Kontoplan!C45,Kontoplan!D45)","v":"Salsinntekt og uttak, avg.pliktig"},6100,0.25,{"$f":"VRFORMEL.XLS!G95","v":0}]
[null,0,null,0,null,null,null,"00:00:00",0,0,0,{"$f":"IF(AND(J98=0,K98=0),,IF(G98=0,\"KUNDE/LEV NR ?\",VLOOKUP(G98,Register!$K$1:$L$618,2)))","v":0},0,null,0,null,0,null,null,0,0,0,0,0,0,null,3003,{"$f":"IF(Kontoplan!D46=\"\",Kontoplan!C46,Kontoplan!D46)","v":"Salsinntekt og uttak, avg.pliktig"},6101,0,{"$f":"VRFORMEL.XLS!G96","v":0}]
[null,0,null,0,null,null,null,"00:00:00",0,0,0,{"$f":"IF(AND(J99=0,K99=0),,IF(G99=0,\"KUNDE/LEV NR ?\",VLOOKUP(G99,Register!$K$1:$L$618,2)))","v":0},0,null,0,null,0,null,null,0,0,0,0,0,0,null,3004,{"$f":"IF(Kontoplan!D47=\"\",Kontoplan!C47,Kontoplan!D47)","v":"Salsinntekt og uttak, avg.pliktig"},6200,0.25,{"$f":"VRFORMEL.XLS!G97","v":0}]
[null,0,null,0,null,null,null,"00:00:00",0,0,0,{"$f":"IF(AND(J100=0,K100=0),,IF(G100=0,\"KUNDE/LEV NR ?\",VLOOKUP(G100,Register!$K$1:$L$618,2)))","v":0},0,null,0,null,0,null,null,0,0,0,0,0,0,null,3005,"Salsinntekt og uttak, matmoms",6201,null,{"$f":"VRFORMEL.XLS!G98","v":0}]
[null,0,null,0,null,null,null,"00:00:00",0,0,0,{"$f":"IF(AND(J101=0,K101=0),,IF(G101=0,\"KUNDE/LEV NR ?\",VLOOKUP(G101,Register!$K$1:$L$618,2)))","v":0},0,null,0,null,0,null,null,0,0,0,0,0,0,null,3006,"Feil kontonummer !",6300,0.25,{"$f":"VRFORMEL.XLS!G99","v":0}]
[null,0,null,0,null,null,null,"00:00:00",0,0,0,{"$f":"IF(AND(J102=0,K102=0),,IF(G102=0,\"KUNDE/LEV NR ?\",VLOOKUP(G102,Register!$K$1:$L$618,2)))","v":0},0,null,0,null,0,null,null,0,0,0,0,0,0,null,3049,"Feil kontonummer !",6301,0,{"$f":"VRFORMEL.XLS!G100","v":0}]
[null,0,null,0,null,null,null,"00:00:00",0,0,0,{"$f":"IF(AND(J103=0,K103=0),,IF(G103=0,\"KUNDE/LEV NR ?\",VLOOKUP(G103,Register!$K$1:$L$618,2)))","v":0},0,null,0,null,0,null,null,0,0,0,0,0,0,null,3050,"Persontransport",6310,0.25,{"$f":"VRFORMEL.XLS!G101","v":0}]
[null,0,null,0,null,null,null,"00:00:00",0,0,0,{"$f":"IF(AND(J104=0,K104=0),,IF(G104=0,\"KUNDE/LEV NR ?\",VLOOKUP(G104,Register!$K$1:$L$618,2)))","v":0},0,null,0,null,0,null,null,0,0,0,0,0,0,null,3051,"Feil kontonummer !",6340,0.25,{"$f":"VRFORMEL.XLS!G102","v":0}]
[null,0,null,0,null,null,null,"00:00:00",0,0,0,{"$f":"IF(AND(J105=0,K105=0),,IF(G105=0,\"KUNDE/LEV NR ?\",VLOOKUP(G105,Register!$K$1:$L$618,2)))","v":0},0,null,0,null,0,null,null,0,0,0,0,0,0,null,3099,"Feil kontonummer !",6341,0,{"$f":"VRFORMEL.XLS!G103","v":0}]
[null,0,null,0,null,null,null,"00:00:00",0,0,0,{"$f":"IF(AND(J106=0,K106=0),,IF(G106=0,\"KUNDE/LEV NR ?\",VLOOKUP(G106,Register!$K$1:$L$618,2)))","v":0},0,null,0,null,0,null,null,0,0,0,0,0,0,null,3100,{"$f":"Kontoplan!C50","v":"Salsinntekt og uttak, avg.fri"},6395,0.25,{"$f":"VRFORMEL.XLS!G104","v":0}]
[null,0,null,0,null,null,null,"00:00:00",0,0,0,{"$f":"IF(AND(J107=0,K107=0),,IF(G107=0,\"KUNDE/LEV NR ?\",VLOOKUP(G107,Register!$K$1:$L$618,2)))","v":0},0,null,0,null,0,null,null,0,0,0,0,0,0,null,3101,"Feil kontonummer !",6396,0,{"$f":"VRFORMEL.XLS!G105","v":0}]
[null,0,null,0,null,null,null,"00:00:00",0,0,0,{"$f":"IF(AND(J108=0,K108=0),,IF(G108=0,\"KUNDE/LEV NR ?\",VLOOKUP(G108,Register!$K$1:$L$618,2)))","v":0},0,null,0,null,0,null,null,0,0,0,0,0,0,null,3199,"Feil kontonummer !",6400,0.25,{"$f":"VRFORMEL.XLS!G106","v":0}]
[null,0,null,0,null,null,null,"00:00:00",0,0,0,{"$f":"IF(AND(J109=0,K109=0),,IF(G109=0,\"KUNDE/LEV NR ?\",VLOOKUP(G109,Register!$K$1:$L$618,2)))","v":0},0,null,0,null,0,null,null,0,0,0,0,0,0,null,3200,{"$f":"Kontoplan!C51","v":"Salsinntekt og uttak, utanf.avg.omr."},6401,0,{"$f":"VRFORMEL.XLS!G107","v":0}]
[null,0,null,0,null,null,null,"00:00:00",0,0,0,{"$f":"IF(AND(J110=0,K110=0),,IF(G110=0,\"KUNDE/LEV NR ?\",VLOOKUP(G110,Register!$K$1:$L$618,2)))","v":0},0,null,0,null,0,null,null,0,0,0,0,0,0,null,3201,"Feil kontonummer !",6500,0.25,{"$f":"VRFORMEL.XLS!G108","v":0}]
[null,0,null,0,null,null,null,"00:00:00",0,0,0,{"$f":"IF(AND(J111=0,K111=0),,IF(G111=0,\"KUNDE/LEV NR ?\",VLOOKUP(G111,Register!$K$1:$L$618,2)))","v":0},0,null,0,null,0,null,null,0,0,0,0,0,0,null,3399,"Feil kontonummer !",6501,0.25,{"$f":"VRFORMEL.XLS!G109","v":0}]
[null,0,null,0,null,null,null,"00:00:00",0,0,0,{"$f":"IF(AND(J112=0,K112=0),,IF(G112=0,\"KUNDE/LEV NR ?\",VLOOKUP(G112,Register!$K$1:$L$618,2)))","v":0},0,null,0,null,0,null,null,0,0,0,0,0,0,null,3400,{"$f":"Kontoplan!C52","v":"Offentlege tilskot/refusjon"},6502,0.25,{"$f":"VRFORMEL.XLS!G110","v":0}]
[null,0,null,0,null,null,null,"00:00:00",0,0,0,{"$f":"IF(AND(J113=0,K113=0),,IF(G113=0,\"KUNDE/LEV NR ?\",VLOOKUP(G113,Register!$K$1:$L$618,2)))","v":0},0,null,0,null,0,null,null,0,0,0,0,0,0,null,3401,"Feil kontonummer !",6503,0.25,{"$f":"VRFORMEL.XLS!G111","v":0}]
[null,0,null,0,null,null,null,"00:00:00",0,0,0,{"$f":"IF(AND(J114=0,K114=0),,IF(G114=0,\"KUNDE/LEV NR ?\",VLOOKUP(G114,Register!$K$1:$L$618,2)))","v":0},0,null,0,null,0,null,null,0,0,0,0,0,0,null,3409,"Feil kontonummer !",6504,0,{"$f":"VRFORMEL.XLS!G112","v":0}]
[null,0,null,0,null,null,null,"00:00:00",0,0,0,{"$f":"IF(AND(J115=0,K115=0),,IF(G115=0,\"KUNDE/LEV NR ?\",VLOOKUP(G115,Register!$K$1:$L$618,2)))","v":0},0,null,0,null,0,null,null,0,0,0,0,0,0,null,3410,"Tilskot kompensasjonsordning",6600,0.25,{"$f":"VRFORMEL.XLS!G113","v":0}]
[null,0,null,0,null,null,null,"00:00:00",0,0,0,{"$f":"IF(AND(J116=0,K116=0),,IF(G116=0,\"KUNDE/LEV NR ?\",VLOOKUP(G116,Register!$K$1:$L$618,2)))","v":0},0,null,0,null,0,null,null,0,0,0,0,0,0,null,3411,"Feil kontonummer !",6601,0.25,{"$f":"VRFORMEL.XLS!G114","v":0}]
[null,0,null,0,null,null,null,"00:00:00",0,0,0,{"$f":"IF(AND(J117=0,K117=0),,IF(G117=0,\"KUNDE/LEV NR ?\",VLOOKUP(G117,Register!$K$1:$L$618,2)))","v":0},0,null,0,null,0,null,null,0,0,0,0,0,0,null,3599,"Feil kontonummer !",6602,0.25,{"$f":"VRFORMEL.XLS!G115","v":0}]
[null,0,null,0,null,null,null,"00:00:00",0,0,0,{"$f":"IF(AND(J118=0,K118=0),,IF(G118=0,\"KUNDE/LEV NR ?\",VLOOKUP(G118,Register!$K$1:$L$618,2)))","v":0},0,null,0,null,0,null,null,0,0,0,0,0,0,null,3600,{"$f":"Kontoplan!C54","v":"Utleige av fast eigedom,avg.pliktig"},6603,0,{"$f":"VRFORMEL.XLS!G116","v":0}]
[null,0,null,0,null,null,null,"00:00:00",0,0,0,{"$f":"IF(AND(J119=0,K119=0),,IF(G119=0,\"KUNDE/LEV NR ?\",VLOOKUP(G119,Register!$K$1:$L$618,2)))","v":0},0,null,0,null,0,null,null,0,0,0,0,0,0,null,3601,{"$f":"Kontoplan!C55","v":"Utleige av hytter, låg mva-sats"},6695,0.25,{"$f":"VRFORMEL.XLS!G117","v":0}]
[null,0,null,0,null,null,null,"00:00:00",0,0,0,{"$f":"IF(AND(J120=0,K120=0),,IF(G120=0,\"KUNDE/LEV NR ?\",VLOOKUP(G120,Register!$K$1:$L$618,2)))","v":0},0,null,0,null,0,null,null,0,0,0,0,0,0,null,3602,{"$f":"Kontoplan!C56","v":"Utleige av fast eigedom, avgiftsfri"},6700,0.25,{"$f":"VRFORMEL.XLS!G118","v":0}]
[null,0,null,0,null,null,null,"00:00:00",0,0,0,{"$f":"IF(AND(J121=0,K121=0),,IF(G121=0,\"KUNDE/LEV NR ?\",VLOOKUP(G121,Register!$K$1:$L$618,2)))","v":0},0,null,0,null,0,null,null,0,0,0,0,0,0,null,3603,"Feil kontonummer !",6701,0.25,{"$f":"VRFORMEL.XLS!G119","v":0}]
[null,0,null,0,null,null,null,"00:00:00",0,0,0,{"$f":"IF(AND(J122=0,K122=0),,IF(G122=0,\"KUNDE/LEV NR ?\",VLOOKUP(G122,Register!$K$1:$L$618,2)))","v":0},0,null,0,null,0,null,null,0,0,0,0,0,0,null,3694,"Feil kontonummer !",6702,0,{"$f":"VRFORMEL.XLS!G120","v":0}]
[null,0,null,0,null,null,null,"00:00:00",0,0,0,{"$f":"IF(AND(J123=0,K123=0),,IF(G123=0,\"KUNDE/LEV NR ?\",VLOOKUP(G123,Register!$K$1:$L$618,2)))","v":0},0,null,0,null,0,null,null,0,0,0,0,0,0,null,3695,{"$f":"Kontoplan!C57","v":"Andre leigeinntekter"},6995,0.25,{"$f":"VRFORMEL.XLS!G122","v":0}]
[null,0,null,0,null,null,null,"00:00:00",0,0,0,{"$f":"IF(AND(J124=0,K124=0),,IF(G124=0,\"KUNDE/LEV NR ?\",VLOOKUP(G124,Register!$K$1:$L$618,2)))","v":0},0,null,0,null,0,null,null,0,0,0,0,0,0,null,3696,"Feil kontonummer !",6996,0.25,{"$f":"VRFORMEL.XLS!G123","v":0}]
[null,0,null,0,null,null,null,"00:00:00",0,0,0,{"$f":"IF(AND(J125=0,K125=0),,IF(G125=0,\"KUNDE/LEV NR ?\",VLOOKUP(G125,Register!$K$1:$L$618,2)))","v":0},0,null,0,null,0,null,null,0,0,0,0,0,0,null,3699,"Feil kontonummer !",6997,0.25,{"$f":"VRFORMEL.XLS!G124","v":0}]
[null,0,null,0,null,null,null,"00:00:00",0,0,0,{"$f":"IF(AND(J126=0,K126=0),,IF(G126=0,\"KUNDE/LEV NR ?\",VLOOKUP(G126,Register!$K$1:$L$618,2)))","v":0},0,null,0,null,0,null,null,0,0,0,0,0,0,null,3700,{"$f":"Kontoplan!C58","v":"Provisjonsinntekt"},6998,0.25,{"$f":"VRFORMEL.XLS!G125","v":0}]
[null,0,null,0,null,null,null,"00:00:00",0,0,0,{"$f":"IF(AND(J127=0,K127=0),,IF(G127=0,\"KUNDE/LEV NR ?\",VLOOKUP(G127,Register!$K$1:$L$618,2)))","v":0},0,null,0,null,0,null,null,0,0,0,0,0,0,null,3701,"Feil kontonummer !",6999,0,{"$f":"VRFORMEL.XLS!G126","v":0}]
[null,0,null,0,null,null,null,"00:00:00",0,0,0,{"$f":"IF(AND(J128=0,K128=0),,IF(G128=0,\"KUNDE/LEV NR ?\",VLOOKUP(G128,Register!$K$1:$L$618,2)))","v":0},0,null,0,null,0,null,null,0,0,0,0,0,0,null,3899,"Feil kontonummer !",7000,0.25,{"$f":"VRFORMEL.XLS!G127","v":0}]
[null,0,null,0,null,null,null,"00:00:00",0,0,0,{"$f":"IF(AND(J129=0,K129=0),,IF(G129=0,\"KUNDE/LEV NR ?\",VLOOKUP(G129,Register!$K$1:$L$618,2)))","v":0},0,null,0,null,0,null,null,0,0,0,0,0,0,null,3900,{"$f":"Kontoplan!C59","v":"Andre driftsrelaterte inntekter"},7001,0,{"$f":"VRFORMEL.XLS!G128","v":0}]
[null,0,null,0,null,null,null,"00:00:00",0,0,0,{"$f":"IF(AND(J130=0,K130=0),,IF(G130=0,\"KUNDE/LEV NR ?\",VLOOKUP(G130,Register!$K$1:$L$618,2)))","v":0},0,null,0,null,0,null,null,0,0,0,0,0,0,null,3901,{"$f":"Kontoplan!C60","v":"Andre driftsrel. inntekter, avg.fritt"},7020,0.25,{"$f":"VRFORMEL.XLS!G129","v":0}]
[null,0,null,0,null,null,null,"00:00:00",0,0,0,{"$f":"IF(AND(J131=0,K131=0),,IF(G131=0,\"KUNDE/LEV NR ?\",VLOOKUP(G131,Register!$K$1:$L$618,2)))","v":0},0,null,0,null,0,null,null,0,0,0,0,0,0,null,3902,"Feil kontonummer !",7021,0,{"$f":"VRFORMEL.XLS!G130","v":0}]
[null,0,null,0,null,null,null,"00:00:00",0,0,0,{"$f":"IF(AND(J132=0,K132=0),,IF(G132=0,\"KUNDE/LEV NR ?\",VLOOKUP(G132,Register!$K$1:$L$618,2)))","v":0},0,null,0,null,0,null,null,0,0,0,0,0,0,null,4004,"Feil kontonummer !",7040,0,{"$f":"VRFORMEL.XLS!G131","v":0}]
[null,{"$f":"IF(A133>0,B132+1,)","v":0},null,{"$f":"IF(C133=0,,VLOOKUP(C133,$AA$4:$AB$320,2))","v":0},null,null,null,{"$f":"A133","v":"00:00:00"},{"$f":"IF(H133>0,\"d\",)","v":0},{"$f":"E133*-1+F133","v":0},{"$f":"IF(AND(A133>0,H133>0),J133*-1,)","v":0},{"$f":"IF(AND(J133=0,K133=0),,IF(G133=0,\"KUNDE/LEV NR ?\",VLOOKUP(G133,Register!$K$1:$L$618,2)))","v":0},0,null,0,null,0,null,null,0,0,{"$f":"IF(R133=0,,R133/(1+VLOOKUP(P133,$AC$5:$AD$362,2)))","v":0},{"$f":"IF(S133=0,,S133/(1+VLOOKUP(P133,$AC$5:$AD$362,2)))","v":0},{"$f":"IF(P133=0,,IF(P133=P134,,VLOOKUP(P133,$AC$5:$AE$364,3)))","v":0},{"$f":"IF(P133=0,,IF(P133=P134,,VLOOKUP(P133,$AC$5:$AF$362,4)))","v":0},null,4005,{"$f":"IF(Kontoplan!D64=\"\",Kontoplan!C64,Kontoplan!D64)","v":"Varekostnad"},7041,0,{"$f":"VRFORMEL.XLS!G132","v":0}]
[null,0,null,0,null,null,null,"00:00:00",0,0,0,{"$f":"IF(AND(J134=0,K134=0),,IF(G134=0,\"KUNDE/LEV NR ?\",VLOOKUP(G134,Register!$K$1:$L$618,2)))","v":0},0,null,0,null,0,null,null,0,0,0,0,0,0,null,4006,{"$f":"IF(Kontoplan!D65=\"\",Kontoplan!C65,Kontoplan!D65)","v":"Varekostnad"},7080,0,{"$f":"VRFORMEL.XLS!G133","v":0}]
[null,0,null,0,null,null,null,"00:00:00",0,0,0,{"$f":"IF(AND(J135=0,K135=0),,IF(G135=0,\"KUNDE/LEV NR ?\",VLOOKUP(G135,Register!$K$1:$L$618,2)))","v":0},{"$f":"IF(ISNUMBER(A135+B135+E135+F135+G135+H135+J135+K135),A135+B135+E135+F135+G135+H135+J135+K135,\"FEIL\")","v":0},null,0,null,0,null,null,0,0,0,0,0,0,null,4007,{"$f":"IF(Kontoplan!D66=\"\",Kontoplan!C66,Kontoplan!D66)","v":"Varekostnad"},7098,0,{"$f":"VRFORMEL.XLS!G134","v":0}]
[null,0,null,0,null,null,null,"00:00:00",0,0,0,{"$f":"IF(AND(J136=0,K136=0),,IF(G136=0,\"KUNDE/LEV NR ?\",VLOOKUP(G136,Register!$K$1:$L$618,2)))","v":0},0,null,0,null,0,null,null,0,0,0,0,0,0,null,4008,{"$f":"IF(Kontoplan!D67=\"\",Kontoplan!C67,Kontoplan!D67)","v":"Varekostnad"},7099,0,{"$f":"VRFORMEL.XLS!G135","v":0}]
[null,0,null,0,null,null,null,"00:00:00",0,0,0,{"$f":"IF(AND(J137=0,K137=0),,IF(G137=0,\"KUNDE/LEV NR ?\",VLOOKUP(G137,Register!$K$1:$L$618,2)))","v":0},0,null,0,null,0,null,null,0,0,0,0,0,0,null,4009,{"$f":"IF(Kontoplan!D68=\"\",Kontoplan!C68,Kontoplan!D68)","v":"Varekostnad"},7155,0,{"$f":"VRFORMEL.XLS!G136","v":0}]
[null,0,null,0,null,null,null,"00:00:00",0,0,0,{"$f":"IF(AND(J138=0,K138=0),,IF(G138=0,\"KUNDE/LEV NR ?\",VLOOKUP(G138,Register!$K$1:$L$618,2)))","v":0},0,null,0,null,0,null,null,0,0,0,0,0,0,null,4010,{"$f":"IF(Kontoplan!D83=\"\",Kontoplan!C69,Kontoplan!D69)","v":"Varekostnad avgiftsfritt"},7164,0.25,{"$f":"VRFORMEL.XLS!G137","v":0}]
[null,0,null,0,null,null,null,"00:00:00",0,0,0,{"$f":"IF(AND(J139=0,K139=0),,IF(G139=0,\"KUNDE/LEV NR ?\",VLOOKUP(G139,Register!$K$1:$L$618,2)))","v":0},0,null,0,null,0,null,null,0,0,0,0,0,0,null,4011,"Varekostnad (matmoms)",7165,0,{"$f":"VRFORMEL.XLS!G138","v":0}]
[null,0,null,0,null,null,null,"00:00:00",0,0,0,{"$f":"IF(AND(J140=0,K140=0),,IF(G140=0,\"KUNDE/LEV NR ?\",VLOOKUP(G140,Register!$K$1:$L$618,2)))","v":0},0,null,0,null,0,null,null,0,0,0,0,0,0,null,4012,"Feil kontonummer !",7166,0.12,{"$f":"VRFORMEL.XLS!G139","v":0}]
[null,0,null,0,null,null,null,"00:00:00",0,0,0,{"$f":"IF(AND(J141=0,K141=0),,IF(G141=0,\"KUNDE/LEV NR ?\",VLOOKUP(G141,Register!$K$1:$L$618,2)))","v":0},0,null,0,null,0,null,null,0,0,0,0,0,0,null,4379,"Feil kontonummer !",7295,0.25,{"$f":"VRFORMEL.XLS!G140","v":0}]
[null,0,null,0,null,null,null,"00:00:00",0,0,0,{"$f":"IF(AND(J142=0,K142=0),,IF(G142=0,\"KUNDE/LEV NR ?\",VLOOKUP(G142,Register!$K$1:$L$618,2)))","v":0},0,null,0,null,0,null,null,{"$f":"R142-V142","v":0},{"$f":"S142-W142","v":0},0,0,0,0,null,4380,{"$f":"Kontoplan!C40","v":"Grunnlag for importmva 25%"},7296,0,{"$f":"VRFORMEL.XLS!G141","v":0}]
[null,0,null,0,null,null,null,"00:00:00",0,0,0,{"$f":"IF(AND(J143=0,K143=0),,IF(G143=0,\"KUNDE/LEV NR ?\",VLOOKUP(G143,Register!$K$1:$L$618,2)))","v":0},0,null,0,null,0,null,null,0,0,0,0,0,0,null,4381,"Feil kontonummer !",7330,0.25,{"$f":"VRFORMEL.XLS!G142","v":0}]
[null,0,null,0,null,null,null,"00:00:00",0,0,0,{"$f":"IF(AND(J144=0,K144=0),,IF(G144=0,\"KUNDE/LEV NR ?\",VLOOKUP(G144,Register!$K$1:$L$618,2)))","v":0},0,null,0,null,0,null,null,0,0,0,0,0,0,null,4382,{"$f":"Kontoplan!C41","v":"Grunnlag for importmva 15%"},7331,0.25,{"$f":"VRFORMEL.XLS!G143","v":0}]
[null,0,null,0,null,null,null,"00:00:00",0,0,0,{"$f":"IF(AND(J145=0,K145=0),,IF(G145=0,\"KUNDE/LEV NR ?\",VLOOKUP(G145,Register!$K$1:$L$618,2)))","v":0},0,null,0,null,0,null,null,0,0,0,0,0,0,null,4383,"Feil kontonummer !",7332,0,{"$f":"VRFORMEL.XLS!G144","v":0}]
[null,0,null,0,null,null,null,"00:00:00",0,0,0,{"$f":"IF(AND(J146=0,K146=0),,IF(G146=0,\"KUNDE/LEV NR ?\",VLOOKUP(G146,Register!$K$1:$L$618,2)))","v":0},0,null,0,null,0,null,null,0,0,0,0,0,0,null,4499,"Feil kontonummer !",7350,0,{"$f":"VRFORMEL.XLS!G145","v":0}]
[null,0,null,0,null,null,null,"00:00:00",0,0,0,{"$f":"IF(AND(J147=0,K147=0),,IF(G147=0,\"KUNDE/LEV NR ?\",VLOOKUP(G147,Register!$K$1:$L$618,2)))","v":0},0,null,0,null,0,null,null,0,0,0,0,0,0,null,4500,{"$f":"IF(Kontoplan!D71=\"\",Kontoplan!C71,Kontoplan!D71)","v":"Framandyting"},7495,0,{"$f":"VRFORMEL.XLS!G146","v":0}]
[null,0,null,0,null,null,null,"00:00:00",0,0,0,{"$f":"IF(AND(J148=0,K148=0),,IF(G148=0,\"KUNDE/LEV NR ?\",VLOOKUP(G148,Register!$K$1:$L$618,2)))","v":0},0,null,0,null,0,null,null,0,0,0,0,0,0,null,4501,{"$f":"IF(Kontoplan!D72=\"\",Kontoplan!C72,Kontoplan!D72)","v":"Framandyting"},7500,0,{"$f":"VRFORMEL.XLS!G147","v":0}]
[null,0,null,0,null,null,null,"00:00:00",0,0,0,{"$f":"IF(AND(J149=0,K149=0),,IF(G149=0,\"KUNDE/LEV NR ?\",VLOOKUP(G149,Register!$K$1:$L$618,2)))","v":0},0,null,0,null,0,null,null,0,0,0,0,0,0,null,4502,{"$f":"IF(Kontoplan!D73=\"\",Kontoplan!C73,Kontoplan!D73)","v":"Framandyting"},7501,0,{"$f":"VRFORMEL.XLS!G148","v":0}]
[null,0,null,0,null,null,null,"00:00:00",0,0,0,{"$f":"IF(AND(J150=0,K150=0),,IF(G150=0,\"KUNDE/LEV NR ?\",VLOOKUP(G150,Register!$K$1:$L$618,2)))","v":0},0,null,0,null,0,null,null,0,0,0,0,0,0,null,4503,{"$f":"IF(Kontoplan!D74=\"\",Kontoplan!C74,Kontoplan!D74)","v":"Framandyting"},7502,0,{"$f":"VRFORMEL.XLS!G149","v":0}]
[null,0,null,0,null,null,null,"00:00:00",0,0,0,{"$f":"IF(AND(J151=0,K151=0),,IF(G151=0,\"KUNDE/LEV NR ?\",VLOOKUP(G151,Register!$K$1:$L$618,2)))","v":0},0,null,0,null,0,null,null,0,0,0,0,0,0,null,4504,{"$f":"IF(Kontoplan!D75=\"\",Kontoplan!C75,Kontoplan!D75)","v":"Framandyting"},7600,0,{"$f":"VRFORMEL.XLS!G150","v":0}]
[null,0,null,0,null,null,null,"00:00:00",0,0,0,{"$f":"IF(AND(J152=0,K152=0),,IF(G152=0,\"KUNDE/LEV NR ?\",VLOOKUP(G152,Register!$K$1:$L$618,2)))","v":0},0,null,0,null,0,null,null,0,0,0,0,0,0,null,4505,"Feil kontonummer !",7700,0,{"$f":"VRFORMEL.XLS!G151","v":0}]
[null,0,null,0,null,null,null,"00:00:00",0,0,0,{"$f":"IF(AND(J153=0,K153=0),,IF(G153=0,\"KUNDE/LEV NR ?\",VLOOKUP(G153,Register!$K$1:$L$618,2)))","v":0},0,null,0,null,0,null,null,0,0,0,0,0,0,null,4509,"Feil kontonummer !",7895,0,{"$f":"VRFORMEL.XLS!G152","v":0}]
[null,0,null,0,null,null,null,"00:00:00",0,0,0,{"$f":"IF(AND(J154=0,K154=0),,IF(G154=0,\"KUNDE/LEV NR ?\",VLOOKUP(G154,Register!$K$1:$L$618,2)))","v":0},0,null,0,null,0,null,null,0,0,0,0,0,0,null,4510,{"$f":"IF(Kontoplan!D76=\"\",Kontoplan!C76,Kontoplan!D76)","v":"Framandyting avgiftsfritt"},7896,0.25,{"$f":"VRFORMEL.XLS!G153","v":0}]
[null,0,null,0,null,null,null,"00:00:00",0,0,0,{"$f":"IF(AND(J155=0,K155=0),,IF(G155=0,\"KUNDE/LEV NR ?\",VLOOKUP(G155,Register!$K$1:$L$618,2)))","v":0},0,null,0,null,0,null,null,0,0,0,0,0,0,null,4511,"Feil kontonummer !",8099,0,null,{"$f":"VRFORMEL.XLS!H67","v":0}]
[null,0,null,0,null,null,null,"00:00:00",0,0,0,{"$f":"IF(AND(J156=0,K156=0),,IF(G156=0,\"KUNDE/LEV NR ?\",VLOOKUP(G156,Register!$K$1:$L$618,2)))","v":0},0,null,0,null,0,null,null,0,0,0,0,0,0,null,4999,"Feil kontonummer !",8199,0,{"$f":"VRFORMEL.XLS!B155","v":0}]
[null,0,null,0,null,null,null,"00:00:00",0,0,0,{"$f":"IF(AND(J157=0,K157=0),,IF(G157=0,\"KUNDE/LEV NR ?\",VLOOKUP(G157,Register!$K$1:$L$618,2)))","v":0},0,null,0,null,0,null,null,0,0,0,0,0,0,null,5000,{"$f":"IF(Kontoplan!D77=\"\",Kontoplan!C77,Kontoplan!D77)","v":"Løn"},8285,0,null,{"$f":"VRFORMEL.XLS!H70","v":0}]
[null,0,null,0,null,null,null,"00:00:00",0,0,0,{"$f":"IF(AND(J158=0,K158=0),,IF(G158=0,\"KUNDE/LEV NR ?\",VLOOKUP(G158,Register!$K$1:$L$618,2)))","v":0},0,null,0,null,0,null,null,0,0,0,0,0,0,null,5001,{"$f":"IF(Kontoplan!D78=\"\",Kontoplan!C78,Kontoplan!D78)","v":"Løn"},8286,0,{"$f":"VRFORMEL.XLS!B156","v":0}]
[null,0,null,0,null,null,null,"00:00:00",0,0,0,{"$f":"IF(AND(J159=0,K159=0),,IF(G159=0,\"KUNDE/LEV NR ?\",VLOOKUP(G159,Register!$K$1:$L$618,2)))","v":0},0,null,0,null,0,null,null,0,0,0,0,0,0,null,5002,{"$f":"IF(Kontoplan!D79=\"\",Kontoplan!C79,Kontoplan!D79)","v":"Løn"}]
[null,0,null,0,null,null,null,"00:00:00",0,0,0,{"$f":"IF(AND(J160=0,K160=0),,IF(G160=0,\"KUNDE/LEV NR ?\",VLOOKUP(G160,Register!$K$1:$L$618,2)))","v":0},0,null,0,null,0,null,null,0,0,0,0,0,0,null,5003,{"$f":"IF(Kontoplan!D97=\"\",Kontoplan!C80,Kontoplan!D80)","v":"Feriepengar"}]
[null,0,null,0,null,null,null,"00:00:00",0,0,0,{"$f":"IF(AND(J161=0,K161=0),,IF(G161=0,\"KUNDE/LEV NR ?\",VLOOKUP(G161,Register!$K$1:$L$618,2)))","v":0},0,null,0,null,0,null,null,0,0,0,0,0,0,null,5004,"Feil kontonummer !"]
[null,0,null,0,null,null,null,"00:00:00",0,0,0,{"$f":"IF(AND(J162=0,K162=0),,IF(G162=0,\"KUNDE/LEV NR ?\",VLOOKUP(G162,Register!$K$1:$L$618,2)))","v":0},0,null,0,null,0,null,null,0,0,0,0,0,0,null,5299,"Feil kontonummer !"]
[null,0,null,0,null,null,null,"00:00:00",0,0,0,{"$f":"IF(AND(J163=0,K163=0),,IF(G163=0,\"KUNDE/LEV NR ?\",VLOOKUP(G163,Register!$K$1:$L$618,2)))","v":0},0,null,0,null,0,null,null,0,0,0,0,0,0,null,5300,{"$f":"IF(Kontoplan!D98=\"\",Kontoplan!C81,Kontoplan!D81)","v":"Andre oppg.pliktige godtgjeringar"}]
[null,0,null,0,null,null,null,"00:00:00",0,0,0,{"$f":"IF(AND(J164=0,K164=0),,IF(G164=0,\"KUNDE/LEV NR ?\",VLOOKUP(G164,Register!$K$1:$L$618,2)))","v":0},0,null,0,null,0,null,null,0,0,0,0,0,0,null,5301,"Feil kontonummer !"]
[null,0,null,0,null,null,null,"00:00:00",0,0,0,{"$f":"IF(AND(J165=0,K165=0),,IF(G165=0,\"KUNDE/LEV NR ?\",VLOOKUP(G165,Register!$K$1:$L$618,2)))","v":0},0,null,0,null,0,null,null,0,0,0,0,0,0,null,5399,"Feil kontonummer !"]
[null,0,null,0,null,null,null,"00:00:00",0,0,0,{"$f":"IF(AND(J166=0,K166=0),,IF(G166=0,\"KUNDE/LEV NR ?\",VLOOKUP(G166,Register!$K$1:$L$618,2)))","v":0},0,null,0,null,0,null,null,0,0,0,0,0,0,null,5400,{"$f":"IF(Kontoplan!D82=\"\",Kontoplan!C82,Kontoplan!D82)","v":"Arbeidsgjevaravgift"}]
[null,0,null,0,null,null,null,"00:00:00",0,0,0,{"$f":"IF(AND(J167=0,K167=0),,IF(G167=0,\"KUNDE/LEV NR ?\",VLOOKUP(G167,Register!$K$1:$L$618,2)))","v":0},0,null,0,null,0,null,null,0,0,0,0,0,0,null,5401,{"$f":"IF(Kontoplan!D83=\"\",Kontoplan!C83,Kontoplan!D83)","v":"Arbeidsgjevaravgift, feriepengar"}]
[null,0,null,0,null,null,null,"00:00:00",0,0,0,{"$f":"IF(AND(J168=0,K168=0),,IF(G168=0,\"KUNDE/LEV NR ?\",VLOOKUP(G168,Register!$K$1:$L$618,2)))","v":0},0,null,0,null,0,null,null,0,0,0,0,0,0,null,5402,"Feil kontonummer !"]
[null,0,null,0,null,null,null,"00:00:00",0,0,0,{"$f":"IF(AND(J169=0,K169=0),,IF(G169=0,\"KUNDE/LEV NR ?\",VLOOKUP(G169,Register!$K$1:$L$618,2)))","v":0},0,null,0,null,0,null,null,0,0,0,0,0,0,null,5899,"Feil kontonummer !"]
[null,0,null,0,null,null,null,"00:00:00",0,0,0,{"$f":"IF(AND(J170=0,K170=0),,IF(G170=0,\"KUNDE/LEV NR ?\",VLOOKUP(G170,Register!$K$1:$L$618,2)))","v":0},0,null,0,null,0,null,null,0,0,0,0,0,0,null,5900,{"$f":"IF(Kontoplan!D84=\"\",Kontoplan!C84,Kontoplan!D84)","v":"Andre personalkostnader"}]
[null,0,null,0,null,null,null,"00:00:00",0,0,0,{"$f":"IF(AND(J171=0,K171=0),,IF(G171=0,\"KUNDE/LEV NR ?\",VLOOKUP(G171,Register!$K$1:$L$618,2)))","v":0},0,null,0,null,0,null,null,0,0,0,0,0,0,null,5901,"Feil kontonummer !"]
[null,0,null,0,null,null,null,"00:00:00",0,0,0,{"$f":"IF(AND(J172=0,K172=0),,IF(G172=0,\"KUNDE/LEV NR ?\",VLOOKUP(G172,Register!$K$1:$L$618,2)))","v":0},0,null,0,null,0,null,null,0,0,0,0,0,0,null,5949,"Feil kontonummer !"]
[null,0,null,0,null,null,null,"00:00:00",0,0,0,{"$f":"IF(AND(J173=0,K173=0),,IF(G173=0,\"KUNDE/LEV NR ?\",VLOOKUP(G173,Register!$K$1:$L$618,2)))","v":0},0,null,0,null,0,null,null,0,0,0,0,0,0,null,5950,"Eiga pensjonsordning"]
[null,0,null,0,null,null,null,"00:00:00",0,0,0,{"$f":"IF(AND(J174=0,K174=0),,IF(G174=0,\"KUNDE/LEV NR ?\",VLOOKUP(G174,Register!$K$1:$L$618,2)))","v":0},0,null,0,null,0,null,null,0,0,0,0,0,0,null,5951,"Feil kontonummer !"]
[null,0,null,0,null,null,null,"00:00:00",0,0,0,{"$f":"IF(AND(J175=0,K175=0),,IF(G175=0,\"KUNDE/LEV NR ?\",VLOOKUP(G175,Register!$K$1:$L$618,2)))","v":0},0,null,0,null,0,null,null,0,0,0,0,0,0,null,6099,"Feil kontonummer !"]
[null,0,null,0,null,null,null,"00:00:00",0,0,0,{"$f":"IF(AND(J176=0,K176=0),,IF(G176=0,\"KUNDE/LEV NR ?\",VLOOKUP(G176,Register!$K$1:$L$618,2)))","v":0},0,null,0,null,0,null,null,0,0,0,0,0,0,null,6100,{"$f":"IF(Kontoplan!D86=\"\",Kontoplan!C86,Kontoplan!D86)","v":"Frakt og transportkostn. ved sal"}]
[null,0,null,0,null,null,null,"00:00:00",0,0,0,{"$f":"IF(AND(J177=0,K177=0),,IF(G177=0,\"KUNDE/LEV NR ?\",VLOOKUP(G177,Register!$K$1:$L$618,2)))","v":0},0,null,0,null,0,null,null,0,0,0,0,0,0,null,6101,{"$f":"IF(Kontoplan!D87=\"\",Kontoplan!C87,Kontoplan!D87)","v":"Frakt og transportkostn, avg.fritt"}]
[null,0,null,0,null,null,null,"00:00:00",0,0,0,{"$f":"IF(AND(J178=0,K178=0),,IF(G178=0,\"KUNDE/LEV NR ?\",VLOOKUP(G178,Register!$K$1:$L$618,2)))","v":0},0,null,0,null,0,null,null,0,0,0,0,0,0,null,6102,"Feil kontonummer !"]
[null,0,null,0,null,null,null,"00:00:00",0,0,0,{"$f":"IF(AND(J179=0,K179=0),,IF(G179=0,\"KUNDE/LEV NR ?\",VLOOKUP(G179,Register!$K$1:$L$618,2)))","v":0},0,null,0,null,0,null,null,0,0,0,0,0,0,null,6199,"Feil kontonummer !"]
[null,0,null,0,null,null,null,"00:00:00",0,0,0,{"$f":"IF(AND(J180=0,K180=0),,IF(G180=0,\"KUNDE/LEV NR ?\",VLOOKUP(G180,Register!$K$1:$L$618,2)))","v":0},0,null,0,null,0,null,null,0,0,0,0,0,0,null,6200,"Energi oa i samb med produksjon"]
[null,0,null,0,null,null,null,"00:00:00",0,0,0,{"$f":"IF(AND(J181=0,K181=0),,IF(G181=0,\"KUNDE/LEV NR ?\",VLOOKUP(G181,Register!$K$1:$L$618,2)))","v":0},0,null,0,null,0,null,null,0,0,0,0,0,0,null,6201,"Energi oa avgiftsfritt"]
[null,0,null,0,null,null,null,"00:00:00",0,0,0,{"$f":"IF(AND(J182=0,K182=0),,IF(G182=0,\"KUNDE/LEV NR ?\",VLOOKUP(G182,Register!$K$1:$L$618,2)))","v":0},0,null,0,null,0,null,null,0,0,0,0,0,0,null,6203,"Feil kontonummer !"]
[null,0,null,0,null,null,null,"00:00:00",0,0,0,{"$f":"IF(AND(J183=0,K183=0),,IF(G183=0,\"KUNDE/LEV NR ?\",VLOOKUP(G183,Register!$K$1:$L$618,2)))","v":0},0,null,0,null,0,null,null,0,0,0,0,0,0,null,6299,"Feil kontonummer !"]
[null,0,null,0,null,null,null,"00:00:00",0,0,0,{"$f":"IF(AND(J184=0,K184=0),,IF(G184=0,\"KUNDE/LEV NR ?\",VLOOKUP(G184,Register!$K$1:$L$618,2)))","v":0},0,null,0,null,0,null,null,0,0,0,0,0,0,null,6300,{"$f":"IF(Kontoplan!D90=\"\",Kontoplan!C90,Kontoplan!D90)","v":"Leige av lokale"}]
[null,0,null,0,null,null,null,"00:00:00",0,0,0,{"$f":"IF(AND(J185=0,K185=0),,IF(G185=0,\"KUNDE/LEV NR ?\",VLOOKUP(G185,Register!$K$1:$L$618,2)))","v":0},0,null,0,null,0,null,null,0,0,0,0,0,0,null,6301,{"$f":"IF(Kontoplan!D91=\"\",Kontoplan!C91,Kontoplan!D91)","v":"Leige av lokale, avg.fritt"}]
[null,0,null,0,null,null,null,"00:00:00",0,0,0,{"$f":"IF(AND(J186=0,K186=0),,IF(G186=0,\"KUNDE/LEV NR ?\",VLOOKUP(G186,Register!$K$1:$L$618,2)))","v":0},0,null,0,null,0,null,null,0,0,0,0,0,0,null,6302,"Feil kontonummer !"]
[null,0,null,0,null,null,null,"00:00:00",0,0,0,{"$f":"IF(AND(J187=0,K187=0),,IF(G187=0,\"KUNDE/LEV NR ?\",VLOOKUP(G187,Register!$K$1:$L$618,2)))","v":0},0,null,0,null,0,null,null,0,0,0,0,0,0,null,6309,"Feil kontonummer !"]
[null,0,null,0,null,null,null,"00:00:00",0,0,0,{"$f":"IF(AND(J188=0,K188=0),,IF(G188=0,\"KUNDE/LEV NR ?\",VLOOKUP(G188,Register!$K$1:$L$618,2)))","v":0},0,null,0,null,0,null,null,0,0,0,0,0,0,null,6310,"Leasingleige av bil"]
[null,0,null,0,null,null,null,"00:00:00",0,0,0,{"$f":"IF(AND(J189=0,K189=0),,IF(G189=0,\"KUNDE/LEV NR ?\",VLOOKUP(G189,Register!$K$1:$L$618,2)))","v":0},0,null,0,null,0,null,null,0,0,0,0,0,0,null,6311,"Feil kontonummer !"]
[null,0,null,0,null,null,null,"00:00:00",0,0,0,{"$f":"IF(AND(J190=0,K190=0),,IF(G190=0,\"KUNDE/LEV NR ?\",VLOOKUP(G190,Register!$K$1:$L$618,2)))","v":0},0,null,0,null,0,null,null,0,0,0,0,0,0,null,6339,"Feil kontonummer !"]
[null,0,null,0,null,null,null,"00:00:00",0,0,0,{"$f":"IF(AND(J191=0,K191=0),,IF(G191=0,\"KUNDE/LEV NR ?\",VLOOKUP(G191,Register!$K$1:$L$618,2)))","v":0},0,null,0,null,0,null,null,0,0,0,0,0,0,null,6340,{"$f":"IF(Kontoplan!D93=\"\",Kontoplan!C93,Kontoplan!D93)","v":"Lys, varme"}]
[null,0,null,0,null,null,null,"00:00:00",0,0,0,{"$f":"IF(AND(J192=0,K192=0),,IF(G192=0,\"KUNDE/LEV NR ?\",VLOOKUP(G192,Register!$K$1:$L$618,2)))","v":0},0,null,0,null,0,null,null,0,0,0,0,0,0,null,6341,{"$f":"IF(Kontoplan!D94=\"\",Kontoplan!C94,Kontoplan!D94)","v":"Lys, varme, avg.fritt"}]
[null,{"$f":"IF(A193>0,B192+1,)","v":0},null,{"$f":"IF(C193=0,,VLOOKUP(C193,$AA$4:$AB$320,2))","v":0},null,null,null,{"$f":"A193","v":"00:00:00"},{"$f":"IF(H193>0,\"d\",)","v":0},{"$f":"E193*-1+F193","v":0},{"$f":"IF(AND(A193>0,H193>0),J193*-1,)","v":0},{"$f":"IF(AND(J193=0,K193=0),,IF(G193=0,\"KUNDE/LEV NR ?\",VLOOKUP(G193,Register!$K$1:$L$618,2)))","v":0},0,null,0,null,0,null,null,0,0,0,0,0,0,null,6342,"Feil kontonummer !"]
[null,0,null,0,null,null,null,"00:00:00",0,0,0,{"$f":"IF(AND(J194=0,K194=0),,IF(G194=0,\"KUNDE/LEV NR ?\",VLOOKUP(G194,Register!$K$1:$L$618,2)))","v":0},0,null,0,null,0,null,null,0,0,0,0,0,0,null,6394,"Feil kontonummer !"]
[null,0,null,0,null,null,null,"00:00:00",0,0,0,{"$f":"IF(AND(J195=0,K195=0),,IF(G195=0,\"KUNDE/LEV NR ?\",VLOOKUP(G195,Register!$K$1:$L$618,2)))","v":0},0,null,0,null,0,null,null,0,0,0,0,0,0,null,6395,{"$f":"IF(Kontoplan!D95=\"\",Kontoplan!C95,Kontoplan!D95)","v":"Renovasjon, vatn, avløp, reinhald"}]
[null,0,null,0,null,null,null,"00:00:00",0,0,0,{"$f":"IF(AND(J196=0,K196=0),,IF(G196=0,\"KUNDE/LEV NR ?\",VLOOKUP(G196,Register!$K$1:$L$618,2)))","v":0},0,null,0,null,0,null,null,0,0,0,0,0,0,null,6396,{"$f":"IF(Kontoplan!D96=\"\",Kontoplan!C96,Kontoplan!D96)","v":"Renovasjon mm, avg.fritt"}]
[null,0,null,{"$f":"IF(C197=0,,VLOOKUP(C197,$AA$4:$AB$320,2))","v":0},null,null,null,"00:00:00",{"$f":"IF(H197>0,\"d\",)","v":0},0,0,{"$f":"IF(AND(J197=0,K197=0),,IF(G197=0,\"KUNDE/LEV NR ?\",VLOOKUP(G197,Register!$K$1:$L$618,2)))","v":0},0,null,0,null,0,null,null,0,0,{"$f":"IF(R197=0,,R197/(1+VLOOKUP(P197,$AC$5:$AD$362,2)))","v":0},{"$f":"IF(S197=0,,S197/(1+VLOOKUP(P197,$AC$5:$AD$362,2)))","v":0},{"$f":"IF(P197=0,,IF(P197=P198,,VLOOKUP(P197,$AC$5:$AE$364,3)))","v":0},{"$f":"IF(P197=0,,IF(P197=P198,,VLOOKUP(P197,$AC$5:$AF$362,4)))","v":0},null,6397,"Feil kontonummer !"]
[null,{"$f":"IF(A198>0,B197+1,)","v":0},null,0,null,null,null,{"$f":"A198","v":"00:00:00"},0,{"$f":"E198*-1+F198","v":0},{"$f":"IF(AND(A198>0,H198>0),J198*-1,)","v":0},{"$f":"IF(AND(J198=0,K198=0),,IF(G198=0,\"KUNDE/LEV NR ?\",VLOOKUP(G198,Register!$K$1:$L$618,2)))","v":0},0,null,0,null,0,null,null,0,0,0,0,0,0,null,6399,"Feil kontonummer !"]
[null,0,null,0,null,null,null,"00:00:00",0,0,0,{"$f":"IF(AND(J199=0,K199=0),,IF(G199=0,\"KUNDE/LEV NR ?\",VLOOKUP(G199,Register!$K$1:$L$618,2)))","v":0},{"$f":"IF(ISNUMBER(A199+B199+E199+F199+G199+H199+J199+K199),A199+B199+E199+F199+G199+H199+J199+K199,\"FEIL\")","v":0},null,0,null,0,null,null,0,0,0,0,0,0,null,6400,{"$f":"IF(Kontoplan!D97=\"\",Kontoplan!C97,Kontoplan!D97)","v":"Andre leigekostnader"}]
[null,0,null,0,null,null,null,"00:00:00",0,0,0,{"$f":"IF(AND(J200=0,K200=0),,IF(G200=0,\"KUNDE/LEV NR ?\",VLOOKUP(G200,Register!$K$1:$L$618,2)))","v":0},0,null,0,null,0,null,null,0,0,0,0,0,0,null,6401,{"$f":"IF(Kontoplan!D98=\"\",Kontoplan!C98,Kontoplan!D98)","v":"Andre leigekostnader, avg.fritt"}]
[null,0,null,0,null,null,null,"00:00:00",0,0,0,{"$f":"IF(AND(J201=0,K201=0),,IF(G201=0,\"KUNDE/LEV NR ?\",VLOOKUP(G201,Register!$K$1:$L$618,2)))","v":0},0,null,0,null,0,null,null,0,0,0,0,0,0,null,6402,"Feil kontonummer !"]
[null,0,null,0,null,null,null,"00:00:00",0,0,0,{"$f":"IF(AND(J202=0,K202=0),,IF(G202=0,\"KUNDE/LEV NR ?\",VLOOKUP(G202,Register!$K$1:$L$618,2)))","v":0},0,null,0,null,0,null,null,0,0,0,0,0,0,null,6499,"Feil kontonummer !"]
[null,0,null,0,null,null,null,"00:00:00",0,0,0,{"$f":"IF(AND(J203=0,K203=0),,IF(G203=0,\"KUNDE/LEV NR ?\",VLOOKUP(G203,Register!$K$1:$L$618,2)))","v":0},0,null,0,null,0,null,null,0,0,0,0,0,0,null,6500,{"$f":"IF(Kontoplan!D99=\"\",Kontoplan!C99,Kontoplan!D99)","v":"Verktøy,inventar (ikkje aktiverast)"}]
[null,0,null,0,null,null,null,"00:00:00",0,0,0,{"$f":"IF(AND(J204=0,K204=0),,IF(G204=0,\"KUNDE/LEV NR ?\",VLOOKUP(G204,Register!$K$1:$L$618,2)))","v":0},0,null,0,null,0,null,null,0,0,0,0,0,0,null,6501,{"$f":"IF(Kontoplan!D100=\"\",Kontoplan!C100,Kontoplan!D100)","v":"Verktøy,inventar (ikkje aktiverast)"}]
[null,0,null,0,null,null,null,"00:00:00",0,0,0,{"$f":"IF(AND(J205=0,K205=0),,IF(G205=0,\"KUNDE/LEV NR ?\",VLOOKUP(G205,Register!$K$1:$L$618,2)))","v":0},0,null,0,null,0,null,null,0,0,0,0,0,0,null,6502,{"$f":"IF(Kontoplan!D101=\"\",Kontoplan!C101,Kontoplan!D101)","v":"Verktøy,inventar (ikkje aktiverast)"}]
[null,0,null,0,null,null,null,"00:00:00",0,0,0,{"$f":"IF(AND(J206=0,K206=0),,IF(G206=0,\"KUNDE/LEV NR ?\",VLOOKUP(G206,Register!$K$1:$L$618,2)))","v":0},0,null,0,null,0,null,null,{"$f":"R206-V206","v":0},{"$f":"S206-W206","v":0},0,0,0,0,null,6503,{"$f":"IF(Kontoplan!D102=\"\",Kontoplan!C102,Kontoplan!D102)","v":"Verktøy,inventar (ikkje aktiverast)"}]
[null,0,null,0,null,null,null,"00:00:00",0,0,0,{"$f":"IF(AND(J207=0,K207=0),,IF(G207=0,\"KUNDE/LEV NR ?\",VLOOKUP(G207,Register!$K$1:$L$618,2)))","v":0},0,null,0,null,0,null,null,0,0,0,0,0,0,null,6504,{"$f":"IF(Kontoplan!D103=\"\",Kontoplan!C103,Kontoplan!D103)","v":"Verktøy,inventar avgiftsfritt"}]
[null,0,null,0,null,null,null,"00:00:00",0,0,0,{"$f":"IF(AND(J208=0,K208=0),,IF(G208=0,\"KUNDE/LEV NR ?\",VLOOKUP(G208,Register!$K$1:$L$618,2)))","v":0},0,null,0,null,0,null,null,0,0,0,0,0,0,null,6505,"Feil kontonummer !"]
[null,0,null,0,null,null,null,"00:00:00",0,0,0,{"$f":"IF(AND(J209=0,K209=0),,IF(G209=0,\"KUNDE/LEV NR ?\",VLOOKUP(G209,Register!$K$1:$L$618,2)))","v":0},0,null,0,null,0,null,null,0,0,0,0,0,0,null,6599,"Feil kontonummer !"]
[null,0,null,0,null,null,null,"00:00:00",0,0,0,{"$f":"IF(AND(J210=0,K210=0),,IF(G210=0,\"KUNDE/LEV NR ?\",VLOOKUP(G210,Register!$K$1:$L$618,2)))","v":0},0,null,0,null,0,null,null,0,0,0,0,0,0,null,6600,{"$f":"IF(Kontoplan!D104=\"\",Kontoplan!C104,Kontoplan!D104)","v":"Rep. og vedl.h. av bygningar"}]
[null,0,null,0,null,null,null,"00:00:00",0,0,0,{"$f":"IF(AND(J211=0,K211=0),,IF(G211=0,\"KUNDE/LEV NR ?\",VLOOKUP(G211,Register!$K$1:$L$618,2)))","v":0},0,null,0,null,0,null,null,0,0,0,0,0,0,null,6601,{"$f":"IF(Kontoplan!D105=\"\",Kontoplan!C105,Kontoplan!D105)","v":"Rep. og vedl.h. av bygningar"}]
[null,0,null,0,null,null,null,"00:00:00",0,0,0,{"$f":"IF(AND(J212=0,K212=0),,IF(G212=0,\"KUNDE/LEV NR ?\",VLOOKUP(G212,Register!$K$1:$L$618,2)))","v":0},0,null,0,null,0,null,null,0,0,0,0,0,0,null,6602,{"$f":"IF(Kontoplan!D106=\"\",Kontoplan!C106,Kontoplan!D106)","v":"Rep. og vedl.h. av bygningar"}]
[null,0,null,0,null,null,null,"00:00:00",0,0,0,{"$f":"IF(AND(J213=0,K213=0),,IF(G213=0,\"KUNDE/LEV NR ?\",VLOOKUP(G213,Register!$K$1:$L$618,2)))","v":0},0,null,0,null,0,null,null,0,0,0,0,0,0,null,6603,{"$f":"IF(Kontoplan!D107=\"\",Kontoplan!C107,Kontoplan!D107)","v":"Rep. og vedl.h. av bygn, avg.fritt"}]
[null,0,null,0,null,null,null,"00:00:00",0,0,0,{"$f":"IF(AND(J214=0,K214=0),,IF(G214=0,\"KUNDE/LEV NR ?\",VLOOKUP(G214,Register!$K$1:$L$618,2)))","v":0},0,null,0,null,0,null,null,0,0,0,0,0,0,null,6604,"Feil kontonummer !"]
[null,0,null,0,null,null,null,"00:00:00",0,0,0,{"$f":"IF(AND(J215=0,K215=0),,IF(G215=0,\"KUNDE/LEV NR ?\",VLOOKUP(G215,Register!$K$1:$L$618,2)))","v":0},0,null,0,null,0,null,null,0,0,0,0,0,0,null,6694,"Feil kontonummer !"]
[null,0,null,0,null,null,null,"00:00:00",0,0,0,{"$f":"IF(AND(J216=0,K216=0),,IF(G216=0,\"KUNDE/LEV NR ?\",VLOOKUP(G216,Register!$K$1:$L$618,2)))","v":0},0,null,0,null,0,null,null,0,0,0,0,0,0,null,6695,"Rep. og vedl.h. av maskiner"]
[null,0,null,0,null,null,null,"00:00:00",0,0,0,{"$f":"IF(AND(J217=0,K217=0),,IF(G217=0,\"KUNDE/LEV NR ?\",VLOOKUP(G217,Register!$K$1:$L$618,2)))","v":0},0,null,0,null,0,null,null,0,0,0,0,0,0,null,6696,"Feil kontonummer !"]
[null,0,null,0,null,null,null,"00:00:00",0,0,0,{"$f":"IF(AND(J218=0,K218=0),,IF(G218=0,\"KUNDE/LEV NR ?\",VLOOKUP(G218,Register!$K$1:$L$618,2)))","v":0},0,null,0,null,0,null,null,0,0,0,0,0,0,null,6699,"Feil kontonummer !"]
[null,0,null,0,null,null,null,"00:00:00",0,0,0,{"$f":"IF(AND(J219=0,K219=0),,IF(G219=0,\"KUNDE/LEV NR ?\",VLOOKUP(G219,Register!$K$1:$L$618,2)))","v":0},0,null,0,null,0,null,null,0,0,0,0,0,0,null,6700,{"$f":"IF(Kontoplan!D109=\"\",Kontoplan!C109,Kontoplan!D109)","v":"Tenester (rekneskap,rådgj)"}]
[null,0,null,0,null,null,null,"00:00:00",0,0,0,{"$f":"IF(AND(J220=0,K220=0),,IF(G220=0,\"KUNDE/LEV NR ?\",VLOOKUP(G220,Register!$K$1:$L$618,2)))","v":0},0,null,0,null,0,null,null,0,0,0,0,0,0,null,6701,{"$f":"IF(Kontoplan!D110=\"\",Kontoplan!C110,Kontoplan!D110)","v":"Tenester (rekneskap,rådgj)"}]
[null,0,null,0,null,null,null,"00:00:00",0,0,0,{"$f":"IF(AND(J221=0,K221=0),,IF(G221=0,\"KUNDE/LEV NR ?\",VLOOKUP(G221,Register!$K$1:$L$618,2)))","v":0},0,null,0,null,0,null,null,0,0,0,0,0,0,null,6702,{"$f":"IF(Kontoplan!D111=\"\",Kontoplan!C111,Kontoplan!D111)","v":"Framand teneste, avg.fritt"}]
[null,0,null,0,null,null,null,"00:00:00",0,0,0,{"$f":"IF(AND(J222=0,K222=0),,IF(G222=0,\"KUNDE/LEV NR ?\",VLOOKUP(G222,Register!$K$1:$L$618,2)))","v":0},0,null,0,null,0,null,null,0,0,0,0,0,0,null,6703,"Feil kontonummer !"]
[null,0,null,0,null,null,null,"00:00:00",0,0,0,{"$f":"IF(AND(J223=0,K223=0),,IF(G223=0,\"KUNDE/LEV NR ?\",VLOOKUP(G223,Register!$K$1:$L$618,2)))","v":0},0,null,0,null,0,null,null,0,0,0,0,0,0,null,6994,"Feil kontonummer !"]
[null,0,null,0,null,null,null,"00:00:00",0,0,0,{"$f":"IF(AND(J224=0,K224=0),,IF(G224=0,\"KUNDE/LEV NR ?\",VLOOKUP(G224,Register!$K$1:$L$618,2)))","v":0},0,null,0,null,0,null,null,0,0,0,0,0,0,null,6995,{"$f":"IF(Kontoplan!D112=\"\",Kontoplan!C112,Kontoplan!D112)","v":"Kontorkostnad, telefon, porto"}]
[null,0,null,0,null,null,null,"00:00:00",0,0,0,{"$f":"IF(AND(J225=0,K225=0),,IF(G225=0,\"KUNDE/LEV NR ?\",VLOOKUP(G225,Register!$K$1:$L$618,2)))","v":0},0,null,0,null,0,null,null,0,0,0,0,0,0,null,6996,{"$f":"IF(Kontoplan!D113=\"\",Kontoplan!C113,Kontoplan!D113)","v":"Kontorkostnad, telefon, porto"}]
[null,0,null,0,null,null,null,"00:00:00",0,0,0,{"$f":"IF(AND(J226=0,K226=0),,IF(G226=0,\"KUNDE/LEV NR ?\",VLOOKUP(G226,Register!$K$1:$L$618,2)))","v":0},0,null,0,null,0,null,null,0,0,0,0,0,0,null,6997,{"$f":"IF(Kontoplan!D114=\"\",Kontoplan!C114,Kontoplan!D114)","v":"Kontorkostnad, telefon, porto"}]
[null,0,null,0,null,null,null,"00:00:00",0,0,0,{"$f":"IF(AND(J227=0,K227=0),,IF(G227=0,\"KUNDE/LEV NR ?\",VLOOKUP(G227,Register!$K$1:$L$618,2)))","v":0},0,null,0,null,0,null,null,0,0,0,0,0,0,null,6998,{"$f":"IF(Kontoplan!D115=\"\",Kontoplan!C115,Kontoplan!D115)","v":"Kontorkostnad, telefon, porto"}]
[null,0,null,0,null,null,null,"00:00:00",0,0,0,{"$f":"IF(AND(J228=0,K228=0),,IF(G228=0,\"KUNDE/LEV NR ?\",VLOOKUP(G228,Register!$K$1:$L$618,2)))","v":0},0,null,0,null,0,null,null,0,0,0,0,0,0,null,6999,{"$f":"IF(Kontoplan!D116=\"\",Kontoplan!C116,Kontoplan!D116)","v":"Kontorkostnad, avgiftsfritt"}]
[null,0,null,0,null,null,null,"00:00:00",0,0,0,{"$f":"IF(AND(J229=0,K229=0),,IF(G229=0,\"KUNDE/LEV NR ?\",VLOOKUP(G229,Register!$K$1:$L$618,2)))","v":0},0,null,0,null,0,null,null,0,0,0,0,0,0,null,7000,{"$f":"IF(Kontoplan!D117=\"\",Kontoplan!C117,Kontoplan!D117)","v":"Drivstoff transportmiddel"}]
[null,0,null,0,null,null,null,"00:00:00",0,0,0,{"$f":"IF(AND(J230=0,K230=0),,IF(G230=0,\"KUNDE/LEV NR ?\",VLOOKUP(G230,Register!$K$1:$L$618,2)))","v":0},0,null,0,null,0,null,null,0,0,0,0,0,0,null,7001,{"$f":"IF(Kontoplan!D118=\"\",Kontoplan!C118,Kontoplan!D118)","v":"Drivstoff transportmiddel, avg.fritt"}]
[null,0,null,0,null,null,null,"00:00:00",0,0,0,{"$f":"IF(AND(J231=0,K231=0),,IF(G231=0,\"KUNDE/LEV NR ?\",VLOOKUP(G231,Register!$K$1:$L$618,2)))","v":0},0,null,0,null,0,null,null,0,0,0,0,0,0,null,7002,"Feil kontonummer !"]
[null,0,null,0,null,null,null,"00:00:00",0,0,0,{"$f":"IF(AND(J232=0,K232=0),,IF(G232=0,\"KUNDE/LEV NR ?\",VLOOKUP(G232,Register!$K$1:$L$618,2)))","v":0},0,null,0,null,0,null,null,0,0,0,0,0,0,null,7019,"Feil kontonummer !"]
[null,0,null,0,null,null,null,"00:00:00",0,0,0,{"$f":"IF(AND(J233=0,K233=0),,IF(G233=0,\"KUNDE/LEV NR ?\",VLOOKUP(G233,Register!$K$1:$L$618,2)))","v":0},0,null,0,null,0,null,null,0,0,0,0,0,0,null,7020,{"$f":"IF(Kontoplan!D119=\"\",Kontoplan!C119,Kontoplan!D119)","v":"Vedlikehald mm transportmiddel"}]
[null,0,null,0,null,null,null,"00:00:00",0,0,0,{"$f":"IF(AND(J234=0,K234=0),,IF(G234=0,\"KUNDE/LEV NR ?\",VLOOKUP(G234,Register!$K$1:$L$618,2)))","v":0},0,null,0,null,0,null,null,0,0,0,0,0,0,null,7021,{"$f":"IF(Kontoplan!D120=\"\",Kontoplan!C120,Kontoplan!D120)","v":"Vedlikehald transp.mid, avg.fritt"}]
[null,0,null,0,null,null,null,"00:00:00",0,0,0,{"$f":"IF(AND(J235=0,K235=0),,IF(G235=0,\"KUNDE/LEV NR ?\",VLOOKUP(G235,Register!$K$1:$L$618,2)))","v":0},0,null,0,null,0,null,null,0,0,0,0,0,0,null,7022,"Feil kontonummer !"]
[null,0,null,0,null,null,null,"00:00:00",0,0,0,{"$f":"IF(AND(J236=0,K236=0),,IF(G236=0,\"KUNDE/LEV NR ?\",VLOOKUP(G236,Register!$K$1:$L$618,2)))","v":0},0,null,0,null,0,null,null,0,0,0,0,0,0,null,7039,"Feil kontonummer !"]
[null,0,null,0,null,null,null,"00:00:00",0,0,0,{"$f":"IF(AND(J237=0,K237=0),,IF(G237=0,\"KUNDE/LEV NR ?\",VLOOKUP(G237,Register!$K$1:$L$618,2)))","v":0},0,null,0,null,0,null,null,0,0,0,0,0,0,null,7040,{"$f":"IF(Kontoplan!D121=\"\",Kontoplan!C121,Kontoplan!D121)","v":"Forsikring og avg. på transp.mid."}]
[null,0,null,0,null,null,null,"00:00:00",0,0,0,{"$f":"IF(AND(J238=0,K238=0),,IF(G238=0,\"KUNDE/LEV NR ?\",VLOOKUP(G238,Register!$K$1:$L$618,2)))","v":0},0,null,0,null,0,null,null,0,0,0,0,0,0,null,7041,{"$f":"IF(Kontoplan!D122=\"\",Kontoplan!C122,Kontoplan!D122)","v":"Forsikring og avg. på transp.mid."}]
[null,0,null,0,null,null,null,"00:00:00",0,0,0,{"$f":"IF(AND(J239=0,K239=0),,IF(G239=0,\"KUNDE/LEV NR ?\",VLOOKUP(G239,Register!$K$1:$L$618,2)))","v":0},0,null,0,null,0,null,null,0,0,0,0,0,0,null,7042,"Feil kontonummer !"]
[null,0,null,0,null,null,null,"00:00:00",0,0,0,{"$f":"IF(AND(J240=0,K240=0),,IF(G240=0,\"KUNDE/LEV NR ?\",VLOOKUP(G240,Register!$K$1:$L$618,2)))","v":0},0,null,0,null,0,null,null,0,0,0,0,0,0,null,7079,"Feil kontonummer !"]
[null,0,null,0,null,null,null,"00:00:00",0,0,0,{"$f":"IF(AND(J241=0,K241=0),,IF(G241=0,\"KUNDE/LEV NR ?\",VLOOKUP(G241,Register!$K$1:$L$618,2)))","v":0},0,null,0,null,0,null,null,0,0,0,0,0,0,null,7080,{"$f":"IF(Kontoplan!D123=\"\",Kontoplan!C123,Kontoplan!D123)","v":"Bruk av privat bil i næring"}]
[null,0,null,0,null,null,null,"00:00:00",0,0,0,{"$f":"IF(AND(J242=0,K242=0),,IF(G242=0,\"KUNDE/LEV NR ?\",VLOOKUP(G242,Register!$K$1:$L$618,2)))","v":0},0,null,0,null,0,null,null,0,0,0,0,0,0,null,7081,"Feil kontonummer !"]
[null,0,null,0,null,null,null,"00:00:00",0,0,0,{"$f":"IF(AND(J243=0,K243=0),,IF(G243=0,\"KUNDE/LEV NR ?\",VLOOKUP(G243,Register!$K$1:$L$618,2)))","v":0},0,null,0,null,0,null,null,0,0,0,0,0,0,null,7097,"Feil kontonummer !"]
[null,0,null,0,null,null,null,"00:00:00",0,0,0,{"$f":"IF(AND(J244=0,K244=0),,IF(G244=0,\"KUNDE/LEV NR ?\",VLOOKUP(G244,Register!$K$1:$L$618,2)))","v":0},0,null,0,null,0,null,null,0,0,0,0,0,0,null,7098,"Privat bruk av el.kommunikasjon"]
[null,0,null,0,null,null,null,"00:00:00",0,0,0,{"$f":"IF(AND(J245=0,K245=0),,IF(G245=0,\"KUNDE/LEV NR ?\",VLOOKUP(G245,Register!$K$1:$L$618,2)))","v":0},0,null,0,null,0,null,null,0,0,0,0,0,0,null,7099,{"$f":"IF(Kontoplan!D124=\"\",Kontoplan!C124,Kontoplan!D124)","v":"Privat bruk av næringsbil  (minusført utgift)"}]
[null,0,null,0,null,null,null,"00:00:00",0,0,0,{"$f":"IF(AND(J246=0,K246=0),,IF(G246=0,\"KUNDE/LEV NR ?\",VLOOKUP(G246,Register!$K$1:$L$618,2)))","v":0},0,null,0,null,0,null,null,0,0,0,0,0,0,null,7100,"Feil kontonummer !"]
[null,0,null,0,null,null,null,"00:00:00",0,0,0,{"$f":"IF(AND(J247=0,K247=0),,IF(G247=0,\"KUNDE/LEV NR ?\",VLOOKUP(G247,Register!$K$1:$L$618,2)))","v":0},0,null,0,null,0,null,null,0,0,0,0,0,0,null,7154,"Feil kontonummer !"]
[null,0,null,0,null,null,null,"00:00:00",0,0,0,{"$f":"IF(AND(J248=0,K248=0),,IF(G248=0,\"KUNDE/LEV NR ?\",VLOOKUP(G248,Register!$K$1:$L$618,2)))","v":0},0,null,0,null,0,null,null,0,0,0,0,0,0,null,7155,{"$f":"IF(Kontoplan!D125=\"\",Kontoplan!C125,Kontoplan!D125)","v":"Reise-/diett og bilgodtgj, oppg.pl."}]
[null,0,null,0,null,null,null,"00:00:00",0,0,0,{"$f":"IF(AND(J249=0,K249=0),,IF(G249=0,\"KUNDE/LEV NR ?\",VLOOKUP(G249,Register!$K$1:$L$618,2)))","v":0},0,null,0,null,0,null,null,0,0,0,0,0,0,null,7156,"Feil kontonummer !"]
[null,0,null,0,null,null,null,"00:00:00",0,0,0,{"$f":"IF(AND(J250=0,K250=0),,IF(G250=0,\"KUNDE/LEV NR ?\",VLOOKUP(G250,Register!$K$1:$L$618,2)))","v":0},0,null,0,null,0,null,null,0,0,0,0,0,0,null,7163,"Feil kontonummer !"]
[null,0,null,0,null,null,null,"00:00:00",0,0,0,{"$f":"IF(AND(J251=0,K251=0),,IF(G251=0,\"KUNDE/LEV NR ?\",VLOOKUP(G251,Register!$K$1:$L$618,2)))","v":0},0,null,0,null,0,null,null,0,0,0,0,0,0,null,7164,{"$f":"IF(Kontoplan!D126=\"\",Kontoplan!C126,Kontoplan!D126)","v":"Reise og diettkostn, ikkje oppg.pl"}]
[null,0,null,0,null,null,null,"00:00:00",0,0,0,{"$f":"IF(AND(J252=0,K252=0),,IF(G252=0,\"KUNDE/LEV NR ?\",VLOOKUP(G252,Register!$K$1:$L$618,2)))","v":0},0,null,0,null,0,null,null,0,0,0,0,0,0,null,7165,{"$f":"IF(Kontoplan!D127=\"\",Kontoplan!C127,Kontoplan!D127)","v":"Reise og diett ikkje oppg.pl,avgfri"}]
[null,0,null,0,null,null,null,"00:00:00",0,0,0,{"$f":"IF(AND(J253=0,K253=0),,IF(G253=0,\"KUNDE/LEV NR ?\",VLOOKUP(G253,Register!$K$1:$L$618,2)))","v":0},0,null,0,null,0,null,null,0,0,0,0,0,0,null,7166,"Persontransport, reiseutgifter"]
[null,0,null,0,null,null,null,"00:00:00",0,0,0,{"$f":"IF(AND(J254=0,K254=0),,IF(G254=0,\"KUNDE/LEV NR ?\",VLOOKUP(G254,Register!$K$1:$L$618,2)))","v":0},0,null,0,null,0,null,null,0,0,0,0,0,0,null,7167,"Feil kontonummer !"]
[null,0,null,0,null,null,null,"00:00:00",0,0,0,{"$f":"IF(AND(J255=0,K255=0),,IF(G255=0,\"KUNDE/LEV NR ?\",VLOOKUP(G255,Register!$K$1:$L$618,2)))","v":0},0,null,0,null,0,null,null,0,0,0,0,0,0,null,7294,"Feil kontonummer !"]
[null,0,null,0,null,null,null,"00:00:00",0,0,0,{"$f":"IF(AND(J256=0,K256=0),,IF(G256=0,\"KUNDE/LEV NR ?\",VLOOKUP(G256,Register!$K$1:$L$618,2)))","v":0},0,null,0,null,0,null,null,0,0,0,0,0,0,null,7295,{"$f":"IF(Kontoplan!D129=\"\",Kontoplan!C129,Kontoplan!D129)","v":"Provisjonskostnad"}]
[null,0,null,0,null,null,null,"00:00:00",0,0,0,{"$f":"IF(AND(J257=0,K257=0),,IF(G257=0,\"KUNDE/LEV NR ?\",VLOOKUP(G257,Register!$K$1:$L$618,2)))","v":0},0,null,0,null,0,null,null,0,0,0,0,0,0,null,7296,{"$f":"IF(Kontoplan!D130=\"\",Kontoplan!C130,Kontoplan!D130)","v":"Provisjonskostnad, avg.fritt"}]
[null,0,null,0,null,null,null,"00:00:00",0,0,0,{"$f":"IF(AND(J258=0,K258=0),,IF(G258=0,\"KUNDE/LEV NR ?\",VLOOKUP(G258,Register!$K$1:$L$618,2)))","v":0},0,null,0,null,0,null,null,0,0,0,0,0,0,null,7297,"Feil kontonummer !"]
[null,0,null,0,null,null,null,"00:00:00",0,0,0,{"$f":"IF(AND(J259=0,K259=0),,IF(G259=0,\"KUNDE/LEV NR ?\",VLOOKUP(G259,Register!$K$1:$L$618,2)))","v":0},0,null,0,null,0,null,null,0,0,0,0,0,0,null,7329,"Feil kontonummer !"]
[null,0,null,0,null,null,null,"00:00:00",0,0,0,{"$f":"IF(AND(J260=0,K260=0),,IF(G260=0,\"KUNDE/LEV NR ?\",VLOOKUP(G260,Register!$K$1:$L$618,2)))","v":0},0,null,0,null,0,null,null,0,0,0,0,0,0,null,7330,{"$f":"IF(Kontoplan!D131=\"\",Kontoplan!C131,Kontoplan!D131)","v":"Sals og reklamekostnad"}]
[null,0,null,{"$f":"IF(C261=0,,VLOOKUP(C261,$AA$4:$AB$320,2))","v":0},null,null,null,"00:00:00",{"$f":"IF(H261>0,\"d\",)","v":0},0,0,{"$f":"IF(AND(J261=0,K261=0),,IF(G261=0,\"KUNDE/LEV NR ?\",VLOOKUP(G261,Register!$K$1:$L$618,2)))","v":0},0,null,0,null,0,null,null,0,0,{"$f":"IF(R261=0,,R261/(1+VLOOKUP(P261,$AC$5:$AD$362,2)))","v":0},{"$f":"IF(S261=0,,S261/(1+VLOOKUP(P261,$AC$5:$AD$362,2)))","v":0},{"$f":"IF(P261=0,,IF(P261=P262,,VLOOKUP(P261,$AC$5:$AE$364,3)))","v":0},{"$f":"IF(P261=0,,IF(P261=P262,,VLOOKUP(P261,$AC$5:$AF$362,4)))","v":0},null,7331,{"$f":"IF(Kontoplan!D132=\"\",Kontoplan!C132,Kontoplan!D132)","v":"Sals og reklamekostnad"}]
[null,{"$f":"IF(A262>0,B261+1,)","v":0},null,0,null,null,null,{"$f":"A262","v":"00:00:00"},0,{"$f":"E262*-1+F262","v":0},{"$f":"IF(AND(A262>0,H262>0),J262*-1,)","v":0},{"$f":"IF(AND(J262=0,K262=0),,IF(G262=0,\"KUNDE/LEV NR ?\",VLOOKUP(G262,Register!$K$1:$L$618,2)))","v":0},0,null,0,null,0,null,null,0,0,0,0,0,0,null,7332,{"$f":"IF(Kontoplan!D133=\"\",Kontoplan!C133,Kontoplan!D133)","v":"Sals og reklamekostnad, avg.fritt"}]
[null,0,null,0,null,null,null,"00:00:00",0,0,0,{"$f":"IF(AND(J263=0,K263=0),,IF(G263=0,\"KUNDE/LEV NR ?\",VLOOKUP(G263,Register!$K$1:$L$618,2)))","v":0},{"$f":"IF(ISNUMBER(A263+B263+E263+F263+G263+H263+J263+K263),A263+B263+E263+F263+G263+H263+J263+K263,\"FEIL\")","v":0},null,0,null,0,null,null,0,0,0,0,0,0,null,7333,"Feil kontonummer !"]
[null,0,null,0,null,null,null,"00:00:00",0,0,0,{"$f":"IF(AND(J264=0,K264=0),,IF(G264=0,\"KUNDE/LEV NR ?\",VLOOKUP(G264,Register!$K$1:$L$618,2)))","v":0},0,null,0,null,0,null,null,0,0,0,0,0,0,null,7349,"Feil kontonummer !"]
[null,0,null,0,null,null,null,"00:00:00",0,0,0,{"$f":"IF(AND(J265=0,K265=0),,IF(G265=0,\"KUNDE/LEV NR ?\",VLOOKUP(G265,Register!$K$1:$L$618,2)))","v":0},0,null,0,null,0,null,null,0,0,0,0,0,0,null,7350,{"$f":"IF(Kontoplan!D134=\"\",Kontoplan!C134,Kontoplan!D134)","v":"Representasjonskostnader"}]
[null,0,null,0,null,null,null,"00:00:00",0,0,0,{"$f":"IF(AND(J266=0,K266=0),,IF(G266=0,\"KUNDE/LEV NR ?\",VLOOKUP(G266,Register!$K$1:$L$618,2)))","v":0},0,null,0,null,0,null,null,0,0,0,0,0,0,null,7351,"Feil kontonummer !"]
[null,0,null,0,null,null,null,"00:00:00",0,0,0,{"$f":"IF(AND(J267=0,K267=0),,IF(G267=0,\"KUNDE/LEV NR ?\",VLOOKUP(G267,Register!$K$1:$L$618,2)))","v":0},0,null,0,null,0,null,null,0,0,0,0,0,0,null,7494,"Feil kontonummer !"]
[null,0,null,0,null,null,null,"00:00:00",0,0,0,{"$f":"IF(AND(J268=0,K268=0),,IF(G268=0,\"KUNDE/LEV NR ?\",VLOOKUP(G268,Register!$K$1:$L$618,2)))","v":0},0,null,0,null,0,null,null,0,0,0,0,0,0,null,7495,{"$f":"IF(Kontoplan!D135=\"\",Kontoplan!C135,Kontoplan!D135)","v":"Kontingent og gåve"}]
[null,0,null,0,null,null,null,"00:00:00",0,0,0,{"$f":"IF(AND(J269=0,K269=0),,IF(G269=0,\"KUNDE/LEV NR ?\",VLOOKUP(G269,Register!$K$1:$L$618,2)))","v":0},0,null,0,null,0,null,null,0,0,0,0,0,0,null,7496,"Feil kontonummer !"]
[null,0,null,0,null,null,null,"00:00:00",0,0,0,{"$f":"IF(AND(J270=0,K270=0),,IF(G270=0,\"KUNDE/LEV NR ?\",VLOOKUP(G270,Register!$K$1:$L$618,2)))","v":0},0,null,0,null,0,null,null,{"$f":"R270-V270","v":0},{"$f":"S270-W270","v":0},0,0,0,0,null,7499,"Feil kontonummer !"]
[null,0,null,0,null,null,null,"00:00:00",0,0,0,{"$f":"IF(AND(J271=0,K271=0),,IF(G271=0,\"KUNDE/LEV NR ?\",VLOOKUP(G271,Register!$K$1:$L$618,2)))","v":0},0,null,0,null,0,null,null,0,0,0,0,0,0,null,7500,{"$f":"IF(Kontoplan!D136=\"\",Kontoplan!C136,Kontoplan!D136)","v":"Forsikringspremie"}]
[null,0,null,0,null,null,null,"00:00:00",0,0,0,{"$f":"IF(AND(J272=0,K272=0),,IF(G272=0,\"KUNDE/LEV NR ?\",VLOOKUP(G272,Register!$K$1:$L$618,2)))","v":0},0,null,0,null,0,null,null,0,0,0,0,0,0,null,7501,{"$f":"IF(Kontoplan!D137=\"\",Kontoplan!C137,Kontoplan!D137)","v":"Forsikringspremie"}]
[null,0,null,0,null,null,null,"00:00:00",0,0,0,{"$f":"IF(AND(J273=0,K273=0),,IF(G273=0,\"KUNDE/LEV NR ?\",VLOOKUP(G273,Register!$K$1:$L$618,2)))","v":0},0,null,0,null,0,null,null,0,0,0,0,0,0,null,7502,{"$f":"IF(Kontoplan!D138=\"\",Kontoplan!C138,Kontoplan!D138)","v":"Forsikringspremie"}]
[null,0,null,0,null,null,null,"00:00:00",0,0,0,{"$f":"IF(AND(J274=0,K274=0),,IF(G274=0,\"KUNDE/LEV NR ?\",VLOOKUP(G274,Register!$K$1:$L$618,2)))","v":0},0,null,0,null,0,null,null,0,0,0,0,0,0,null,7503,"Feil kontonummer !"]
[null,0,null,0,null,null,null,"00:00:00",0,0,0,{"$f":"IF(AND(J275=0,K275=0),,IF(G275=0,\"KUNDE/LEV NR ?\",VLOOKUP(G275,Register!$K$1:$L$618,2)))","v":0},0,null,0,null,0,null,null,0,0,0,0,0,0,null,7599,"Feil kontonummer !"]
[null,0,null,0,null,null,null,"00:00:00",0,0,0,{"$f":"IF(AND(J276=0,K276=0),,IF(G276=0,\"KUNDE/LEV NR ?\",VLOOKUP(G276,Register!$K$1:$L$618,2)))","v":0},0,null,0,null,0,null,null,0,0,0,0,0,0,null,7600,{"$f":"IF(Kontoplan!D139=\"\",Kontoplan!C139,Kontoplan!D139)","v":"Lisens, patentkostnad royalty o.l."}]
[null,0,null,0,null,null,null,"00:00:00",0,0,0,{"$f":"IF(AND(J277=0,K277=0),,IF(G277=0,\"KUNDE/LEV NR ?\",VLOOKUP(G277,Register!$K$1:$L$618,2)))","v":0},0,null,0,null,0,null,null,0,0,0,0,0,0,null,7601,"Feil kontonummer !"]
[null,0,null,0,null,null,null,"00:00:00",0,0,0,{"$f":"IF(AND(J278=0,K278=0),,IF(G278=0,\"KUNDE/LEV NR ?\",VLOOKUP(G278,Register!$K$1:$L$618,2)))","v":0},0,null,0,null,0,null,null,0,0,0,0,0,0,null,7699,"Feil kontonummer !"]
[null,0,null,0,null,null,null,"00:00:00",0,0,0,{"$f":"IF(AND(J279=0,K279=0),,IF(G279=0,\"KUNDE/LEV NR ?\",VLOOKUP(G279,Register!$K$1:$L$618,2)))","v":0},0,null,0,null,0,null,null,0,0,0,0,0,0,null,7700,{"$f":"IF(Kontoplan!D140=\"\",Kontoplan!C140,Kontoplan!D140)","v":"Andre kostnader med frådragsrett"}]
[null,0,null,0,null,null,null,"00:00:00",0,0,0,{"$f":"IF(AND(J280=0,K280=0),,IF(G280=0,\"KUNDE/LEV NR ?\",VLOOKUP(G280,Register!$K$1:$L$618,2)))","v":0},0,null,0,null,0,null,null,0,0,0,0,0,0,null,7701,"Feil kontonummer !"]
[null,0,null,0,null,null,null,"00:00:00",0,0,0,{"$f":"IF(AND(J281=0,K281=0),,IF(G281=0,\"KUNDE/LEV NR ?\",VLOOKUP(G281,Register!$K$1:$L$618,2)))","v":0},0,null,0,null,0,null,null,0,0,0,0,0,0,null,7894,"Feil kontonummer !"]
[null,0,null,0,null,null,null,"00:00:00",0,0,0,{"$f":"IF(AND(J282=0,K282=0),,IF(G282=0,\"KUNDE/LEV NR ?\",VLOOKUP(G282,Register!$K$1:$L$618,2)))","v":0},0,null,0,null,0,null,null,0,0,0,0,0,0,null,7895,{"$f":"IF(Kontoplan!D141=\"\",Kontoplan!C141,Kontoplan!D141)","v":"Konstaterte tap på krav"}]
[null,0,null,0,null,null,null,"00:00:00",0,0,0,{"$f":"IF(AND(J283=0,K283=0),,IF(G283=0,\"KUNDE/LEV NR ?\",VLOOKUP(G283,Register!$K$1:$L$618,2)))","v":0},0,null,0,null,0,null,null,0,0,0,0,0,0,null,7896,"Konstaterte tap på krav, med avg"]
[null,0,null,0,null,null,null,"00:00:00",0,0,0,{"$f":"IF(AND(J284=0,K284=0),,IF(G284=0,\"KUNDE/LEV NR ?\",VLOOKUP(G284,Register!$K$1:$L$618,2)))","v":0},0,null,0,null,0,null,null,0,0,0,0,0,0,null,7897,"Feil kontonummer !"]
[null,0,null,0,null,null,null,"00:00:00",0,0,0,{"$f":"IF(AND(J285=0,K285=0),,IF(G285=0,\"KUNDE/LEV NR ?\",VLOOKUP(G285,Register!$K$1:$L$618,2)))","v":0},0,null,0,null,0,null,null,0,0,0,0,0,0,null,8049,"Feil kontonummer !"]
[null,0,null,0,null,null,null,"00:00:00",0,0,0,{"$f":"IF(AND(J286=0,K286=0),,IF(G286=0,\"KUNDE/LEV NR ?\",VLOOKUP(G286,Register!$K$1:$L$618,2)))","v":0},0,null,0,null,0,null,null,0,0,0,0,0,0,null,8098,"Feil kontonummer !"]
[null,0,null,0,null,null,null,"00:00:00",0,0,0,{"$f":"IF(AND(J287=0,K287=0),,IF(G287=0,\"KUNDE/LEV NR ?\",VLOOKUP(G287,Register!$K$1:$L$618,2)))","v":0},0,null,0,null,0,null,null,0,0,0,0,0,0,null,8099,{"$f":"Kontoplan!C61","v":"Anna kapitalinntekt"}]
[null,0,null,0,null,null,null,"00:00:00",0,0,0,{"$f":"IF(AND(J288=0,K288=0),,IF(G288=0,\"KUNDE/LEV NR ?\",VLOOKUP(G288,Register!$K$1:$L$618,2)))","v":0},0,null,0,null,0,null,null,0,0,0,0,0,0,null,8100,"Feil kontonummer !"]
[null,0,null,0,null,null,null,"00:00:00",0,0,0,{"$f":"IF(AND(J289=0,K289=0),,IF(G289=0,\"KUNDE/LEV NR ?\",VLOOKUP(G289,Register!$K$1:$L$618,2)))","v":0},0,null,0,null,0,null,null,0,0,0,0,0,0,null,8149,"Feil kontonummer !"]
[null,0,null,0,null,null,null,"00:00:00",0,0,0,{"$f":"IF(AND(J290=0,K290=0),,IF(G290=0,\"KUNDE/LEV NR ?\",VLOOKUP(G290,Register!$K$1:$L$618,2)))","v":0},0,null,0,null,0,null,null,0,0,0,0,0,0,null,8150,"Rentekostnader"]
[null,0,null,0,null,null,null,"00:00:00",0,0,0,{"$f":"IF(AND(J291=0,K291=0),,IF(G291=0,\"KUNDE/LEV NR ?\",VLOOKUP(G291,Register!$K$1:$L$618,2)))","v":0},0,null,0,null,0,null,null,0,0,0,0,0,0,null,8151,"Feil kontonummer !"]
[null,0,null,0,null,null,null,"00:00:00",0,0,0,{"$f":"IF(AND(J292=0,K292=0),,IF(G292=0,\"KUNDE/LEV NR ?\",VLOOKUP(G292,Register!$K$1:$L$618,2)))","v":0},0,null,0,null,0,null,null,0,0,0,0,0,0,null,8198,"Feil kontonummer !"]
[null,0,null,0,null,null,null,"00:00:00",0,0,0,{"$f":"IF(AND(J293=0,K293=0),,IF(G293=0,\"KUNDE/LEV NR ?\",VLOOKUP(G293,Register!$K$1:$L$618,2)))","v":0},0,null,0,null,0,null,null,0,0,0,0,0,0,null,8199,"Anna kapitalkostnad (ekskl. rente)"]
[null,0,null,0,null,null,null,"00:00:00",0,0,0,{"$f":"IF(AND(J294=0,K294=0),,IF(G294=0,\"KUNDE/LEV NR ?\",VLOOKUP(G294,Register!$K$1:$L$618,2)))","v":0},0,null,0,null,0,null,null,0,0,0,0,0,0,null,8200,"Feil kontonummer !"]
[null,0,null,0,null,null,null,"00:00:00",0,0,0,{"$f":"IF(AND(J295=0,K295=0),,IF(G295=0,\"KUNDE/LEV NR ?\",VLOOKUP(G295,Register!$K$1:$L$618,2)))","v":0},0,null,0,null,0,null,null,0,0,0,0,0,0,null,8284,"Feil kontonummer !"]
[null,0,null,0,null,null,null,"00:00:00",0,0,0,{"$f":"IF(AND(J296=0,K296=0),,IF(G296=0,\"KUNDE/LEV NR ?\",VLOOKUP(G296,Register!$K$1:$L$618,2)))","v":0},0,null,0,null,0,null,null,0,0,0,0,0,0,null,8285,{"$f":"Kontoplan!C62","v":"Inntektsf. frå pos. vinst-/tapskonto"}]
[null,0,null,0,null,null,null,"00:00:00",0,0,0,{"$f":"IF(AND(J297=0,K297=0),,IF(G297=0,\"KUNDE/LEV NR ?\",VLOOKUP(G297,Register!$K$1:$L$618,2)))","v":0},0,null,0,null,0,null,null,0,0,0,0,0,0,null,8286,{"$f":"IF(Kontoplan!D144=\"\",Kontoplan!C144,Kontoplan!D144)","v":"Frådragsf. frå neg.vinst-/tapskonto"}]
[null,0,null,0,null,null,null,"00:00:00",0,0,0,{"$f":"IF(AND(J298=0,K298=0),,IF(G298=0,\"KUNDE/LEV NR ?\",VLOOKUP(G298,Register!$K$1:$L$618,2)))","v":0},0,null,0,null,0,null,null,0,0,0,0,0,0,null,8287,"Feil kontonummer !"]
[null,0,null,0,null,null,null,"00:00:00",0,0,0,{"$f":"IF(AND(J299=0,K299=0),,IF(G299=0,\"KUNDE/LEV NR ?\",VLOOKUP(G299,Register!$K$1:$L$618,2)))","v":0},0,null,0,null,0,null,null,0,0,0,0,0,0]
[null,0,null,0,null,null,null,"00:00:00",0,0,0,{"$f":"IF(AND(J300=0,K300=0),,IF(G300=0,\"KUNDE/LEV NR ?\",VLOOKUP(G300,Register!$K$1:$L$618,2)))","v":0},0,null,0,null,0,null,null,0,0,0,0,0,0]
[null,0,null,0,null,null,null,"00:00:00",0,0,0,{"$f":"IF(AND(J301=0,K301=0),,IF(G301=0,\"KUNDE/LEV NR ?\",VLOOKUP(G301,Register!$K$1:$L$618,2)))","v":0},0,null,0,null,0,null,null,0,0,0,0,0,0]
[null,0,null,0,null,null,null,"00:00:00",0,0,0,{"$f":"IF(AND(J302=0,K302=0),,IF(G302=0,\"KUNDE/LEV NR ?\",VLOOKUP(G302,Register!$K$1:$L$618,2)))","v":0},0,null,0,null,0,null,null,0,0,0,0,0,0]
[null,0,null,0,null,null,null,"00:00:00",0,0,0,{"$f":"IF(AND(J303=0,K303=0),,IF(G303=0,\"KUNDE/LEV NR ?\",VLOOKUP(G303,Register!$K$1:$L$618,2)))","v":0},0,null,0,null,0,null,null,0,0,0,0,0,0]
[null,0,null,0,null,null,null,"00:00:00",0,0,0,{"$f":"IF(AND(J304=0,K304=0),,IF(G304=0,\"KUNDE/LEV NR ?\",VLOOKUP(G304,Register!$K$1:$L$618,2)))","v":0},0,null,0,null,0,null,null,0,0,0,0,0,0]
[null,0,null,0,null,null,null,"00:00:00",0,0,0,{"$f":"IF(AND(J305=0,K305=0),,IF(G305=0,\"KUNDE/LEV NR ?\",VLOOKUP(G305,Register!$K$1:$L$618,2)))","v":0},0,null,0,null,0,null,null,0,0,0,0,0,0]
[null,0,null,0,null,null,null,"00:00:00",0,0,0,{"$f":"IF(AND(J306=0,K306=0),,IF(G306=0,\"KUNDE/LEV NR ?\",VLOOKUP(G306,Register!$K$1:$L$618,2)))","v":0},0,null,0,null,0,null,null,0,0,0,0,0,0]
[null,0,null,0,null,null,null,"00:00:00",0,0,0,{"$f":"IF(AND(J307=0,K307=0),,IF(G307=0,\"KUNDE/LEV NR ?\",VLOOKUP(G307,Register!$K$1:$L$618,2)))","v":0},0,null,0,null,0,null,null,0,0,0,0,0,0]
[null,0,null,0,null,null,null,"00:00:00",0,0,0,{"$f":"IF(AND(J308=0,K308=0),,IF(G308=0,\"KUNDE/LEV NR ?\",VLOOKUP(G308,Register!$K$1:$L$618,2)))","v":0},0,null,0,null,0,null,null,0,0,0,0,0,0]
[null,0,null,0,null,null,null,"00:00:00",0,0,0,{"$f":"IF(AND(J309=0,K309=0),,IF(G309=0,\"KUNDE/LEV NR ?\",VLOOKUP(G309,Register!$K$1:$L$618,2)))","v":0},0,null,0,null,0,null,null,0,0,0,0,0,0]
[null,0,null,0,null,null,null,"00:00:00",0,0,0,{"$f":"IF(AND(J310=0,K310=0),,IF(G310=0,\"KUNDE/LEV NR ?\",VLOOKUP(G310,Register!$K$1:$L$618,2)))","v":0},0,null,0,null,0,null,null,0,0,0,0,0,0]
[null,0,null,0,null,null,null,"00:00:00",0,0,0,{"$f":"IF(AND(J311=0,K311=0),,IF(G311=0,\"KUNDE/LEV NR ?\",VLOOKUP(G311,Register!$K$1:$L$618,2)))","v":0},0,null,0,null,0,null,null,0,0,0,0,0,0]
[null,0,null,0,null,null,null,"00:00:00",0,0,0,{"$f":"IF(AND(J312=0,K312=0),,IF(G312=0,\"KUNDE/LEV NR ?\",VLOOKUP(G312,Register!$K$1:$L$618,2)))","v":0},0,null,0,null,0,null,null,0,0,0,0,0,0]
[null,0,null,0,null,null,null,"00:00:00",0,0,0,{"$f":"IF(AND(J313=0,K313=0),,IF(G313=0,\"KUNDE/LEV NR ?\",VLOOKUP(G313,Register!$K$1:$L$618,2)))","v":0},0,null,0,null,0,null,null,0,0,0,0,0,0]
[null,0,null,0,null,null,null,"00:00:00",0,0,0,{"$f":"IF(AND(J314=0,K314=0),,IF(G314=0,\"KUNDE/LEV NR ?\",VLOOKUP(G314,Register!$K$1:$L$618,2)))","v":0},0,null,0,null,0,null,null,0,0,0,0,0,0]
[null,0,null,0,null,null,null,"00:00:00",0,0,0,{"$f":"IF(AND(J315=0,K315=0),,IF(G315=0,\"KUNDE/LEV NR ?\",VLOOKUP(G315,Register!$K$1:$L$618,2)))","v":0},0,null,0,null,0,null,null,0,0,0,0,0,0]
[null,0,null,0,null,null,null,"00:00:00",0,0,0,{"$f":"IF(AND(J316=0,K316=0),,IF(G316=0,\"KUNDE/LEV NR ?\",VLOOKUP(G316,Register!$K$1:$L$618,2)))","v":0},0,null,0,null,0,null,null,0,0,0,0,0,0]
[null,0,null,0,null,null,null,"00:00:00",0,0,0,{"$f":"IF(AND(J317=0,K317=0),,IF(G317=0,\"KUNDE/LEV NR ?\",VLOOKUP(G317,Register!$K$1:$L$618,2)))","v":0},0,null,0,null,0,null,null,0,0,0,0,0,0]
[null,0,null,0,null,null,null,"00:00:00",0,0,0,{"$f":"IF(AND(J318=0,K318=0),,IF(G318=0,\"KUNDE/LEV NR ?\",VLOOKUP(G318,Register!$K$1:$L$618,2)))","v":0},0,null,0,null,0,null,null,0,0,0,0,0,0]
[null,0,null,0,null,null,null,"00:00:00",0,0,0,{"$f":"IF(AND(J319=0,K319=0),,IF(G319=0,\"KUNDE/LEV NR ?\",VLOOKUP(G319,Register!$K$1:$L$618,2)))","v":0},0,null,0,null,0,null,null,0,0,0,0,0,0]
[null,0,null,0,null,null,null,"00:00:00",0,0,0,{"$f":"IF(AND(J320=0,K320=0),,IF(G320=0,\"KUNDE/LEV NR ?\",VLOOKUP(G320,Register!$K$1:$L$618,2)))","v":0},0,null,0,null,0,null,null,0,0,0,0,0,0]
[null,0,null,0,null,null,null,"00:00:00",0,0,0,{"$f":"IF(AND(J321=0,K321=0),,IF(G321=0,\"KUNDE/LEV NR ?\",VLOOKUP(G321,Register!$K$1:$L$618,2)))","v":0},0,null,0,null,0,null,null,0,0,0,0,0,0]
[null,0,null,0,null,null,null,"00:00:00",0,0,0,{"$f":"IF(AND(J322=0,K322=0),,IF(G322=0,\"KUNDE/LEV NR ?\",VLOOKUP(G322,Register!$K$1:$L$618,2)))","v":0},0,null,0,null,0,null,null,0,0,0,0,0,0]
[null,0,null,0,null,null,null,"00:00:00",0,0,0,{"$f":"IF(AND(J323=0,K323=0),,IF(G323=0,\"KUNDE/LEV NR ?\",VLOOKUP(G323,Register!$K$1:$L$618,2)))","v":0},0,null,0,null,0,null,null,0,0,0,0,0,0]
[null,0,null,0,null,null,null,"00:00:00",0,0,0,{"$f":"IF(AND(J324=0,K324=0),,IF(G324=0,\"KUNDE/LEV NR ?\",VLOOKUP(G324,Register!$K$1:$L$618,2)))","v":0},0,null,0,null,0,null,null,0,0,0,0,0,0]
[null,0,null,{"$f":"IF(C325=0,,VLOOKUP(C325,$AA$4:$AB$320,2))","v":0},null,null,null,"00:00:00",{"$f":"IF(H325>0,\"d\",)","v":0},0,0,{"$f":"IF(AND(J325=0,K325=0),,IF(G325=0,\"KUNDE/LEV NR ?\",VLOOKUP(G325,Register!$K$1:$L$618,2)))","v":0},0,null,0,null,0,null,null,0,0,{"$f":"IF(R325=0,,R325/(1+VLOOKUP(P325,$AC$5:$AD$362,2)))","v":0},{"$f":"IF(S325=0,,S325/(1+VLOOKUP(P325,$AC$5:$AD$362,2)))","v":0},{"$f":"IF(P325=0,,IF(P325=P326,,VLOOKUP(P325,$AC$5:$AE$364,3)))","v":0},{"$f":"IF(P325=0,,IF(P325=P326,,VLOOKUP(P325,$AC$5:$AF$362,4)))","v":0}]
[null,{"$f":"IF(A326>0,B325+1,)","v":0},null,0,null,null,null,{"$f":"A326","v":"00:00:00"},0,{"$f":"E326*-1+F326","v":0},{"$f":"IF(AND(A326>0,H326>0),J326*-1,)","v":0},{"$f":"IF(AND(J326=0,K326=0),,IF(G326=0,\"KUNDE/LEV NR ?\",VLOOKUP(G326,Register!$K$1:$L$618,2)))","v":0},0,null,0,null,0,null,null,0,0,0,0,0,0]
[null,0,null,0,null,null,null,"00:00:00",0,0,0,{"$f":"IF(AND(J327=0,K327=0),,IF(G327=0,\"KUNDE/LEV NR ?\",VLOOKUP(G327,Register!$K$1:$L$618,2)))","v":0},{"$f":"IF(ISNUMBER(A327+B327+E327+F327+G327+H327+J327+K327),A327+B327+E327+F327+G327+H327+J327+K327,\"FEIL\")","v":0},null,0,null,0,null,null,0,0,0,0,0,0]
[null,0,null,0,null,null,null,"00:00:00",0,0,0,{"$f":"IF(AND(J328=0,K328=0),,IF(G328=0,\"KUNDE/LEV NR ?\",VLOOKUP(G328,Register!$K$1:$L$618,2)))","v":0},0,null,0,null,0,null,null,0,0,0,0,0,0]
[null,0,null,0,null,null,null,"00:00:00",0,0,0,{"$f":"IF(AND(J329=0,K329=0),,IF(G329=0,\"KUNDE/LEV NR ?\",VLOOKUP(G329,Register!$K$1:$L$618,2)))","v":0},0,null,0,null,0,null,null,0,0,0,0,0,0]
[null,0,null,0,null,null,null,"00:00:00",0,0,0,{"$f":"IF(AND(J330=0,K330=0),,IF(G330=0,\"KUNDE/LEV NR ?\",VLOOKUP(G330,Register!$K$1:$L$618,2)))","v":0},0,null,0,null,0,null,null,0,0,0,0,0,0]
[null,0,null,0,null,null,null,"00:00:00",0,0,0,{"$f":"IF(AND(J331=0,K331=0),,IF(G331=0,\"KUNDE/LEV NR ?\",VLOOKUP(G331,Register!$K$1:$L$618,2)))","v":0},0,null,0,null,0,null,null,0,0,0,0,0,0]
[null,0,null,0,null,null,null,"00:00:00",0,0,0,{"$f":"IF(AND(J332=0,K332=0),,IF(G332=0,\"KUNDE/LEV NR ?\",VLOOKUP(G332,Register!$K$1:$L$618,2)))","v":0},0,null,0,null,0,null,null,0,0,0,0,0,0]
[null,0,null,0,null,null,null,"00:00:00",0,0,0,{"$f":"IF(AND(J333=0,K333=0),,IF(G333=0,\"KUNDE/LEV NR ?\",VLOOKUP(G333,Register!$K$1:$L$618,2)))","v":0},0,null,0,null,0,null,null,0,0,0,0,0,0]
[null,0,null,0,null,null,null,"00:00:00",0,0,0,{"$f":"IF(AND(J334=0,K334=0),,IF(G334=0,\"KUNDE/LEV NR ?\",VLOOKUP(G334,Register!$K$1:$L$618,2)))","v":0},0,null,0,null,0,null,null,{"$f":"R334-V334","v":0},{"$f":"S334-W334","v":0},0,0,0,0]
[null,0,null,0,null,null,null,"00:00:00",0,0,0,{"$f":"IF(AND(J335=0,K335=0),,IF(G335=0,\"KUNDE/LEV NR ?\",VLOOKUP(G335,Register!$K$1:$L$618,2)))","v":0},0,null,0,null,0,null,null,0,0,0,0,0,0]
[null,0,null,0,null,null,null,"00:00:00",0,0,0,{"$f":"IF(AND(J336=0,K336=0),,IF(G336=0,\"KUNDE/LEV NR ?\",VLOOKUP(G336,Register!$K$1:$L$618,2)))","v":0},0,null,0,null,0,null,null,0,0,0,0,0,0]
[null,0,null,0,null,null,null,"00:00:00",0,0,0,{"$f":"IF(AND(J337=0,K337=0),,IF(G337=0,\"KUNDE/LEV NR ?\",VLOOKUP(G337,Register!$K$1:$L$618,2)))","v":0},0,null,0,null,0,null,null,0,0,0,0,0,0]
[null,0,null,0,null,null,null,"00:00:00",0,0,0,{"$f":"IF(AND(J338=0,K338=0),,IF(G338=0,\"KUNDE/LEV NR ?\",VLOOKUP(G338,Register!$K$1:$L$618,2)))","v":0},0,null,0,null,0,null,null,0,0,0,0,0,0]
[null,0,null,0,null,null,null,"00:00:00",0,0,0,{"$f":"IF(AND(J339=0,K339=0),,IF(G339=0,\"KUNDE/LEV NR ?\",VLOOKUP(G339,Register!$K$1:$L$618,2)))","v":0},0,null,0,null,0,null,null,0,0,0,0,0,0]
[null,0,null,0,null,null,null,"00:00:00",0,0,0,{"$f":"IF(AND(J340=0,K340=0),,IF(G340=0,\"KUNDE/LEV NR ?\",VLOOKUP(G340,Register!$K$1:$L$618,2)))","v":0},0,null,0,null,0,null,null,0,0,0,0,0,0]
[null,0,null,0,null,null,null,"00:00:00",0,0,0,{"$f":"IF(AND(J341=0,K341=0),,IF(G341=0,\"KUNDE/LEV NR ?\",VLOOKUP(G341,Register!$K$1:$L$618,2)))","v":0},0,null,0,null,0,null,null,0,0,0,0,0,0]
[null,0,null,0,null,null,null,"00:00:00",0,0,0,{"$f":"IF(AND(J342=0,K342=0),,IF(G342=0,\"KUNDE/LEV NR ?\",VLOOKUP(G342,Register!$K$1:$L$618,2)))","v":0},0,null,0,null,0,null,null,0,0,0,0,0,0]
[null,0,null,0,null,null,null,"00:00:00",0,0,0,{"$f":"IF(AND(J343=0,K343=0),,IF(G343=0,\"KUNDE/LEV NR ?\",VLOOKUP(G343,Register!$K$1:$L$618,2)))","v":0},0,null,0,null,0,null,null,0,0,0,0,0,0]
[null,0,null,0,null,null,null,"00:00:00",0,0,0,{"$f":"IF(AND(J344=0,K344=0),,IF(G344=0,\"KUNDE/LEV NR ?\",VLOOKUP(G344,Register!$K$1:$L$618,2)))","v":0},0,null,0,null,0,null,null,0,0,0,0,0,0]
[null,0,null,0,null,null,null,"00:00:00",0,0,0,{"$f":"IF(AND(J345=0,K345=0),,IF(G345=0,\"KUNDE/LEV NR ?\",VLOOKUP(G345,Register!$K$1:$L$618,2)))","v":0},0,null,0,null,0,null,null,0,0,0,0,0,0]
[null,0,null,0,null,null,null,"00:00:00",0,0,0,{"$f":"IF(AND(J346=0,K346=0),,IF(G346=0,\"KUNDE/LEV NR ?\",VLOOKUP(G346,Register!$K$1:$L$618,2)))","v":0},0,null,0,null,0,null,null,0,0,0,0,0,0]
[null,0,null,0,null,null,null,"00:00:00",0,0,0,{"$f":"IF(AND(J347=0,K347=0),,IF(G347=0,\"KUNDE/LEV NR ?\",VLOOKUP(G347,Register!$K$1:$L$618,2)))","v":0},0,null,0,null,0,null,null,0,0,0,0,0,0]
[null,0,null,0,null,null,null,"00:00:00",0,0,0,{"$f":"IF(AND(J348=0,K348=0),,IF(G348=0,\"KUNDE/LEV NR ?\",VLOOKUP(G348,Register!$K$1:$L$618,2)))","v":0},0,null,0,null,0,null,null,0,0,0,0,0,0]
[null,0,null,0,null,null,null,"00:00:00",0,0,0,{"$f":"IF(AND(J349=0,K349=0),,IF(G349=0,\"KUNDE/LEV NR ?\",VLOOKUP(G349,Register!$K$1:$L$618,2)))","v":0},0,null,0,null,0,null,null,0,0,0,0,0,0]
[null,0,null,0,null,null,null,"00:00:00",0,0,0,{"$f":"IF(AND(J350=0,K350=0),,IF(G350=0,\"KUNDE/LEV NR ?\",VLOOKUP(G350,Register!$K$1:$L$618,2)))","v":0},0,null,0,null,0,null,null,0,0,0,0,0,0]
[null,0,null,0,null,null,null,"00:00:00",0,0,0,{"$f":"IF(AND(J351=0,K351=0),,IF(G351=0,\"KUNDE/LEV NR ?\",VLOOKUP(G351,Register!$K$1:$L$618,2)))","v":0},0,null,0,null,0,null,null,0,0,0,0,0,0]
[null,0,null,0,null,null,null,"00:00:00",0,0,0,{"$f":"IF(AND(J352=0,K352=0),,IF(G352=0,\"KUNDE/LEV NR ?\",VLOOKUP(G352,Register!$K$1:$L$618,2)))","v":0},0,null,0,null,0,null,null,0,0,0,0,0,0]
[null,0,null,0,null,null,null,"00:00:00",0,0,0,{"$f":"IF(AND(J353=0,K353=0),,IF(G353=0,\"KUNDE/LEV NR ?\",VLOOKUP(G353,Register!$K$1:$L$618,2)))","v":0},0,null,0,null,0,null,null,0,0,0,0,0,0]
[null,0,null,0,null,null,null,"00:00:00",0,0,0,{"$f":"IF(AND(J354=0,K354=0),,IF(G354=0,\"KUNDE/LEV NR ?\",VLOOKUP(G354,Register!$K$1:$L$618,2)))","v":0},0,null,0,null,0,null,null,0,0,0,0,0,0]
[null,0,null,0,null,null,null,"00:00:00",0,0,0,{"$f":"IF(AND(J355=0,K355=0),,IF(G355=0,\"KUNDE/LEV NR ?\",VLOOKUP(G355,Register!$K$1:$L$618,2)))","v":0},0,null,0,null,0,null,null,0,0,0,0,0,0]
[null,0,null,0,null,null,null,"00:00:00",0,0,0,{"$f":"IF(AND(J356=0,K356=0),,IF(G356=0,\"KUNDE/LEV NR ?\",VLOOKUP(G356,Register!$K$1:$L$618,2)))","v":0},0,null,0,null,0,null,null,0,0,0,0,0,0]
[null,0,null,0,null,null,null,"00:00:00",0,0,0,{"$f":"IF(AND(J357=0,K357=0),,IF(G357=0,\"KUNDE/LEV NR ?\",VLOOKUP(G357,Register!$K$1:$L$618,2)))","v":0},0,null,0,null,0,null,null,0,0,0,0,0,0]
[null,0,null,0,null,null,null,"00:00:00",0,0,0,{"$f":"IF(AND(J358=0,K358=0),,IF(G358=0,\"KUNDE/LEV NR ?\",VLOOKUP(G358,Register!$K$1:$L$618,2)))","v":0},0,null,0,null,0,null,null,0,0,0,0,0,0]
[null,0,null,0,null,null,null,"00:00:00",0,0,0,{"$f":"IF(AND(J359=0,K359=0),,IF(G359=0,\"KUNDE/LEV NR ?\",VLOOKUP(G359,Register!$K$1:$L$618,2)))","v":0},0,null,0,null,0,null,null,0,0,0,0,0,0]
[null,0,null,0,null,null,null,"00:00:00",0,0,0,{"$f":"IF(AND(J360=0,K360=0),,IF(G360=0,\"KUNDE/LEV NR ?\",VLOOKUP(G360,Register!$K$1:$L$618,2)))","v":0},0,null,0,null,0,null,null,0,0,0,0,0,0]
[null,0,null,0,null,null,null,"00:00:00",0,0,0,{"$f":"IF(AND(J361=0,K361=0),,IF(G361=0,\"KUNDE/LEV NR ?\",VLOOKUP(G361,Register!$K$1:$L$618,2)))","v":0},0,null,0,null,0,null,null,0,0,0,0,0,0]
[null,0,null,0,null,null,null,"00:00:00",0,0,0,{"$f":"IF(AND(J362=0,K362=0),,IF(G362=0,\"KUNDE/LEV NR ?\",VLOOKUP(G362,Register!$K$1:$L$618,2)))","v":0},0,null,0,null,0,null,null,0,0,0,0,0,0]
[null,0,null,0,null,null,null,"00:00:00",0,0,0,{"$f":"IF(AND(J363=0,K363=0),,IF(G363=0,\"KUNDE/LEV NR ?\",VLOOKUP(G363,Register!$K$1:$L$618,2)))","v":0},0,null,0,null,0,null,null,0,0,0,0,0,0]
[null,0,null,0,null,null,null,"00:00:00",0,0,0,{"$f":"IF(AND(J364=0,K364=0),,IF(G364=0,\"KUNDE/LEV NR ?\",VLOOKUP(G364,Register!$K$1:$L$618,2)))","v":0},0,null,0,null,0,null,null,0,0,0,0,0,0]
[null,0,null,0,null,null,null,"00:00:00",0,0,0,{"$f":"IF(AND(J365=0,K365=0),,IF(G365=0,\"KUNDE/LEV NR ?\",VLOOKUP(G365,Register!$K$1:$L$618,2)))","v":0},0,null,0,null,0,null,null,0,0,0,0,0,0]
[null,0,null,0,null,null,null,"00:00:00",0,0,0,{"$f":"IF(AND(J366=0,K366=0),,IF(G366=0,\"KUNDE/LEV NR ?\",VLOOKUP(G366,Register!$K$1:$L$618,2)))","v":0},0,null,0,null,0,null,null,0,0,0,0,0,0]
[null,0,null,0,null,null,null,"00:00:00",0,0,0,{"$f":"IF(AND(J367=0,K367=0),,IF(G367=0,\"KUNDE/LEV NR ?\",VLOOKUP(G367,Register!$K$1:$L$618,2)))","v":0},0,null,0,null,0,null,null,0,0,0,0,0,0]
[null,0,null,0,null,null,null,"00:00:00",0,0,0,{"$f":"IF(AND(J368=0,K368=0),,IF(G368=0,\"KUNDE/LEV NR ?\",VLOOKUP(G368,Register!$K$1:$L$618,2)))","v":0},0,null,0,null,0,null,null,0,0,0,0,0,0]
[null,0,null,0,null,null,null,"00:00:00",0,0,0,{"$f":"IF(AND(J369=0,K369=0),,IF(G369=0,\"KUNDE/LEV NR ?\",VLOOKUP(G369,Register!$K$1:$L$618,2)))","v":0},0,null,0,null,0,null,null,0,0,0,0,0,0]
[null,0,null,0,null,null,null,"00:00:00",0,0,0,{"$f":"IF(AND(J370=0,K370=0),,IF(G370=0,\"KUNDE/LEV NR ?\",VLOOKUP(G370,Register!$K$1:$L$618,2)))","v":0},0,null,0,null,0,null,null,0,0,0,0,0,0]
[null,0,null,0,null,null,null,"00:00:00",0,0,0,{"$f":"IF(AND(J371=0,K371=0),,IF(G371=0,\"KUNDE/LEV NR ?\",VLOOKUP(G371,Register!$K$1:$L$618,2)))","v":0},0,null,0,null,0,null,null,0,0,0,0,0,0]
[null,0,null,0,null,null,null,"00:00:00",0,0,0,{"$f":"IF(AND(J372=0,K372=0),,IF(G372=0,\"KUNDE/LEV NR ?\",VLOOKUP(G372,Register!$K$1:$L$618,2)))","v":0},0,null,0,null,0,null,null,0,0,0,0,0,0]
[null,0,null,0,null,null,null,"00:00:00",0,0,0,{"$f":"IF(AND(J373=0,K373=0),,IF(G373=0,\"KUNDE/LEV NR ?\",VLOOKUP(G373,Register!$K$1:$L$618,2)))","v":0},0,null,0,null,0,null,null,0,0,0,0,0,0]
[null,0,null,0,null,null,null,"00:00:00",0,0,0,{"$f":"IF(AND(J374=0,K374=0),,IF(G374=0,\"KUNDE/LEV NR ?\",VLOOKUP(G374,Register!$K$1:$L$618,2)))","v":0},0,null,0,null,0,null,null,0,0,0,0,0,0]
[null,0,null,0,null,null,null,"00:00:00",0,0,0,{"$f":"IF(AND(J375=0,K375=0),,IF(G375=0,\"KUNDE/LEV NR ?\",VLOOKUP(G375,Register!$K$1:$L$618,2)))","v":0},0,null,0,null,0,null,null,0,0,0,0,0,0]
[null,0,null,0,null,null,null,"00:00:00",0,0,0,{"$f":"IF(AND(J376=0,K376=0),,IF(G376=0,\"KUNDE/LEV NR ?\",VLOOKUP(G376,Register!$K$1:$L$618,2)))","v":0},0,null,0,null,0,null,null,0,0,0,0,0,0]
[null,0,null,0,null,null,null,"00:00:00",0,0,0,{"$f":"IF(AND(J377=0,K377=0),,IF(G377=0,\"KUNDE/LEV NR ?\",VLOOKUP(G377,Register!$K$1:$L$618,2)))","v":0},0,null,0,null,0,null,null,0,0,0,0,0,0]
[null,0,null,0,null,null,null,"00:00:00",0,0,0,{"$f":"IF(AND(J378=0,K378=0),,IF(G378=0,\"KUNDE/LEV NR ?\",VLOOKUP(G378,Register!$K$1:$L$618,2)))","v":0},0,null,0,null,0,null,null,0,0,0,0,0,0]
[null,0,null,0,null,null,null,"00:00:00",0,0,0,{"$f":"IF(AND(J379=0,K379=0),,IF(G379=0,\"KUNDE/LEV NR ?\",VLOOKUP(G379,Register!$K$1:$L$618,2)))","v":0},0,null,0,null,0,null,null,0,0,0,0,0,0]
[null,0,null,0,null,null,null,"00:00:00",0,0,0,{"$f":"IF(AND(J380=0,K380=0),,IF(G380=0,\"KUNDE/LEV NR ?\",VLOOKUP(G380,Register!$K$1:$L$618,2)))","v":0},0,null,0,null,0,null,null,0,0,0,0,0,0]
[null,0,null,0,null,null,null,"00:00:00",0,0,0,{"$f":"IF(AND(J381=0,K381=0),,IF(G381=0,\"KUNDE/LEV NR ?\",VLOOKUP(G381,Register!$K$1:$L$618,2)))","v":0},0,null,0,null,0,null,null,0,0,0,0,0,0]
[null,0,null,0,null,null,null,"00:00:00",0,0,0,{"$f":"IF(AND(J382=0,K382=0),,IF(G382=0,\"KUNDE/LEV NR ?\",VLOOKUP(G382,Register!$K$1:$L$618,2)))","v":0},0,null,0,null,0,null,null,0,0,0,0,0,0]
[null,0,null,0,null,null,null,"00:00:00",0,0,0,{"$f":"IF(AND(J383=0,K383=0),,IF(G383=0,\"KUNDE/LEV NR ?\",VLOOKUP(G383,Register!$K$1:$L$618,2)))","v":0},0,null,0,null,0,null,null,0,0,0,0,0,0]
[null,0,null,0,null,null,null,"00:00:00",0,0,0,{"$f":"IF(AND(J384=0,K384=0),,IF(G384=0,\"KUNDE/LEV NR ?\",VLOOKUP(G384,Register!$K$1:$L$618,2)))","v":0},0,null,0,null,0,null,null,0,0,0,0,0,0]
[null,0,null,0,null,null,null,"00:00:00",0,0,0,{"$f":"IF(AND(J385=0,K385=0),,IF(G385=0,\"KUNDE/LEV NR ?\",VLOOKUP(G385,Register!$K$1:$L$618,2)))","v":0},0,null,0,null,0,null,null,0,0,0,0,0,0]
[null,0,null,0,null,null,null,"00:00:00",0,0,0,{"$f":"IF(AND(J386=0,K386=0),,IF(G386=0,\"KUNDE/LEV NR ?\",VLOOKUP(G386,Register!$K$1:$L$618,2)))","v":0},0,null,0,null,0,null,null,0,0,0,0,0,0]
[null,0,null,0,null,null,null,"00:00:00",0,0,0,{"$f":"IF(AND(J387=0,K387=0),,IF(G387=0,\"KUNDE/LEV NR ?\",VLOOKUP(G387,Register!$K$1:$L$618,2)))","v":0},0,null,0,null,0,null,null,0,0,0,0,0,0]
[null,0,null,0,null,null,null,"00:00:00",0,0,0,{"$f":"IF(AND(J388=0,K388=0),,IF(G388=0,\"KUNDE/LEV NR ?\",VLOOKUP(G388,Register!$K$1:$L$618,2)))","v":0},0,null,0,null,0,null,null,0,0,0,0,0,0]
[null,0,null,{"$f":"IF(C389=0,,VLOOKUP(C389,$AA$4:$AB$320,2))","v":0},null,null,null,"00:00:00",{"$f":"IF(H389>0,\"d\",)","v":0},0,0,{"$f":"IF(AND(J389=0,K389=0),,IF(G389=0,\"KUNDE/LEV NR ?\",VLOOKUP(G389,Register!$K$1:$L$618,2)))","v":0},0,null,0,null,0,null,null,0,0,{"$f":"IF(R389=0,,R389/(1+VLOOKUP(P389,$AC$5:$AD$362,2)))","v":0},{"$f":"IF(S389=0,,S389/(1+VLOOKUP(P389,$AC$5:$AD$362,2)))","v":0},{"$f":"IF(P389=0,,IF(P389=P390,,VLOOKUP(P389,$AC$5:$AE$364,3)))","v":0},{"$f":"IF(P389=0,,IF(P389=P390,,VLOOKUP(P389,$AC$5:$AF$362,4)))","v":0}]
[null,{"$f":"IF(A390>0,B389+1,)","v":0},null,0,null,null,null,{"$f":"A390","v":"00:00:00"},0,{"$f":"E390*-1+F390","v":0},{"$f":"IF(AND(A390>0,H390>0),J390*-1,)","v":0},{"$f":"IF(AND(J390=0,K390=0),,IF(G390=0,\"KUNDE/LEV NR ?\",VLOOKUP(G390,Register!$K$1:$L$618,2)))","v":0},0,null,0,null,0,null,null,0,0,0,0,0,0]
[null,0,null,0,null,null,null,"00:00:00",0,0,0,{"$f":"IF(AND(J391=0,K391=0),,IF(G391=0,\"KUNDE/LEV NR ?\",VLOOKUP(G391,Register!$K$1:$L$618,2)))","v":0},{"$f":"IF(ISNUMBER(A391+B391+E391+F391+G391+H391+J391+K391),A391+B391+E391+F391+G391+H391+J391+K391,\"FEIL\")","v":0},null,0,null,0,null,null,0,0,0,0,0,0]
[null,0,null,0,null,null,null,"00:00:00",0,0,0,{"$f":"IF(AND(J392=0,K392=0),,IF(G392=0,\"KUNDE/LEV NR ?\",VLOOKUP(G392,Register!$K$1:$L$618,2)))","v":0},0,null,0,null,0,null,null,0,0,0,0,0,0]
[null,0,null,0,null,null,null,"00:00:00",0,0,0,{"$f":"IF(AND(J393=0,K393=0),,IF(G393=0,\"KUNDE/LEV NR ?\",VLOOKUP(G393,Register!$K$1:$L$618,2)))","v":0},0,null,0,null,0,null,null,0,0,0,0,0,0]
[null,0,null,0,null,null,null,"00:00:00",0,0,0,{"$f":"IF(AND(J394=0,K394=0),,IF(G394=0,\"KUNDE/LEV NR ?\",VLOOKUP(G394,Register!$K$1:$L$618,2)))","v":0},0,null,0,null,0,null,null,0,0,0,0,0,0]
[null,0,null,0,null,null,null,"00:00:00",0,0,0,{"$f":"IF(AND(J395=0,K395=0),,IF(G395=0,\"KUNDE/LEV NR ?\",VLOOKUP(G395,Register!$K$1:$L$618,2)))","v":0},0,null,0,null,0,null,null,0,0,0,0,0,0]
[null,0,null,0,null,null,null,"00:00:00",0,0,0,{"$f":"IF(AND(J396=0,K396=0),,IF(G396=0,\"KUNDE/LEV NR ?\",VLOOKUP(G396,Register!$K$1:$L$618,2)))","v":0},0,null,0,null,0,null,null,0,0,0,0,0,0]
[null,0,null,0,null,null,null,"00:00:00",0,0,0,{"$f":"IF(AND(J397=0,K397=0),,IF(G397=0,\"KUNDE/LEV NR ?\",VLOOKUP(G397,Register!$K$1:$L$618,2)))","v":0},0,null,0,null,0,null,null,0,0,0,0,0,0]
[null,0,null,0,null,null,null,"00:00:00",0,0,0,{"$f":"IF(AND(J398=0,K398=0),,IF(G398=0,\"KUNDE/LEV NR ?\",VLOOKUP(G398,Register!$K$1:$L$618,2)))","v":0},0,null,0,null,0,null,null,{"$f":"R398-V398","v":0},{"$f":"S398-W398","v":0},0,0,0,0]
[null,0,null,0,null,null,null,"00:00:00",0,0,0,{"$f":"IF(AND(J399=0,K399=0),,IF(G399=0,\"KUNDE/LEV NR ?\",VLOOKUP(G399,Register!$K$1:$L$618,2)))","v":0},0,null,0,null,0,null,null,0,0,0,0,0,0]
[null,0,null,0,null,null,null,"00:00:00",0,0,0,{"$f":"IF(AND(J400=0,K400=0),,IF(G400=0,\"KUNDE/LEV NR ?\",VLOOKUP(G400,Register!$K$1:$L$618,2)))","v":0},0,null,0,null,0,null,null,0,0,0,0,0,0]
[null,0,null,0,null,null,null,"00:00:00",0,0,0,{"$f":"IF(AND(J401=0,K401=0),,IF(G401=0,\"KUNDE/LEV NR ?\",VLOOKUP(G401,Register!$K$1:$L$618,2)))","v":0},0,null,0,null,0,null,null,0,0,0,0,0,0]
[null,0,null,0,null,null,null,"00:00:00",0,0,0,{"$f":"IF(AND(J402=0,K402=0),,IF(G402=0,\"KUNDE/LEV NR ?\",VLOOKUP(G402,Register!$K$1:$L$618,2)))","v":0},0,null,0,null,0,null,null,0,0,0,0,0,0]
[null,0,null,0,null,null,null,"00:00:00",0,0,0,{"$f":"IF(AND(J403=0,K403=0),,IF(G403=0,\"KUNDE/LEV NR ?\",VLOOKUP(G403,Register!$K$1:$L$618,2)))","v":0},0,null,0,null,0,null,null,0,0,0,0,0,0]
[null,0,null,0,null,null,null,"00:00:00",0,0,0,{"$f":"IF(AND(J404=0,K404=0),,IF(G404=0,\"KUNDE/LEV NR ?\",VLOOKUP(G404,Register!$K$1:$L$618,2)))","v":0},0,null,0,null,0,null,null,0,0,0,0,0,0]
[null,0,null,0,null,null,null,"00:00:00",0,0,0,{"$f":"IF(AND(J405=0,K405=0),,IF(G405=0,\"KUNDE/LEV NR ?\",VLOOKUP(G405,Register!$K$1:$L$618,2)))","v":0},0,null,0,null,0,null,null,0,0,0,0,0,0]
[null,0,null,0,null,null,null,"00:00:00",0,0,0,{"$f":"IF(AND(J406=0,K406=0),,IF(G406=0,\"KUNDE/LEV NR ?\",VLOOKUP(G406,Register!$K$1:$L$618,2)))","v":0},0,null,0,null,0,null,null,0,0,0,0,0,0]
[null,0,null,0,null,null,null,"00:00:00",0,0,0,{"$f":"IF(AND(J407=0,K407=0),,IF(G407=0,\"KUNDE/LEV NR ?\",VLOOKUP(G407,Register!$K$1:$L$618,2)))","v":0},0,null,0,null,0,null,null,0,0,0,0,0,0]
[null,0,null,0,null,null,null,"00:00:00",0,0,0,{"$f":"IF(AND(J408=0,K408=0),,IF(G408=0,\"KUNDE/LEV NR ?\",VLOOKUP(G408,Register!$K$1:$L$618,2)))","v":0},0,null,0,null,0,null,null,0,0,0,0,0,0]
[null,0,null,0,null,null,null,"00:00:00",0,0,0,{"$f":"IF(AND(J409=0,K409=0),,IF(G409=0,\"KUNDE/LEV NR ?\",VLOOKUP(G409,Register!$K$1:$L$618,2)))","v":0},0,null,0,null,0,null,null,0,0,0,0,0,0]
[null,0,null,0,null,null,null,"00:00:00",0,0,0,{"$f":"IF(AND(J410=0,K410=0),,IF(G410=0,\"KUNDE/LEV NR ?\",VLOOKUP(G410,Register!$K$1:$L$618,2)))","v":0},0,null,0,null,0,null,null,0,0,0,0,0,0]
[null,0,null,0,null,null,null,"00:00:00",0,0,0,{"$f":"IF(AND(J411=0,K411=0),,IF(G411=0,\"KUNDE/LEV NR ?\",VLOOKUP(G411,Register!$K$1:$L$618,2)))","v":0},0,null,0,null,0,null,null,0,0,0,0,0,0]
[null,0,null,0,null,null,null,"00:00:00",0,0,0,{"$f":"IF(AND(J412=0,K412=0),,IF(G412=0,\"KUNDE/LEV NR ?\",VLOOKUP(G412,Register!$K$1:$L$618,2)))","v":0},0,null,0,null,0,null,null,0,0,0,0,0,0]
[null,0,null,0,null,null,null,"00:00:00",0,0,0,{"$f":"IF(AND(J413=0,K413=0),,IF(G413=0,\"KUNDE/LEV NR ?\",VLOOKUP(G413,Register!$K$1:$L$618,2)))","v":0},0,null,0,null,0,null,null,0,0,0,0,0,0]
[null,0,null,0,null,null,null,"00:00:00",0,0,0,{"$f":"IF(AND(J414=0,K414=0),,IF(G414=0,\"KUNDE/LEV NR ?\",VLOOKUP(G414,Register!$K$1:$L$618,2)))","v":0},0,null,0,null,0,null,null,0,0,0,0,0,0]
[null,0,null,0,null,null,null,"00:00:00",0,0,0,{"$f":"IF(AND(J415=0,K415=0),,IF(G415=0,\"KUNDE/LEV NR ?\",VLOOKUP(G415,Register!$K$1:$L$618,2)))","v":0},0,null,0,null,0,null,null,0,0,0,0,0,0]
[null,0,null,0,null,null,null,"00:00:00",0,0,0,{"$f":"IF(AND(J416=0,K416=0),,IF(G416=0,\"KUNDE/LEV NR ?\",VLOOKUP(G416,Register!$K$1:$L$618,2)))","v":0},0,null,0,null,0,null,null,0,0,0,0,0,0]
[null,0,null,0,null,null,null,"00:00:00",0,0,0,{"$f":"IF(AND(J417=0,K417=0),,IF(G417=0,\"KUNDE/LEV NR ?\",VLOOKUP(G417,Register!$K$1:$L$618,2)))","v":0},0,null,0,null,0,null,null,0,0,0,0,0,0]
[null,0,null,0,null,null,null,"00:00:00",0,0,0,{"$f":"IF(AND(J418=0,K418=0),,IF(G418=0,\"KUNDE/LEV NR ?\",VLOOKUP(G418,Register!$K$1:$L$618,2)))","v":0},0,null,0,null,0,null,null,0,0,0,0,0,0]
[null,0,null,0,null,null,null,"00:00:00",0,0,0,{"$f":"IF(AND(J419=0,K419=0),,IF(G419=0,\"KUNDE/LEV NR ?\",VLOOKUP(G419,Register!$K$1:$L$618,2)))","v":0},0,null,0,null,0,null,null,0,0,0,0,0,0]
[null,0,null,0,null,null,null,"00:00:00",0,0,0,{"$f":"IF(AND(J420=0,K420=0),,IF(G420=0,\"KUNDE/LEV NR ?\",VLOOKUP(G420,Register!$K$1:$L$618,2)))","v":0},0,null,0,null,0,null,null,0,0,0,0,0,0]
[null,0,null,0,null,null,null,"00:00:00",0,0,0,{"$f":"IF(AND(J421=0,K421=0),,IF(G421=0,\"KUNDE/LEV NR ?\",VLOOKUP(G421,Register!$K$1:$L$618,2)))","v":0},0,null,0,null,0,null,null,0,0,0,0,0,0]
[null,0,null,0,null,null,null,"00:00:00",0,0,0,{"$f":"IF(AND(J422=0,K422=0),,IF(G422=0,\"KUNDE/LEV NR ?\",VLOOKUP(G422,Register!$K$1:$L$618,2)))","v":0},0,null,0,null,0,null,null,0,0,0,0,0,0]
[null,0,null,0,null,null,null,"00:00:00",0,0,0,{"$f":"IF(AND(J423=0,K423=0),,IF(G423=0,\"KUNDE/LEV NR ?\",VLOOKUP(G423,Register!$K$1:$L$618,2)))","v":0},0,null,0,null,0,null,null,0,0,0,0,0,0]
[null,0,null,0,null,null,null,"00:00:00",0,0,0,{"$f":"IF(AND(J424=0,K424=0),,IF(G424=0,\"KUNDE/LEV NR ?\",VLOOKUP(G424,Register!$K$1:$L$618,2)))","v":0},0,null,0,null,0,null,null,0,0,0,0,0,0]
[null,0,null,0,null,null,null,"00:00:00",0,0,0,{"$f":"IF(AND(J425=0,K425=0),,IF(G425=0,\"KUNDE/LEV NR ?\",VLOOKUP(G425,Register!$K$1:$L$618,2)))","v":0},0,null,0,null,0,null,null,0,0,0,0,0,0]
[null,0,null,0,null,null,null,"00:00:00",0,0,0,{"$f":"IF(AND(J426=0,K426=0),,IF(G426=0,\"KUNDE/LEV NR ?\",VLOOKUP(G426,Register!$K$1:$L$618,2)))","v":0},0,null,0,null,0,null,null,0,0,0,0,0,0]
[null,0,null,0,null,null,null,"00:00:00",0,0,0,{"$f":"IF(AND(J427=0,K427=0),,IF(G427=0,\"KUNDE/LEV NR ?\",VLOOKUP(G427,Register!$K$1:$L$618,2)))","v":0},0,null,0,null,0,null,null,0,0,0,0,0,0]
[null,0,null,0,null,null,null,"00:00:00",0,0,0,{"$f":"IF(AND(J428=0,K428=0),,IF(G428=0,\"KUNDE/LEV NR ?\",VLOOKUP(G428,Register!$K$1:$L$618,2)))","v":0},0,null,0,null,0,null,null,0,0,0,0,0,0]
[null,0,null,0,null,null,null,"00:00:00",0,0,0,{"$f":"IF(AND(J429=0,K429=0),,IF(G429=0,\"KUNDE/LEV NR ?\",VLOOKUP(G429,Register!$K$1:$L$618,2)))","v":0},0,null,0,null,0,null,null,0,0,0,0,0,0]
[null,0,null,0,null,null,null,"00:00:00",0,0,0,{"$f":"IF(AND(J430=0,K430=0),,IF(G430=0,\"KUNDE/LEV NR ?\",VLOOKUP(G430,Register!$K$1:$L$618,2)))","v":0},0,null,0,null,0,null,null,0,0,0,0,0,0]
[null,0,null,0,null,null,null,"00:00:00",0,0,0,{"$f":"IF(AND(J431=0,K431=0),,IF(G431=0,\"KUNDE/LEV NR ?\",VLOOKUP(G431,Register!$K$1:$L$618,2)))","v":0},0,null,0,null,0,null,null,0,0,0,0,0,0]
[null,0,null,0,null,null,null,"00:00:00",0,0,0,{"$f":"IF(AND(J432=0,K432=0),,IF(G432=0,\"KUNDE/LEV NR ?\",VLOOKUP(G432,Register!$K$1:$L$618,2)))","v":0},0,null,0,null,0,null,null,0,0,0,0,0,0]
[null,0,null,0,null,null,null,"00:00:00",0,0,0,{"$f":"IF(AND(J433=0,K433=0),,IF(G433=0,\"KUNDE/LEV NR ?\",VLOOKUP(G433,Register!$K$1:$L$618,2)))","v":0},0,null,0,null,0,null,null,0,0,0,0,0,0]
[null,0,null,0,null,null,null,"00:00:00",0,0,0,{"$f":"IF(AND(J434=0,K434=0),,IF(G434=0,\"KUNDE/LEV NR ?\",VLOOKUP(G434,Register!$K$1:$L$618,2)))","v":0},0,null,0,null,0,null,null,0,0,0,0,0,0]
[null,0,null,0,null,null,null,"00:00:00",0,0,0,{"$f":"IF(AND(J435=0,K435=0),,IF(G435=0,\"KUNDE/LEV NR ?\",VLOOKUP(G435,Register!$K$1:$L$618,2)))","v":0},0,null,0,null,0,null,null,0,0,0,0,0,0]
[null,0,null,0,null,null,null,"00:00:00",0,0,0,{"$f":"IF(AND(J436=0,K436=0),,IF(G436=0,\"KUNDE/LEV NR ?\",VLOOKUP(G436,Register!$K$1:$L$618,2)))","v":0},0,null,0,null,0,null,null,0,0,0,0,0,0]
[null,0,null,0,null,null,null,"00:00:00",0,0,0,{"$f":"IF(AND(J437=0,K437=0),,IF(G437=0,\"KUNDE/LEV NR ?\",VLOOKUP(G437,Register!$K$1:$L$618,2)))","v":0},0,null,0,null,0,null,null,0,0,0,0,0,0]
[null,0,null,0,null,null,null,"00:00:00",0,0,0,{"$f":"IF(AND(J438=0,K438=0),,IF(G438=0,\"KUNDE/LEV NR ?\",VLOOKUP(G438,Register!$K$1:$L$618,2)))","v":0},0,null,0,null,0,null,null,0,0,0,0,0,0]
[null,0,null,0,null,null,null,"00:00:00",0,0,0,{"$f":"IF(AND(J439=0,K439=0),,IF(G439=0,\"KUNDE/LEV NR ?\",VLOOKUP(G439,Register!$K$1:$L$618,2)))","v":0},0,null,0,null,0,null,null,0,0,0,0,0,0]
[null,0,null,0,null,null,null,"00:00:00",0,0,0,{"$f":"IF(AND(J440=0,K440=0),,IF(G440=0,\"KUNDE/LEV NR ?\",VLOOKUP(G440,Register!$K$1:$L$618,2)))","v":0},0,null,0,null,0,null,null,0,0,0,0,0,0]
[null,0,null,0,null,null,null,"00:00:00",0,0,0,{"$f":"IF(AND(J441=0,K441=0),,IF(G441=0,\"KUNDE/LEV NR ?\",VLOOKUP(G441,Register!$K$1:$L$618,2)))","v":0},0,null,0,null,0,null,null,0,0,0,0,0,0]
[null,0,null,0,null,null,null,"00:00:00",0,0,0,{"$f":"IF(AND(J442=0,K442=0),,IF(G442=0,\"KUNDE/LEV NR ?\",VLOOKUP(G442,Register!$K$1:$L$618,2)))","v":0},0,null,0,null,0,null,null,0,0,0,0,0,0]
[null,0,null,0,null,null,null,"00:00:00",0,0,0,{"$f":"IF(AND(J443=0,K443=0),,IF(G443=0,\"KUNDE/LEV NR ?\",VLOOKUP(G443,Register!$K$1:$L$618,2)))","v":0},0,null,0,null,0,null,null,0,0,0,0,0,0]
[null,0,null,0,null,null,null,"00:00:00",0,0,0,{"$f":"IF(AND(J444=0,K444=0),,IF(G444=0,\"KUNDE/LEV NR ?\",VLOOKUP(G444,Register!$K$1:$L$618,2)))","v":0},0,null,0,null,0,null,null,0,0,0,0,0,0]
[null,0,null,0,null,null,null,"00:00:00",0,0,0,{"$f":"IF(AND(J445=0,K445=0),,IF(G445=0,\"KUNDE/LEV NR ?\",VLOOKUP(G445,Register!$K$1:$L$618,2)))","v":0},0,null,0,null,0,null,null,0,0,0,0,0,0]
[null,0,null,0,null,null,null,"00:00:00",0,0,0,{"$f":"IF(AND(J446=0,K446=0),,IF(G446=0,\"KUNDE/LEV NR ?\",VLOOKUP(G446,Register!$K$1:$L$618,2)))","v":0},0,null,0,null,0,null,null,0,0,0,0,0,0]
[null,0,null,0,null,null,null,"00:00:00",0,0,0,{"$f":"IF(AND(J447=0,K447=0),,IF(G447=0,\"KUNDE/LEV NR ?\",VLOOKUP(G447,Register!$K$1:$L$618,2)))","v":0},0,null,0,null,0,null,null,0,0,0,0,0,0]
[null,0,null,0,null,null,null,"00:00:00",0,0,0,{"$f":"IF(AND(J448=0,K448=0),,IF(G448=0,\"KUNDE/LEV NR ?\",VLOOKUP(G448,Register!$K$1:$L$618,2)))","v":0},0,null,0,null,0,null,null,0,0,0,0,0,0]
[null,0,null,0,null,null,null,"00:00:00",0,0,0,{"$f":"IF(AND(J449=0,K449=0),,IF(G449=0,\"KUNDE/LEV NR ?\",VLOOKUP(G449,Register!$K$1:$L$618,2)))","v":0},0,null,0,null,0,null,null,0,0,0,0,0,0]
[null,0,null,0,null,null,null,"00:00:00",0,0,0,{"$f":"IF(AND(J450=0,K450=0),,IF(G450=0,\"KUNDE/LEV NR ?\",VLOOKUP(G450,Register!$K$1:$L$618,2)))","v":0},0,null,0,null,0,null,null,0,0,0,0,0,0]
[null,0,null,0,null,null,null,"00:00:00",0,0,0,{"$f":"IF(AND(J451=0,K451=0),,IF(G451=0,\"KUNDE/LEV NR ?\",VLOOKUP(G451,Register!$K$1:$L$618,2)))","v":0},0,null,0,null,0,null,null,0,0,0,0,0,0]
[null,0,null,0,null,null,null,"00:00:00",0,0,0,{"$f":"IF(AND(J452=0,K452=0),,IF(G452=0,\"KUNDE/LEV NR ?\",VLOOKUP(G452,Register!$K$1:$L$618,2)))","v":0},0,null,0,null,0,null,null,0,0,0,0,0,0]
[null,0,null,{"$f":"IF(C453=0,,VLOOKUP(C453,$AA$4:$AB$320,2))","v":0},null,null,null,"00:00:00",{"$f":"IF(H453>0,\"d\",)","v":0},0,0,{"$f":"IF(AND(J453=0,K453=0),,IF(G453=0,\"KUNDE/LEV NR ?\",VLOOKUP(G453,Register!$K$1:$L$618,2)))","v":0},0,null,0,null,0,null,null,0,0,{"$f":"IF(R453=0,,R453/(1+VLOOKUP(P453,$AC$5:$AD$362,2)))","v":0},{"$f":"IF(S453=0,,S453/(1+VLOOKUP(P453,$AC$5:$AD$362,2)))","v":0},{"$f":"IF(P453=0,,IF(P453=P454,,VLOOKUP(P453,$AC$5:$AE$364,3)))","v":0},{"$f":"IF(P453=0,,IF(P453=P454,,VLOOKUP(P453,$AC$5:$AF$362,4)))","v":0}]
[null,{"$f":"IF(A454>0,B453+1,)","v":0},null,0,null,null,null,{"$f":"A454","v":"00:00:00"},0,{"$f":"E454*-1+F454","v":0},{"$f":"IF(AND(A454>0,H454>0),J454*-1,)","v":0},{"$f":"IF(AND(J454=0,K454=0),,IF(G454=0,\"KUNDE/LEV NR ?\",VLOOKUP(G454,Register!$K$1:$L$618,2)))","v":0},0,null,0,null,0,null,null,0,0,0,0,0,0]
[null,0,null,0,null,null,null,"00:00:00",0,0,0,{"$f":"IF(AND(J455=0,K455=0),,IF(G455=0,\"KUNDE/LEV NR ?\",VLOOKUP(G455,Register!$K$1:$L$618,2)))","v":0},{"$f":"IF(ISNUMBER(A455+B455+E455+F455+G455+H455+J455+K455),A455+B455+E455+F455+G455+H455+J455+K455,\"FEIL\")","v":0},null,0,null,0,null,null,0,0,0,0,0,0]
[null,0,null,0,null,null,null,"00:00:00",0,0,0,{"$f":"IF(AND(J456=0,K456=0),,IF(G456=0,\"KUNDE/LEV NR ?\",VLOOKUP(G456,Register!$K$1:$L$618,2)))","v":0},0,null,0,null,0,null,null,0,0,0,0,0,0]
[null,0,null,0,null,null,null,"00:00:00",0,0,0,{"$f":"IF(AND(J457=0,K457=0),,IF(G457=0,\"KUNDE/LEV NR ?\",VLOOKUP(G457,Register!$K$1:$L$618,2)))","v":0},0,null,0,null,0,null,null,0,0,0,0,0,0]
[null,0,null,0,null,null,null,"00:00:00",0,0,0,{"$f":"IF(AND(J458=0,K458=0),,IF(G458=0,\"KUNDE/LEV NR ?\",VLOOKUP(G458,Register!$K$1:$L$618,2)))","v":0},0,null,0,null,0,null,null,0,0,0,0,0,0]
[null,0,null,0,null,null,null,"00:00:00",0,0,0,{"$f":"IF(AND(J459=0,K459=0),,IF(G459=0,\"KUNDE/LEV NR ?\",VLOOKUP(G459,Register!$K$1:$L$618,2)))","v":0},0,null,0,null,0,null,null,0,0,0,0,0,0]
[null,0,null,0,null,null,null,"00:00:00",0,0,0,{"$f":"IF(AND(J460=0,K460=0),,IF(G460=0,\"KUNDE/LEV NR ?\",VLOOKUP(G460,Register!$K$1:$L$618,2)))","v":0},0,null,0,null,0,null,null,0,0,0,0,0,0]
[null,0,null,0,null,null,null,"00:00:00",0,0,0,{"$f":"IF(AND(J461=0,K461=0),,IF(G461=0,\"KUNDE/LEV NR ?\",VLOOKUP(G461,Register!$K$1:$L$618,2)))","v":0},0,null,0,null,0,null,null,0,0,0,0,0,0]
[null,0,null,0,null,null,null,"00:00:00",0,0,0,{"$f":"IF(AND(J462=0,K462=0),,IF(G462=0,\"KUNDE/LEV NR ?\",VLOOKUP(G462,Register!$K$1:$L$618,2)))","v":0},0,null,0,null,0,null,null,{"$f":"R462-V462","v":0},{"$f":"S462-W462","v":0},0,0,0,0]
[null,0,null,0,null,null,null,"00:00:00",0,0,0,{"$f":"IF(AND(J463=0,K463=0),,IF(G463=0,\"KUNDE/LEV NR ?\",VLOOKUP(G463,Register!$K$1:$L$618,2)))","v":0},0,null,0,null,0,null,null,0,0,0,0,0,0]
[null,0,null,0,null,null,null,"00:00:00",0,0,0,{"$f":"IF(AND(J464=0,K464=0),,IF(G464=0,\"KUNDE/LEV NR ?\",VLOOKUP(G464,Register!$K$1:$L$618,2)))","v":0},0,null,0,null,0,null,null,0,0,0,0,0,0]
[null,0,null,0,null,null,null,"00:00:00",0,0,0,{"$f":"IF(AND(J465=0,K465=0),,IF(G465=0,\"KUNDE/LEV NR ?\",VLOOKUP(G465,Register!$K$1:$L$618,2)))","v":0},0,null,0,null,0,null,null,0,0,0,0,0,0]
[null,0,null,0,null,null,null,"00:00:00",0,0,0,{"$f":"IF(AND(J466=0,K466=0),,IF(G466=0,\"KUNDE/LEV NR ?\",VLOOKUP(G466,Register!$K$1:$L$618,2)))","v":0},0,null,0,null,0,null,null,0,0,0,0,0,0]
[null,0,null,0,null,null,null,"00:00:00",0,0,0,{"$f":"IF(AND(J467=0,K467=0),,IF(G467=0,\"KUNDE/LEV NR ?\",VLOOKUP(G467,Register!$K$1:$L$618,2)))","v":0},0,null,0,null,0,null,null,0,0,0,0,0,0]
[null,0,null,0,null,null,null,"00:00:00",0,0,0,{"$f":"IF(AND(J468=0,K468=0),,IF(G468=0,\"KUNDE/LEV NR ?\",VLOOKUP(G468,Register!$K$1:$L$618,2)))","v":0},0,null,0,null,0,null,null,0,0,0,0,0,0]
[null,0,null,0,null,null,null,"00:00:00",0,0,0,{"$f":"IF(AND(J469=0,K469=0),,IF(G469=0,\"KUNDE/LEV NR ?\",VLOOKUP(G469,Register!$K$1:$L$618,2)))","v":0},0,null,0,null,0,null,null,0,0,0,0,0,0]
[null,0,null,0,null,null,null,"00:00:00",0,0,0,{"$f":"IF(AND(J470=0,K470=0),,IF(G470=0,\"KUNDE/LEV NR ?\",VLOOKUP(G470,Register!$K$1:$L$618,2)))","v":0},0,null,0,null,0,null,null,0,0,0,0,0,0]
[null,0,null,0,null,null,null,"00:00:00",0,0,0,{"$f":"IF(AND(J471=0,K471=0),,IF(G471=0,\"KUNDE/LEV NR ?\",VLOOKUP(G471,Register!$K$1:$L$618,2)))","v":0},0,null,0,null,0,null,null,0,0,0,0,0,0]
[null,0,null,0,null,null,null,"00:00:00",0,0,0,{"$f":"IF(AND(J472=0,K472=0),,IF(G472=0,\"KUNDE/LEV NR ?\",VLOOKUP(G472,Register!$K$1:$L$618,2)))","v":0},0,null,0,null,0,null,null,0,0,0,0,0,0]
[null,0,null,0,null,null,null,"00:00:00",0,0,0,{"$f":"IF(AND(J473=0,K473=0),,IF(G473=0,\"KUNDE/LEV NR ?\",VLOOKUP(G473,Register!$K$1:$L$618,2)))","v":0},0,null,0,null,0,null,null,0,0,0,0,0,0]
[null,0,null,0,null,null,null,"00:00:00",0,0,0,{"$f":"IF(AND(J474=0,K474=0),,IF(G474=0,\"KUNDE/LEV NR ?\",VLOOKUP(G474,Register!$K$1:$L$618,2)))","v":0},0,null,0,null,0,null,null,0,0,0,0,0,0]
[null,0,null,0,null,null,null,"00:00:00",0,0,0,{"$f":"IF(AND(J475=0,K475=0),,IF(G475=0,\"KUNDE/LEV NR ?\",VLOOKUP(G475,Register!$K$1:$L$618,2)))","v":0},0,null,0,null,0,null,null,0,0,0,0,0,0]
[null,0,null,0,null,null,null,"00:00:00",0,0,0,{"$f":"IF(AND(J476=0,K476=0),,IF(G476=0,\"KUNDE/LEV NR ?\",VLOOKUP(G476,Register!$K$1:$L$618,2)))","v":0},0,null,0,null,0,null,null,0,0,0,0,0,0]
[null,0,null,0,null,null,null,"00:00:00",0,0,0,{"$f":"IF(AND(J477=0,K477=0),,IF(G477=0,\"KUNDE/LEV NR ?\",VLOOKUP(G477,Register!$K$1:$L$618,2)))","v":0},0,null,0,null,0,null,null,0,0,0,0,0,0]
[null,0,null,0,null,null,null,"00:00:00",0,0,0,{"$f":"IF(AND(J478=0,K478=0),,IF(G478=0,\"KUNDE/LEV NR ?\",VLOOKUP(G478,Register!$K$1:$L$618,2)))","v":0},0,null,0,null,0,null,null,0,0,0,0,0,0]
[null,0,null,0,null,null,null,"00:00:00",0,0,0,{"$f":"IF(AND(J479=0,K479=0),,IF(G479=0,\"KUNDE/LEV NR ?\",VLOOKUP(G479,Register!$K$1:$L$618,2)))","v":0},0,null,0,null,0,null,null,0,0,0,0,0,0]
[null,0,null,0,null,null,null,"00:00:00",0,0,0,{"$f":"IF(AND(J480=0,K480=0),,IF(G480=0,\"KUNDE/LEV NR ?\",VLOOKUP(G480,Register!$K$1:$L$618,2)))","v":0},0,null,0,null,0,null,null,0,0,0,0,0,0]
[null,0,null,0,null,null,null,"00:00:00",0,0,0,{"$f":"IF(AND(J481=0,K481=0),,IF(G481=0,\"KUNDE/LEV NR ?\",VLOOKUP(G481,Register!$K$1:$L$618,2)))","v":0},0,null,0,null,0,null,null,0,0,0,0,0,0]
[null,0,null,0,null,null,null,"00:00:00",0,0,0,{"$f":"IF(AND(J482=0,K482=0),,IF(G482=0,\"KUNDE/LEV NR ?\",VLOOKUP(G482,Register!$K$1:$L$618,2)))","v":0},0,null,0,null,0,null,null,0,0,0,0,0,0]
[null,0,null,0,null,null,null,"00:00:00",0,0,0,{"$f":"IF(AND(J483=0,K483=0),,IF(G483=0,\"KUNDE/LEV NR ?\",VLOOKUP(G483,Register!$K$1:$L$618,2)))","v":0},0,null,0,null,0,null,null,0,0,0,0,0,0]
[null,0,null,0,null,null,null,"00:00:00",0,0,0,{"$f":"IF(AND(J484=0,K484=0),,IF(G484=0,\"KUNDE/LEV NR ?\",VLOOKUP(G484,Register!$K$1:$L$618,2)))","v":0},0,null,0,null,0,null,null,0,0,0,0,0,0]
[null,0,null,0,null,null,null,"00:00:00",0,0,0,{"$f":"IF(AND(J485=0,K485=0),,IF(G485=0,\"KUNDE/LEV NR ?\",VLOOKUP(G485,Register!$K$1:$L$618,2)))","v":0},0,null,0,null,0,null,null,0,0,0,0,0,0]
[null,0,null,0,null,null,null,"00:00:00",0,0,0,{"$f":"IF(AND(J486=0,K486=0),,IF(G486=0,\"KUNDE/LEV NR ?\",VLOOKUP(G486,Register!$K$1:$L$618,2)))","v":0},0,null,0,null,0,null,null,0,0,0,0,0,0]
[null,0,null,0,null,null,null,"00:00:00",0,0,0,{"$f":"IF(AND(J487=0,K487=0),,IF(G487=0,\"KUNDE/LEV NR ?\",VLOOKUP(G487,Register!$K$1:$L$618,2)))","v":0},0,null,0,null,0,null,null,0,0,0,0,0,0]
[null,0,null,0,null,null,null,"00:00:00",0,0,0,{"$f":"IF(AND(J488=0,K488=0),,IF(G488=0,\"KUNDE/LEV NR ?\",VLOOKUP(G488,Register!$K$1:$L$618,2)))","v":0},0,null,0,null,0,null,null,0,0,0,0,0,0]
[null,0,null,0,null,null,null,"00:00:00",0,0,0,{"$f":"IF(AND(J489=0,K489=0),,IF(G489=0,\"KUNDE/LEV NR ?\",VLOOKUP(G489,Register!$K$1:$L$618,2)))","v":0},0,null,0,null,0,null,null,0,0,0,0,0,0]
[null,0,null,0,null,null,null,"00:00:00",0,0,0,{"$f":"IF(AND(J490=0,K490=0),,IF(G490=0,\"KUNDE/LEV NR ?\",VLOOKUP(G490,Register!$K$1:$L$618,2)))","v":0},0,null,0,null,0,null,null,0,0,0,0,0,0]
[null,0,null,0,null,null,null,"00:00:00",0,0,0,{"$f":"IF(AND(J491=0,K491=0),,IF(G491=0,\"KUNDE/LEV NR ?\",VLOOKUP(G491,Register!$K$1:$L$618,2)))","v":0},0,null,0,null,0,null,null,0,0,0,0,0,0]
[null,0,null,0,null,null,null,"00:00:00",0,0,0,{"$f":"IF(AND(J492=0,K492=0),,IF(G492=0,\"KUNDE/LEV NR ?\",VLOOKUP(G492,Register!$K$1:$L$618,2)))","v":0},0,null,0,null,0,null,null,0,0,0,0,0,0]
[null,0,null,0,null,null,null,"00:00:00",0,0,0,{"$f":"IF(AND(J493=0,K493=0),,IF(G493=0,\"KUNDE/LEV NR ?\",VLOOKUP(G493,Register!$K$1:$L$618,2)))","v":0},0,null,0,null,0,null,null,0,0,0,0,0,0]
[null,0,null,0,null,null,null,"00:00:00",0,0,0,{"$f":"IF(AND(J494=0,K494=0),,IF(G494=0,\"KUNDE/LEV NR ?\",VLOOKUP(G494,Register!$K$1:$L$618,2)))","v":0},0,null,0,null,0,null,null,0,0,0,0,0,0]
[null,0,null,0,null,null,null,"00:00:00",0,0,0,{"$f":"IF(AND(J495=0,K495=0),,IF(G495=0,\"KUNDE/LEV NR ?\",VLOOKUP(G495,Register!$K$1:$L$618,2)))","v":0},0,null,0,null,0,null,null,0,0,0,0,0,0]
[null,0,null,0,null,null,null,"00:00:00",0,0,0,{"$f":"IF(AND(J496=0,K496=0),,IF(G496=0,\"KUNDE/LEV NR ?\",VLOOKUP(G496,Register!$K$1:$L$618,2)))","v":0},0,null,0,null,0,null,null,0,0,0,0,0,0]
[null,0,null,0,null,null,null,"00:00:00",0,0,0,{"$f":"IF(AND(J497=0,K497=0),,IF(G497=0,\"KUNDE/LEV NR ?\",VLOOKUP(G497,Register!$K$1:$L$618,2)))","v":0},0,null,0,null,0,null,null,0,0,0,0,0,0]
[null,0,null,0,null,null,null,"00:00:00",0,0,0,{"$f":"IF(AND(J498=0,K498=0),,IF(G498=0,\"KUNDE/LEV NR ?\",VLOOKUP(G498,Register!$K$1:$L$618,2)))","v":0},0,null,0,null,0,null,null,0,0,0,0,0,0]
[null,0,null,0,null,null,null,"00:00:00",0,0,0,{"$f":"IF(AND(J499=0,K499=0),,IF(G499=0,\"KUNDE/LEV NR ?\",VLOOKUP(G499,Register!$K$1:$L$618,2)))","v":0},0,null,0,null,0,null,null,0,0,0,0,0,0]
[null,0,null,0,null,null,null,"00:00:00",0,0,0,{"$f":"IF(AND(J500=0,K500=0),,IF(G500=0,\"KUNDE/LEV NR ?\",VLOOKUP(G500,Register!$K$1:$L$618,2)))","v":0},0,null,0,null,0,null,null,0,0,0,0,0,0]
[null,0,null,0,null,null,null,"00:00:00",0,0,0,{"$f":"IF(AND(J501=0,K501=0),,IF(G501=0,\"KUNDE/LEV NR ?\",VLOOKUP(G501,Register!$K$1:$L$618,2)))","v":0},0,null,0,null,0,null,null,0,0,0,0,0,0]
[null,0,null,0,null,null,null,"00:00:00",0,0,0,{"$f":"IF(AND(J502=0,K502=0),,IF(G502=0,\"KUNDE/LEV NR ?\",VLOOKUP(G502,Register!$K$1:$L$618,2)))","v":0},0,null,0,null,0,null,null,0,0,0,0,0,0]
[null,0,null,0,null,null,null,"00:00:00",0,0,0,{"$f":"IF(AND(J503=0,K503=0),,IF(G503=0,\"KUNDE/LEV NR ?\",VLOOKUP(G503,Register!$K$1:$L$618,2)))","v":0},0,null,0,null,0,null,null,0,0,0,0,0,0]
[null,0,null,0,null,null,null,"00:00:00",0,0,0,{"$f":"IF(AND(J504=0,K504=0),,IF(G504=0,\"KUNDE/LEV NR ?\",VLOOKUP(G504,Register!$K$1:$L$618,2)))","v":0},0,null,0,null,0,null,null,0,0,0,0,0,0]
[null,0,null,0,null,null,null,"00:00:00",0,0,0,{"$f":"IF(AND(J505=0,K505=0),,IF(G505=0,\"KUNDE/LEV NR ?\",VLOOKUP(G505,Register!$K$1:$L$618,2)))","v":0},0,null,0,null,0,null,null,0,0,0,0,0,0]
[null,0,null,0,null,null,null,"00:00:00",0,0,0,{"$f":"IF(AND(J506=0,K506=0),,IF(G506=0,\"KUNDE/LEV NR ?\",VLOOKUP(G506,Register!$K$1:$L$618,2)))","v":0},0,null,0,null,0,null,null,0,0,0,0,0,0]
[null,0,null,0,null,null,null,"00:00:00",0,0,0,{"$f":"IF(AND(J507=0,K507=0),,IF(G507=0,\"KUNDE/LEV NR ?\",VLOOKUP(G507,Register!$K$1:$L$618,2)))","v":0},0,null,0,null,0,null,null,0,0,0,0,0,0]
[null,0,null,0,null,null,null,"00:00:00",0,0,0,{"$f":"IF(AND(J508=0,K508=0),,IF(G508=0,\"KUNDE/LEV NR ?\",VLOOKUP(G508,Register!$K$1:$L$618,2)))","v":0},0,null,0,null,0,null,null,0,0,0,0,0,0]
[null,0,null,0,null,null,null,"00:00:00",0,0,0,{"$f":"IF(AND(J509=0,K509=0),,IF(G509=0,\"KUNDE/LEV NR ?\",VLOOKUP(G509,Register!$K$1:$L$618,2)))","v":0},0,null,0,null,0,null,null,0,0,0,0,0,0]
[null,0,null,0,null,null,null,"00:00:00",0,0,0,{"$f":"IF(AND(J510=0,K510=0),,IF(G510=0,\"KUNDE/LEV NR ?\",VLOOKUP(G510,Register!$K$1:$L$618,2)))","v":0},0,null,0,null,0,null,null,0,0,0,0,0,0]
[null,0,null,0,null,null,null,"00:00:00",0,0,0,{"$f":"IF(AND(J511=0,K511=0),,IF(G511=0,\"KUNDE/LEV NR ?\",VLOOKUP(G511,Register!$K$1:$L$618,2)))","v":0},0,null,0,null,0,null,null,0,0,0,0,0,0]
[null,0,null,0,null,null,null,"00:00:00",0,0,0,{"$f":"IF(AND(J512=0,K512=0),,IF(G512=0,\"KUNDE/LEV NR ?\",VLOOKUP(G512,Register!$K$1:$L$618,2)))","v":0},0,null,0,null,0,null,null,0,0,0,0,0,0]
[null,0,null,0,null,null,null,"00:00:00",0,0,0,{"$f":"IF(AND(J513=0,K513=0),,IF(G513=0,\"KUNDE/LEV NR ?\",VLOOKUP(G513,Register!$K$1:$L$618,2)))","v":0},0,null,0,null,0,null,null,0,0,0,0,0,0]
[null,0,null,0,null,null,null,"00:00:00",0,0,0,{"$f":"IF(AND(J514=0,K514=0),,IF(G514=0,\"KUNDE/LEV NR ?\",VLOOKUP(G514,Register!$K$1:$L$618,2)))","v":0},0,null,0,null,0,null,null,0,0,0,0,0,0]
[null,0,null,0,null,null,null,"00:00:00",0,0,0,{"$f":"IF(AND(J515=0,K515=0),,IF(G515=0,\"KUNDE/LEV NR ?\",VLOOKUP(G515,Register!$K$1:$L$618,2)))","v":0},0,null,0,null,0,null,null,0,0,0,0,0,0]
[null,0,null,0,null,null,null,"00:00:00",0,0,0,{"$f":"IF(AND(J516=0,K516=0),,IF(G516=0,\"KUNDE/LEV NR ?\",VLOOKUP(G516,Register!$K$1:$L$618,2)))","v":0},0,null,0,null,0,null,null,0,0,0,0,0,0]
[null,0,null,{"$f":"IF(C517=0,,VLOOKUP(C517,$AA$4:$AB$320,2))","v":0},null,null,null,"00:00:00",{"$f":"IF(H517>0,\"d\",)","v":0},0,0,{"$f":"IF(AND(J517=0,K517=0),,IF(G517=0,\"KUNDE/LEV NR ?\",VLOOKUP(G517,Register!$K$1:$L$618,2)))","v":0},0,null,0,null,0,null,null,0,0,{"$f":"IF(R517=0,,R517/(1+VLOOKUP(P517,$AC$5:$AD$362,2)))","v":0},{"$f":"IF(S517=0,,S517/(1+VLOOKUP(P517,$AC$5:$AD$362,2)))","v":0},{"$f":"IF(P517=0,,IF(P517=P518,,VLOOKUP(P517,$AC$5:$AE$364,3)))","v":0},{"$f":"IF(P517=0,,IF(P517=P518,,VLOOKUP(P517,$AC$5:$AF$362,4)))","v":0}]
[null,{"$f":"IF(A518>0,B517+1,)","v":0},null,0,null,null,null,{"$f":"A518","v":"00:00:00"},0,{"$f":"E518*-1+F518","v":0},{"$f":"IF(AND(A518>0,H518>0),J518*-1,)","v":0},{"$f":"IF(AND(J518=0,K518=0),,IF(G518=0,\"KUNDE/LEV NR ?\",VLOOKUP(G518,Register!$K$1:$L$618,2)))","v":0},0,null,0,null,0,null,null,0,0,0,0,0,0]
[null,0,null,0,null,null,null,"00:00:00",0,0,0,{"$f":"IF(AND(J519=0,K519=0),,IF(G519=0,\"KUNDE/LEV NR ?\",VLOOKUP(G519,Register!$K$1:$L$618,2)))","v":0},{"$f":"IF(ISNUMBER(A519+B519+E519+F519+G519+H519+J519+K519),A519+B519+E519+F519+G519+H519+J519+K519,\"FEIL\")","v":0},null,0,null,0,null,null,0,0,0,0,0,0]
[null,0,null,0,null,null,null,"00:00:00",0,0,0,{"$f":"IF(AND(J520=0,K520=0),,IF(G520=0,\"KUNDE/LEV NR ?\",VLOOKUP(G520,Register!$K$1:$L$618,2)))","v":0},0,null,0,null,0,null,null,0,0,0,0,0,0]
[null,0,null,0,null,null,null,"00:00:00",0,0,0,{"$f":"IF(AND(J521=0,K521=0),,IF(G521=0,\"KUNDE/LEV NR ?\",VLOOKUP(G521,Register!$K$1:$L$618,2)))","v":0},0,null,0,null,0,null,null,0,0,0,0,0,0]
[null,0,null,0,null,null,null,"00:00:00",0,0,0,{"$f":"IF(AND(J522=0,K522=0),,IF(G522=0,\"KUNDE/LEV NR ?\",VLOOKUP(G522,Register!$K$1:$L$618,2)))","v":0},0,null,0,null,0,null,null,0,0,0,0,0,0]
[null,0,null,0,null,null,null,"00:00:00",0,0,0,{"$f":"IF(AND(J523=0,K523=0),,IF(G523=0,\"KUNDE/LEV NR ?\",VLOOKUP(G523,Register!$K$1:$L$618,2)))","v":0},0,null,0,null,0,null,null,0,0,0,0,0,0]
[null,0,null,0,null,null,null,"00:00:00",0,0,0,{"$f":"IF(AND(J524=0,K524=0),,IF(G524=0,\"KUNDE/LEV NR ?\",VLOOKUP(G524,Register!$K$1:$L$618,2)))","v":0},0,null,0,null,0,null,null,0,0,0,0,0,0]
[null,0,null,0,null,null,null,"00:00:00",0,0,0,{"$f":"IF(AND(J525=0,K525=0),,IF(G525=0,\"KUNDE/LEV NR ?\",VLOOKUP(G525,Register!$K$1:$L$618,2)))","v":0},0,null,0,null,0,null,null,0,0,0,0,0,0]
[null,0,null,0,null,null,null,"00:00:00",0,0,0,{"$f":"IF(AND(J526=0,K526=0),,IF(G526=0,\"KUNDE/LEV NR ?\",VLOOKUP(G526,Register!$K$1:$L$618,2)))","v":0},0,null,0,null,0,null,null,{"$f":"R526-V526","v":0},{"$f":"S526-W526","v":0},0,0,0,0]
[null,0,null,0,null,null,null,"00:00:00",0,0,0,{"$f":"IF(AND(J527=0,K527=0),,IF(G527=0,\"KUNDE/LEV NR ?\",VLOOKUP(G527,Register!$K$1:$L$618,2)))","v":0},0,null,0,null,0,null,null,0,0,0,0,0,0]
[null,0,null,0,null,null,null,"00:00:00",0,0,0,{"$f":"IF(AND(J528=0,K528=0),,IF(G528=0,\"KUNDE/LEV NR ?\",VLOOKUP(G528,Register!$K$1:$L$618,2)))","v":0},0,null,0,null,0,null,null,0,0,0,0,0,0]
[null,0,null,0,null,null,null,"00:00:00",0,0,0,{"$f":"IF(AND(J529=0,K529=0),,IF(G529=0,\"KUNDE/LEV NR ?\",VLOOKUP(G529,Register!$K$1:$L$618,2)))","v":0},0,null,0,null,0,null,null,0,0,0,0,0,0]
[null,0,null,0,null,null,null,"00:00:00",0,0,0,{"$f":"IF(AND(J530=0,K530=0),,IF(G530=0,\"KUNDE/LEV NR ?\",VLOOKUP(G530,Register!$K$1:$L$618,2)))","v":0},0,null,0,null,0,null,null,0,0,0,0,0,0]
[null,0,null,0,null,null,null,"00:00:00",0,0,0,{"$f":"IF(AND(J531=0,K531=0),,IF(G531=0,\"KUNDE/LEV NR ?\",VLOOKUP(G531,Register!$K$1:$L$618,2)))","v":0},0,null,0,null,0,null,null,0,0,0,0,0,0]
[null,0,null,0,null,null,null,"00:00:00",0,0,0,{"$f":"IF(AND(J532=0,K532=0),,IF(G532=0,\"KUNDE/LEV NR ?\",VLOOKUP(G532,Register!$K$1:$L$618,2)))","v":0},0,null,0,null,0,null,null,0,0,0,0,0,0]
[null,0,null,0,null,null,null,"00:00:00",0,0,0,{"$f":"IF(AND(J533=0,K533=0),,IF(G533=0,\"KUNDE/LEV NR ?\",VLOOKUP(G533,Register!$K$1:$L$618,2)))","v":0},0,null,0,null,0,null,null,0,0,0,0,0,0]
[null,0,null,0,null,null,null,"00:00:00",0,0,0,{"$f":"IF(AND(J534=0,K534=0),,IF(G534=0,\"KUNDE/LEV NR ?\",VLOOKUP(G534,Register!$K$1:$L$618,2)))","v":0},0,null,0,null,0,null,null,0,0,0,0,0,0]
[null,0,null,0,null,null,null,"00:00:00",0,0,0,{"$f":"IF(AND(J535=0,K535=0),,IF(G535=0,\"KUNDE/LEV NR ?\",VLOOKUP(G535,Register!$K$1:$L$618,2)))","v":0},0,null,0,null,0,null,null,0,0,0,0,0,0]
[null,0,null,0,null,null,null,"00:00:00",0,0,0,{"$f":"IF(AND(J536=0,K536=0),,IF(G536=0,\"KUNDE/LEV NR ?\",VLOOKUP(G536,Register!$K$1:$L$618,2)))","v":0},0,null,0,null,0,null,null,0,0,0,0,0,0]
[null,0,null,0,null,null,null,"00:00:00",0,0,0,{"$f":"IF(AND(J537=0,K537=0),,IF(G537=0,\"KUNDE/LEV NR ?\",VLOOKUP(G537,Register!$K$1:$L$618,2)))","v":0},0,null,0,null,0,null,null,0,0,0,0,0,0]
[null,0,null,0,null,null,null,"00:00:00",0,0,0,{"$f":"IF(AND(J538=0,K538=0),,IF(G538=0,\"KUNDE/LEV NR ?\",VLOOKUP(G538,Register!$K$1:$L$618,2)))","v":0},0,null,0,null,0,null,null,0,0,0,0,0,0]
[null,0,null,0,null,null,null,"00:00:00",0,0,0,{"$f":"IF(AND(J539=0,K539=0),,IF(G539=0,\"KUNDE/LEV NR ?\",VLOOKUP(G539,Register!$K$1:$L$618,2)))","v":0},0,null,0,null,0,null,null,0,0,0,0,0,0]
[null,0,null,0,null,null,null,"00:00:00",0,0,0,{"$f":"IF(AND(J540=0,K540=0),,IF(G540=0,\"KUNDE/LEV NR ?\",VLOOKUP(G540,Register!$K$1:$L$618,2)))","v":0},0,null,0,null,0,null,null,0,0,0,0,0,0]
[null,0,null,0,null,null,null,"00:00:00",0,0,0,{"$f":"IF(AND(J541=0,K541=0),,IF(G541=0,\"KUNDE/LEV NR ?\",VLOOKUP(G541,Register!$K$1:$L$618,2)))","v":0},0,null,0,null,0,null,null,0,0,0,0,0,0]
[null,0,null,0,null,null,null,"00:00:00",0,0,0,{"$f":"IF(AND(J542=0,K542=0),,IF(G542=0,\"KUNDE/LEV NR ?\",VLOOKUP(G542,Register!$K$1:$L$618,2)))","v":0},0,null,0,null,0,null,null,0,0,0,0,0,0]
[null,0,null,0,null,null,null,"00:00:00",0,0,0,{"$f":"IF(AND(J543=0,K543=0),,IF(G543=0,\"KUNDE/LEV NR ?\",VLOOKUP(G543,Register!$K$1:$L$618,2)))","v":0},0,null,0,null,0,null,null,0,0,0,0,0,0]
[null,0,null,0,null,null,null,"00:00:00",0,0,0,{"$f":"IF(AND(J544=0,K544=0),,IF(G544=0,\"KUNDE/LEV NR ?\",VLOOKUP(G544,Register!$K$1:$L$618,2)))","v":0},0,null,0,null,0,null,null,0,0,0,0,0,0]
[null,0,null,0,null,null,null,"00:00:00",0,0,0,{"$f":"IF(AND(J545=0,K545=0),,IF(G545=0,\"KUNDE/LEV NR ?\",VLOOKUP(G545,Register!$K$1:$L$618,2)))","v":0},0,null,0,null,0,null,null,0,0,0,0,0,0]
[null,0,null,0,null,null,null,"00:00:00",0,0,0,{"$f":"IF(AND(J546=0,K546=0),,IF(G546=0,\"KUNDE/LEV NR ?\",VLOOKUP(G546,Register!$K$1:$L$618,2)))","v":0},0,null,0,null,0,null,null,0,0,0,0,0,0]
[null,0,null,0,null,null,null,"00:00:00",0,0,0,{"$f":"IF(AND(J547=0,K547=0),,IF(G547=0,\"KUNDE/LEV NR ?\",VLOOKUP(G547,Register!$K$1:$L$618,2)))","v":0},0,null,0,null,0,null,null,0,0,0,0,0,0]
[null,0,null,0,null,null,null,"00:00:00",0,0,0,{"$f":"IF(AND(J548=0,K548=0),,IF(G548=0,\"KUNDE/LEV NR ?\",VLOOKUP(G548,Register!$K$1:$L$618,2)))","v":0},0,null,0,null,0,null,null,0,0,0,0,0,0]
[null,0,null,0,null,null,null,"00:00:00",0,0,0,{"$f":"IF(AND(J549=0,K549=0),,IF(G549=0,\"KUNDE/LEV NR ?\",VLOOKUP(G549,Register!$K$1:$L$618,2)))","v":0},0,null,0,null,0,null,null,0,0,0,0,0,0]
[null,0,null,0,null,null,null,"00:00:00",0,0,0,{"$f":"IF(AND(J550=0,K550=0),,IF(G550=0,\"KUNDE/LEV NR ?\",VLOOKUP(G550,Register!$K$1:$L$618,2)))","v":0},0,null,0,null,0,null,null,0,0,0,0,0,0]
[null,0,null,0,null,null,null,"00:00:00",0,0,0,{"$f":"IF(AND(J551=0,K551=0),,IF(G551=0,\"KUNDE/LEV NR ?\",VLOOKUP(G551,Register!$K$1:$L$618,2)))","v":0},0,null,0,null,0,null,null,0,0,0,0,0,0]
[null,0,null,0,null,null,null,"00:00:00",0,0,0,{"$f":"IF(AND(J552=0,K552=0),,IF(G552=0,\"KUNDE/LEV NR ?\",VLOOKUP(G552,Register!$K$1:$L$618,2)))","v":0},0,null,0,null,0,null,null,0,0,0,0,0,0]
[null,0,null,0,null,null,null,"00:00:00",0,0,0,{"$f":"IF(AND(J553=0,K553=0),,IF(G553=0,\"KUNDE/LEV NR ?\",VLOOKUP(G553,Register!$K$1:$L$618,2)))","v":0},0,null,0,null,0,null,null,0,0,0,0,0,0]
[null,0,null,0,null,null,null,"00:00:00",0,0,0,{"$f":"IF(AND(J554=0,K554=0),,IF(G554=0,\"KUNDE/LEV NR ?\",VLOOKUP(G554,Register!$K$1:$L$618,2)))","v":0},0,null,0,null,0,null,null,0,0,0,0,0,0]
[null,0,null,0,null,null,null,"00:00:00",0,0,0,{"$f":"IF(AND(J555=0,K555=0),,IF(G555=0,\"KUNDE/LEV NR ?\",VLOOKUP(G555,Register!$K$1:$L$618,2)))","v":0},0,null,0,null,0,null,null,0,0,0,0,0,0]
[null,0,null,0,null,null,null,"00:00:00",0,0,0,{"$f":"IF(AND(J556=0,K556=0),,IF(G556=0,\"KUNDE/LEV NR ?\",VLOOKUP(G556,Register!$K$1:$L$618,2)))","v":0},0,null,0,null,0,null,null,0,0,0,0,0,0]
[null,0,null,0,null,null,null,"00:00:00",0,0,0,{"$f":"IF(AND(J557=0,K557=0),,IF(G557=0,\"KUNDE/LEV NR ?\",VLOOKUP(G557,Register!$K$1:$L$618,2)))","v":0},0,null,0,null,0,null,null,0,0,0,0,0,0]
[null,0,null,0,null,null,null,"00:00:00",0,0,0,{"$f":"IF(AND(J558=0,K558=0),,IF(G558=0,\"KUNDE/LEV NR ?\",VLOOKUP(G558,Register!$K$1:$L$618,2)))","v":0},0,null,0,null,0,null,null,0,0,0,0,0,0]
[null,0,null,0,null,null,null,"00:00:00",0,0,0,{"$f":"IF(AND(J559=0,K559=0),,IF(G559=0,\"KUNDE/LEV NR ?\",VLOOKUP(G559,Register!$K$1:$L$618,2)))","v":0},0,null,0,null,0,null,null,0,0,0,0,0,0]
[null,0,null,0,null,null,null,"00:00:00",0,0,0,{"$f":"IF(AND(J560=0,K560=0),,IF(G560=0,\"KUNDE/LEV NR ?\",VLOOKUP(G560,Register!$K$1:$L$618,2)))","v":0},0,null,0,null,0,null,null,0,0,0,0,0,0]
[null,0,null,0,null,null,null,"00:00:00",0,0,0,{"$f":"IF(AND(J561=0,K561=0),,IF(G561=0,\"KUNDE/LEV NR ?\",VLOOKUP(G561,Register!$K$1:$L$618,2)))","v":0},0,null,0,null,0,null,null,0,0,0,0,0,0]
[null,0,null,0,null,null,null,"00:00:00",0,0,0,{"$f":"IF(AND(J562=0,K562=0),,IF(G562=0,\"KUNDE/LEV NR ?\",VLOOKUP(G562,Register!$K$1:$L$618,2)))","v":0},0,null,0,null,0,null,null,0,0,0,0,0,0]
[null,0,null,0,null,null,null,"00:00:00",0,0,0,{"$f":"IF(AND(J563=0,K563=0),,IF(G563=0,\"KUNDE/LEV NR ?\",VLOOKUP(G563,Register!$K$1:$L$618,2)))","v":0},0,null,0,null,0,null,null,0,0,0,0,0,0]
[null,0,null,0,null,null,null,"00:00:00",0,0,0,{"$f":"IF(AND(J564=0,K564=0),,IF(G564=0,\"KUNDE/LEV NR ?\",VLOOKUP(G564,Register!$K$1:$L$618,2)))","v":0},0,null,0,null,0,null,null,0,0,0,0,0,0]
[null,0,null,0,null,null,null,"00:00:00",0,0,0,{"$f":"IF(AND(J565=0,K565=0),,IF(G565=0,\"KUNDE/LEV NR ?\",VLOOKUP(G565,Register!$K$1:$L$618,2)))","v":0},0,null,0,null,0,null,null,0,0,0,0,0,0]
[null,0,null,0,null,null,null,"00:00:00",0,0,0,{"$f":"IF(AND(J566=0,K566=0),,IF(G566=0,\"KUNDE/LEV NR ?\",VLOOKUP(G566,Register!$K$1:$L$618,2)))","v":0},0,null,0,null,0,null,null,0,0,0,0,0,0]
[null,0,null,0,null,null,null,"00:00:00",0,0,0,{"$f":"IF(AND(J567=0,K567=0),,IF(G567=0,\"KUNDE/LEV NR ?\",VLOOKUP(G567,Register!$K$1:$L$618,2)))","v":0},0,null,0,null,0,null,null,0,0,0,0,0,0]
[null,0,null,0,null,null,null,"00:00:00",0,0,0,{"$f":"IF(AND(J568=0,K568=0),,IF(G568=0,\"KUNDE/LEV NR ?\",VLOOKUP(G568,Register!$K$1:$L$618,2)))","v":0},0,null,0,null,0,null,null,0,0,0,0,0,0]
[null,0,null,0,null,null,null,"00:00:00",0,0,0,{"$f":"IF(AND(J569=0,K569=0),,IF(G569=0,\"KUNDE/LEV NR ?\",VLOOKUP(G569,Register!$K$1:$L$618,2)))","v":0},0,null,0,null,0,null,null,0,0,0,0,0,0]
[null,0,null,0,null,null,null,"00:00:00",0,0,0,{"$f":"IF(AND(J570=0,K570=0),,IF(G570=0,\"KUNDE/LEV NR ?\",VLOOKUP(G570,Register!$K$1:$L$618,2)))","v":0},0,null,0,null,0,null,null,0,0,0,0,0,0]
[null,0,null,0,null,null,null,"00:00:00",0,0,0,{"$f":"IF(AND(J571=0,K571=0),,IF(G571=0,\"KUNDE/LEV NR ?\",VLOOKUP(G571,Register!$K$1:$L$618,2)))","v":0},0,null,0,null,0,null,null,0,0,0,0,0,0]
[null,0,null,0,null,null,null,"00:00:00",0,0,0,{"$f":"IF(AND(J572=0,K572=0),,IF(G572=0,\"KUNDE/LEV NR ?\",VLOOKUP(G572,Register!$K$1:$L$618,2)))","v":0},0,null,0,null,0,null,null,0,0,0,0,0,0]
[null,0,null,0,null,null,null,"00:00:00",0,0,0,{"$f":"IF(AND(J573=0,K573=0),,IF(G573=0,\"KUNDE/LEV NR ?\",VLOOKUP(G573,Register!$K$1:$L$618,2)))","v":0},0,null,0,null,0,null,null,0,0,0,0,0,0]
[null,0,null,0,null,null,null,"00:00:00",0,0,0,{"$f":"IF(AND(J574=0,K574=0),,IF(G574=0,\"KUNDE/LEV NR ?\",VLOOKUP(G574,Register!$K$1:$L$618,2)))","v":0},0,null,0,null,0,null,null,0,0,0,0,0,0]
[null,0,null,0,null,null,null,"00:00:00",0,0,0,{"$f":"IF(AND(J575=0,K575=0),,IF(G575=0,\"KUNDE/LEV NR ?\",VLOOKUP(G575,Register!$K$1:$L$618,2)))","v":0},0,null,0,null,0,null,null,0,0,0,0,0,0]
[null,0,null,0,null,null,null,"00:00:00",0,0,0,{"$f":"IF(AND(J576=0,K576=0),,IF(G576=0,\"KUNDE/LEV NR ?\",VLOOKUP(G576,Register!$K$1:$L$618,2)))","v":0},0,null,0,null,0,null,null,0,0,0,0,0,0]
[null,0,null,0,null,null,null,"00:00:00",0,0,0,{"$f":"IF(AND(J577=0,K577=0),,IF(G577=0,\"KUNDE/LEV NR ?\",VLOOKUP(G577,Register!$K$1:$L$618,2)))","v":0},0,null,0,null,0,null,null,0,0,0,0,0,0]
[null,0,null,0,null,null,null,"00:00:00",0,0,0,{"$f":"IF(AND(J578=0,K578=0),,IF(G578=0,\"KUNDE/LEV NR ?\",VLOOKUP(G578,Register!$K$1:$L$618,2)))","v":0},0,null,0,null,0,null,null,0,0,0,0,0,0]
[null,0,null,0,null,null,null,"00:00:00",0,0,0,{"$f":"IF(AND(J579=0,K579=0),,IF(G579=0,\"KUNDE/LEV NR ?\",VLOOKUP(G579,Register!$K$1:$L$618,2)))","v":0},0,null,0,null,0,null,null,0,0,0,0,0,0]
[null,0,null,0,null,null,null,"00:00:00",0,0,0,{"$f":"IF(AND(J580=0,K580=0),,IF(G580=0,\"KUNDE/LEV NR ?\",VLOOKUP(G580,Register!$K$1:$L$618,2)))","v":0},0,null,0,null,0,null,null,0,0,0,0,0,0]
[null,0,null,{"$f":"IF(C581=0,,VLOOKUP(C581,$AA$4:$AB$320,2))","v":0},null,null,null,"00:00:00",{"$f":"IF(H581>0,\"d\",)","v":0},0,0,{"$f":"IF(AND(J581=0,K581=0),,IF(G581=0,\"KUNDE/LEV NR ?\",VLOOKUP(G581,Register!$K$1:$L$618,2)))","v":0},0,null,0,null,0,null,null,0,0,{"$f":"IF(R581=0,,R581/(1+VLOOKUP(P581,$AC$5:$AD$362,2)))","v":0},{"$f":"IF(S581=0,,S581/(1+VLOOKUP(P581,$AC$5:$AD$362,2)))","v":0},{"$f":"IF(P581=0,,IF(P581=P582,,VLOOKUP(P581,$AC$5:$AE$364,3)))","v":0},{"$f":"IF(P581=0,,IF(P581=P582,,VLOOKUP(P581,$AC$5:$AF$362,4)))","v":0}]
[null,{"$f":"IF(A582>0,B581+1,)","v":0},null,0,null,null,null,{"$f":"A582","v":"00:00:00"},0,{"$f":"E582*-1+F582","v":0},{"$f":"IF(AND(A582>0,H582>0),J582*-1,)","v":0},{"$f":"IF(AND(J582=0,K582=0),,IF(G582=0,\"KUNDE/LEV NR ?\",VLOOKUP(G582,Register!$K$1:$L$618,2)))","v":0},0,null,0,null,0,null,null,0,0,0,0,0,0]
[null,0,null,0,null,null,null,"00:00:00",0,0,0,{"$f":"IF(AND(J583=0,K583=0),,IF(G583=0,\"KUNDE/LEV NR ?\",VLOOKUP(G583,Register!$K$1:$L$618,2)))","v":0},{"$f":"IF(ISNUMBER(A583+B583+E583+F583+G583+H583+J583+K583),A583+B583+E583+F583+G583+H583+J583+K583,\"FEIL\")","v":0},null,0,null,0,null,null,0,0,0,0,0,0]
[null,0,null,0,null,null,null,"00:00:00",0,0,0,{"$f":"IF(AND(J584=0,K584=0),,IF(G584=0,\"KUNDE/LEV NR ?\",VLOOKUP(G584,Register!$K$1:$L$618,2)))","v":0},0,null,0,null,0,null,null,0,0,0,0,0,0]
[null,0,null,0,null,null,null,"00:00:00",0,0,0,{"$f":"IF(AND(J585=0,K585=0),,IF(G585=0,\"KUNDE/LEV NR ?\",VLOOKUP(G585,Register!$K$1:$L$618,2)))","v":0},0,null,0,null,0,null,null,0,0,0,0,0,0]
[null,0,null,0,null,null,null,"00:00:00",0,0,0,{"$f":"IF(AND(J586=0,K586=0),,IF(G586=0,\"KUNDE/LEV NR ?\",VLOOKUP(G586,Register!$K$1:$L$618,2)))","v":0},0,null,0,null,0,null,null,0,0,0,0,0,0]
[null,0,null,0,null,null,null,"00:00:00",0,0,0,{"$f":"IF(AND(J587=0,K587=0),,IF(G587=0,\"KUNDE/LEV NR ?\",VLOOKUP(G587,Register!$K$1:$L$618,2)))","v":0},0,null,0,null,0,null,null,0,0,0,0,0,0]
[null,0,null,0,null,null,null,"00:00:00",0,0,0,{"$f":"IF(AND(J588=0,K588=0),,IF(G588=0,\"KUNDE/LEV NR ?\",VLOOKUP(G588,Register!$K$1:$L$618,2)))","v":0},0,null,0,null,0,null,null,0,0,0,0,0,0]
[null,0,null,0,null,null,null,"00:00:00",0,0,0,{"$f":"IF(AND(J589=0,K589=0),,IF(G589=0,\"KUNDE/LEV NR ?\",VLOOKUP(G589,Register!$K$1:$L$618,2)))","v":0},0,null,0,null,0,null,null,0,0,0,0,0,0]
[null,0,null,0,null,null,null,"00:00:00",0,0,0,{"$f":"IF(AND(J590=0,K590=0),,IF(G590=0,\"KUNDE/LEV NR ?\",VLOOKUP(G590,Register!$K$1:$L$618,2)))","v":0},0,null,0,null,0,null,null,{"$f":"R590-V590","v":0},{"$f":"S590-W590","v":0},0,0,0,0]
[null,0,null,0,null,null,null,"00:00:00",0,0,0,{"$f":"IF(AND(J591=0,K591=0),,IF(G591=0,\"KUNDE/LEV NR ?\",VLOOKUP(G591,Register!$K$1:$L$618,2)))","v":0},0,null,0,null,0,null,null,0,0,0,0,0,0]
[null,0,null,0,null,null,null,"00:00:00",0,0,0,{"$f":"IF(AND(J592=0,K592=0),,IF(G592=0,\"KUNDE/LEV NR ?\",VLOOKUP(G592,Register!$K$1:$L$618,2)))","v":0},0,null,0,null,0,null,null,0,0,0,0,0,0]
[null,0,null,0,null,null,null,"00:00:00",0,0,0,{"$f":"IF(AND(J593=0,K593=0),,IF(G593=0,\"KUNDE/LEV NR ?\",VLOOKUP(G593,Register!$K$1:$L$618,2)))","v":0},0,null,0,null,0,null,null,0,0,0,0,0,0]
[null,0,null,0,null,null,null,"00:00:00",0,0,0,{"$f":"IF(AND(J594=0,K594=0),,IF(G594=0,\"KUNDE/LEV NR ?\",VLOOKUP(G594,Register!$K$1:$L$618,2)))","v":0},0,null,0,null,0,null,null,0,0,0,0,0,0]
[null,0,null,0,null,null,null,"00:00:00",0,0,0,{"$f":"IF(AND(J595=0,K595=0),,IF(G595=0,\"KUNDE/LEV NR ?\",VLOOKUP(G595,Register!$K$1:$L$618,2)))","v":0},0,null,0,null,0,null,null,0,0,0,0,0,0]
[null,0,null,0,null,null,null,"00:00:00",0,0,0,{"$f":"IF(AND(J596=0,K596=0),,IF(G596=0,\"KUNDE/LEV NR ?\",VLOOKUP(G596,Register!$K$1:$L$618,2)))","v":0},0,null,0,null,0,null,null,0,0,0,0,0,0]
[null,0,null,0,null,null,null,"00:00:00",0,0,0,{"$f":"IF(AND(J597=0,K597=0),,IF(G597=0,\"KUNDE/LEV NR ?\",VLOOKUP(G597,Register!$K$1:$L$618,2)))","v":0},0,null,0,null,0,null,null,0,0,0,0,0,0]
[null,0,null,0,null,null,null,"00:00:00",0,0,0,{"$f":"IF(AND(J598=0,K598=0),,IF(G598=0,\"KUNDE/LEV NR ?\",VLOOKUP(G598,Register!$K$1:$L$618,2)))","v":0},0,null,0,null,0,null,null,0,0,0,0,0,0]
[null,0,null,0,null,null,null,"00:00:00",0,0,0,{"$f":"IF(AND(J599=0,K599=0),,IF(G599=0,\"KUNDE/LEV NR ?\",VLOOKUP(G599,Register!$K$1:$L$618,2)))","v":0},0,null,0,null,0,null,null,0,0,0,0,0,0]
[null,0,null,0,null,null,null,"00:00:00",0,0,0,{"$f":"IF(AND(J600=0,K600=0),,IF(G600=0,\"KUNDE/LEV NR ?\",VLOOKUP(G600,Register!$K$1:$L$618,2)))","v":0},0,null,0,null,0,null,null,0,0,0,0,0,0]
[null,0,null,0,null,null,null,"00:00:00",0,0,0,{"$f":"IF(AND(J601=0,K601=0),,IF(G601=0,\"KUNDE/LEV NR ?\",VLOOKUP(G601,Register!$K$1:$L$618,2)))","v":0},0,null,0,null,0,null,null,0,0,0,0,0,0]
[null,0,null,0,null,null,null,"00:00:00",0,0,0,{"$f":"IF(AND(J602=0,K602=0),,IF(G602=0,\"KUNDE/LEV NR ?\",VLOOKUP(G602,Register!$K$1:$L$618,2)))","v":0},0,null,0,null,0,null,null,0,0,0,0,0,0]
[null,0,null,0,null,null,null,"00:00:00",0,0,0,{"$f":"IF(AND(J603=0,K603=0),,IF(G603=0,\"KUNDE/LEV NR ?\",VLOOKUP(G603,Register!$K$1:$L$618,2)))","v":0},0,null,0,null,0,null,null,0,0,0,0,0,0]
[null,0,null,0,null,null,null,"00:00:00",0,0,0,{"$f":"IF(AND(J604=0,K604=0),,IF(G604=0,\"KUNDE/LEV NR ?\",VLOOKUP(G604,Register!$K$1:$L$618,2)))","v":0},0,null,0,null,0,null,null,0,0,0,0,0,0]
[null,0,null,0,null,null,null,"00:00:00",0,0,0,{"$f":"IF(AND(J605=0,K605=0),,IF(G605=0,\"KUNDE/LEV NR ?\",VLOOKUP(G605,Register!$K$1:$L$618,2)))","v":0},0,null,0,null,0,null,null,0,0,0,0,0,0]
[null,0,null,0,null,null,null,"00:00:00",0,0,0,{"$f":"IF(AND(J606=0,K606=0),,IF(G606=0,\"KUNDE/LEV NR ?\",VLOOKUP(G606,Register!$K$1:$L$618,2)))","v":0},0,null,0,null,0,null,null,0,0,0,0,0,0]
[null,0,null,0,null,null,null,"00:00:00",0,0,0,{"$f":"IF(AND(J607=0,K607=0),,IF(G607=0,\"KUNDE/LEV NR ?\",VLOOKUP(G607,Register!$K$1:$L$618,2)))","v":0},0,null,0,null,0,null,null,0,0,0,0,0,0]
[null,0,null,0,null,null,null,"00:00:00",0,0,0,{"$f":"IF(AND(J608=0,K608=0),,IF(G608=0,\"KUNDE/LEV NR ?\",VLOOKUP(G608,Register!$K$1:$L$618,2)))","v":0},0,null,0,null,0,null,null,0,0,0,0,0,0]
[null,0,null,0,null,null,null,"00:00:00",0,0,0,{"$f":"IF(AND(J609=0,K609=0),,IF(G609=0,\"KUNDE/LEV NR ?\",VLOOKUP(G609,Register!$K$1:$L$618,2)))","v":0},0,null,0,null,0,null,null,0,0,0,0,0,0]
[null,0,null,0,null,null,null,"00:00:00",0,0,0,{"$f":"IF(AND(J610=0,K610=0),,IF(G610=0,\"KUNDE/LEV NR ?\",VLOOKUP(G610,Register!$K$1:$L$618,2)))","v":0},0,null,0,null,0,null,null,0,0,0,0,0,0]
[null,0,null,0,null,null,null,"00:00:00",0,0,0,{"$f":"IF(AND(J611=0,K611=0),,IF(G611=0,\"KUNDE/LEV NR ?\",VLOOKUP(G611,Register!$K$1:$L$618,2)))","v":0},0,null,0,null,0,null,null,0,0,0,0,0,0]
[null,0,null,0,null,null,null,"00:00:00",0,0,0,{"$f":"IF(AND(J612=0,K612=0),,IF(G612=0,\"KUNDE/LEV NR ?\",VLOOKUP(G612,Register!$K$1:$L$618,2)))","v":0},0,null,0,null,0,null,null,0,0,0,0,0,0]
[null,0,null,0,null,null,null,"00:00:00",0,0,0,{"$f":"IF(AND(J613=0,K613=0),,IF(G613=0,\"KUNDE/LEV NR ?\",VLOOKUP(G613,Register!$K$1:$L$618,2)))","v":0},0,null,0,null,0,null,null,0,0,0,0,0,0]
[null,0,null,0,null,null,null,"00:00:00",0,0,0,{"$f":"IF(AND(J614=0,K614=0),,IF(G614=0,\"KUNDE/LEV NR ?\",VLOOKUP(G614,Register!$K$1:$L$618,2)))","v":0},0,null,0,null,0,null,null,0,0,0,0,0,0]
[null,0,null,0,null,null,null,"00:00:00",0,0,0,{"$f":"IF(AND(J615=0,K615=0),,IF(G615=0,\"KUNDE/LEV NR ?\",VLOOKUP(G615,Register!$K$1:$L$618,2)))","v":0},0,null,0,null,0,null,null,0,0,0,0,0,0]
[null,0,null,0,null,null,null,"00:00:00",0,0,0,{"$f":"IF(AND(J616=0,K616=0),,IF(G616=0,\"KUNDE/LEV NR ?\",VLOOKUP(G616,Register!$K$1:$L$618,2)))","v":0},0,null,0,null,0,null,null,0,0,0,0,0,0]
[null,0,null,0,null,null,null,"00:00:00",0,0,0,{"$f":"IF(AND(J617=0,K617=0),,IF(G617=0,\"KUNDE/LEV NR ?\",VLOOKUP(G617,Register!$K$1:$L$618,2)))","v":0},0,null,0,null,0,null,null,0,0,0,0,0,0]
[null,0,null,0,null,null,null,"00:00:00",0,0,0,{"$f":"IF(AND(J618=0,K618=0),,IF(G618=0,\"KUNDE/LEV NR ?\",VLOOKUP(G618,Register!$K$1:$L$618,2)))","v":0},0,null,0,null,0,null,null,0,0,0,0,0,0]
[null,0,null,0,null,null,null,"00:00:00",0,0,0,{"$f":"IF(AND(J619=0,K619=0),,IF(G619=0,\"KUNDE/LEV NR ?\",VLOOKUP(G619,Register!$K$1:$L$618,2)))","v":0},0,null,0,null,0,null,null,0,0,0,0,0,0]
[null,0,null,0,null,null,null,"00:00:00",0,0,0,{"$f":"IF(AND(J620=0,K620=0),,IF(G620=0,\"KUNDE/LEV NR ?\",VLOOKUP(G620,Register!$K$1:$L$618,2)))","v":0},0,null,0,null,0,null,null,0,0,0,0,0,0]
[null,0,null,0,null,null,null,"00:00:00",0,0,0,{"$f":"IF(AND(J621=0,K621=0),,IF(G621=0,\"KUNDE/LEV NR ?\",VLOOKUP(G621,Register!$K$1:$L$618,2)))","v":0},0,null,0,null,0,null,null,0,0,0,0,0,0]
[null,0,null,0,null,null,null,"00:00:00",0,0,0,{"$f":"IF(AND(J622=0,K622=0),,IF(G622=0,\"KUNDE/LEV NR ?\",VLOOKUP(G622,Register!$K$1:$L$618,2)))","v":0},0,null,0,null,0,null,null,0,0,0,0,0,0]
[null,0,null,0,null,null,null,"00:00:00",0,0,0,{"$f":"IF(AND(J623=0,K623=0),,IF(G623=0,\"KUNDE/LEV NR ?\",VLOOKUP(G623,Register!$K$1:$L$618,2)))","v":0},0,null,0,null,0,null,null,0,0,0,0,0,0]
[null,0,null,0,null,null,null,"00:00:00",0,0,0,{"$f":"IF(AND(J624=0,K624=0),,IF(G624=0,\"KUNDE/LEV NR ?\",VLOOKUP(G624,Register!$K$1:$L$618,2)))","v":0},0,null,0,null,0,null,null,0,0,0,0,0,0]
[null,0,null,0,null,null,null,"00:00:00",0,0,0,{"$f":"IF(AND(J625=0,K625=0),,IF(G625=0,\"KUNDE/LEV NR ?\",VLOOKUP(G625,Register!$K$1:$L$618,2)))","v":0},0,null,0,null,0,null,null,0,0,0,0,0,0]
[null,0,null,0,null,null,null,"00:00:00",0,0,0,{"$f":"IF(AND(J626=0,K626=0),,IF(G626=0,\"KUNDE/LEV NR ?\",VLOOKUP(G626,Register!$K$1:$L$618,2)))","v":0},0,null,0,null,0,null,null,0,0,0,0,0,0]
[null,0,null,0,null,null,null,"00:00:00",0,0,0,{"$f":"IF(AND(J627=0,K627=0),,IF(G627=0,\"KUNDE/LEV NR ?\",VLOOKUP(G627,Register!$K$1:$L$618,2)))","v":0},0,null,0,null,0,null,null,0,0,0,0,0,0]
[null,0,null,0,null,null,null,"00:00:00",0,0,0,{"$f":"IF(AND(J628=0,K628=0),,IF(G628=0,\"KUNDE/LEV NR ?\",VLOOKUP(G628,Register!$K$1:$L$618,2)))","v":0},0,null,0,null,0,null,null,0,0,0,0,0,0]
[null,0,null,0,null,null,null,"00:00:00",0,0,0,{"$f":"IF(AND(J629=0,K629=0),,IF(G629=0,\"KUNDE/LEV NR ?\",VLOOKUP(G629,Register!$K$1:$L$618,2)))","v":0},0,null,0,null,0,null,null,0,0,0,0,0,0]
[null,0,null,0,null,null,null,"00:00:00",0,0,0,{"$f":"IF(AND(J630=0,K630=0),,IF(G630=0,\"KUNDE/LEV NR ?\",VLOOKUP(G630,Register!$K$1:$L$618,2)))","v":0},0,null,0,null,0,null,null,0,0,0,0,0,0]
[null,0,null,0,null,null,null,"00:00:00",0,0,0,{"$f":"IF(AND(J631=0,K631=0),,IF(G631=0,\"KUNDE/LEV NR ?\",VLOOKUP(G631,Register!$K$1:$L$618,2)))","v":0},0,null,0,null,0,null,null,0,0,0,0,0,0]
[null,0,null,0,null,null,null,"00:00:00",0,0,0,{"$f":"IF(AND(J632=0,K632=0),,IF(G632=0,\"KUNDE/LEV NR ?\",VLOOKUP(G632,Register!$K$1:$L$618,2)))","v":0},0,null,0,null,0,null,null,0,0,0,0,0,0]
[null,0,null,0,null,null,null,"00:00:00",0,0,0,{"$f":"IF(AND(J633=0,K633=0),,IF(G633=0,\"KUNDE/LEV NR ?\",VLOOKUP(G633,Register!$K$1:$L$618,2)))","v":0},0,null,0,null,0,null,null,0,0,0,0,0,0]
[null,0,null,0,null,null,null,"00:00:00",0,0,0,{"$f":"IF(AND(J634=0,K634=0),,IF(G634=0,\"KUNDE/LEV NR ?\",VLOOKUP(G634,Register!$K$1:$L$618,2)))","v":0},0,null,0,null,0,null,null,0,0,0,0,0,0]
[null,0,null,0,null,null,null,"00:00:00",0,0,0,{"$f":"IF(AND(J635=0,K635=0),,IF(G635=0,\"KUNDE/LEV NR ?\",VLOOKUP(G635,Register!$K$1:$L$618,2)))","v":0},0,null,0,null,0,null,null,0,0,0,0,0,0]
[null,0,null,0,null,null,null,"00:00:00",0,0,0,{"$f":"IF(AND(J636=0,K636=0),,IF(G636=0,\"KUNDE/LEV NR ?\",VLOOKUP(G636,Register!$K$1:$L$618,2)))","v":0},0,null,0,null,0,null,null,0,0,0,0,0,0]
[null,0,null,0,null,null,null,"00:00:00",0,0,0,{"$f":"IF(AND(J637=0,K637=0),,IF(G637=0,\"KUNDE/LEV NR ?\",VLOOKUP(G637,Register!$K$1:$L$618,2)))","v":0},0,null,0,null,0,null,null,0,0,0,0,0,0]
[null,0,null,0,null,null,null,"00:00:00",0,0,0,{"$f":"IF(AND(J638=0,K638=0),,IF(G638=0,\"KUNDE/LEV NR ?\",VLOOKUP(G638,Register!$K$1:$L$618,2)))","v":0},0,null,0,null,0,null,null,0,0,0,0,0,0]
[null,0,null,0,null,null,null,"00:00:00",0,0,0,{"$f":"IF(AND(J639=0,K639=0),,IF(G639=0,\"KUNDE/LEV NR ?\",VLOOKUP(G639,Register!$K$1:$L$618,2)))","v":0},0,null,0,null,0,null,null,0,0,0,0,0,0]
[null,0,null,0,null,null,null,"00:00:00",0,0,0,{"$f":"IF(AND(J640=0,K640=0),,IF(G640=0,\"KUNDE/LEV NR ?\",VLOOKUP(G640,Register!$K$1:$L$618,2)))","v":0},0,null,0,null,0,null,null,0,0,0,0,0,0]
[null,0,null,0,null,null,null,"00:00:00",0,0,0,{"$f":"IF(AND(J641=0,K641=0),,IF(G641=0,\"KUNDE/LEV NR ?\",VLOOKUP(G641,Register!$K$1:$L$618,2)))","v":0},0,null,0,null,0,null,null,0,0,0,0,0,0]
[null,0,null,0,null,null,null,"00:00:00",0,0,0,{"$f":"IF(AND(J642=0,K642=0),,IF(G642=0,\"KUNDE/LEV NR ?\",VLOOKUP(G642,Register!$K$1:$L$618,2)))","v":0},0,null,0,null,0,null,null,0,0,0,0,0,0]
[null,0,null,0,null,null,null,"00:00:00",0,0,0,{"$f":"IF(AND(J643=0,K643=0),,IF(G643=0,\"KUNDE/LEV NR ?\",VLOOKUP(G643,Register!$K$1:$L$618,2)))","v":0},0,null,0,null,0,null,null,0,0,0,0,0,0]
[null,0,null,0,null,null,null,"00:00:00",0,0,0,{"$f":"IF(AND(J644=0,K644=0),,IF(G644=0,\"KUNDE/LEV NR ?\",VLOOKUP(G644,Register!$K$1:$L$618,2)))","v":0},0,null,0,null,0,null,null,0,0,0,0,0,0]
[null,0,null,{"$f":"IF(C645=0,,VLOOKUP(C645,$AA$4:$AB$320,2))","v":0},null,null,null,"00:00:00",{"$f":"IF(H645>0,\"d\",)","v":0},0,0,{"$f":"IF(AND(J645=0,K645=0),,IF(G645=0,\"KUNDE/LEV NR ?\",VLOOKUP(G645,Register!$K$1:$L$618,2)))","v":0},0,null,0,null,0,null,null,0,0,{"$f":"IF(R645=0,,R645/(1+VLOOKUP(P645,$AC$5:$AD$362,2)))","v":0},{"$f":"IF(S645=0,,S645/(1+VLOOKUP(P645,$AC$5:$AD$362,2)))","v":0},{"$f":"IF(P645=0,,IF(P645=P646,,VLOOKUP(P645,$AC$5:$AE$364,3)))","v":0},{"$f":"IF(P645=0,,IF(P645=P646,,VLOOKUP(P645,$AC$5:$AF$362,4)))","v":0}]
[null,{"$f":"IF(A646>0,B645+1,)","v":0},null,0,null,null,null,{"$f":"A646","v":"00:00:00"},0,{"$f":"E646*-1+F646","v":0},{"$f":"IF(AND(A646>0,H646>0),J646*-1,)","v":0},{"$f":"IF(AND(J646=0,K646=0),,IF(G646=0,\"KUNDE/LEV NR ?\",VLOOKUP(G646,Register!$K$1:$L$618,2)))","v":0},0,null,0,null,0,null,null,0,0,0,0,0,0]
[null,0,null,0,null,null,null,"00:00:00",0,0,0,{"$f":"IF(AND(J647=0,K647=0),,IF(G647=0,\"KUNDE/LEV NR ?\",VLOOKUP(G647,Register!$K$1:$L$618,2)))","v":0},{"$f":"IF(ISNUMBER(A647+B647+E647+F647+G647+H647+J647+K647),A647+B647+E647+F647+G647+H647+J647+K647,\"FEIL\")","v":0},null,0,null,0,null,null,0,0,0,0,0,0]
[null,0,null,0,null,null,null,"00:00:00",0,0,0,{"$f":"IF(AND(J648=0,K648=0),,IF(G648=0,\"KUNDE/LEV NR ?\",VLOOKUP(G648,Register!$K$1:$L$618,2)))","v":0},0,null,0,null,0,null,null,0,0,0,0,0,0]
[null,0,null,0,null,null,null,"00:00:00",0,0,0,{"$f":"IF(AND(J649=0,K649=0),,IF(G649=0,\"KUNDE/LEV NR ?\",VLOOKUP(G649,Register!$K$1:$L$618,2)))","v":0},0,null,0,null,0,null,null,0,0,0,0,0,0]
[null,0,null,0,null,null,null,"00:00:00",0,0,0,{"$f":"IF(AND(J650=0,K650=0),,IF(G650=0,\"KUNDE/LEV NR ?\",VLOOKUP(G650,Register!$K$1:$L$618,2)))","v":0},0,null,0,null,0,null,null,0,0,0,0,0,0]
[null,0,null,0,null,null,null,"00:00:00",0,0,0,{"$f":"IF(AND(J651=0,K651=0),,IF(G651=0,\"KUNDE/LEV NR ?\",VLOOKUP(G651,Register!$K$1:$L$618,2)))","v":0},0,null,0,null,0,null,null,0,0,0,0,0,0]
[null,0,null,0,null,null,null,"00:00:00",0,0,0,{"$f":"IF(AND(J652=0,K652=0),,IF(G652=0,\"KUNDE/LEV NR ?\",VLOOKUP(G652,Register!$K$1:$L$618,2)))","v":0},0,null,0,null,0,null,null,0,0,0,0,0,0]
[null,0,null,0,null,null,null,"00:00:00",0,0,0,{"$f":"IF(AND(J653=0,K653=0),,IF(G653=0,\"KUNDE/LEV NR ?\",VLOOKUP(G653,Register!$K$1:$L$618,2)))","v":0},0,null,0,null,0,null,null,0,0,0,0,0,0]
[null,0,null,0,null,null,null,"00:00:00",0,0,0,{"$f":"IF(AND(J654=0,K654=0),,IF(G654=0,\"KUNDE/LEV NR ?\",VLOOKUP(G654,Register!$K$1:$L$618,2)))","v":0},0,null,0,null,0,null,null,{"$f":"R654-V654","v":0},{"$f":"S654-W654","v":0},0,0,0,0]
[null,0,null,0,null,null,null,"00:00:00",0,0,0,{"$f":"IF(AND(J655=0,K655=0),,IF(G655=0,\"KUNDE/LEV NR ?\",VLOOKUP(G655,Register!$K$1:$L$618,2)))","v":0},0,null,0,null,0,null,null,0,0,0,0,0,0]
[null,0,null,0,null,null,null,"00:00:00",0,0,0,{"$f":"IF(AND(J656=0,K656=0),,IF(G656=0,\"KUNDE/LEV NR ?\",VLOOKUP(G656,Register!$K$1:$L$618,2)))","v":0},0,null,0,null,0,null,null,0,0,0,0,0,0]
[null,0,null,0,null,null,null,"00:00:00",0,0,0,{"$f":"IF(AND(J657=0,K657=0),,IF(G657=0,\"KUNDE/LEV NR ?\",VLOOKUP(G657,Register!$K$1:$L$618,2)))","v":0},0,null,0,null,0,null,null,0,0,0,0,0,0]
[null,0,null,0,null,null,null,"00:00:00",0,0,0,{"$f":"IF(AND(J658=0,K658=0),,IF(G658=0,\"KUNDE/LEV NR ?\",VLOOKUP(G658,Register!$K$1:$L$618,2)))","v":0},0,null,0,null,0,null,null,0,0,0,0,0,0]
[null,0,null,0,null,null,null,"00:00:00",0,0,0,{"$f":"IF(AND(J659=0,K659=0),,IF(G659=0,\"KUNDE/LEV NR ?\",VLOOKUP(G659,Register!$K$1:$L$618,2)))","v":0},0,null,0,null,0,null,null,0,0,0,0,0,0]
[null,0,null,0,null,null,null,"00:00:00",0,0,0,{"$f":"IF(AND(J660=0,K660=0),,IF(G660=0,\"KUNDE/LEV NR ?\",VLOOKUP(G660,Register!$K$1:$L$618,2)))","v":0},0,null,0,null,0,null,null,0,0,0,0,0,0]
[null,0,null,0,null,null,null,"00:00:00",0,0,0,{"$f":"IF(AND(J661=0,K661=0),,IF(G661=0,\"KUNDE/LEV NR ?\",VLOOKUP(G661,Register!$K$1:$L$618,2)))","v":0},0,null,0,null,0,null,null,0,0,0,0,0,0]
[null,0,null,0,null,null,null,"00:00:00",0,0,0,{"$f":"IF(AND(J662=0,K662=0),,IF(G662=0,\"KUNDE/LEV NR ?\",VLOOKUP(G662,Register!$K$1:$L$618,2)))","v":0},0,null,0,null,0,null,null,0,0,0,0,0,0]
[null,0,null,0,null,null,null,"00:00:00",0,0,0,{"$f":"IF(AND(J663=0,K663=0),,IF(G663=0,\"KUNDE/LEV NR ?\",VLOOKUP(G663,Register!$K$1:$L$618,2)))","v":0},0,null,0,null,0,null,null,0,0,0,0,0,0]
[null,0,null,0,null,null,null,"00:00:00",0,0,0,{"$f":"IF(AND(J664=0,K664=0),,IF(G664=0,\"KUNDE/LEV NR ?\",VLOOKUP(G664,Register!$K$1:$L$618,2)))","v":0},0,null,0,null,0,null,null,0,0,0,0,0,0]
[null,0,null,0,null,null,null,"00:00:00",0,0,0,{"$f":"IF(AND(J665=0,K665=0),,IF(G665=0,\"KUNDE/LEV NR ?\",VLOOKUP(G665,Register!$K$1:$L$618,2)))","v":0},0,null,0,null,0,null,null,0,0,0,0,0,0]
[null,0,null,0,null,null,null,"00:00:00",0,0,0,{"$f":"IF(AND(J666=0,K666=0),,IF(G666=0,\"KUNDE/LEV NR ?\",VLOOKUP(G666,Register!$K$1:$L$618,2)))","v":0},0,null,0,null,0,null,null,0,0,0,0,0,0]
[null,0,null,0,null,null,null,"00:00:00",0,0,0,{"$f":"IF(AND(J667=0,K667=0),,IF(G667=0,\"KUNDE/LEV NR ?\",VLOOKUP(G667,Register!$K$1:$L$618,2)))","v":0},0,null,0,null,0,null,null,0,0,0,0,0,0]
[null,0,null,0,null,null,null,"00:00:00",0,0,0,{"$f":"IF(AND(J668=0,K668=0),,IF(G668=0,\"KUNDE/LEV NR ?\",VLOOKUP(G668,Register!$K$1:$L$618,2)))","v":0},0,null,0,null,0,null,null,0,0,0,0,0,0]
[null,0,null,0,null,null,null,"00:00:00",0,0,0,{"$f":"IF(AND(J669=0,K669=0),,IF(G669=0,\"KUNDE/LEV NR ?\",VLOOKUP(G669,Register!$K$1:$L$618,2)))","v":0},0,null,0,null,0,null,null,0,0,0,0,0,0]
[null,0,null,0,null,null,null,"00:00:00",0,0,0,{"$f":"IF(AND(J670=0,K670=0),,IF(G670=0,\"KUNDE/LEV NR ?\",VLOOKUP(G670,Register!$K$1:$L$618,2)))","v":0},0,null,0,null,0,null,null,0,0,0,0,0,0]
[null,0,null,0,null,null,null,"00:00:00",0,0,0,{"$f":"IF(AND(J671=0,K671=0),,IF(G671=0,\"KUNDE/LEV NR ?\",VLOOKUP(G671,Register!$K$1:$L$618,2)))","v":0},0,null,0,null,0,null,null,0,0,0,0,0,0]
[null,0,null,0,null,null,null,"00:00:00",0,0,0,{"$f":"IF(AND(J672=0,K672=0),,IF(G672=0,\"KUNDE/LEV NR ?\",VLOOKUP(G672,Register!$K$1:$L$618,2)))","v":0},0,null,0,null,0,null,null,0,0,0,0,0,0]
[null,0,null,0,null,null,null,"00:00:00",0,0,0,{"$f":"IF(AND(J673=0,K673=0),,IF(G673=0,\"KUNDE/LEV NR ?\",VLOOKUP(G673,Register!$K$1:$L$618,2)))","v":0},0,null,0,null,0,null,null,0,0,0,0,0,0]
[null,0,null,0,null,null,null,"00:00:00",0,0,0,{"$f":"IF(AND(J674=0,K674=0),,IF(G674=0,\"KUNDE/LEV NR ?\",VLOOKUP(G674,Register!$K$1:$L$618,2)))","v":0},0,null,0,null,0,null,null,0,0,0,0,0,0]
[null,0,null,0,null,null,null,"00:00:00",0,0,0,{"$f":"IF(AND(J675=0,K675=0),,IF(G675=0,\"KUNDE/LEV NR ?\",VLOOKUP(G675,Register!$K$1:$L$618,2)))","v":0},0,null,0,null,0,null,null,0,0,0,0,0,0]
[null,0,null,0,null,null,null,"00:00:00",0,0,0,{"$f":"IF(AND(J676=0,K676=0),,IF(G676=0,\"KUNDE/LEV NR ?\",VLOOKUP(G676,Register!$K$1:$L$618,2)))","v":0},0,null,0,null,0,null,null,0,0,0,0,0,0]
[null,0,null,0,null,null,null,"00:00:00",0,0,0,{"$f":"IF(AND(J677=0,K677=0),,IF(G677=0,\"KUNDE/LEV NR ?\",VLOOKUP(G677,Register!$K$1:$L$618,2)))","v":0},0,null,0,null,0,null,null,0,0,0,0,0,0]
[null,0,null,0,null,null,null,"00:00:00",0,0,0,{"$f":"IF(AND(J678=0,K678=0),,IF(G678=0,\"KUNDE/LEV NR ?\",VLOOKUP(G678,Register!$K$1:$L$618,2)))","v":0},0,null,0,null,0,null,null,0,0,0,0,0,0]
[null,0,null,0,null,null,null,"00:00:00",0,0,0,{"$f":"IF(AND(J679=0,K679=0),,IF(G679=0,\"KUNDE/LEV NR ?\",VLOOKUP(G679,Register!$K$1:$L$618,2)))","v":0},0,null,0,null,0,null,null,0,0,0,0,0,0]
[null,0,null,0,null,null,null,"00:00:00",0,0,0,{"$f":"IF(AND(J680=0,K680=0),,IF(G680=0,\"KUNDE/LEV NR ?\",VLOOKUP(G680,Register!$K$1:$L$618,2)))","v":0},0,null,0,null,0,null,null,0,0,0,0,0,0]
[null,0,null,0,null,null,null,"00:00:00",0,0,0,{"$f":"IF(AND(J681=0,K681=0),,IF(G681=0,\"KUNDE/LEV NR ?\",VLOOKUP(G681,Register!$K$1:$L$618,2)))","v":0},0,null,0,null,0,null,null,0,0,0,0,0,0]
[null,0,null,0,null,null,null,"00:00:00",0,0,0,{"$f":"IF(AND(J682=0,K682=0),,IF(G682=0,\"KUNDE/LEV NR ?\",VLOOKUP(G682,Register!$K$1:$L$618,2)))","v":0},0,null,0,null,0,null,null,0,0,0,0,0,0]
[null,0,null,0,null,null,null,"00:00:00",0,0,0,{"$f":"IF(AND(J683=0,K683=0),,IF(G683=0,\"KUNDE/LEV NR ?\",VLOOKUP(G683,Register!$K$1:$L$618,2)))","v":0},0,null,0,null,0,null,null,0,0,0,0,0,0]
[null,0,null,0,null,null,null,"00:00:00",0,0,0,{"$f":"IF(AND(J684=0,K684=0),,IF(G684=0,\"KUNDE/LEV NR ?\",VLOOKUP(G684,Register!$K$1:$L$618,2)))","v":0},0,null,0,null,0,null,null,0,0,0,0,0,0]
[null,0,null,0,null,null,null,"00:00:00",0,0,0,{"$f":"IF(AND(J685=0,K685=0),,IF(G685=0,\"KUNDE/LEV NR ?\",VLOOKUP(G685,Register!$K$1:$L$618,2)))","v":0},0,null,0,null,0,null,null,0,0,0,0,0,0]
[null,0,null,0,null,null,null,"00:00:00",0,0,0,{"$f":"IF(AND(J686=0,K686=0),,IF(G686=0,\"KUNDE/LEV NR ?\",VLOOKUP(G686,Register!$K$1:$L$618,2)))","v":0},0,null,0,null,0,null,null,0,0,0,0,0,0]
[null,0,null,0,null,null,null,"00:00:00",0,0,0,{"$f":"IF(AND(J687=0,K687=0),,IF(G687=0,\"KUNDE/LEV NR ?\",VLOOKUP(G687,Register!$K$1:$L$618,2)))","v":0},0,null,0,null,0,null,null,0,0,0,0,0,0]
[null,0,null,0,null,null,null,"00:00:00",0,0,0,{"$f":"IF(AND(J688=0,K688=0),,IF(G688=0,\"KUNDE/LEV NR ?\",VLOOKUP(G688,Register!$K$1:$L$618,2)))","v":0},0,null,0,null,0,null,null,0,0,0,0,0,0]
[null,0,null,0,null,null,null,"00:00:00",0,0,0,{"$f":"IF(AND(J689=0,K689=0),,IF(G689=0,\"KUNDE/LEV NR ?\",VLOOKUP(G689,Register!$K$1:$L$618,2)))","v":0},0,null,0,null,0,null,null,0,0,0,0,0,0]
[null,0,null,0,null,null,null,"00:00:00",0,0,0,{"$f":"IF(AND(J690=0,K690=0),,IF(G690=0,\"KUNDE/LEV NR ?\",VLOOKUP(G690,Register!$K$1:$L$618,2)))","v":0},0,null,0,null,0,null,null,0,0,0,0,0,0]
[null,0,null,0,null,null,null,"00:00:00",0,0,0,{"$f":"IF(AND(J691=0,K691=0),,IF(G691=0,\"KUNDE/LEV NR ?\",VLOOKUP(G691,Register!$K$1:$L$618,2)))","v":0},0,null,0,null,0,null,null,0,0,0,0,0,0]
[null,0,null,0,null,null,null,"00:00:00",0,0,0,{"$f":"IF(AND(J692=0,K692=0),,IF(G692=0,\"KUNDE/LEV NR ?\",VLOOKUP(G692,Register!$K$1:$L$618,2)))","v":0},0,null,0,null,0,null,null,0,0,0,0,0,0]
[null,0,null,0,null,null,null,"00:00:00",0,0,0,{"$f":"IF(AND(J693=0,K693=0),,IF(G693=0,\"KUNDE/LEV NR ?\",VLOOKUP(G693,Register!$K$1:$L$618,2)))","v":0},0,null,0,null,0,null,null,0,0,0,0,0,0]
[null,0,null,0,null,null,null,"00:00:00",0,0,0,{"$f":"IF(AND(J694=0,K694=0),,IF(G694=0,\"KUNDE/LEV NR ?\",VLOOKUP(G694,Register!$K$1:$L$618,2)))","v":0},0,null,0,null,0,null,null,0,0,0,0,0,0]
[null,0,null,0,null,null,null,"00:00:00",0,0,0,{"$f":"IF(AND(J695=0,K695=0),,IF(G695=0,\"KUNDE/LEV NR ?\",VLOOKUP(G695,Register!$K$1:$L$618,2)))","v":0},0,null,0,null,0,null,null,0,0,0,0,0,0]
[null,0,null,0,null,null,null,"00:00:00",0,0,0,{"$f":"IF(AND(J696=0,K696=0),,IF(G696=0,\"KUNDE/LEV NR ?\",VLOOKUP(G696,Register!$K$1:$L$618,2)))","v":0},0,null,0,null,0,null,null,0,0,0,0,0,0]
[null,0,null,0,null,null,null,"00:00:00",0,0,0,{"$f":"IF(AND(J697=0,K697=0),,IF(G697=0,\"KUNDE/LEV NR ?\",VLOOKUP(G697,Register!$K$1:$L$618,2)))","v":0},0,null,0,null,0,null,null,0,0,0,0,0,0]
[null,0,null,0,null,null,null,"00:00:00",0,0,0,{"$f":"IF(AND(J698=0,K698=0),,IF(G698=0,\"KUNDE/LEV NR ?\",VLOOKUP(G698,Register!$K$1:$L$618,2)))","v":0},0,null,0,null,0,null,null,0,0,0,0,0,0]
[null,0,null,0,null,null,null,"00:00:00",0,0,0,{"$f":"IF(AND(J699=0,K699=0),,IF(G699=0,\"KUNDE/LEV NR ?\",VLOOKUP(G699,Register!$K$1:$L$618,2)))","v":0},0,null,0,null,0,null,null,0,0,0,0,0,0]
[null,0,null,0,null,null,null,"00:00:00",0,0,0,{"$f":"IF(AND(J700=0,K700=0),,IF(G700=0,\"KUNDE/LEV NR ?\",VLOOKUP(G700,Register!$K$1:$L$618,2)))","v":0},0,null,0,null,0,null,null,0,0,0,0,0,0]
[null,0,null,0,null,null,null,"00:00:00",0,0,0,{"$f":"IF(AND(J701=0,K701=0),,IF(G701=0,\"KUNDE/LEV NR ?\",VLOOKUP(G701,Register!$K$1:$L$618,2)))","v":0},0,null,0,null,0,null,null,0,0,0,0,0,0]
[null,0,null,0,null,null,null,"00:00:00",0,0,0,{"$f":"IF(AND(J702=0,K702=0),,IF(G702=0,\"KUNDE/LEV NR ?\",VLOOKUP(G702,Register!$K$1:$L$618,2)))","v":0},0,null,0,null,0,null,null,0,0,0,0,0,0]
[null,0,null,0,null,null,null,"00:00:00",0,0,0,{"$f":"IF(AND(J703=0,K703=0),,IF(G703=0,\"KUNDE/LEV NR ?\",VLOOKUP(G703,Register!$K$1:$L$618,2)))","v":0},0,null,0,null,0,null,null,0,0,0,0,0,0]
[null,0,null,0,null,null,null,"00:00:00",0,0,0,{"$f":"IF(AND(J704=0,K704=0),,IF(G704=0,\"KUNDE/LEV NR ?\",VLOOKUP(G704,Register!$K$1:$L$618,2)))","v":0},0,null,0,null,0,null,null,0,0,0,0,0,0]
[null,0,null,0,null,null,null,"00:00:00",0,0,0,{"$f":"IF(AND(J705=0,K705=0),,IF(G705=0,\"KUNDE/LEV NR ?\",VLOOKUP(G705,Register!$K$1:$L$618,2)))","v":0},0,null,0,null,0,null,null,0,0,0,0,0,0]
[null,0,null,0,null,null,null,"00:00:00",0,0,0,{"$f":"IF(AND(J706=0,K706=0),,IF(G706=0,\"KUNDE/LEV NR ?\",VLOOKUP(G706,Register!$K$1:$L$618,2)))","v":0},0,null,0,null,0,null,null,0,0,0,0,0,0]
[null,0,null,0,null,null,null,"00:00:00",0,0,0,{"$f":"IF(AND(J707=0,K707=0),,IF(G707=0,\"KUNDE/LEV NR ?\",VLOOKUP(G707,Register!$K$1:$L$618,2)))","v":0},0,null,0,null,0,null,null,0,0,0,0,0,0]
[null,0,null,0,null,null,null,"00:00:00",0,0,0,{"$f":"IF(AND(J708=0,K708=0),,IF(G708=0,\"KUNDE/LEV NR ?\",VLOOKUP(G708,Register!$K$1:$L$618,2)))","v":0},0,null,0,null,0,null,null,0,0,0,0,0,0]
[null,0,null,{"$f":"IF(C709=0,,VLOOKUP(C709,$AA$4:$AB$320,2))","v":0},null,null,null,"00:00:00",{"$f":"IF(H709>0,\"d\",)","v":0},0,0,{"$f":"IF(AND(J709=0,K709=0),,IF(G709=0,\"KUNDE/LEV NR ?\",VLOOKUP(G709,Register!$K$1:$L$618,2)))","v":0},0,null,0,null,0,null,null,0,0,{"$f":"IF(R709=0,,R709/(1+VLOOKUP(P709,$AC$5:$AD$362,2)))","v":0},{"$f":"IF(S709=0,,S709/(1+VLOOKUP(P709,$AC$5:$AD$362,2)))","v":0},{"$f":"IF(P709=0,,IF(P709=P710,,VLOOKUP(P709,$AC$5:$AE$364,3)))","v":0},{"$f":"IF(P709=0,,IF(P709=P710,,VLOOKUP(P709,$AC$5:$AF$362,4)))","v":0}]
[null,{"$f":"IF(A710>0,B709+1,)","v":0},null,0,null,null,null,{"$f":"A710","v":"00:00:00"},0,{"$f":"E710*-1+F710","v":0},{"$f":"IF(AND(A710>0,H710>0),J710*-1,)","v":0},{"$f":"IF(AND(J710=0,K710=0),,IF(G710=0,\"KUNDE/LEV NR ?\",VLOOKUP(G710,Register!$K$1:$L$618,2)))","v":0},0,null,0,null,0,null,null,0,0,0,0,0,0]
[null,0,null,0,null,null,null,"00:00:00",0,0,0,{"$f":"IF(AND(J711=0,K711=0),,IF(G711=0,\"KUNDE/LEV NR ?\",VLOOKUP(G711,Register!$K$1:$L$618,2)))","v":0},{"$f":"IF(ISNUMBER(A711+B711+E711+F711+G711+H711+J711+K711),A711+B711+E711+F711+G711+H711+J711+K711,\"FEIL\")","v":0},null,0,null,0,null,null,0,0,0,0,0,0]
[null,0,null,0,null,null,null,"00:00:00",0,0,0,{"$f":"IF(AND(J712=0,K712=0),,IF(G712=0,\"KUNDE/LEV NR ?\",VLOOKUP(G712,Register!$K$1:$L$618,2)))","v":0},0,null,0,null,0,null,null,0,0,0,0,0,0]
[null,0,null,0,null,null,null,"00:00:00",0,0,0,{"$f":"IF(AND(J713=0,K713=0),,IF(G713=0,\"KUNDE/LEV NR ?\",VLOOKUP(G713,Register!$K$1:$L$618,2)))","v":0},0,null,0,null,0,null,null,0,0,0,0,0,0]
[null,0,null,0,null,null,null,"00:00:00",0,0,0,{"$f":"IF(AND(J714=0,K714=0),,IF(G714=0,\"KUNDE/LEV NR ?\",VLOOKUP(G714,Register!$K$1:$L$618,2)))","v":0},0,null,0,null,0,null,null,0,0,0,0,0,0]
[null,0,null,0,null,null,null,"00:00:00",0,0,0,{"$f":"IF(AND(J715=0,K715=0),,IF(G715=0,\"KUNDE/LEV NR ?\",VLOOKUP(G715,Register!$K$1:$L$618,2)))","v":0},0,null,0,null,0,null,null,0,0,0,0,0,0]
[null,0,null,0,null,null,null,"00:00:00",0,0,0,{"$f":"IF(AND(J716=0,K716=0),,IF(G716=0,\"KUNDE/LEV NR ?\",VLOOKUP(G716,Register!$K$1:$L$618,2)))","v":0},0,null,0,null,0,null,null,0,0,0,0,0,0]
[null,0,null,0,null,null,null,"00:00:00",0,0,0,{"$f":"IF(AND(J717=0,K717=0),,IF(G717=0,\"KUNDE/LEV NR ?\",VLOOKUP(G717,Register!$K$1:$L$618,2)))","v":0},0,null,0,null,0,null,null,0,0,0,0,0,0]
[null,0,null,0,null,null,null,"00:00:00",0,0,0,{"$f":"IF(AND(J718=0,K718=0),,IF(G718=0,\"KUNDE/LEV NR ?\",VLOOKUP(G718,Register!$K$1:$L$618,2)))","v":0},0,null,0,null,0,null,null,{"$f":"R718-V718","v":0},{"$f":"S718-W718","v":0},0,0,0,0]
[null,0,null,0,null,null,null,"00:00:00",0,0,0,{"$f":"IF(AND(J719=0,K719=0),,IF(G719=0,\"KUNDE/LEV NR ?\",VLOOKUP(G719,Register!$K$1:$L$618,2)))","v":0},0,null,0,null,0,null,null,0,0,0,0,0,0]
[null,0,null,0,null,null,null,"00:00:00",0,0,0,{"$f":"IF(AND(J720=0,K720=0),,IF(G720=0,\"KUNDE/LEV NR ?\",VLOOKUP(G720,Register!$K$1:$L$618,2)))","v":0},0,null,0,null,0,null,null,0,0,0,0,0,0]
[null,0,null,0,null,null,null,"00:00:00",0,0,0,{"$f":"IF(AND(J721=0,K721=0),,IF(G721=0,\"KUNDE/LEV NR ?\",VLOOKUP(G721,Register!$K$1:$L$618,2)))","v":0},0,null,0,null,0,null,null,0,0,0,0,0,0]
[null,0,null,0,null,null,null,"00:00:00",0,0,0,{"$f":"IF(AND(J722=0,K722=0),,IF(G722=0,\"KUNDE/LEV NR ?\",VLOOKUP(G722,Register!$K$1:$L$618,2)))","v":0},0,null,0,null,0,null,null,0,0,0,0,0,0]
[null,0,null,0,null,null,null,"00:00:00",0,0,0,{"$f":"IF(AND(J723=0,K723=0),,IF(G723=0,\"KUNDE/LEV NR ?\",VLOOKUP(G723,Register!$K$1:$L$618,2)))","v":0},0,null,0,null,0,null,null,0,0,0,0,0,0]
[null,0,null,0,null,null,null,"00:00:00",0,0,0,{"$f":"IF(AND(J724=0,K724=0),,IF(G724=0,\"KUNDE/LEV NR ?\",VLOOKUP(G724,Register!$K$1:$L$618,2)))","v":0},0,null,0,null,0,null,null,0,0,0,0,0,0]
[null,0,null,0,null,null,null,"00:00:00",0,0,0,{"$f":"IF(AND(J725=0,K725=0),,IF(G725=0,\"KUNDE/LEV NR ?\",VLOOKUP(G725,Register!$K$1:$L$618,2)))","v":0},0,null,0,null,0,null,null,0,0,0,0,0,0]
[null,0,null,0,null,null,null,"00:00:00",0,0,0,{"$f":"IF(AND(J726=0,K726=0),,IF(G726=0,\"KUNDE/LEV NR ?\",VLOOKUP(G726,Register!$K$1:$L$618,2)))","v":0},0,null,0,null,0,null,null,0,0,0,0,0,0]
[null,0,null,0,null,null,null,"00:00:00",0,0,0,{"$f":"IF(AND(J727=0,K727=0),,IF(G727=0,\"KUNDE/LEV NR ?\",VLOOKUP(G727,Register!$K$1:$L$618,2)))","v":0},0,null,0,null,0,null,null,0,0,0,0,0,0]
[null,0,null,0,null,null,null,"00:00:00",0,0,0,{"$f":"IF(AND(J728=0,K728=0),,IF(G728=0,\"KUNDE/LEV NR ?\",VLOOKUP(G728,Register!$K$1:$L$618,2)))","v":0},0,null,0,null,0,null,null,0,0,0,0,0,0]
[null,0,null,0,null,null,null,"00:00:00",0,0,0,{"$f":"IF(AND(J729=0,K729=0),,IF(G729=0,\"KUNDE/LEV NR ?\",VLOOKUP(G729,Register!$K$1:$L$618,2)))","v":0},0,null,0,null,0,null,null,0,0,0,0,0,0]
[null,0,null,0,null,null,null,"00:00:00",0,0,0,{"$f":"IF(AND(J730=0,K730=0),,IF(G730=0,\"KUNDE/LEV NR ?\",VLOOKUP(G730,Register!$K$1:$L$618,2)))","v":0},0,null,0,null,0,null,null,0,0,0,0,0,0]
[null,0,null,0,null,null,null,"00:00:00",0,0,0,{"$f":"IF(AND(J731=0,K731=0),,IF(G731=0,\"KUNDE/LEV NR ?\",VLOOKUP(G731,Register!$K$1:$L$618,2)))","v":0},0,null,0,null,0,null,null,0,0,0,0,0,0]
[null,0,null,0,null,null,null,"00:00:00",0,0,0,{"$f":"IF(AND(J732=0,K732=0),,IF(G732=0,\"KUNDE/LEV NR ?\",VLOOKUP(G732,Register!$K$1:$L$618,2)))","v":0},0,null,0,null,0,null,null,0,0,0,0,0,0]
[null,0,null,0,null,null,null,"00:00:00",0,0,0,{"$f":"IF(AND(J733=0,K733=0),,IF(G733=0,\"KUNDE/LEV NR ?\",VLOOKUP(G733,Register!$K$1:$L$618,2)))","v":0},0,null,0,null,0,null,null,0,0,0,0,0,0]
[null,0,null,0,null,null,null,"00:00:00",0,0,0,{"$f":"IF(AND(J734=0,K734=0),,IF(G734=0,\"KUNDE/LEV NR ?\",VLOOKUP(G734,Register!$K$1:$L$618,2)))","v":0},0,null,0,null,0,null,null,0,0,0,0,0,0]
[null,0,null,0,null,null,null,"00:00:00",0,0,0,{"$f":"IF(AND(J735=0,K735=0),,IF(G735=0,\"KUNDE/LEV NR ?\",VLOOKUP(G735,Register!$K$1:$L$618,2)))","v":0},0,null,0,null,0,null,null,0,0,0,0,0,0]
[null,0,null,0,null,null,null,"00:00:00",0,0,0,{"$f":"IF(AND(J736=0,K736=0),,IF(G736=0,\"KUNDE/LEV NR ?\",VLOOKUP(G736,Register!$K$1:$L$618,2)))","v":0},0,null,0,null,0,null,null,0,0,0,0,0,0]
[null,0,null,0,null,null,null,"00:00:00",0,0,0,{"$f":"IF(AND(J737=0,K737=0),,IF(G737=0,\"KUNDE/LEV NR ?\",VLOOKUP(G737,Register!$K$1:$L$618,2)))","v":0},0,null,0,null,0,null,null,0,0,0,0,0,0]
[null,0,null,0,null,null,null,"00:00:00",0,0,0,{"$f":"IF(AND(J738=0,K738=0),,IF(G738=0,\"KUNDE/LEV NR ?\",VLOOKUP(G738,Register!$K$1:$L$618,2)))","v":0},0,null,0,null,0,null,null,0,0,0,0,0,0]
[null,0,null,0,null,null,null,"00:00:00",0,0,0,{"$f":"IF(AND(J739=0,K739=0),,IF(G739=0,\"KUNDE/LEV NR ?\",VLOOKUP(G739,Register!$K$1:$L$618,2)))","v":0},0,null,0,null,0,null,null,0,0,0,0,0,0]
[null,0,null,0,null,null,null,"00:00:00",0,0,0,{"$f":"IF(AND(J740=0,K740=0),,IF(G740=0,\"KUNDE/LEV NR ?\",VLOOKUP(G740,Register!$K$1:$L$618,2)))","v":0},0,null,0,null,0,null,null,0,0,0,0,0,0]
[null,0,null,0,null,null,null,"00:00:00",0,0,0,{"$f":"IF(AND(J741=0,K741=0),,IF(G741=0,\"KUNDE/LEV NR ?\",VLOOKUP(G741,Register!$K$1:$L$618,2)))","v":0},0,null,0,null,0,null,null,0,0,0,0,0,0]
[null,0,null,0,null,null,null,"00:00:00",0,0,0,{"$f":"IF(AND(J742=0,K742=0),,IF(G742=0,\"KUNDE/LEV NR ?\",VLOOKUP(G742,Register!$K$1:$L$618,2)))","v":0},0,null,0,null,0,null,null,0,0,0,0,0,0]
[null,0,null,0,null,null,null,"00:00:00",0,0,0,{"$f":"IF(AND(J743=0,K743=0),,IF(G743=0,\"KUNDE/LEV NR ?\",VLOOKUP(G743,Register!$K$1:$L$618,2)))","v":0},0,null,0,null,0,null,null,0,0,0,0,0,0]
[null,0,null,0,null,null,null,"00:00:00",0,0,0,{"$f":"IF(AND(J744=0,K744=0),,IF(G744=0,\"KUNDE/LEV NR ?\",VLOOKUP(G744,Register!$K$1:$L$618,2)))","v":0},0,null,0,null,0,null,null,0,0,0,0,0,0]
[null,0,null,0,null,null,null,"00:00:00",0,0,0,{"$f":"IF(AND(J745=0,K745=0),,IF(G745=0,\"KUNDE/LEV NR ?\",VLOOKUP(G745,Register!$K$1:$L$618,2)))","v":0},0,null,0,null,0,null,null,0,0,0,0,0,0]
[null,0,null,0,null,null,null,"00:00:00",0,0,0,{"$f":"IF(AND(J746=0,K746=0),,IF(G746=0,\"KUNDE/LEV NR ?\",VLOOKUP(G746,Register!$K$1:$L$618,2)))","v":0},0,null,0,null,0,null,null,0,0,0,0,0,0]
[null,0,null,0,null,null,null,"00:00:00",0,0,0,{"$f":"IF(AND(J747=0,K747=0),,IF(G747=0,\"KUNDE/LEV NR ?\",VLOOKUP(G747,Register!$K$1:$L$618,2)))","v":0},0,null,0,null,0,null,null,0,0,0,0,0,0]
[null,0,null,0,null,null,null,"00:00:00",0,0,0,{"$f":"IF(AND(J748=0,K748=0),,IF(G748=0,\"KUNDE/LEV NR ?\",VLOOKUP(G748,Register!$K$1:$L$618,2)))","v":0},0,null,0,null,0,null,null,0,0,0,0,0,0]
[null,0,null,0,null,null,null,"00:00:00",0,0,0,{"$f":"IF(AND(J749=0,K749=0),,IF(G749=0,\"KUNDE/LEV NR ?\",VLOOKUP(G749,Register!$K$1:$L$618,2)))","v":0},0,null,0,null,0,null,null,0,0,0,0,0,0]
[null,0,null,0,null,null,null,"00:00:00",0,0,0,{"$f":"IF(AND(J750=0,K750=0),,IF(G750=0,\"KUNDE/LEV NR ?\",VLOOKUP(G750,Register!$K$1:$L$618,2)))","v":0},0,null,0,null,0,null,null,0,0,0,0,0,0]
[null,0,null,0,null,null,null,"00:00:00",0,0,0,{"$f":"IF(AND(J751=0,K751=0),,IF(G751=0,\"KUNDE/LEV NR ?\",VLOOKUP(G751,Register!$K$1:$L$618,2)))","v":0},0,null,0,null,0,null,null,0,0,0,0,0,0]
[null,0,null,0,null,null,null,"00:00:00",0,0,0,{"$f":"IF(AND(J752=0,K752=0),,IF(G752=0,\"KUNDE/LEV NR ?\",VLOOKUP(G752,Register!$K$1:$L$618,2)))","v":0},0,null,0,null,0,null,null,0,0,0,0,0,0]
[null,0,null,0,null,null,null,"00:00:00",0,0,0,{"$f":"IF(AND(J753=0,K753=0),,IF(G753=0,\"KUNDE/LEV NR ?\",VLOOKUP(G753,Register!$K$1:$L$618,2)))","v":0},0,null,0,null,0,null,null,0,0,0,0,0,0]
[null,0,null,0,null,null,null,"00:00:00",0,0,0,{"$f":"IF(AND(J754=0,K754=0),,IF(G754=0,\"KUNDE/LEV NR ?\",VLOOKUP(G754,Register!$K$1:$L$618,2)))","v":0},0,null,0,null,0,null,null,0,0,0,0,0,0]
[null,0,null,0,null,null,null,"00:00:00",0,0,0,{"$f":"IF(AND(J755=0,K755=0),,IF(G755=0,\"KUNDE/LEV NR ?\",VLOOKUP(G755,Register!$K$1:$L$618,2)))","v":0},0,null,0,null,0,null,null,0,0,0,0,0,0]
[null,0,null,0,null,null,null,"00:00:00",0,0,0,{"$f":"IF(AND(J756=0,K756=0),,IF(G756=0,\"KUNDE/LEV NR ?\",VLOOKUP(G756,Register!$K$1:$L$618,2)))","v":0},0,null,0,null,0,null,null,0,0,0,0,0,0]
[null,0,null,0,null,null,null,"00:00:00",0,0,0,{"$f":"IF(AND(J757=0,K757=0),,IF(G757=0,\"KUNDE/LEV NR ?\",VLOOKUP(G757,Register!$K$1:$L$618,2)))","v":0},0,null,0,null,0,null,null,0,0,0,0,0,0]
[null,0,null,0,null,null,null,"00:00:00",0,0,0,{"$f":"IF(AND(J758=0,K758=0),,IF(G758=0,\"KUNDE/LEV NR ?\",VLOOKUP(G758,Register!$K$1:$L$618,2)))","v":0},0,null,0,null,0,null,null,0,0,0,0,0,0]
[null,0,null,0,null,null,null,"00:00:00",0,0,0,{"$f":"IF(AND(J759=0,K759=0),,IF(G759=0,\"KUNDE/LEV NR ?\",VLOOKUP(G759,Register!$K$1:$L$618,2)))","v":0},0,null,0,null,0,null,null,0,0,0,0,0,0]
[null,0,null,0,null,null,null,"00:00:00",0,0,0,{"$f":"IF(AND(J760=0,K760=0),,IF(G760=0,\"KUNDE/LEV NR ?\",VLOOKUP(G760,Register!$K$1:$L$618,2)))","v":0},0,null,0,null,0,null,null,0,0,0,0,0,0]
[null,0,null,0,null,null,null,"00:00:00",0,0,0,{"$f":"IF(AND(J761=0,K761=0),,IF(G761=0,\"KUNDE/LEV NR ?\",VLOOKUP(G761,Register!$K$1:$L$618,2)))","v":0},0,null,0,null,0,null,null,0,0,0,0,0,0]
[null,0,null,0,null,null,null,"00:00:00",0,0,0,{"$f":"IF(AND(J762=0,K762=0),,IF(G762=0,\"KUNDE/LEV NR ?\",VLOOKUP(G762,Register!$K$1:$L$618,2)))","v":0},0,null,0,null,0,null,null,0,0,0,0,0,0]
[null,0,null,0,null,null,null,"00:00:00",0,0,0,{"$f":"IF(AND(J763=0,K763=0),,IF(G763=0,\"KUNDE/LEV NR ?\",VLOOKUP(G763,Register!$K$1:$L$618,2)))","v":0},0,null,0,null,0,null,null,0,0,0,0,0,0]
[null,0,null,0,null,null,null,"00:00:00",0,0,0,{"$f":"IF(AND(J764=0,K764=0),,IF(G764=0,\"KUNDE/LEV NR ?\",VLOOKUP(G764,Register!$K$1:$L$618,2)))","v":0},0,null,0,null,0,null,null,0,0,0,0,0,0]
[null,0,null,0,null,null,null,"00:00:00",0,0,0,{"$f":"IF(AND(J765=0,K765=0),,IF(G765=0,\"KUNDE/LEV NR ?\",VLOOKUP(G765,Register!$K$1:$L$618,2)))","v":0},0,null,0,null,0,null,null,0,0,0,0,0,0]
[null,0,null,0,null,null,null,"00:00:00",0,0,0,{"$f":"IF(AND(J766=0,K766=0),,IF(G766=0,\"KUNDE/LEV NR ?\",VLOOKUP(G766,Register!$K$1:$L$618,2)))","v":0},0,null,0,null,0,null,null,0,0,0,0,0,0]
[null,0,null,0,null,null,null,"00:00:00",0,0,0,{"$f":"IF(AND(J767=0,K767=0),,IF(G767=0,\"KUNDE/LEV NR ?\",VLOOKUP(G767,Register!$K$1:$L$618,2)))","v":0},0,null,0,null,0,null,null,0,0,0,0,0,0]
[null,0,null,0,null,null,null,"00:00:00",0,0,0,{"$f":"IF(AND(J768=0,K768=0),,IF(G768=0,\"KUNDE/LEV NR ?\",VLOOKUP(G768,Register!$K$1:$L$618,2)))","v":0},0,null,0,null,0,null,null,0,0,0,0,0,0]
[null,0,null,0,null,null,null,"00:00:00",0,0,0,{"$f":"IF(AND(J769=0,K769=0),,IF(G769=0,\"KUNDE/LEV NR ?\",VLOOKUP(G769,Register!$K$1:$L$618,2)))","v":0},0,null,0,null,0,null,null,0,0,0,0,0,0]
[null,0,null,0,null,null,null,"00:00:00",0,0,0,{"$f":"IF(AND(J770=0,K770=0),,IF(G770=0,\"KUNDE/LEV NR ?\",VLOOKUP(G770,Register!$K$1:$L$618,2)))","v":0},0,null,0,null,0,null,null,0,0,0,0,0,0]
[null,0,null,0,null,null,null,"00:00:00",0,0,0,{"$f":"IF(AND(J771=0,K771=0),,IF(G771=0,\"KUNDE/LEV NR ?\",VLOOKUP(G771,Register!$K$1:$L$618,2)))","v":0},0,null,0,null,0,null,null,0,0,0,0,0,0]
[null,0,null,0,null,null,null,"00:00:00",0,0,0,{"$f":"IF(AND(J772=0,K772=0),,IF(G772=0,\"KUNDE/LEV NR ?\",VLOOKUP(G772,Register!$K$1:$L$618,2)))","v":0},0,null,0,null,0,null,null,0,0,0,0,0,0]
[null,0,null,{"$f":"IF(C773=0,,VLOOKUP(C773,$AA$4:$AB$320,2))","v":0},null,null,null,"00:00:00",{"$f":"IF(H773>0,\"d\",)","v":0},0,0,{"$f":"IF(AND(J773=0,K773=0),,IF(G773=0,\"KUNDE/LEV NR ?\",VLOOKUP(G773,Register!$K$1:$L$618,2)))","v":0},0,null,0,null,0,null,null,0,0,{"$f":"IF(R773=0,,R773/(1+VLOOKUP(P773,$AC$5:$AD$362,2)))","v":0},{"$f":"IF(S773=0,,S773/(1+VLOOKUP(P773,$AC$5:$AD$362,2)))","v":0},{"$f":"IF(P773=0,,IF(P773=P774,,VLOOKUP(P773,$AC$5:$AE$364,3)))","v":0},{"$f":"IF(P773=0,,IF(P773=P774,,VLOOKUP(P773,$AC$5:$AF$362,4)))","v":0}]
[null,{"$f":"IF(A774>0,B773+1,)","v":0},null,0,null,null,null,{"$f":"A774","v":"00:00:00"},0,{"$f":"E774*-1+F774","v":0},{"$f":"IF(AND(A774>0,H774>0),J774*-1,)","v":0},{"$f":"IF(AND(J774=0,K774=0),,IF(G774=0,\"KUNDE/LEV NR ?\",VLOOKUP(G774,Register!$K$1:$L$618,2)))","v":0},0,null,0,null,0,null,null,0,0,0,0,0,0]
[null,0,null,0,null,null,null,"00:00:00",0,0,0,{"$f":"IF(AND(J775=0,K775=0),,IF(G775=0,\"KUNDE/LEV NR ?\",VLOOKUP(G775,Register!$K$1:$L$618,2)))","v":0},{"$f":"IF(ISNUMBER(A775+B775+E775+F775+G775+H775+J775+K775),A775+B775+E775+F775+G775+H775+J775+K775,\"FEIL\")","v":0},null,0,null,0,null,null,0,0,0,0,0,0]
[null,0,null,0,null,null,null,"00:00:00",0,0,0,{"$f":"IF(AND(J776=0,K776=0),,IF(G776=0,\"KUNDE/LEV NR ?\",VLOOKUP(G776,Register!$K$1:$L$618,2)))","v":0},0,null,0,null,0,null,null,0,0,0,0,0,0]
[null,0,null,0,null,null,null,"00:00:00",0,0,0,{"$f":"IF(AND(J777=0,K777=0),,IF(G777=0,\"KUNDE/LEV NR ?\",VLOOKUP(G777,Register!$K$1:$L$618,2)))","v":0},0,null,0,null,0,null,null,0,0,0,0,0,0]
[null,0,null,0,null,null,null,"00:00:00",0,0,0,{"$f":"IF(AND(J778=0,K778=0),,IF(G778=0,\"KUNDE/LEV NR ?\",VLOOKUP(G778,Register!$K$1:$L$618,2)))","v":0},0,null,0,null,0,null,null,0,0,0,0,0,0]
[null,0,null,0,null,null,null,"00:00:00",0,0,0,{"$f":"IF(AND(J779=0,K779=0),,IF(G779=0,\"KUNDE/LEV NR ?\",VLOOKUP(G779,Register!$K$1:$L$618,2)))","v":0},0,null,0,null,0,null,null,0,0,0,0,0,0]
[null,0,null,0,null,null,null,"00:00:00",0,0,0,{"$f":"IF(AND(J780=0,K780=0),,IF(G780=0,\"KUNDE/LEV NR ?\",VLOOKUP(G780,Register!$K$1:$L$618,2)))","v":0},0,null,0,null,0,null,null,0,0,0,0,0,0]
[null,0,null,0,null,null,null,"00:00:00",0,0,0,{"$f":"IF(AND(J781=0,K781=0),,IF(G781=0,\"KUNDE/LEV NR ?\",VLOOKUP(G781,Register!$K$1:$L$618,2)))","v":0},0,null,0,null,0,null,null,0,0,0,0,0,0]
[null,0,null,0,null,null,null,"00:00:00",0,0,0,{"$f":"IF(AND(J782=0,K782=0),,IF(G782=0,\"KUNDE/LEV NR ?\",VLOOKUP(G782,Register!$K$1:$L$618,2)))","v":0},0,null,0,null,0,null,null,{"$f":"R782-V782","v":0},{"$f":"S782-W782","v":0},0,0,0,0]
[null,0,null,0,null,null,null,"00:00:00",0,0,0,{"$f":"IF(AND(J783=0,K783=0),,IF(G783=0,\"KUNDE/LEV NR ?\",VLOOKUP(G783,Register!$K$1:$L$618,2)))","v":0},0,null,0,null,0,null,null,0,0,0,0,0,0]
[null,0,null,0,null,null,null,"00:00:00",0,0,0,{"$f":"IF(AND(J784=0,K784=0),,IF(G784=0,\"KUNDE/LEV NR ?\",VLOOKUP(G784,Register!$K$1:$L$618,2)))","v":0},0,null,0,null,0,null,null,0,0,0,0,0,0]
[null,0,null,0,null,null,null,"00:00:00",0,0,0,{"$f":"IF(AND(J785=0,K785=0),,IF(G785=0,\"KUNDE/LEV NR ?\",VLOOKUP(G785,Register!$K$1:$L$618,2)))","v":0},0,null,0,null,0,null,null,0,0,0,0,0,0]
[null,0,null,0,null,null,null,"00:00:00",0,0,0,{"$f":"IF(AND(J786=0,K786=0),,IF(G786=0,\"KUNDE/LEV NR ?\",VLOOKUP(G786,Register!$K$1:$L$618,2)))","v":0},0,null,0,null,0,null,null,0,0,0,0,0,0]
[null,0,null,0,null,null,null,"00:00:00",0,0,0,{"$f":"IF(AND(J787=0,K787=0),,IF(G787=0,\"KUNDE/LEV NR ?\",VLOOKUP(G787,Register!$K$1:$L$618,2)))","v":0},0,null,0,null,0,null,null,0,0,0,0,0,0]
[null,0,null,0,null,null,null,"00:00:00",0,0,0,{"$f":"IF(AND(J788=0,K788=0),,IF(G788=0,\"KUNDE/LEV NR ?\",VLOOKUP(G788,Register!$K$1:$L$618,2)))","v":0},0,null,0,null,0,null,null,0,0,0,0,0,0]
[null,0,null,0,null,null,null,"00:00:00",0,0,0,{"$f":"IF(AND(J789=0,K789=0),,IF(G789=0,\"KUNDE/LEV NR ?\",VLOOKUP(G789,Register!$K$1:$L$618,2)))","v":0},0,null,0,null,0,null,null,0,0,0,0,0,0]
[null,0,null,0,null,null,null,"00:00:00",0,0,0,{"$f":"IF(AND(J790=0,K790=0),,IF(G790=0,\"KUNDE/LEV NR ?\",VLOOKUP(G790,Register!$K$1:$L$618,2)))","v":0},0,null,0,null,0,null,null,0,0,0,0,0,0]
[null,0,null,0,null,null,null,"00:00:00",0,0,0,{"$f":"IF(AND(J791=0,K791=0),,IF(G791=0,\"KUNDE/LEV NR ?\",VLOOKUP(G791,Register!$K$1:$L$618,2)))","v":0},0,null,0,null,0,null,null,0,0,0,0,0,0]
[null,0,null,0,null,null,null,"00:00:00",0,0,0,{"$f":"IF(AND(J792=0,K792=0),,IF(G792=0,\"KUNDE/LEV NR ?\",VLOOKUP(G792,Register!$K$1:$L$618,2)))","v":0},0,null,0,null,0,null,null,0,0,0,0,0,0]
[null,0,null,0,null,null,null,"00:00:00",0,0,0,{"$f":"IF(AND(J793=0,K793=0),,IF(G793=0,\"KUNDE/LEV NR ?\",VLOOKUP(G793,Register!$K$1:$L$618,2)))","v":0},0,null,0,null,0,null,null,0,0,0,0,0,0]
[null,0,null,0,null,null,null,"00:00:00",0,0,0,{"$f":"IF(AND(J794=0,K794=0),,IF(G794=0,\"KUNDE/LEV NR ?\",VLOOKUP(G794,Register!$K$1:$L$618,2)))","v":0},0,null,0,null,0,null,null,0,0,0,0,0,0]
[null,0,null,0,null,null,null,"00:00:00",0,0,0,{"$f":"IF(AND(J795=0,K795=0),,IF(G795=0,\"KUNDE/LEV NR ?\",VLOOKUP(G795,Register!$K$1:$L$618,2)))","v":0},0,null,0,null,0,null,null,0,0,0,0,0,0]
[null,0,null,0,null,null,null,"00:00:00",0,0,0,{"$f":"IF(AND(J796=0,K796=0),,IF(G796=0,\"KUNDE/LEV NR ?\",VLOOKUP(G796,Register!$K$1:$L$618,2)))","v":0},0,null,0,null,0,null,null,0,0,0,0,0,0]
[null,0,null,0,null,null,null,"00:00:00",0,0,0,{"$f":"IF(AND(J797=0,K797=0),,IF(G797=0,\"KUNDE/LEV NR ?\",VLOOKUP(G797,Register!$K$1:$L$618,2)))","v":0},0,null,0,null,0,null,null,0,0,0,0,0,0]
[null,0,null,0,null,null,null,"00:00:00",0,0,0,{"$f":"IF(AND(J798=0,K798=0),,IF(G798=0,\"KUNDE/LEV NR ?\",VLOOKUP(G798,Register!$K$1:$L$618,2)))","v":0},0,null,0,null,0,null,null,0,0,0,0,0,0]
[null,0,null,0,null,null,null,"00:00:00",0,0,0,{"$f":"IF(AND(J799=0,K799=0),,IF(G799=0,\"KUNDE/LEV NR ?\",VLOOKUP(G799,Register!$K$1:$L$618,2)))","v":0},0,null,0,null,0,null,null,0,0,0,0,0,0]
[null,0,null,0,null,null,null,"00:00:00",0,0,0,{"$f":"IF(AND(J800=0,K800=0),,IF(G800=0,\"KUNDE/LEV NR ?\",VLOOKUP(G800,Register!$K$1:$L$618,2)))","v":0},0,null,0,null,0,null,null,0,0,0,0,0,0]
[null,0,null,0,null,null,null,"00:00:00",0,0,0,{"$f":"IF(AND(J801=0,K801=0),,IF(G801=0,\"KUNDE/LEV NR ?\",VLOOKUP(G801,Register!$K$1:$L$618,2)))","v":0},0,null,0,null,0,null,null,0,0,0,0,0,0]
[null,0,null,0,null,null,null,"00:00:00",0,0,0,{"$f":"IF(AND(J802=0,K802=0),,IF(G802=0,\"KUNDE/LEV NR ?\",VLOOKUP(G802,Register!$K$1:$L$618,2)))","v":0},0,null,0,null,0,null,null,0,0,0,0,0,0]
[null,0,null,0,null,null,null,"00:00:00",0,0,0,{"$f":"IF(AND(J803=0,K803=0),,IF(G803=0,\"KUNDE/LEV NR ?\",VLOOKUP(G803,Register!$K$1:$L$618,2)))","v":0},0,null,0,null,0,null,null,0,0,0,0,0,0]
[null,0,null,0,null,null,null,"00:00:00",0,0,0,{"$f":"IF(AND(J804=0,K804=0),,IF(G804=0,\"KUNDE/LEV NR ?\",VLOOKUP(G804,Register!$K$1:$L$618,2)))","v":0},0,null,0,null,0,null,null,0,0,0,0,0,0]
[null,0,null,0,null,null,null,"00:00:00",0,0,0,{"$f":"IF(AND(J805=0,K805=0),,IF(G805=0,\"KUNDE/LEV NR ?\",VLOOKUP(G805,Register!$K$1:$L$618,2)))","v":0},0,null,0,null,0,null,null,0,0,0,0,0,0]
[null,0,null,0,null,null,null,"00:00:00",0,0,0,{"$f":"IF(AND(J806=0,K806=0),,IF(G806=0,\"KUNDE/LEV NR ?\",VLOOKUP(G806,Register!$K$1:$L$618,2)))","v":0},0,null,0,null,0,null,null,0,0,0,0,0,0]
[null,0,null,0,null,null,null,"00:00:00",0,0,0,{"$f":"IF(AND(J807=0,K807=0),,IF(G807=0,\"KUNDE/LEV NR ?\",VLOOKUP(G807,Register!$K$1:$L$618,2)))","v":0},0,null,0,null,0,null,null,0,0,0,0,0,0]
[null,0,null,0,null,null,null,"00:00:00",0,0,0,{"$f":"IF(AND(J808=0,K808=0),,IF(G808=0,\"KUNDE/LEV NR ?\",VLOOKUP(G808,Register!$K$1:$L$618,2)))","v":0},0,null,0,null,0,null,null,0,0,0,0,0,0]
[null,0,null,0,null,null,null,"00:00:00",0,0,0,{"$f":"IF(AND(J809=0,K809=0),,IF(G809=0,\"KUNDE/LEV NR ?\",VLOOKUP(G809,Register!$K$1:$L$618,2)))","v":0},0,null,0,null,0,null,null,0,0,0,0,0,0]
[null,0,null,0,null,null,null,"00:00:00",0,0,0,{"$f":"IF(AND(J810=0,K810=0),,IF(G810=0,\"KUNDE/LEV NR ?\",VLOOKUP(G810,Register!$K$1:$L$618,2)))","v":0},0,null,0,null,0,null,null,0,0,0,0,0,0]
[null,0,null,0,null,null,null,"00:00:00",0,0,0,{"$f":"IF(AND(J811=0,K811=0),,IF(G811=0,\"KUNDE/LEV NR ?\",VLOOKUP(G811,Register!$K$1:$L$618,2)))","v":0},0,null,0,null,0,null,null,0,0,0,0,0,0]
[null,0,null,0,null,null,null,"00:00:00",0,0,0,{"$f":"IF(AND(J812=0,K812=0),,IF(G812=0,\"KUNDE/LEV NR ?\",VLOOKUP(G812,Register!$K$1:$L$618,2)))","v":0},0,null,0,null,0,null,null,0,0,0,0,0,0]
[null,0,null,0,null,null,null,"00:00:00",0,0,0,{"$f":"IF(AND(J813=0,K813=0),,IF(G813=0,\"KUNDE/LEV NR ?\",VLOOKUP(G813,Register!$K$1:$L$618,2)))","v":0},0,null,0,null,0,null,null,0,0,0,0,0,0]
[null,0,null,0,null,null,null,"00:00:00",0,0,0,{"$f":"IF(AND(J814=0,K814=0),,IF(G814=0,\"KUNDE/LEV NR ?\",VLOOKUP(G814,Register!$K$1:$L$618,2)))","v":0},0,null,0,null,0,null,null,0,0,0,0,0,0]
[null,0,null,0,null,null,null,"00:00:00",0,0,0,{"$f":"IF(AND(J815=0,K815=0),,IF(G815=0,\"KUNDE/LEV NR ?\",VLOOKUP(G815,Register!$K$1:$L$618,2)))","v":0},0,null,0,null,0,null,null,0,0,0,0,0,0]
[null,0,null,0,null,null,null,"00:00:00",0,0,0,{"$f":"IF(AND(J816=0,K816=0),,IF(G816=0,\"KUNDE/LEV NR ?\",VLOOKUP(G816,Register!$K$1:$L$618,2)))","v":0},0,null,0,null,0,null,null,0,0,0,0,0,0]
[null,0,null,0,null,null,null,"00:00:00",0,0,0,{"$f":"IF(AND(J817=0,K817=0),,IF(G817=0,\"KUNDE/LEV NR ?\",VLOOKUP(G817,Register!$K$1:$L$618,2)))","v":0},0,null,0,null,0,null,null,0,0,0,0,0,0]
[null,0,null,0,null,null,null,"00:00:00",0,0,0,{"$f":"IF(AND(J818=0,K818=0),,IF(G818=0,\"KUNDE/LEV NR ?\",VLOOKUP(G818,Register!$K$1:$L$618,2)))","v":0},0,null,0,null,0,null,null,0,0,0,0,0,0]
[null,0,null,0,null,null,null,"00:00:00",0,0,0,{"$f":"IF(AND(J819=0,K819=0),,IF(G819=0,\"KUNDE/LEV NR ?\",VLOOKUP(G819,Register!$K$1:$L$618,2)))","v":0},0,null,0,null,0,null,null,0,0,0,0,0,0]
[null,0,null,0,null,null,null,"00:00:00",0,0,0,{"$f":"IF(AND(J820=0,K820=0),,IF(G820=0,\"KUNDE/LEV NR ?\",VLOOKUP(G820,Register!$K$1:$L$618,2)))","v":0},0,null,0,null,0,null,null,0,0,0,0,0,0]
[null,0,null,0,null,null,null,"00:00:00",0,0,0,{"$f":"IF(AND(J821=0,K821=0),,IF(G821=0,\"KUNDE/LEV NR ?\",VLOOKUP(G821,Register!$K$1:$L$618,2)))","v":0},0,null,0,null,0,null,null,0,0,0,0,0,0]
[null,0,null,0,null,null,null,"00:00:00",0,0,0,{"$f":"IF(AND(J822=0,K822=0),,IF(G822=0,\"KUNDE/LEV NR ?\",VLOOKUP(G822,Register!$K$1:$L$618,2)))","v":0},0,null,0,null,0,null,null,0,0,0,0,0,0]
[null,0,null,0,null,null,null,"00:00:00",0,0,0,{"$f":"IF(AND(J823=0,K823=0),,IF(G823=0,\"KUNDE/LEV NR ?\",VLOOKUP(G823,Register!$K$1:$L$618,2)))","v":0},0,null,0,null,0,null,null,0,0,0,0,0,0]
[null,0,null,0,null,null,null,"00:00:00",0,0,0,{"$f":"IF(AND(J824=0,K824=0),,IF(G824=0,\"KUNDE/LEV NR ?\",VLOOKUP(G824,Register!$K$1:$L$618,2)))","v":0},0,null,0,null,0,null,null,0,0,0,0,0,0]
[null,0,null,0,null,null,null,"00:00:00",0,0,0,{"$f":"IF(AND(J825=0,K825=0),,IF(G825=0,\"KUNDE/LEV NR ?\",VLOOKUP(G825,Register!$K$1:$L$618,2)))","v":0},0,null,0,null,0,null,null,0,0,0,0,0,0]
[null,0,null,0,null,null,null,"00:00:00",0,0,0,{"$f":"IF(AND(J826=0,K826=0),,IF(G826=0,\"KUNDE/LEV NR ?\",VLOOKUP(G826,Register!$K$1:$L$618,2)))","v":0},0,null,0,null,0,null,null,0,0,0,0,0,0]
[null,0,null,0,null,null,null,"00:00:00",0,0,0,{"$f":"IF(AND(J827=0,K827=0),,IF(G827=0,\"KUNDE/LEV NR ?\",VLOOKUP(G827,Register!$K$1:$L$618,2)))","v":0},0,null,0,null,0,null,null,0,0,0,0,0,0]
[null,0,null,0,null,null,null,"00:00:00",0,0,0,{"$f":"IF(AND(J828=0,K828=0),,IF(G828=0,\"KUNDE/LEV NR ?\",VLOOKUP(G828,Register!$K$1:$L$618,2)))","v":0},0,null,0,null,0,null,null,0,0,0,0,0,0]
[null,0,null,0,null,null,null,"00:00:00",0,0,0,{"$f":"IF(AND(J829=0,K829=0),,IF(G829=0,\"KUNDE/LEV NR ?\",VLOOKUP(G829,Register!$K$1:$L$618,2)))","v":0},0,null,0,null,0,null,null,0,0,0,0,0,0]
[null,0,null,0,null,null,null,"00:00:00",0,0,0,{"$f":"IF(AND(J830=0,K830=0),,IF(G830=0,\"KUNDE/LEV NR ?\",VLOOKUP(G830,Register!$K$1:$L$618,2)))","v":0},0,null,0,null,0,null,null,0,0,0,0,0,0]
[null,0,null,0,null,null,null,"00:00:00",0,0,0,{"$f":"IF(AND(J831=0,K831=0),,IF(G831=0,\"KUNDE/LEV NR ?\",VLOOKUP(G831,Register!$K$1:$L$618,2)))","v":0},0,null,0,null,0,null,null,0,0,0,0,0,0]
[null,0,null,0,null,null,null,"00:00:00",0,0,0,{"$f":"IF(AND(J832=0,K832=0),,IF(G832=0,\"KUNDE/LEV NR ?\",VLOOKUP(G832,Register!$K$1:$L$618,2)))","v":0},0,null,0,null,0,null,null,0,0,0,0,0,0]
[null,0,null,0,null,null,null,"00:00:00",0,0,0,{"$f":"IF(AND(J833=0,K833=0),,IF(G833=0,\"KUNDE/LEV NR ?\",VLOOKUP(G833,Register!$K$1:$L$618,2)))","v":0},0,null,0,null,0,null,null,0,0,0,0,0,0]
[null,0,null,0,null,null,null,"00:00:00",0,0,0,{"$f":"IF(AND(J834=0,K834=0),,IF(G834=0,\"KUNDE/LEV NR ?\",VLOOKUP(G834,Register!$K$1:$L$618,2)))","v":0},0,null,0,null,0,null,null,0,0,0,0,0,0]
[null,0,null,0,null,null,null,"00:00:00",0,0,0,{"$f":"IF(AND(J835=0,K835=0),,IF(G835=0,\"KUNDE/LEV NR ?\",VLOOKUP(G835,Register!$K$1:$L$618,2)))","v":0},0,null,0,null,0,null,null,0,0,0,0,0,0]
[null,0,null,0,null,null,null,"00:00:00",0,0,0,{"$f":"IF(AND(J836=0,K836=0),,IF(G836=0,\"KUNDE/LEV NR ?\",VLOOKUP(G836,Register!$K$1:$L$618,2)))","v":0},0,null,0,null,0,null,null,0,0,0,0,0,0]
[null,0,null,{"$f":"IF(C837=0,,VLOOKUP(C837,$AA$4:$AB$320,2))","v":0},null,null,null,"00:00:00",{"$f":"IF(H837>0,\"d\",)","v":0},0,0,{"$f":"IF(AND(J837=0,K837=0),,IF(G837=0,\"KUNDE/LEV NR ?\",VLOOKUP(G837,Register!$K$1:$L$618,2)))","v":0},0,null,0,null,0,null,null,0,0,{"$f":"IF(R837=0,,R837/(1+VLOOKUP(P837,$AC$5:$AD$362,2)))","v":0},{"$f":"IF(S837=0,,S837/(1+VLOOKUP(P837,$AC$5:$AD$362,2)))","v":0},{"$f":"IF(P837=0,,IF(P837=P838,,VLOOKUP(P837,$AC$5:$AE$364,3)))","v":0},{"$f":"IF(P837=0,,IF(P837=P838,,VLOOKUP(P837,$AC$5:$AF$362,4)))","v":0}]
[null,{"$f":"IF(A838>0,B837+1,)","v":0},null,0,null,null,null,{"$f":"A838","v":"00:00:00"},0,{"$f":"E838*-1+F838","v":0},{"$f":"IF(AND(A838>0,H838>0),J838*-1,)","v":0},{"$f":"IF(AND(J838=0,K838=0),,IF(G838=0,\"KUNDE/LEV NR ?\",VLOOKUP(G838,Register!$K$1:$L$618,2)))","v":0},0,null,0,null,0,null,null,0,0,0,0,0,0]
[null,0,null,0,null,null,null,"00:00:00",0,0,0,{"$f":"IF(AND(J839=0,K839=0),,IF(G839=0,\"KUNDE/LEV NR ?\",VLOOKUP(G839,Register!$K$1:$L$618,2)))","v":0},{"$f":"IF(ISNUMBER(A839+B839+E839+F839+G839+H839+J839+K839),A839+B839+E839+F839+G839+H839+J839+K839,\"FEIL\")","v":0},null,0,null,0,null,null,0,0,0,0,0,0]
[null,0,null,0,null,null,null,"00:00:00",0,0,0,{"$f":"IF(AND(J840=0,K840=0),,IF(G840=0,\"KUNDE/LEV NR ?\",VLOOKUP(G840,Register!$K$1:$L$618,2)))","v":0},0,null,0,null,0,null,null,0,0,0,0,0,0]
[null,0,null,0,null,null,null,"00:00:00",0,0,0,{"$f":"IF(AND(J841=0,K841=0),,IF(G841=0,\"KUNDE/LEV NR ?\",VLOOKUP(G841,Register!$K$1:$L$618,2)))","v":0},0,null,0,null,0,null,null,0,0,0,0,0,0]
[null,0,null,0,null,null,null,"00:00:00",0,0,0,{"$f":"IF(AND(J842=0,K842=0),,IF(G842=0,\"KUNDE/LEV NR ?\",VLOOKUP(G842,Register!$K$1:$L$618,2)))","v":0},0,null,0,null,0,null,null,0,0,0,0,0,0]
[null,0,null,0,null,null,null,"00:00:00",0,0,0,{"$f":"IF(AND(J843=0,K843=0),,IF(G843=0,\"KUNDE/LEV NR ?\",VLOOKUP(G843,Register!$K$1:$L$618,2)))","v":0},0,null,0,null,0,null,null,0,0,0,0,0,0]
[null,0,null,0,null,null,null,"00:00:00",0,0,0,{"$f":"IF(AND(J844=0,K844=0),,IF(G844=0,\"KUNDE/LEV NR ?\",VLOOKUP(G844,Register!$K$1:$L$618,2)))","v":0},0,null,0,null,0,null,null,0,0,0,0,0,0]
[null,0,null,0,null,null,null,"00:00:00",0,0,0,{"$f":"IF(AND(J845=0,K845=0),,IF(G845=0,\"KUNDE/LEV NR ?\",VLOOKUP(G845,Register!$K$1:$L$618,2)))","v":0},0,null,0,null,0,null,null,0,0,0,0,0,0]
[null,0,null,0,null,null,null,"00:00:00",0,0,0,{"$f":"IF(AND(J846=0,K846=0),,IF(G846=0,\"KUNDE/LEV NR ?\",VLOOKUP(G846,Register!$K$1:$L$618,2)))","v":0},0,null,0,null,0,null,null,{"$f":"R846-V846","v":0},{"$f":"S846-W846","v":0},0,0,0,0]
[null,0,null,0,null,null,null,"00:00:00",0,0,0,{"$f":"IF(AND(J847=0,K847=0),,IF(G847=0,\"KUNDE/LEV NR ?\",VLOOKUP(G847,Register!$K$1:$L$618,2)))","v":0},0,null,0,null,0,null,null,0,0,0,0,0,0]
[null,0,null,0,null,null,null,"00:00:00",0,0,0,{"$f":"IF(AND(J848=0,K848=0),,IF(G848=0,\"KUNDE/LEV NR ?\",VLOOKUP(G848,Register!$K$1:$L$618,2)))","v":0},0,null,0,null,0,null,null,0,0,0,0,0,0]
[null,0,null,0,null,null,null,"00:00:00",0,0,0,{"$f":"IF(AND(J849=0,K849=0),,IF(G849=0,\"KUNDE/LEV NR ?\",VLOOKUP(G849,Register!$K$1:$L$618,2)))","v":0},0,null,0,null,0,null,null,0,0,0,0,0,0]
[null,0,null,0,null,null,null,"00:00:00",0,0,0,{"$f":"IF(AND(J850=0,K850=0),,IF(G850=0,\"KUNDE/LEV NR ?\",VLOOKUP(G850,Register!$K$1:$L$618,2)))","v":0},0,null,0,null,0,null,null,0,0,0,0,0,0]
[null,0,null,0,null,null,null,"00:00:00",0,0,0,{"$f":"IF(AND(J851=0,K851=0),,IF(G851=0,\"KUNDE/LEV NR ?\",VLOOKUP(G851,Register!$K$1:$L$618,2)))","v":0},0,null,0,null,0,null,null,0,0,0,0,0,0]
[null,0,null,0,null,null,null,"00:00:00",0,0,0,{"$f":"IF(AND(J852=0,K852=0),,IF(G852=0,\"KUNDE/LEV NR ?\",VLOOKUP(G852,Register!$K$1:$L$618,2)))","v":0},0,null,0,null,0,null,null,0,0,0,0,0,0]
[null,0,null,0,null,null,null,"00:00:00",0,0,0,{"$f":"IF(AND(J853=0,K853=0),,IF(G853=0,\"KUNDE/LEV NR ?\",VLOOKUP(G853,Register!$K$1:$L$618,2)))","v":0},0,null,0,null,0,null,null,0,0,0,0,0,0]
[null,0,null,0,null,null,null,"00:00:00",0,0,0,{"$f":"IF(AND(J854=0,K854=0),,IF(G854=0,\"KUNDE/LEV NR ?\",VLOOKUP(G854,Register!$K$1:$L$618,2)))","v":0},0,null,0,null,0,null,null,0,0,0,0,0,0]
[null,0,null,0,null,null,null,"00:00:00",0,0,0,{"$f":"IF(AND(J855=0,K855=0),,IF(G855=0,\"KUNDE/LEV NR ?\",VLOOKUP(G855,Register!$K$1:$L$618,2)))","v":0},0,null,0,null,0,null,null,0,0,0,0,0,0]
[null,0,null,0,null,null,null,"00:00:00",0,0,0,{"$f":"IF(AND(J856=0,K856=0),,IF(G856=0,\"KUNDE/LEV NR ?\",VLOOKUP(G856,Register!$K$1:$L$618,2)))","v":0},0,null,0,null,0,null,null,0,0,0,0,0,0]
[null,0,null,0,null,null,null,"00:00:00",0,0,0,{"$f":"IF(AND(J857=0,K857=0),,IF(G857=0,\"KUNDE/LEV NR ?\",VLOOKUP(G857,Register!$K$1:$L$618,2)))","v":0},0,null,0,null,0,null,null,0,0,0,0,0,0]
[null,0,null,0,null,null,null,"00:00:00",0,0,0,{"$f":"IF(AND(J858=0,K858=0),,IF(G858=0,\"KUNDE/LEV NR ?\",VLOOKUP(G858,Register!$K$1:$L$618,2)))","v":0},0,null,0,null,0,null,null,0,0,0,0,0,0]
[null,0,null,0,null,null,null,"00:00:00",0,0,0,{"$f":"IF(AND(J859=0,K859=0),,IF(G859=0,\"KUNDE/LEV NR ?\",VLOOKUP(G859,Register!$K$1:$L$618,2)))","v":0},0,null,0,null,0,null,null,0,0,0,0,0,0]
[null,0,null,0,null,null,null,"00:00:00",0,0,0,{"$f":"IF(AND(J860=0,K860=0),,IF(G860=0,\"KUNDE/LEV NR ?\",VLOOKUP(G860,Register!$K$1:$L$618,2)))","v":0},0,null,0,null,0,null,null,0,0,0,0,0,0]
[null,0,null,0,null,null,null,"00:00:00",0,0,0,{"$f":"IF(AND(J861=0,K861=0),,IF(G861=0,\"KUNDE/LEV NR ?\",VLOOKUP(G861,Register!$K$1:$L$618,2)))","v":0},0,null,0,null,0,null,null,0,0,0,0,0,0]
[null,0,null,0,null,null,null,"00:00:00",0,0,0,{"$f":"IF(AND(J862=0,K862=0),,IF(G862=0,\"KUNDE/LEV NR ?\",VLOOKUP(G862,Register!$K$1:$L$618,2)))","v":0},0,null,0,null,0,null,null,0,0,0,0,0,0]
[null,0,null,0,null,null,null,"00:00:00",0,0,0,{"$f":"IF(AND(J863=0,K863=0),,IF(G863=0,\"KUNDE/LEV NR ?\",VLOOKUP(G863,Register!$K$1:$L$618,2)))","v":0},0,null,0,null,0,null,null,0,0,0,0,0,0]
[null,0,null,0,null,null,null,"00:00:00",0,0,0,{"$f":"IF(AND(J864=0,K864=0),,IF(G864=0,\"KUNDE/LEV NR ?\",VLOOKUP(G864,Register!$K$1:$L$618,2)))","v":0},0,null,0,null,0,null,null,0,0,0,0,0,0]
[null,0,null,0,null,null,null,"00:00:00",0,0,0,{"$f":"IF(AND(J865=0,K865=0),,IF(G865=0,\"KUNDE/LEV NR ?\",VLOOKUP(G865,Register!$K$1:$L$618,2)))","v":0},0,null,0,null,0,null,null,0,0,0,0,0,0]
[null,0,null,0,null,null,null,"00:00:00",0,0,0,{"$f":"IF(AND(J866=0,K866=0),,IF(G866=0,\"KUNDE/LEV NR ?\",VLOOKUP(G866,Register!$K$1:$L$618,2)))","v":0},0,null,0,null,0,null,null,0,0,0,0,0,0]
[null,0,null,0,null,null,null,"00:00:00",0,0,0,{"$f":"IF(AND(J867=0,K867=0),,IF(G867=0,\"KUNDE/LEV NR ?\",VLOOKUP(G867,Register!$K$1:$L$618,2)))","v":0},0,null,0,null,0,null,null,0,0,0,0,0,0]
[null,0,null,0,null,null,null,"00:00:00",0,0,0,{"$f":"IF(AND(J868=0,K868=0),,IF(G868=0,\"KUNDE/LEV NR ?\",VLOOKUP(G868,Register!$K$1:$L$618,2)))","v":0},0,null,0,null,0,null,null,0,0,0,0,0,0]
[null,0,null,0,null,null,null,"00:00:00",0,0,0,{"$f":"IF(AND(J869=0,K869=0),,IF(G869=0,\"KUNDE/LEV NR ?\",VLOOKUP(G869,Register!$K$1:$L$618,2)))","v":0},0,null,0,null,0,null,null,0,0,0,0,0,0]
[null,0,null,0,null,null,null,"00:00:00",0,0,0,{"$f":"IF(AND(J870=0,K870=0),,IF(G870=0,\"KUNDE/LEV NR ?\",VLOOKUP(G870,Register!$K$1:$L$618,2)))","v":0},0,null,0,null,0,null,null,0,0,0,0,0,0]
[null,0,null,0,null,null,null,"00:00:00",0,0,0,{"$f":"IF(AND(J871=0,K871=0),,IF(G871=0,\"KUNDE/LEV NR ?\",VLOOKUP(G871,Register!$K$1:$L$618,2)))","v":0},0,null,0,null,0,null,null,0,0,0,0,0,0]
[null,0,null,0,null,null,null,"00:00:00",0,0,0,{"$f":"IF(AND(J872=0,K872=0),,IF(G872=0,\"KUNDE/LEV NR ?\",VLOOKUP(G872,Register!$K$1:$L$618,2)))","v":0},0,null,0,null,0,null,null,0,0,0,0,0,0]
[null,0,null,0,null,null,null,"00:00:00",0,0,0,{"$f":"IF(AND(J873=0,K873=0),,IF(G873=0,\"KUNDE/LEV NR ?\",VLOOKUP(G873,Register!$K$1:$L$618,2)))","v":0},0,null,0,null,0,null,null,0,0,0,0,0,0]
[null,0,null,0,null,null,null,"00:00:00",0,0,0,{"$f":"IF(AND(J874=0,K874=0),,IF(G874=0,\"KUNDE/LEV NR ?\",VLOOKUP(G874,Register!$K$1:$L$618,2)))","v":0},0,null,0,null,0,null,null,0,0,0,0,0,0]
[null,0,null,0,null,null,null,"00:00:00",0,0,0,{"$f":"IF(AND(J875=0,K875=0),,IF(G875=0,\"KUNDE/LEV NR ?\",VLOOKUP(G875,Register!$K$1:$L$618,2)))","v":0},0,null,0,null,0,null,null,0,0,0,0,0,0]
[null,0,null,0,null,null,null,"00:00:00",0,0,0,{"$f":"IF(AND(J876=0,K876=0),,IF(G876=0,\"KUNDE/LEV NR ?\",VLOOKUP(G876,Register!$K$1:$L$618,2)))","v":0},0,null,0,null,0,null,null,0,0,0,0,0,0]
[null,0,null,0,null,null,null,"00:00:00",0,0,0,{"$f":"IF(AND(J877=0,K877=0),,IF(G877=0,\"KUNDE/LEV NR ?\",VLOOKUP(G877,Register!$K$1:$L$618,2)))","v":0},0,null,0,null,0,null,null,0,0,0,0,0,0]
[null,0,null,0,null,null,null,"00:00:00",0,0,0,{"$f":"IF(AND(J878=0,K878=0),,IF(G878=0,\"KUNDE/LEV NR ?\",VLOOKUP(G878,Register!$K$1:$L$618,2)))","v":0},0,null,0,null,0,null,null,0,0,0,0,0,0]
[null,0,null,0,null,null,null,"00:00:00",0,0,0,{"$f":"IF(AND(J879=0,K879=0),,IF(G879=0,\"KUNDE/LEV NR ?\",VLOOKUP(G879,Register!$K$1:$L$618,2)))","v":0},0,null,0,null,0,null,null,0,0,0,0,0,0]
[null,0,null,0,null,null,null,"00:00:00",0,0,0,{"$f":"IF(AND(J880=0,K880=0),,IF(G880=0,\"KUNDE/LEV NR ?\",VLOOKUP(G880,Register!$K$1:$L$618,2)))","v":0},0,null,0,null,0,null,null,0,0,0,0,0,0]
[null,0,null,0,null,null,null,"00:00:00",0,0,0,{"$f":"IF(AND(J881=0,K881=0),,IF(G881=0,\"KUNDE/LEV NR ?\",VLOOKUP(G881,Register!$K$1:$L$618,2)))","v":0},0,null,0,null,0,null,null,0,0,0,0,0,0]
[null,0,null,0,null,null,null,"00:00:00",0,0,0,{"$f":"IF(AND(J882=0,K882=0),,IF(G882=0,\"KUNDE/LEV NR ?\",VLOOKUP(G882,Register!$K$1:$L$618,2)))","v":0},0,null,0,null,0,null,null,0,0,0,0,0,0]
[null,0,null,0,null,null,null,"00:00:00",0,0,0,{"$f":"IF(AND(J883=0,K883=0),,IF(G883=0,\"KUNDE/LEV NR ?\",VLOOKUP(G883,Register!$K$1:$L$618,2)))","v":0},0,null,0,null,0,null,null,0,0,0,0,0,0]
[null,0,null,0,null,null,null,"00:00:00",0,0,0,{"$f":"IF(AND(J884=0,K884=0),,IF(G884=0,\"KUNDE/LEV NR ?\",VLOOKUP(G884,Register!$K$1:$L$618,2)))","v":0},0,null,0,null,0,null,null,0,0,0,0,0,0]
[null,0,null,0,null,null,null,"00:00:00",0,0,0,{"$f":"IF(AND(J885=0,K885=0),,IF(G885=0,\"KUNDE/LEV NR ?\",VLOOKUP(G885,Register!$K$1:$L$618,2)))","v":0},0,null,0,null,0,null,null,0,0,0,0,0,0]
[null,0,null,0,null,null,null,"00:00:00",0,0,0,{"$f":"IF(AND(J886=0,K886=0),,IF(G886=0,\"KUNDE/LEV NR ?\",VLOOKUP(G886,Register!$K$1:$L$618,2)))","v":0},0,null,0,null,0,null,null,0,0,0,0,0,0]
[null,0,null,0,null,null,null,"00:00:00",0,0,0,{"$f":"IF(AND(J887=0,K887=0),,IF(G887=0,\"KUNDE/LEV NR ?\",VLOOKUP(G887,Register!$K$1:$L$618,2)))","v":0},0,null,0,null,0,null,null,0,0,0,0,0,0]
[null,0,null,0,null,null,null,"00:00:00",0,0,0,{"$f":"IF(AND(J888=0,K888=0),,IF(G888=0,\"KUNDE/LEV NR ?\",VLOOKUP(G888,Register!$K$1:$L$618,2)))","v":0},0,null,0,null,0,null,null,0,0,0,0,0,0]
[null,0,null,0,null,null,null,"00:00:00",0,0,0,{"$f":"IF(AND(J889=0,K889=0),,IF(G889=0,\"KUNDE/LEV NR ?\",VLOOKUP(G889,Register!$K$1:$L$618,2)))","v":0},0,null,0,null,0,null,null,0,0,0,0,0,0]
[null,0,null,0,null,null,null,"00:00:00",0,0,0,{"$f":"IF(AND(J890=0,K890=0),,IF(G890=0,\"KUNDE/LEV NR ?\",VLOOKUP(G890,Register!$K$1:$L$618,2)))","v":0},0,null,0,null,0,null,null,0,0,0,0,0,0]
[null,0,null,0,null,null,null,"00:00:00",0,0,0,{"$f":"IF(AND(J891=0,K891=0),,IF(G891=0,\"KUNDE/LEV NR ?\",VLOOKUP(G891,Register!$K$1:$L$618,2)))","v":0},0,null,0,null,0,null,null,0,0,0,0,0,0]
[null,0,null,0,null,null,null,"00:00:00",0,0,0,{"$f":"IF(AND(J892=0,K892=0),,IF(G892=0,\"KUNDE/LEV NR ?\",VLOOKUP(G892,Register!$K$1:$L$618,2)))","v":0},0,null,0,null,0,null,null,0,0,0,0,0,0]
[null,0,null,0,null,null,null,"00:00:00",0,0,0,{"$f":"IF(AND(J893=0,K893=0),,IF(G893=0,\"KUNDE/LEV NR ?\",VLOOKUP(G893,Register!$K$1:$L$618,2)))","v":0},0,null,0,null,0,null,null,0,0,0,0,0,0]
[null,0,null,0,null,null,null,"00:00:00",0,0,0,{"$f":"IF(AND(J894=0,K894=0),,IF(G894=0,\"KUNDE/LEV NR ?\",VLOOKUP(G894,Register!$K$1:$L$618,2)))","v":0},0,null,0,null,0,null,null,0,0,0,0,0,0]
[null,0,null,0,null,null,null,"00:00:00",0,0,0,{"$f":"IF(AND(J895=0,K895=0),,IF(G895=0,\"KUNDE/LEV NR ?\",VLOOKUP(G895,Register!$K$1:$L$618,2)))","v":0},0,null,0,null,0,null,null,0,0,0,0,0,0]
[null,0,null,0,null,null,null,"00:00:00",0,0,0,{"$f":"IF(AND(J896=0,K896=0),,IF(G896=0,\"KUNDE/LEV NR ?\",VLOOKUP(G896,Register!$K$1:$L$618,2)))","v":0},0,null,0,null,0,null,null,0,0,0,0,0,0]
[null,0,null,0,null,null,null,"00:00:00",0,0,0,{"$f":"IF(AND(J897=0,K897=0),,IF(G897=0,\"KUNDE/LEV NR ?\",VLOOKUP(G897,Register!$K$1:$L$618,2)))","v":0},0,null,0,null,0,null,null,0,0,0,0,0,0]
[null,0,null,0,null,null,null,"00:00:00",0,0,0,{"$f":"IF(AND(J898=0,K898=0),,IF(G898=0,\"KUNDE/LEV NR ?\",VLOOKUP(G898,Register!$K$1:$L$618,2)))","v":0},0,null,0,null,0,null,null,0,0,0,0,0,0]
[null,0,null,0,null,null,null,"00:00:00",0,0,0,{"$f":"IF(AND(J899=0,K899=0),,IF(G899=0,\"KUNDE/LEV NR ?\",VLOOKUP(G899,Register!$K$1:$L$618,2)))","v":0},0,null,0,null,0,null,null,0,0,0,0,0,0]
[null,0,null,0,null,null,null,"00:00:00",0,0,0,{"$f":"IF(AND(J900=0,K900=0),,IF(G900=0,\"KUNDE/LEV NR ?\",VLOOKUP(G900,Register!$K$1:$L$618,2)))","v":0},0,null,0,null,0,null,null,0,0,0,0,0,0]
[null,0,null,{"$f":"IF(C901=0,,VLOOKUP(C901,$AA$4:$AB$320,2))","v":0},null,null,null,"00:00:00",{"$f":"IF(H901>0,\"d\",)","v":0},0,0,{"$f":"IF(AND(J901=0,K901=0),,IF(G901=0,\"KUNDE/LEV NR ?\",VLOOKUP(G901,Register!$K$1:$L$618,2)))","v":0},0,null,0,null,0,null,null,0,0,{"$f":"IF(R901=0,,R901/(1+VLOOKUP(P901,$AC$5:$AD$362,2)))","v":0},{"$f":"IF(S901=0,,S901/(1+VLOOKUP(P901,$AC$5:$AD$362,2)))","v":0},{"$f":"IF(P901=0,,IF(P901=P902,,VLOOKUP(P901,$AC$5:$AE$364,3)))","v":0},{"$f":"IF(P901=0,,IF(P901=P902,,VLOOKUP(P901,$AC$5:$AF$362,4)))","v":0}]
[null,{"$f":"IF(A902>0,B901+1,)","v":0},null,0,null,null,null,{"$f":"A902","v":"00:00:00"},0,{"$f":"E902*-1+F902","v":0},{"$f":"IF(AND(A902>0,H902>0),J902*-1,)","v":0},{"$f":"IF(AND(J902=0,K902=0),,IF(G902=0,\"KUNDE/LEV NR ?\",VLOOKUP(G902,Register!$K$1:$L$618,2)))","v":0},0,null,0,null,0,null,null,0,0,0,0,0,0]
[null,0,null,0,null,null,null,"00:00:00",0,0,0,{"$f":"IF(AND(J903=0,K903=0),,IF(G903=0,\"KUNDE/LEV NR ?\",VLOOKUP(G903,Register!$K$1:$L$618,2)))","v":0},{"$f":"IF(ISNUMBER(A903+B903+E903+F903+G903+H903+J903+K903),A903+B903+E903+F903+G903+H903+J903+K903,\"FEIL\")","v":0},null,0,null,0,null,null,0,0,0,0,0,0]
[null,0,null,0,null,null,null,"00:00:00",0,0,0,{"$f":"IF(AND(J904=0,K904=0),,IF(G904=0,\"KUNDE/LEV NR ?\",VLOOKUP(G904,Register!$K$1:$L$618,2)))","v":0},0,null,0,null,0,null,null,0,0,0,0,0,0]
[null,0,null,0,null,null,null,"00:00:00",0,0,0,{"$f":"IF(AND(J905=0,K905=0),,IF(G905=0,\"KUNDE/LEV NR ?\",VLOOKUP(G905,Register!$K$1:$L$618,2)))","v":0},0,null,0,null,0,null,null,0,0,0,0,0,0]
[null,0,null,0,null,null,null,"00:00:00",0,0,0,{"$f":"IF(AND(J906=0,K906=0),,IF(G906=0,\"KUNDE/LEV NR ?\",VLOOKUP(G906,Register!$K$1:$L$618,2)))","v":0},0,null,0,null,0,null,null,0,0,0,0,0,0]
[null,0,null,0,null,null,null,"00:00:00",0,0,0,{"$f":"IF(AND(J907=0,K907=0),,IF(G907=0,\"KUNDE/LEV NR ?\",VLOOKUP(G907,Register!$K$1:$L$618,2)))","v":0},0,null,0,null,0,null,null,0,0,0,0,0,0]
[null,0,null,0,null,null,null,"00:00:00",0,0,0,{"$f":"IF(AND(J908=0,K908=0),,IF(G908=0,\"KUNDE/LEV NR ?\",VLOOKUP(G908,Register!$K$1:$L$618,2)))","v":0},0,null,0,null,0,null,null,0,0,0,0,0,0]
[null,0,null,0,null,null,null,"00:00:00",0,0,0,{"$f":"IF(AND(J909=0,K909=0),,IF(G909=0,\"KUNDE/LEV NR ?\",VLOOKUP(G909,Register!$K$1:$L$618,2)))","v":0},0,null,0,null,0,null,null,0,0,0,0,0,0]
[null,0,null,0,null,null,null,"00:00:00",0,0,0,{"$f":"IF(AND(J910=0,K910=0),,IF(G910=0,\"KUNDE/LEV NR ?\",VLOOKUP(G910,Register!$K$1:$L$618,2)))","v":0},0,null,0,null,0,null,null,{"$f":"R910-V910","v":0},{"$f":"S910-W910","v":0},0,0,0,0]
[null,0,null,0,null,null,null,"00:00:00",0,0,0,{"$f":"IF(AND(J911=0,K911=0),,IF(G911=0,\"KUNDE/LEV NR ?\",VLOOKUP(G911,Register!$K$1:$L$618,2)))","v":0},0,null,0,null,0,null,null,0,0,0,0,0,0]
[null,0,null,0,null,null,null,"00:00:00",0,0,0,{"$f":"IF(AND(J912=0,K912=0),,IF(G912=0,\"KUNDE/LEV NR ?\",VLOOKUP(G912,Register!$K$1:$L$618,2)))","v":0},0,null,0,null,0,null,null,0,0,0,0,0,0]
[null,0,null,0,null,null,null,"00:00:00",0,0,0,{"$f":"IF(AND(J913=0,K913=0),,IF(G913=0,\"KUNDE/LEV NR ?\",VLOOKUP(G913,Register!$K$1:$L$618,2)))","v":0},0,null,0,null,0,null,null,0,0,0,0,0,0]
[null,0,null,0,null,null,null,"00:00:00",0,0,0,{"$f":"IF(AND(J914=0,K914=0),,IF(G914=0,\"KUNDE/LEV NR ?\",VLOOKUP(G914,Register!$K$1:$L$618,2)))","v":0},0,null,0,null,0,null,null,0,0,0,0,0,0]
[null,0,null,0,null,null,null,"00:00:00",0,0,0,{"$f":"IF(AND(J915=0,K915=0),,IF(G915=0,\"KUNDE/LEV NR ?\",VLOOKUP(G915,Register!$K$1:$L$618,2)))","v":0},0,null,0,null,0,null,null,0,0,0,0,0,0]
[null,0,null,0,null,null,null,"00:00:00",0,0,0,{"$f":"IF(AND(J916=0,K916=0),,IF(G916=0,\"KUNDE/LEV NR ?\",VLOOKUP(G916,Register!$K$1:$L$618,2)))","v":0},0,null,0,null,0,null,null,0,0,0,0,0,0]
[null,0,null,0,null,null,null,"00:00:00",0,0,0,{"$f":"IF(AND(J917=0,K917=0),,IF(G917=0,\"KUNDE/LEV NR ?\",VLOOKUP(G917,Register!$K$1:$L$618,2)))","v":0},0,null,0,null,0,null,null,0,0,0,0,0,0]
[null,0,null,0,null,null,null,"00:00:00",0,0,0,{"$f":"IF(AND(J918=0,K918=0),,IF(G918=0,\"KUNDE/LEV NR ?\",VLOOKUP(G918,Register!$K$1:$L$618,2)))","v":0},0,null,0,null,0,null,null,0,0,0,0,0,0]
[null,0,null,0,null,null,null,"00:00:00",0,0,0,{"$f":"IF(AND(J919=0,K919=0),,IF(G919=0,\"KUNDE/LEV NR ?\",VLOOKUP(G919,Register!$K$1:$L$618,2)))","v":0},0,null,0,null,0,null,null,0,0,0,0,0,0]
[null,0,null,0,null,null,null,"00:00:00",0,0,0,{"$f":"IF(AND(J920=0,K920=0),,IF(G920=0,\"KUNDE/LEV NR ?\",VLOOKUP(G920,Register!$K$1:$L$618,2)))","v":0},0,null,0,null,0,null,null,0,0,0,0,0,0]
[null,0,null,0,null,null,null,"00:00:00",0,0,0,{"$f":"IF(AND(J921=0,K921=0),,IF(G921=0,\"KUNDE/LEV NR ?\",VLOOKUP(G921,Register!$K$1:$L$618,2)))","v":0},0,null,0,null,0,null,null,0,0,0,0,0,0]
[null,0,null,0,null,null,null,"00:00:00",0,0,0,{"$f":"IF(AND(J922=0,K922=0),,IF(G922=0,\"KUNDE/LEV NR ?\",VLOOKUP(G922,Register!$K$1:$L$618,2)))","v":0},0,null,0,null,0,null,null,0,0,0,0,0,0]
[null,0,null,0,null,null,null,"00:00:00",0,0,0,{"$f":"IF(AND(J923=0,K923=0),,IF(G923=0,\"KUNDE/LEV NR ?\",VLOOKUP(G923,Register!$K$1:$L$618,2)))","v":0},0,null,0,null,0,null,null,0,0,0,0,0,0]
[null,0,null,0,null,null,null,"00:00:00",0,0,0,{"$f":"IF(AND(J924=0,K924=0),,IF(G924=0,\"KUNDE/LEV NR ?\",VLOOKUP(G924,Register!$K$1:$L$618,2)))","v":0},0,null,0,null,0,null,null,0,0,0,0,0,0]
[null,0,null,0,null,null,null,"00:00:00",0,0,0,{"$f":"IF(AND(J925=0,K925=0),,IF(G925=0,\"KUNDE/LEV NR ?\",VLOOKUP(G925,Register!$K$1:$L$618,2)))","v":0},0,null,0,null,0,null,null,0,0,0,0,0,0]
[null,0,null,0,null,null,null,"00:00:00",0,0,0,{"$f":"IF(AND(J926=0,K926=0),,IF(G926=0,\"KUNDE/LEV NR ?\",VLOOKUP(G926,Register!$K$1:$L$618,2)))","v":0},0,null,0,null,0,null,null,0,0,0,0,0,0]
[null,0,null,0,null,null,null,"00:00:00",0,0,0,{"$f":"IF(AND(J927=0,K927=0),,IF(G927=0,\"KUNDE/LEV NR ?\",VLOOKUP(G927,Register!$K$1:$L$618,2)))","v":0},0,null,0,null,0,null,null,0,0,0,0,0,0]
[null,0,null,0,null,null,null,"00:00:00",0,0,0,{"$f":"IF(AND(J928=0,K928=0),,IF(G928=0,\"KUNDE/LEV NR ?\",VLOOKUP(G928,Register!$K$1:$L$618,2)))","v":0},0,null,0,null,0,null,null,0,0,0,0,0,0]
[null,0,null,0,null,null,null,"00:00:00",0,0,0,{"$f":"IF(AND(J929=0,K929=0),,IF(G929=0,\"KUNDE/LEV NR ?\",VLOOKUP(G929,Register!$K$1:$L$618,2)))","v":0},0,null,0,null,0,null,null,0,0,0,0,0,0]
[null,0,null,0,null,null,null,"00:00:00",0,0,0,{"$f":"IF(AND(J930=0,K930=0),,IF(G930=0,\"KUNDE/LEV NR ?\",VLOOKUP(G930,Register!$K$1:$L$618,2)))","v":0},0,null,0,null,0,null,null,0,0,0,0,0,0]
[null,0,null,0,null,null,null,"00:00:00",0,0,0,{"$f":"IF(AND(J931=0,K931=0),,IF(G931=0,\"KUNDE/LEV NR ?\",VLOOKUP(G931,Register!$K$1:$L$618,2)))","v":0},0,null,0,null,0,null,null,0,0,0,0,0,0]
[null,0,null,0,null,null,null,"00:00:00",0,0,0,{"$f":"IF(AND(J932=0,K932=0),,IF(G932=0,\"KUNDE/LEV NR ?\",VLOOKUP(G932,Register!$K$1:$L$618,2)))","v":0},0,null,0,null,0,null,null,0,0,0,0,0,0]
[null,0,null,0,null,null,null,"00:00:00",0,0,0,{"$f":"IF(AND(J933=0,K933=0),,IF(G933=0,\"KUNDE/LEV NR ?\",VLOOKUP(G933,Register!$K$1:$L$618,2)))","v":0},0,null,0,null,0,null,null,0,0,0,0,0,0]
[null,0,null,0,null,null,null,"00:00:00",0,0,0,{"$f":"IF(AND(J934=0,K934=0),,IF(G934=0,\"KUNDE/LEV NR ?\",VLOOKUP(G934,Register!$K$1:$L$618,2)))","v":0},0,null,0,null,0,null,null,0,0,0,0,0,0]
[null,0,null,0,null,null,null,"00:00:00",0,0,0,{"$f":"IF(AND(J935=0,K935=0),,IF(G935=0,\"KUNDE/LEV NR ?\",VLOOKUP(G935,Register!$K$1:$L$618,2)))","v":0},0,null,0,null,0,null,null,0,0,0,0,0,0]
[null,0,null,0,null,null,null,"00:00:00",0,0,0,{"$f":"IF(AND(J936=0,K936=0),,IF(G936=0,\"KUNDE/LEV NR ?\",VLOOKUP(G936,Register!$K$1:$L$618,2)))","v":0},0,null,0,null,0,null,null,0,0,0,0,0,0]
[null,0,null,0,null,null,null,"00:00:00",0,0,0,{"$f":"IF(AND(J937=0,K937=0),,IF(G937=0,\"KUNDE/LEV NR ?\",VLOOKUP(G937,Register!$K$1:$L$618,2)))","v":0},0,null,0,null,0,null,null,0,0,0,0,0,0]
[null,0,null,0,null,null,null,"00:00:00",0,0,0,{"$f":"IF(AND(J938=0,K938=0),,IF(G938=0,\"KUNDE/LEV NR ?\",VLOOKUP(G938,Register!$K$1:$L$618,2)))","v":0},0,null,0,null,0,null,null,0,0,0,0,0,0]
[null,0,null,0,null,null,null,"00:00:00",0,0,0,{"$f":"IF(AND(J939=0,K939=0),,IF(G939=0,\"KUNDE/LEV NR ?\",VLOOKUP(G939,Register!$K$1:$L$618,2)))","v":0},0,null,0,null,0,null,null,0,0,0,0,0,0]
[null,0,null,0,null,null,null,"00:00:00",0,0,0,{"$f":"IF(AND(J940=0,K940=0),,IF(G940=0,\"KUNDE/LEV NR ?\",VLOOKUP(G940,Register!$K$1:$L$618,2)))","v":0},0,null,0,null,0,null,null,0,0,0,0,0,0]
[null,0,null,0,null,null,null,"00:00:00",0,0,0,{"$f":"IF(AND(J941=0,K941=0),,IF(G941=0,\"KUNDE/LEV NR ?\",VLOOKUP(G941,Register!$K$1:$L$618,2)))","v":0},0,null,0,null,0,null,null,0,0,0,0,0,0]
[null,0,null,0,null,null,null,"00:00:00",0,0,0,{"$f":"IF(AND(J942=0,K942=0),,IF(G942=0,\"KUNDE/LEV NR ?\",VLOOKUP(G942,Register!$K$1:$L$618,2)))","v":0},0,null,0,null,0,null,null,0,0,0,0,0,0]
[null,0,null,0,null,null,null,"00:00:00",0,0,0,{"$f":"IF(AND(J943=0,K943=0),,IF(G943=0,\"KUNDE/LEV NR ?\",VLOOKUP(G943,Register!$K$1:$L$618,2)))","v":0},0,null,0,null,0,null,null,0,0,0,0,0,0]
[null,0,null,0,null,null,null,"00:00:00",0,0,0,{"$f":"IF(AND(J944=0,K944=0),,IF(G944=0,\"KUNDE/LEV NR ?\",VLOOKUP(G944,Register!$K$1:$L$618,2)))","v":0},0,null,0,null,0,null,null,0,0,0,0,0,0]
[null,0,null,0,null,null,null,"00:00:00",0,0,0,{"$f":"IF(AND(J945=0,K945=0),,IF(G945=0,\"KUNDE/LEV NR ?\",VLOOKUP(G945,Register!$K$1:$L$618,2)))","v":0},0,null,0,null,0,null,null,0,0,0,0,0,0]
[null,0,null,0,null,null,null,"00:00:00",0,0,0,{"$f":"IF(AND(J946=0,K946=0),,IF(G946=0,\"KUNDE/LEV NR ?\",VLOOKUP(G946,Register!$K$1:$L$618,2)))","v":0},0,null,0,null,0,null,null,0,0,0,0,0,0]
[null,0,null,0,null,null,null,"00:00:00",0,0,0,{"$f":"IF(AND(J947=0,K947=0),,IF(G947=0,\"KUNDE/LEV NR ?\",VLOOKUP(G947,Register!$K$1:$L$618,2)))","v":0},0,null,0,null,0,null,null,0,0,0,0,0,0]
[null,0,null,0,null,null,null,"00:00:00",0,0,0,{"$f":"IF(AND(J948=0,K948=0),,IF(G948=0,\"KUNDE/LEV NR ?\",VLOOKUP(G948,Register!$K$1:$L$618,2)))","v":0},0,null,0,null,0,null,null,0,0,0,0,0,0]
[null,0,null,0,null,null,null,"00:00:00",0,0,0,{"$f":"IF(AND(J949=0,K949=0),,IF(G949=0,\"KUNDE/LEV NR ?\",VLOOKUP(G949,Register!$K$1:$L$618,2)))","v":0},0,null,0,null,0,null,null,0,0,0,0,0,0]
[null,0,null,0,null,null,null,"00:00:00",0,0,0,{"$f":"IF(AND(J950=0,K950=0),,IF(G950=0,\"KUNDE/LEV NR ?\",VLOOKUP(G950,Register!$K$1:$L$618,2)))","v":0},0,null,0,null,0,null,null,0,0,0,0,0,0]
[null,0,null,0,null,null,null,"00:00:00",0,0,0,{"$f":"IF(AND(J951=0,K951=0),,IF(G951=0,\"KUNDE/LEV NR ?\",VLOOKUP(G951,Register!$K$1:$L$618,2)))","v":0},0,null,0,null,0,null,null,0,0,0,0,0,0]
[null,0,null,0,null,null,null,"00:00:00",0,0,0,{"$f":"IF(AND(J952=0,K952=0),,IF(G952=0,\"KUNDE/LEV NR ?\",VLOOKUP(G952,Register!$K$1:$L$618,2)))","v":0},0,null,0,null,0,null,null,0,0,0,0,0,0]
[null,0,null,0,null,null,null,"00:00:00",0,0,0,{"$f":"IF(AND(J953=0,K953=0),,IF(G953=0,\"KUNDE/LEV NR ?\",VLOOKUP(G953,Register!$K$1:$L$618,2)))","v":0},0,null,0,null,0,null,null,0,0,0,0,0,0]
[null,0,null,0,null,null,null,"00:00:00",0,0,0,{"$f":"IF(AND(J954=0,K954=0),,IF(G954=0,\"KUNDE/LEV NR ?\",VLOOKUP(G954,Register!$K$1:$L$618,2)))","v":0},0,null,0,null,0,null,null,0,0,0,0,0,0]
[null,0,null,0,null,null,null,"00:00:00",0,0,0,{"$f":"IF(AND(J955=0,K955=0),,IF(G955=0,\"KUNDE/LEV NR ?\",VLOOKUP(G955,Register!$K$1:$L$618,2)))","v":0},0,null,0,null,0,null,null,0,0,0,0,0,0]
[null,0,null,0,null,null,null,"00:00:00",0,0,0,{"$f":"IF(AND(J956=0,K956=0),,IF(G956=0,\"KUNDE/LEV NR ?\",VLOOKUP(G956,Register!$K$1:$L$618,2)))","v":0},0,null,0,null,0,null,null,0,0,0,0,0,0]
[null,0,null,0,null,null,null,"00:00:00",0,0,0,{"$f":"IF(AND(J957=0,K957=0),,IF(G957=0,\"KUNDE/LEV NR ?\",VLOOKUP(G957,Register!$K$1:$L$618,2)))","v":0},0,null,0,null,0,null,null,0,0,0,0,0,0]
[null,0,null,0,null,null,null,"00:00:00",0,0,0,{"$f":"IF(AND(J958=0,K958=0),,IF(G958=0,\"KUNDE/LEV NR ?\",VLOOKUP(G958,Register!$K$1:$L$618,2)))","v":0},0,null,0,null,0,null,null,0,0,0,0,0,0]
[null,0,null,0,null,null,null,"00:00:00",0,0,0,{"$f":"IF(AND(J959=0,K959=0),,IF(G959=0,\"KUNDE/LEV NR ?\",VLOOKUP(G959,Register!$K$1:$L$618,2)))","v":0},0,null,0,null,0,null,null,0,0,0,0,0,0]
[null,0,null,0,null,null,null,"00:00:00",0,0,0,{"$f":"IF(AND(J960=0,K960=0),,IF(G960=0,\"KUNDE/LEV NR ?\",VLOOKUP(G960,Register!$K$1:$L$618,2)))","v":0},0,null,0,null,0,null,null,0,0,0,0,0,0]
[null,0,null,0,null,null,null,"00:00:00",0,0,0,{"$f":"IF(AND(J961=0,K961=0),,IF(G961=0,\"KUNDE/LEV NR ?\",VLOOKUP(G961,Register!$K$1:$L$618,2)))","v":0},0,null,0,null,0,null,null,0,0,0,0,0,0]
[null,0,null,0,null,null,null,"00:00:00",0,0,0,{"$f":"IF(AND(J962=0,K962=0),,IF(G962=0,\"KUNDE/LEV NR ?\",VLOOKUP(G962,Register!$K$1:$L$618,2)))","v":0},0,null,0,null,0,null,null,0,0,0,0,0,0]
[null,0,null,0,null,null,null,"00:00:00",0,0,0,{"$f":"IF(AND(J963=0,K963=0),,IF(G963=0,\"KUNDE/LEV NR ?\",VLOOKUP(G963,Register!$K$1:$L$618,2)))","v":0},0,null,0,null,0,null,null,0,0,0,0,0,0]
[null,0,null,0,null,null,null,"00:00:00",0,0,0,{"$f":"IF(AND(J964=0,K964=0),,IF(G964=0,\"KUNDE/LEV NR ?\",VLOOKUP(G964,Register!$K$1:$L$618,2)))","v":0},0,null,0,null,0,null,null,0,0,0,0,0,0]
[null,0,null,{"$f":"IF(C965=0,,VLOOKUP(C965,$AA$4:$AB$320,2))","v":0},null,null,null,"00:00:00",{"$f":"IF(H965>0,\"d\",)","v":0},0,0,{"$f":"IF(AND(J965=0,K965=0),,IF(G965=0,\"KUNDE/LEV NR ?\",VLOOKUP(G965,Register!$K$1:$L$618,2)))","v":0},0,null,0,null,0,null,null,0,0,{"$f":"IF(R965=0,,R965/(1+VLOOKUP(P965,$AC$5:$AD$362,2)))","v":0},{"$f":"IF(S965=0,,S965/(1+VLOOKUP(P965,$AC$5:$AD$362,2)))","v":0},{"$f":"IF(P965=0,,IF(P965=P966,,VLOOKUP(P965,$AC$5:$AE$364,3)))","v":0},{"$f":"IF(P965=0,,IF(P965=P966,,VLOOKUP(P965,$AC$5:$AF$362,4)))","v":0}]
[null,{"$f":"IF(A966>0,B965+1,)","v":0},null,0,null,null,null,{"$f":"A966","v":"00:00:00"},0,{"$f":"E966*-1+F966","v":0},{"$f":"IF(AND(A966>0,H966>0),J966*-1,)","v":0},{"$f":"IF(AND(J966=0,K966=0),,IF(G966=0,\"KUNDE/LEV NR ?\",VLOOKUP(G966,Register!$K$1:$L$618,2)))","v":0},0,null,0,null,0,null,null,0,0,0,0,0,0]
[null,0,null,0,null,null,null,"00:00:00",0,0,0,{"$f":"IF(AND(J967=0,K967=0),,IF(G967=0,\"KUNDE/LEV NR ?\",VLOOKUP(G967,Register!$K$1:$L$618,2)))","v":0},{"$f":"IF(ISNUMBER(A967+B967+E967+F967+G967+H967+J967+K967),A967+B967+E967+F967+G967+H967+J967+K967,\"FEIL\")","v":0},null,0,null,0,null,null,0,0,0,0,0,0]
[null,0,null,0,null,null,null,"00:00:00",0,0,0,{"$f":"IF(AND(J968=0,K968=0),,IF(G968=0,\"KUNDE/LEV NR ?\",VLOOKUP(G968,Register!$K$1:$L$618,2)))","v":0},0,null,0,null,0,null,null,0,0,0,0,0,0]
[null,0,null,0,null,null,null,"00:00:00",0,0,0,{"$f":"IF(AND(J969=0,K969=0),,IF(G969=0,\"KUNDE/LEV NR ?\",VLOOKUP(G969,Register!$K$1:$L$618,2)))","v":0},0,null,0,null,0,null,null,0,0,0,0,0,0]
[null,0,null,0,null,null,null,"00:00:00",0,0,0,{"$f":"IF(AND(J970=0,K970=0),,IF(G970=0,\"KUNDE/LEV NR ?\",VLOOKUP(G970,Register!$K$1:$L$618,2)))","v":0},0,null,0,null,0,null,null,0,0,0,0,0,0]
[null,0,null,0,null,null,null,"00:00:00",0,0,0,{"$f":"IF(AND(J971=0,K971=0),,IF(G971=0,\"KUNDE/LEV NR ?\",VLOOKUP(G971,Register!$K$1:$L$618,2)))","v":0},0,null,0,null,0,null,null,0,0,0,0,0,0]
[null,0,null,0,null,null,null,"00:00:00",0,0,0,{"$f":"IF(AND(J972=0,K972=0),,IF(G972=0,\"KUNDE/LEV NR ?\",VLOOKUP(G972,Register!$K$1:$L$618,2)))","v":0},0,null,0,null,0,null,null,0,0,0,0,0,0]
[null,0,null,0,null,null,null,"00:00:00",0,0,0,{"$f":"IF(AND(J973=0,K973=0),,IF(G973=0,\"KUNDE/LEV NR ?\",VLOOKUP(G973,Register!$K$1:$L$618,2)))","v":0},0,null,0,null,0,null,null,0,0,0,0,0,0]
[null,0,null,0,null,null,null,"00:00:00",0,0,0,{"$f":"IF(AND(J974=0,K974=0),,IF(G974=0,\"KUNDE/LEV NR ?\",VLOOKUP(G974,Register!$K$1:$L$618,2)))","v":0},0,null,0,null,0,null,null,{"$f":"R974-V974","v":0},{"$f":"S974-W974","v":0},0,0,0,0]
[null,0,null,0,null,null,null,"00:00:00",0,0,0,{"$f":"IF(AND(J975=0,K975=0),,IF(G975=0,\"KUNDE/LEV NR ?\",VLOOKUP(G975,Register!$K$1:$L$618,2)))","v":0},0,null,0,null,0,null,null,0,0,0,0,0,0]
[null,0,null,0,null,null,null,"00:00:00",0,0,0,{"$f":"IF(AND(J976=0,K976=0),,IF(G976=0,\"KUNDE/LEV NR ?\",VLOOKUP(G976,Register!$K$1:$L$618,2)))","v":0},0,null,0,null,0,null,null,0,0,0,0,0,0]
[null,0,null,0,null,null,null,"00:00:00",0,0,0,{"$f":"IF(AND(J977=0,K977=0),,IF(G977=0,\"KUNDE/LEV NR ?\",VLOOKUP(G977,Register!$K$1:$L$618,2)))","v":0},0,null,0,null,0,null,null,0,0,0,0,0,0]
[null,0,null,0,null,null,null,"00:00:00",0,0,0,{"$f":"IF(AND(J978=0,K978=0),,IF(G978=0,\"KUNDE/LEV NR ?\",VLOOKUP(G978,Register!$K$1:$L$618,2)))","v":0},0,null,0,null,0,null,null,0,0,0,0,0,0]
[null,0,null,0,null,null,null,"00:00:00",0,0,0,{"$f":"IF(AND(J979=0,K979=0),,IF(G979=0,\"KUNDE/LEV NR ?\",VLOOKUP(G979,Register!$K$1:$L$618,2)))","v":0},0,null,0,null,0,null,null,0,0,0,0,0,0]
[null,0,null,0,null,null,null,"00:00:00",0,0,0,{"$f":"IF(AND(J980=0,K980=0),,IF(G980=0,\"KUNDE/LEV NR ?\",VLOOKUP(G980,Register!$K$1:$L$618,2)))","v":0},0,null,0,null,0,null,null,0,0,0,0,0,0]
[null,0,null,0,null,null,null,"00:00:00",0,0,0,{"$f":"IF(AND(J981=0,K981=0),,IF(G981=0,\"KUNDE/LEV NR ?\",VLOOKUP(G981,Register!$K$1:$L$618,2)))","v":0},0,null,0,null,0,null,null,0,0,0,0,0,0]
[null,0,null,0,null,null,null,"00:00:00",0,0,0,{"$f":"IF(AND(J982=0,K982=0),,IF(G982=0,\"KUNDE/LEV NR ?\",VLOOKUP(G982,Register!$K$1:$L$618,2)))","v":0},0,null,0,null,0,null,null,0,0,0,0,0,0]
[null,0,null,0,null,null,null,"00:00:00",0,0,0,{"$f":"IF(AND(J983=0,K983=0),,IF(G983=0,\"KUNDE/LEV NR ?\",VLOOKUP(G983,Register!$K$1:$L$618,2)))","v":0},0,null,0,null,0,null,null,0,0,0,0,0,0]
[null,0,null,0,null,null,null,"00:00:00",0,0,0,{"$f":"IF(AND(J984=0,K984=0),,IF(G984=0,\"KUNDE/LEV NR ?\",VLOOKUP(G984,Register!$K$1:$L$618,2)))","v":0},0,null,0,null,0,null,null,0,0,0,0,0,0]
[null,0,null,0,null,null,null,"00:00:00",0,0,0,{"$f":"IF(AND(J985=0,K985=0),,IF(G985=0,\"KUNDE/LEV NR ?\",VLOOKUP(G985,Register!$K$1:$L$618,2)))","v":0},0,null,0,null,0,null,null,0,0,0,0,0,0]
[null,0,null,0,null,null,null,"00:00:00",0,0,0,{"$f":"IF(AND(J986=0,K986=0),,IF(G986=0,\"KUNDE/LEV NR ?\",VLOOKUP(G986,Register!$K$1:$L$618,2)))","v":0},0,null,0,null,0,null,null,0,0,0,0,0,0]
[null,0,null,0,null,null,null,"00:00:00",0,0,0,{"$f":"IF(AND(J987=0,K987=0),,IF(G987=0,\"KUNDE/LEV NR ?\",VLOOKUP(G987,Register!$K$1:$L$618,2)))","v":0},0,null,0,null,0,null,null,0,0,0,0,0,0]
[null,0,null,0,null,null,null,"00:00:00",0,0,0,{"$f":"IF(AND(J988=0,K988=0),,IF(G988=0,\"KUNDE/LEV NR ?\",VLOOKUP(G988,Register!$K$1:$L$618,2)))","v":0},0,null,0,null,0,null,null,0,0,0,0,0,0]
[null,0,null,0,null,null,null,"00:00:00",0,0,0,{"$f":"IF(AND(J989=0,K989=0),,IF(G989=0,\"KUNDE/LEV NR ?\",VLOOKUP(G989,Register!$K$1:$L$618,2)))","v":0},0,null,0,null,0,null,null,0,0,0,0,0,0]
[null,0,null,0,null,null,null,"00:00:00",0,0,0,{"$f":"IF(AND(J990=0,K990=0),,IF(G990=0,\"KUNDE/LEV NR ?\",VLOOKUP(G990,Register!$K$1:$L$618,2)))","v":0},0,null,0,null,0,null,null,0,0,0,0,0,0]
[null,0,null,0,null,null,null,"00:00:00",0,0,0,{"$f":"IF(AND(J991=0,K991=0),,IF(G991=0,\"KUNDE/LEV NR ?\",VLOOKUP(G991,Register!$K$1:$L$618,2)))","v":0},0,null,0,null,0,null,null,0,0,0,0,0,0]
[null,0,null,0,null,null,null,"00:00:00",0,0,0,{"$f":"IF(AND(J992=0,K992=0),,IF(G992=0,\"KUNDE/LEV NR ?\",VLOOKUP(G992,Register!$K$1:$L$618,2)))","v":0},0,null,0,null,0,null,null,0,0,0,0,0,0]
[null,0,null,0,null,null,null,"00:00:00",0,0,0,{"$f":"IF(AND(J993=0,K993=0),,IF(G993=0,\"KUNDE/LEV NR ?\",VLOOKUP(G993,Register!$K$1:$L$618,2)))","v":0},0,null,0,null,0,null,null,0,0,0,0,0,0]
[null,0,null,0,null,null,null,"00:00:00",0,0,0,{"$f":"IF(AND(J994=0,K994=0),,IF(G994=0,\"KUNDE/LEV NR ?\",VLOOKUP(G994,Register!$K$1:$L$618,2)))","v":0},0,null,0,null,0,null,null,0,0,0,0,0,0]
[null,0,null,0,null,null,null,"00:00:00",0,0,0,{"$f":"IF(AND(J995=0,K995=0),,IF(G995=0,\"KUNDE/LEV NR ?\",VLOOKUP(G995,Register!$K$1:$L$618,2)))","v":0},0,null,0,null,0,null,null,0,0,0,0,0,0]
[null,0,null,0,null,null,null,"00:00:00",0,0,0,{"$f":"IF(AND(J996=0,K996=0),,IF(G996=0,\"KUNDE/LEV NR ?\",VLOOKUP(G996,Register!$K$1:$L$618,2)))","v":0},0,null,0,null,0,null,null,0,0,0,0,0,0]
[null,0,null,0,null,null,null,"00:00:00",0,0,0,{"$f":"IF(AND(J997=0,K997=0),,IF(G997=0,\"KUNDE/LEV NR ?\",VLOOKUP(G997,Register!$K$1:$L$618,2)))","v":0},0,null,0,null,0,null,null,0,0,0,0,0,0]
[null,0,null,0,null,null,null,"00:00:00",0,0,0,{"$f":"IF(AND(J998=0,K998=0),,IF(G998=0,\"KUNDE/LEV NR ?\",VLOOKUP(G998,Register!$K$1:$L$618,2)))","v":0},0,null,0,null,0,null,null,0,0,0,0,0,0]
[null,0,null,0,null,null,null,"00:00:00",0,0,0,{"$f":"IF(AND(J999=0,K999=0),,IF(G999=0,\"KUNDE/LEV NR ?\",VLOOKUP(G999,Register!$K$1:$L$618,2)))","v":0},0,null,0,null,0,null,null,0,0,0,0,0,0]
[null,0,null,0,null,null,null,"00:00:00",0,0,0,{"$f":"IF(AND(J1000=0,K1000=0),,IF(G1000=0,\"KUNDE/LEV NR ?\",VLOOKUP(G1000,Register!$K$1:$L$618,2)))","v":0},0,null,0,null,0,null,null,0,0,0,0,0,0]
[null,0,null,0,null,null,null,"00:00:00",0,0,0,{"$f":"IF(AND(J1001=0,K1001=0),,IF(G1001=0,\"KUNDE/LEV NR ?\",VLOOKUP(G1001,Register!$K$1:$L$618,2)))","v":0},0,null,0,null,0,null,null,0,0,0,0,0,0]
[null,0,null,0,null,null,null,"00:00:00",0,0,0,{"$f":"IF(AND(J1002=0,K1002=0),,IF(G1002=0,\"KUNDE/LEV NR ?\",VLOOKUP(G1002,Register!$K$1:$L$618,2)))","v":0},0,null,0,null,0,null,null,0,0,0,0,0,0]
[null,0,null,0,null,null,null,"00:00:00",0,0,0,{"$f":"IF(AND(J1003=0,K1003=0),,IF(G1003=0,\"KUNDE/LEV NR ?\",VLOOKUP(G1003,Register!$K$1:$L$618,2)))","v":0},0,null,0,null,0,null,null,0,0,0,0,0,0]
[null,0,null,0,null,null,null,"00:00:00",0,0,0,{"$f":"IF(AND(J1004=0,K1004=0),,IF(G1004=0,\"KUNDE/LEV NR ?\",VLOOKUP(G1004,Register!$K$1:$L$618,2)))","v":0},0,null,0,null,0,null,null,0,0,0,0,0,0]
[null,0,null,0,null,null,null,"00:00:00",0,0,0,{"$f":"IF(AND(J1005=0,K1005=0),,IF(G1005=0,\"KUNDE/LEV NR ?\",VLOOKUP(G1005,Register!$K$1:$L$618,2)))","v":0},0,null,0,null,0,null,null,0,0,0,0,0,0]
[null,0,null,0,null,null,null,"00:00:00",0,0,0,{"$f":"IF(AND(J1006=0,K1006=0),,IF(G1006=0,\"KUNDE/LEV NR ?\",VLOOKUP(G1006,Register!$K$1:$L$618,2)))","v":0},0,null,0,null,0,null,null,0,0,0,0,0,0]
[null,0,null,0,null,null,null,"00:00:00",0,0,0,{"$f":"IF(AND(J1007=0,K1007=0),,IF(G1007=0,\"KUNDE/LEV NR ?\",VLOOKUP(G1007,Register!$K$1:$L$618,2)))","v":0},0,null,0,null,0,null,null,0,0,0,0,0,0]
[null,0,null,0,null,null,null,"00:00:00",0,0,0,{"$f":"IF(AND(J1008=0,K1008=0),,IF(G1008=0,\"KUNDE/LEV NR ?\",VLOOKUP(G1008,Register!$K$1:$L$618,2)))","v":0},0,null,0,null,0,null,null,0,0,0,0,0,0]
[null,0,null,0,null,null,null,"00:00:00",0,0,0,{"$f":"IF(AND(J1009=0,K1009=0),,IF(G1009=0,\"KUNDE/LEV NR ?\",VLOOKUP(G1009,Register!$K$1:$L$618,2)))","v":0},0,null,0,null,0,null,null,0,0,0,0,0,0]
[null,0,null,0,null,null,null,"00:00:00",0,0,0,{"$f":"IF(AND(J1010=0,K1010=0),,IF(G1010=0,\"KUNDE/LEV NR ?\",VLOOKUP(G1010,Register!$K$1:$L$618,2)))","v":0},0,null,0,null,0,null,null,0,0,0,0,0,0]
[null,0,null,0,null,null,null,"00:00:00",0,0,0,{"$f":"IF(AND(J1011=0,K1011=0),,IF(G1011=0,\"KUNDE/LEV NR ?\",VLOOKUP(G1011,Register!$K$1:$L$618,2)))","v":0},0,null,0,null,0,null,null,0,0,0,0,0,0]
[null,0,null,0,null,null,null,"00:00:00",0,0,0,{"$f":"IF(AND(J1012=0,K1012=0),,IF(G1012=0,\"KUNDE/LEV NR ?\",VLOOKUP(G1012,Register!$K$1:$L$618,2)))","v":0},0,null,0,null,0,null,null,0,0,0,0,0,0]
[null,0,null,0,null,null,null,"00:00:00",0,0,0,{"$f":"IF(AND(J1013=0,K1013=0),,IF(G1013=0,\"KUNDE/LEV NR ?\",VLOOKUP(G1013,Register!$K$1:$L$618,2)))","v":0},0,null,0,null,0,null,null,0,0,0,0,0,0]
[null,0,null,0,null,null,null,"00:00:00",0,0,0,{"$f":"IF(AND(J1014=0,K1014=0),,IF(G1014=0,\"KUNDE/LEV NR ?\",VLOOKUP(G1014,Register!$K$1:$L$618,2)))","v":0},0,null,0,null,0,null,null,0,0,0,0,0,0]
[null,0,null,0,null,null,null,"00:00:00",0,0,0,{"$f":"IF(AND(J1015=0,K1015=0),,IF(G1015=0,\"KUNDE/LEV NR ?\",VLOOKUP(G1015,Register!$K$1:$L$618,2)))","v":0},0,null,0,null,0,null,null,0,0,0,0,0,0]
[null,0,null,0,null,null,null,"00:00:00",0,0,0,{"$f":"IF(AND(J1016=0,K1016=0),,IF(G1016=0,\"KUNDE/LEV NR ?\",VLOOKUP(G1016,Register!$K$1:$L$618,2)))","v":0},0,null,0,null,0,null,null,0,0,0,0,0,0]
[null,0,null,0,null,null,null,"00:00:00",0,0,0,{"$f":"IF(AND(J1017=0,K1017=0),,IF(G1017=0,\"KUNDE/LEV NR ?\",VLOOKUP(G1017,Register!$K$1:$L$618,2)))","v":0},0,null,0,null,0,null,null,0,0,0,0,0,0]
[null,0,null,0,null,null,null,"00:00:00",0,0,0,{"$f":"IF(AND(J1018=0,K1018=0),,IF(G1018=0,\"KUNDE/LEV NR ?\",VLOOKUP(G1018,Register!$K$1:$L$618,2)))","v":0},0,null,0,null,0,null,null,0,0,0,0,0,0]
[null,0,null,0,null,null,null,"00:00:00",0,0,0,{"$f":"IF(AND(J1019=0,K1019=0),,IF(G1019=0,\"KUNDE/LEV NR ?\",VLOOKUP(G1019,Register!$K$1:$L$618,2)))","v":0},0,null,0,null,0,null,null,0,0,0,0,0,0]
[null,0,null,0,null,null,null,"00:00:00",0,0,0,{"$f":"IF(AND(J1020=0,K1020=0),,IF(G1020=0,\"KUNDE/LEV NR ?\",VLOOKUP(G1020,Register!$K$1:$L$618,2)))","v":0},0,null,0,null,0,null,null,0,0,0,0,0,0]
[null,0,null,0,null,null,null,"00:00:00",0,0,0,{"$f":"IF(AND(J1021=0,K1021=0),,IF(G1021=0,\"KUNDE/LEV NR ?\",VLOOKUP(G1021,Register!$K$1:$L$618,2)))","v":0},0,null,0,null,0,null,null,0,0,0,0,0,0]
[null,0,null,0,null,null,null,"00:00:00",0,0,0,{"$f":"IF(AND(J1022=0,K1022=0),,IF(G1022=0,\"KUNDE/LEV NR ?\",VLOOKUP(G1022,Register!$K$1:$L$618,2)))","v":0},0,null,0,null,0,null,null,0,0,0,0,0,0]
[null,0,null,0,null,null,null,"00:00:00",0,0,0,{"$f":"IF(AND(J1023=0,K1023=0),,IF(G1023=0,\"KUNDE/LEV NR ?\",VLOOKUP(G1023,Register!$K$1:$L$618,2)))","v":0},0,null,0,null,0,null,null,0,0,0,0,0,0]
[null,0,null,0,null,null,null,"00:00:00",0,0,0,{"$f":"IF(AND(J1024=0,K1024=0),,IF(G1024=0,\"KUNDE/LEV NR ?\",VLOOKUP(G1024,Register!$K$1:$L$618,2)))","v":0},0,null,0,null,0,null,null,0,0,0,0,0,0]
[null,0,null,0,null,null,null,"00:00:00",0,0,0,{"$f":"IF(AND(J1025=0,K1025=0),,IF(G1025=0,\"KUNDE/LEV NR ?\",VLOOKUP(G1025,Register!$K$1:$L$618,2)))","v":0},0,null,0,null,0,null,null,0,0,0,0,0,0]
[null,0,null,0,null,null,null,"00:00:00",0,0,0,{"$f":"IF(AND(J1026=0,K1026=0),,IF(G1026=0,\"KUNDE/LEV NR ?\",VLOOKUP(G1026,Register!$K$1:$L$618,2)))","v":0},0,null,0,null,0,null,null,0,0,0,0,0,0]
[null,0,null,0,null,null,null,"00:00:00",0,0,0,{"$f":"IF(AND(J1027=0,K1027=0),,IF(G1027=0,\"KUNDE/LEV NR ?\",VLOOKUP(G1027,Register!$K$1:$L$618,2)))","v":0},0,null,0,null,0,null,null,0,0,0,0,0,0]
[null,0,null,0,null,null,null,"00:00:00",0,0,0,{"$f":"IF(AND(J1028=0,K1028=0),,IF(G1028=0,\"KUNDE/LEV NR ?\",VLOOKUP(G1028,Register!$K$1:$L$618,2)))","v":0},0,null,0,null,0,null,null,0,0,0,0,0,0]
[null,0,null,{"$f":"IF(C1029=0,,VLOOKUP(C1029,$AA$4:$AB$320,2))","v":0},null,null,null,"00:00:00",{"$f":"IF(H1029>0,\"d\",)","v":0},0,0,{"$f":"IF(AND(J1029=0,K1029=0),,IF(G1029=0,\"KUNDE/LEV NR ?\",VLOOKUP(G1029,Register!$K$1:$L$618,2)))","v":0},0,null,0,null,0,null,null,0,0,{"$f":"IF(R1029=0,,R1029/(1+VLOOKUP(P1029,$AC$5:$AD$362,2)))","v":0},{"$f":"IF(S1029=0,,S1029/(1+VLOOKUP(P1029,$AC$5:$AD$362,2)))","v":0},{"$f":"IF(P1029=0,,IF(P1029=P1030,,VLOOKUP(P1029,$AC$5:$AE$364,3)))","v":0},{"$f":"IF(P1029=0,,IF(P1029=P1030,,VLOOKUP(P1029,$AC$5:$AF$362,4)))","v":0}]
[null,{"$f":"IF(A1030>0,B1029+1,)","v":0},null,0,null,null,null,{"$f":"A1030","v":"00:00:00"},0,{"$f":"E1030*-1+F1030","v":0},{"$f":"IF(AND(A1030>0,H1030>0),J1030*-1,)","v":0},{"$f":"IF(AND(J1030=0,K1030=0),,IF(G1030=0,\"KUNDE/LEV NR ?\",VLOOKUP(G1030,Register!$K$1:$L$618,2)))","v":0},0,null,0,null,0,null,null,0,0,0,0,0,0]
[null,0,null,0,null,null,null,"00:00:00",0,0,0,{"$f":"IF(AND(J1031=0,K1031=0),,IF(G1031=0,\"KUNDE/LEV NR ?\",VLOOKUP(G1031,Register!$K$1:$L$618,2)))","v":0},{"$f":"IF(ISNUMBER(A1031+B1031+E1031+F1031+G1031+H1031+J1031+K1031),A1031+B1031+E1031+F1031+G1031+H1031+J1031+K1031,\"FEIL\")","v":0},null,0,null,0,null,null,0,0,0,0,0,0]
[null,0,null,0,null,null,null,"00:00:00",0,0,0,{"$f":"IF(AND(J1032=0,K1032=0),,IF(G1032=0,\"KUNDE/LEV NR ?\",VLOOKUP(G1032,Register!$K$1:$L$618,2)))","v":0},0,null,0,null,0,null,null,0,0,0,0,0,0]
[null,0,null,0,null,null,null,"00:00:00",0,0,0,{"$f":"IF(AND(J1033=0,K1033=0),,IF(G1033=0,\"KUNDE/LEV NR ?\",VLOOKUP(G1033,Register!$K$1:$L$618,2)))","v":0},0,null,0,null,0,null,null,0,0,0,0,0,0]
[null,0,null,0,null,null,null,"00:00:00",0,0,0,{"$f":"IF(AND(J1034=0,K1034=0),,IF(G1034=0,\"KUNDE/LEV NR ?\",VLOOKUP(G1034,Register!$K$1:$L$618,2)))","v":0},0,null,0,null,0,null,null,0,0,0,0,0,0]
[null,0,null,0,null,null,null,"00:00:00",0,0,0,{"$f":"IF(AND(J1035=0,K1035=0),,IF(G1035=0,\"KUNDE/LEV NR ?\",VLOOKUP(G1035,Register!$K$1:$L$618,2)))","v":0},0,null,0,null,0,null,null,0,0,0,0,0,0]
[null,0,null,0,null,null,null,"00:00:00",0,0,0,{"$f":"IF(AND(J1036=0,K1036=0),,IF(G1036=0,\"KUNDE/LEV NR ?\",VLOOKUP(G1036,Register!$K$1:$L$618,2)))","v":0},0,null,0,null,0,null,null,0,0,0,0,0,0]
[null,0,null,0,null,null,null,"00:00:00",0,0,0,{"$f":"IF(AND(J1037=0,K1037=0),,IF(G1037=0,\"KUNDE/LEV NR ?\",VLOOKUP(G1037,Register!$K$1:$L$618,2)))","v":0},0,null,0,null,0,null,null,0,0,0,0,0,0]
[null,0,null,0,null,null,null,"00:00:00",0,0,0,{"$f":"IF(AND(J1038=0,K1038=0),,IF(G1038=0,\"KUNDE/LEV NR ?\",VLOOKUP(G1038,Register!$K$1:$L$618,2)))","v":0},0,null,0,null,0,null,null,{"$f":"R1038-V1038","v":0},{"$f":"S1038-W1038","v":0},0,0,0,0]
[null,0,null,0,null,null,null,"00:00:00",0,0,0,{"$f":"IF(AND(J1039=0,K1039=0),,IF(G1039=0,\"KUNDE/LEV NR ?\",VLOOKUP(G1039,Register!$K$1:$L$618,2)))","v":0},0,null,0,null,0,null,null,0,0,0,0,0,0]
[null,0,null,0,null,null,null,"00:00:00",0,0,0,{"$f":"IF(AND(J1040=0,K1040=0),,IF(G1040=0,\"KUNDE/LEV NR ?\",VLOOKUP(G1040,Register!$K$1:$L$618,2)))","v":0},0,null,0,null,0,null,null,0,0,0,0,0,0]
[null,0,null,0,null,null,null,"00:00:00",0,0,0,{"$f":"IF(AND(J1041=0,K1041=0),,IF(G1041=0,\"KUNDE/LEV NR ?\",VLOOKUP(G1041,Register!$K$1:$L$618,2)))","v":0},0,null,0,null,0,null,null,0,0,0,0,0,0]
[null,0,null,0,null,null,null,"00:00:00",0,0,0,{"$f":"IF(AND(J1042=0,K1042=0),,IF(G1042=0,\"KUNDE/LEV NR ?\",VLOOKUP(G1042,Register!$K$1:$L$618,2)))","v":0},0,null,0,null,0,null,null,0,0,0,0,0,0]
[null,0,null,0,null,null,null,"00:00:00",0,0,0,{"$f":"IF(AND(J1043=0,K1043=0),,IF(G1043=0,\"KUNDE/LEV NR ?\",VLOOKUP(G1043,Register!$K$1:$L$618,2)))","v":0},0,null,0,null,0,null,null,0,0,0,0,0,0]
[null,0,null,0,null,null,null,"00:00:00",0,0,0,{"$f":"IF(AND(J1044=0,K1044=0),,IF(G1044=0,\"KUNDE/LEV NR ?\",VLOOKUP(G1044,Register!$K$1:$L$618,2)))","v":0},0,null,0,null,0,null,null,0,0,0,0,0,0]
[null,0,null,0,null,null,null,"00:00:00",0,0,0,{"$f":"IF(AND(J1045=0,K1045=0),,IF(G1045=0,\"KUNDE/LEV NR ?\",VLOOKUP(G1045,Register!$K$1:$L$618,2)))","v":0},0,null,0,null,0,null,null,0,0,0,0,0,0]
[null,0,null,0,null,null,null,"00:00:00",0,0,0,{"$f":"IF(AND(J1046=0,K1046=0),,IF(G1046=0,\"KUNDE/LEV NR ?\",VLOOKUP(G1046,Register!$K$1:$L$618,2)))","v":0},0,null,0,null,0,null,null,0,0,0,0,0,0]
[null,0,null,0,null,null,null,"00:00:00",0,0,0,{"$f":"IF(AND(J1047=0,K1047=0),,IF(G1047=0,\"KUNDE/LEV NR ?\",VLOOKUP(G1047,Register!$K$1:$L$618,2)))","v":0},0,null,0,null,0,null,null,0,0,0,0,0,0]
[null,0,null,0,null,null,null,"00:00:00",0,0,0,{"$f":"IF(AND(J1048=0,K1048=0),,IF(G1048=0,\"KUNDE/LEV NR ?\",VLOOKUP(G1048,Register!$K$1:$L$618,2)))","v":0},0,null,0,null,0,null,null,0,0,0,0,0,0]
[null,0,null,0,null,null,null,"00:00:00",0,0,0,{"$f":"IF(AND(J1049=0,K1049=0),,IF(G1049=0,\"KUNDE/LEV NR ?\",VLOOKUP(G1049,Register!$K$1:$L$618,2)))","v":0},0,null,0,null,0,null,null,0,0,0,0,0,0]
[null,0,null,0,null,null,null,"00:00:00",0,0,0,{"$f":"IF(AND(J1050=0,K1050=0),,IF(G1050=0,\"KUNDE/LEV NR ?\",VLOOKUP(G1050,Register!$K$1:$L$618,2)))","v":0},0,null,0,null,0,null,null,0,0,0,0,0,0]
[null,0,null,0,null,null,null,"00:00:00",0,0,0,{"$f":"IF(AND(J1051=0,K1051=0),,IF(G1051=0,\"KUNDE/LEV NR ?\",VLOOKUP(G1051,Register!$K$1:$L$618,2)))","v":0},0,null,0,null,0,null,null,0,0,0,0,0,0]
[null,0,null,0,null,null,null,"00:00:00",0,0,0,{"$f":"IF(AND(J1052=0,K1052=0),,IF(G1052=0,\"KUNDE/LEV NR ?\",VLOOKUP(G1052,Register!$K$1:$L$618,2)))","v":0},0,null,0,null,0,null,null,0,0,0,0,0,0]
[null,0,null,0,null,null,null,"00:00:00",0,0,0,{"$f":"IF(AND(J1053=0,K1053=0),,IF(G1053=0,\"KUNDE/LEV NR ?\",VLOOKUP(G1053,Register!$K$1:$L$618,2)))","v":0},0,null,0,null,0,null,null,0,0,0,0,0,0]
[null,0,null,0,null,null,null,"00:00:00",0,0,0,{"$f":"IF(AND(J1054=0,K1054=0),,IF(G1054=0,\"KUNDE/LEV NR ?\",VLOOKUP(G1054,Register!$K$1:$L$618,2)))","v":0},0,null,0,null,0,null,null,0,0,0,0,0,0]
[null,0,null,0,null,null,null,"00:00:00",0,0,0,{"$f":"IF(AND(J1055=0,K1055=0),,IF(G1055=0,\"KUNDE/LEV NR ?\",VLOOKUP(G1055,Register!$K$1:$L$618,2)))","v":0},0,null,0,null,0,null,null,0,0,0,0,0,0]
[null,0,null,0,null,null,null,"00:00:00",0,0,0,{"$f":"IF(AND(J1056=0,K1056=0),,IF(G1056=0,\"KUNDE/LEV NR ?\",VLOOKUP(G1056,Register!$K$1:$L$618,2)))","v":0},0,null,0,null,0,null,null,0,0,0,0,0,0]
[null,0,null,0,null,null,null,"00:00:00",0,0,0,{"$f":"IF(AND(J1057=0,K1057=0),,IF(G1057=0,\"KUNDE/LEV NR ?\",VLOOKUP(G1057,Register!$K$1:$L$618,2)))","v":0},0,null,0,null,0,null,null,0,0,0,0,0,0]
[null,0,null,0,null,null,null,"00:00:00",0,0,0,{"$f":"IF(AND(J1058=0,K1058=0),,IF(G1058=0,\"KUNDE/LEV NR ?\",VLOOKUP(G1058,Register!$K$1:$L$618,2)))","v":0},0,null,0,null,0,null,null,0,0,0,0,0,0]
[null,0,null,0,null,null,null,"00:00:00",0,0,0,{"$f":"IF(AND(J1059=0,K1059=0),,IF(G1059=0,\"KUNDE/LEV NR ?\",VLOOKUP(G1059,Register!$K$1:$L$618,2)))","v":0},0,null,0,null,0,null,null,0,0,0,0,0,0]
[null,0,null,0,null,null,null,"00:00:00",0,0,0,{"$f":"IF(AND(J1060=0,K1060=0),,IF(G1060=0,\"KUNDE/LEV NR ?\",VLOOKUP(G1060,Register!$K$1:$L$618,2)))","v":0},0,null,0,null,0,null,null,0,0,0,0,0,0]
[null,0,null,0,null,null,null,"00:00:00",0,0,0,{"$f":"IF(AND(J1061=0,K1061=0),,IF(G1061=0,\"KUNDE/LEV NR ?\",VLOOKUP(G1061,Register!$K$1:$L$618,2)))","v":0},0,null,0,null,0,null,null,0,0,0,0,0,0]
[null,0,null,0,null,null,null,"00:00:00",0,0,0,{"$f":"IF(AND(J1062=0,K1062=0),,IF(G1062=0,\"KUNDE/LEV NR ?\",VLOOKUP(G1062,Register!$K$1:$L$618,2)))","v":0},0,null,0,null,0,null,null,0,0,0,0,0,0]
[null,0,null,0,null,null,null,"00:00:00",0,0,0,{"$f":"IF(AND(J1063=0,K1063=0),,IF(G1063=0,\"KUNDE/LEV NR ?\",VLOOKUP(G1063,Register!$K$1:$L$618,2)))","v":0},0,null,0,null,0,null,null,0,0,0,0,0,0]
[null,0,null,0,null,null,null,"00:00:00",0,0,0,{"$f":"IF(AND(J1064=0,K1064=0),,IF(G1064=0,\"KUNDE/LEV NR ?\",VLOOKUP(G1064,Register!$K$1:$L$618,2)))","v":0},0,null,0,null,0,null,null,0,0,0,0,0,0]
[null,0,null,0,null,null,null,"00:00:00",0,0,0,{"$f":"IF(AND(J1065=0,K1065=0),,IF(G1065=0,\"KUNDE/LEV NR ?\",VLOOKUP(G1065,Register!$K$1:$L$618,2)))","v":0},0,null,0,null,0,null,null,0,0,0,0,0,0]
[null,0,null,0,null,null,null,"00:00:00",0,0,0,{"$f":"IF(AND(J1066=0,K1066=0),,IF(G1066=0,\"KUNDE/LEV NR ?\",VLOOKUP(G1066,Register!$K$1:$L$618,2)))","v":0},0,null,0,null,0,null,null,0,0,0,0,0,0]
[null,0,null,0,null,null,null,"00:00:00",0,0,0,{"$f":"IF(AND(J1067=0,K1067=0),,IF(G1067=0,\"KUNDE/LEV NR ?\",VLOOKUP(G1067,Register!$K$1:$L$618,2)))","v":0},0,null,0,null,0,null,null,0,0,0,0,0,0]
[null,0,null,0,null,null,null,"00:00:00",0,0,0,{"$f":"IF(AND(J1068=0,K1068=0),,IF(G1068=0,\"KUNDE/LEV NR ?\",VLOOKUP(G1068,Register!$K$1:$L$618,2)))","v":0},0,null,0,null,0,null,null,0,0,0,0,0,0]
[null,0,null,0,null,null,null,"00:00:00",0,0,0,{"$f":"IF(AND(J1069=0,K1069=0),,IF(G1069=0,\"KUNDE/LEV NR ?\",VLOOKUP(G1069,Register!$K$1:$L$618,2)))","v":0},0,null,0,null,0,null,null,0,0,0,0,0,0]
[null,0,null,0,null,null,null,"00:00:00",0,0,0,{"$f":"IF(AND(J1070=0,K1070=0),,IF(G1070=0,\"KUNDE/LEV NR ?\",VLOOKUP(G1070,Register!$K$1:$L$618,2)))","v":0},0,null,0,null,0,null,null,0,0,0,0,0,0]
[null,0,null,0,null,null,null,"00:00:00",0,0,0,{"$f":"IF(AND(J1071=0,K1071=0),,IF(G1071=0,\"KUNDE/LEV NR ?\",VLOOKUP(G1071,Register!$K$1:$L$618,2)))","v":0},0,null,0,null,0,null,null,0,0,0,0,0,0]
[null,0,null,0,null,null,null,"00:00:00",0,0,0,{"$f":"IF(AND(J1072=0,K1072=0),,IF(G1072=0,\"KUNDE/LEV NR ?\",VLOOKUP(G1072,Register!$K$1:$L$618,2)))","v":0},0,null,0,null,0,null,null,0,0,0,0,0,0]
[null,0,null,0,null,null,null,"00:00:00",0,0,0,{"$f":"IF(AND(J1073=0,K1073=0),,IF(G1073=0,\"KUNDE/LEV NR ?\",VLOOKUP(G1073,Register!$K$1:$L$618,2)))","v":0},0,null,0,null,0,null,null,0,0,0,0,0,0]
[null,0,null,0,null,null,null,"00:00:00",0,0,0,{"$f":"IF(AND(J1074=0,K1074=0),,IF(G1074=0,\"KUNDE/LEV NR ?\",VLOOKUP(G1074,Register!$K$1:$L$618,2)))","v":0},0,null,0,null,0,null,null,0,0,0,0,0,0]
[null,0,null,0,null,null,null,"00:00:00",0,0,0,{"$f":"IF(AND(J1075=0,K1075=0),,IF(G1075=0,\"KUNDE/LEV NR ?\",VLOOKUP(G1075,Register!$K$1:$L$618,2)))","v":0},0,null,0,null,0,null,null,0,0,0,0,0,0]
[null,0,null,0,null,null,null,"00:00:00",0,0,0,{"$f":"IF(AND(J1076=0,K1076=0),,IF(G1076=0,\"KUNDE/LEV NR ?\",VLOOKUP(G1076,Register!$K$1:$L$618,2)))","v":0},0,null,0,null,0,null,null,0,0,0,0,0,0]
[null,0,null,0,null,null,null,"00:00:00",0,0,0,{"$f":"IF(AND(J1077=0,K1077=0),,IF(G1077=0,\"KUNDE/LEV NR ?\",VLOOKUP(G1077,Register!$K$1:$L$618,2)))","v":0},0,null,0,null,0,null,null,0,0,0,0,0,0]
[null,0,null,0,null,null,null,"00:00:00",0,0,0,{"$f":"IF(AND(J1078=0,K1078=0),,IF(G1078=0,\"KUNDE/LEV NR ?\",VLOOKUP(G1078,Register!$K$1:$L$618,2)))","v":0},0,null,0,null,0,null,null,0,0,0,0,0,0]
[null,0,null,0,null,null,null,"00:00:00",0,0,0,{"$f":"IF(AND(J1079=0,K1079=0),,IF(G1079=0,\"KUNDE/LEV NR ?\",VLOOKUP(G1079,Register!$K$1:$L$618,2)))","v":0},0,null,0,null,0,null,null,0,0,0,0,0,0]
[null,0,null,0,null,null,null,"00:00:00",0,0,0,{"$f":"IF(AND(J1080=0,K1080=0),,IF(G1080=0,\"KUNDE/LEV NR ?\",VLOOKUP(G1080,Register!$K$1:$L$618,2)))","v":0},0,null,0,null,0,null,null,0,0,0,0,0,0]
[null,0,null,0,null,null,null,"00:00:00",0,0,0,{"$f":"IF(AND(J1081=0,K1081=0),,IF(G1081=0,\"KUNDE/LEV NR ?\",VLOOKUP(G1081,Register!$K$1:$L$618,2)))","v":0},0,null,0,null,0,null,null,0,0,0,0,0,0]
[null,0,null,0,null,null,null,"00:00:00",0,0,0,{"$f":"IF(AND(J1082=0,K1082=0),,IF(G1082=0,\"KUNDE/LEV NR ?\",VLOOKUP(G1082,Register!$K$1:$L$618,2)))","v":0},0,null,0,null,0,null,null,0,0,0,0,0,0]
[null,0,null,0,null,null,null,"00:00:00",0,0,0,{"$f":"IF(AND(J1083=0,K1083=0),,IF(G1083=0,\"KUNDE/LEV NR ?\",VLOOKUP(G1083,Register!$K$1:$L$618,2)))","v":0},0,null,0,null,0,null,null,0,0,0,0,0,0]
[null,0,null,0,null,null,null,"00:00:00",0,0,0,{"$f":"IF(AND(J1084=0,K1084=0),,IF(G1084=0,\"KUNDE/LEV NR ?\",VLOOKUP(G1084,Register!$K$1:$L$618,2)))","v":0},0,null,0,null,0,null,null,0,0,0,0,0,0]
[null,0,null,0,null,null,null,"00:00:00",0,0,0,{"$f":"IF(AND(J1085=0,K1085=0),,IF(G1085=0,\"KUNDE/LEV NR ?\",VLOOKUP(G1085,Register!$K$1:$L$618,2)))","v":0},0,null,0,null,0,null,null,0,0,0,0,0,0]
[null,0,null,0,null,null,null,"00:00:00",0,0,0,{"$f":"IF(AND(J1086=0,K1086=0),,IF(G1086=0,\"KUNDE/LEV NR ?\",VLOOKUP(G1086,Register!$K$1:$L$618,2)))","v":0},0,null,0,null,0,null,null,0,0,0,0,0,0]
[null,0,null,0,null,null,null,"00:00:00",0,0,0,{"$f":"IF(AND(J1087=0,K1087=0),,IF(G1087=0,\"KUNDE/LEV NR ?\",VLOOKUP(G1087,Register!$K$1:$L$618,2)))","v":0},0,null,0,null,0,null,null,0,0,0,0,0,0]
[null,0,null,0,null,null,null,"00:00:00",0,0,0,{"$f":"IF(AND(J1088=0,K1088=0),,IF(G1088=0,\"KUNDE/LEV NR ?\",VLOOKUP(G1088,Register!$K$1:$L$618,2)))","v":0},0,null,0,null,0,null,null,0,0,0,0,0,0]
[null,0,null,0,null,null,null,"00:00:00",0,0,0,{"$f":"IF(AND(J1089=0,K1089=0),,IF(G1089=0,\"KUNDE/LEV NR ?\",VLOOKUP(G1089,Register!$K$1:$L$618,2)))","v":0},0,null,0,null,0,null,null,0,0,0,0,0,0]
[null,0,null,0,null,null,null,"00:00:00",0,0,0,{"$f":"IF(AND(J1090=0,K1090=0),,IF(G1090=0,\"KUNDE/LEV NR ?\",VLOOKUP(G1090,Register!$K$1:$L$618,2)))","v":0},0,null,0,null,0,null,null,0,0,0,0,0,0]
[null,0,null,0,null,null,null,"00:00:00",0,0,0,{"$f":"IF(AND(J1091=0,K1091=0),,IF(G1091=0,\"KUNDE/LEV NR ?\",VLOOKUP(G1091,Register!$K$1:$L$618,2)))","v":0},0,null,0,null,0,null,null,0,0,0,0,0,0]
[null,0,null,0,null,null,null,"00:00:00",0,0,0,{"$f":"IF(AND(J1092=0,K1092=0),,IF(G1092=0,\"KUNDE/LEV NR ?\",VLOOKUP(G1092,Register!$K$1:$L$618,2)))","v":0},0,null,0,null,0,null,null,0,0,0,0,0,0]
[null,0,null,{"$f":"IF(C1093=0,,VLOOKUP(C1093,$AA$4:$AB$320,2))","v":0},null,null,null,"00:00:00",{"$f":"IF(H1093>0,\"d\",)","v":0},0,0,{"$f":"IF(AND(J1093=0,K1093=0),,IF(G1093=0,\"KUNDE/LEV NR ?\",VLOOKUP(G1093,Register!$K$1:$L$618,2)))","v":0},0,null,0,null,0,null,null,0,0,{"$f":"IF(R1093=0,,R1093/(1+VLOOKUP(P1093,$AC$5:$AD$362,2)))","v":0},{"$f":"IF(S1093=0,,S1093/(1+VLOOKUP(P1093,$AC$5:$AD$362,2)))","v":0},{"$f":"IF(P1093=0,,IF(P1093=P1094,,VLOOKUP(P1093,$AC$5:$AE$364,3)))","v":0},{"$f":"IF(P1093=0,,IF(P1093=P1094,,VLOOKUP(P1093,$AC$5:$AF$362,4)))","v":0}]
[null,{"$f":"IF(A1094>0,B1093+1,)","v":0},null,0,null,null,null,{"$f":"A1094","v":"00:00:00"},0,{"$f":"E1094*-1+F1094","v":0},{"$f":"IF(AND(A1094>0,H1094>0),J1094*-1,)","v":0},{"$f":"IF(AND(J1094=0,K1094=0),,IF(G1094=0,\"KUNDE/LEV NR ?\",VLOOKUP(G1094,Register!$K$1:$L$618,2)))","v":0},0,null,0,null,0,null,null,0,0,0,0,0,0]
[null,{"$f":"IF(A1095>0,B1094+1,)","v":0},null,0,null,null,null,{"$f":"A1095","v":"00:00:00"},0,{"$f":"E1095*-1+F1095","v":0},0,{"$f":"IF(AND(J1095=0,K1095=0),,IF(G1095=0,\"KUNDE/LEV NR ?\",VLOOKUP(G1095,Register!$K$1:$L$618,2)))","v":0},{"$f":"IF(ISNUMBER(A1095+B1095+E1095+F1095+G1095+H1095+J1095+K1095),A1095+B1095+E1095+F1095+G1095+H1095+J1095+K1095,\"FEIL\")","v":0},null,0,null,0,null,null,0,0,0,0,0,0]
[null,{"$f":"IF(A1096>0,B1095+1,)","v":0},null,0,null,null,null,{"$f":"A1096","v":"00:00:00"},0,{"$f":"E1096*-1+F1096","v":0},0,{"$f":"IF(AND(J1096=0,K1096=0),,IF(G1096=0,\"KUNDE/LEV NR ?\",VLOOKUP(G1096,Register!$K$1:$L$618,2)))","v":0},0,null,0,null,0,null,null,0,0,0,0,0,0]
[null,{"$f":"IF(A1097>0,B1096+1,)","v":0},null,0,null,null,null,{"$f":"A1097","v":"00:00:00"},0,{"$f":"E1097*-1+F1097","v":0},0,{"$f":"IF(AND(J1097=0,K1097=0),,IF(G1097=0,\"KUNDE/LEV NR ?\",VLOOKUP(G1097,Register!$K$1:$L$618,2)))","v":0},0,null,0,null,0,null,null,0,0,0,0,0,0]
[null,{"$f":"IF(A1098>0,B1097+1,)","v":0},null,0,null,null,null,{"$f":"A1098","v":"00:00:00"},0,{"$f":"E1098*-1+F1098","v":0},0,{"$f":"IF(AND(J1098=0,K1098=0),,IF(G1098=0,\"KUNDE/LEV NR ?\",VLOOKUP(G1098,Register!$K$1:$L$618,2)))","v":0},0,null,0,null,0,null,null,0,0,0,0,0,0]
[null,{"$f":"IF(A1099>0,B1098+1,)","v":0},null,0,null,null,null,{"$f":"A1099","v":"00:00:00"},0,{"$f":"E1099*-1+F1099","v":0},0,{"$f":"IF(AND(J1099=0,K1099=0),,IF(G1099=0,\"KUNDE/LEV NR ?\",VLOOKUP(G1099,Register!$K$1:$L$618,2)))","v":0},0,null,0,null,0,null,null,0,0,0,0,0,0]
[null,0,null,0,null,null,null,"00:00:00",0,0,0,{"$f":"IF(AND(J1100=0,K1100=0),,IF(G1100=0,\"KUNDE/LEV NR ?\",VLOOKUP(G1100,Register!$K$1:$L$618,2)))","v":0},0,null,0,null,0,null,null,0,0,0,0,0,0]
[null,0,null,0,null,null,null,"00:00:00",0,0,0,{"$f":"IF(AND(J1101=0,K1101=0),,IF(G1101=0,\"KUNDE/LEV NR ?\",VLOOKUP(G1101,Register!$K$1:$L$618,2)))","v":0},0,null,0,null,0,null,null,0,0,0,0,0,0]
[null,0,null,0,null,null,null,"00:00:00",0,0,0,{"$f":"IF(AND(J1102=0,K1102=0),,IF(G1102=0,\"KUNDE/LEV NR ?\",VLOOKUP(G1102,Register!$K$1:$L$618,2)))","v":0},0,null,0,null,0,null,null,{"$f":"R1102-V1102","v":0},{"$f":"S1102-W1102","v":0},0,0,0,0]
[null,0,null,0,null,null,null,"00:00:00",0,0,0,{"$f":"IF(AND(J1103=0,K1103=0),,IF(G1103=0,\"KUNDE/LEV NR ?\",VLOOKUP(G1103,Register!$K$1:$L$618,2)))","v":0},0,null,0,null,0,null,null,0,0,0,0,0,0]
[null,0,null,0,null,null,null,"00:00:00",0,0,0,{"$f":"IF(AND(J1104=0,K1104=0),,IF(G1104=0,\"KUNDE/LEV NR ?\",VLOOKUP(G1104,Register!$K$1:$L$618,2)))","v":0},0,null,0,null,0,null,null,0,0,0,0,0,0]
[null,0,null,0,null,null,null,"00:00:00",0,0,0,{"$f":"IF(AND(J1105=0,K1105=0),,IF(G1105=0,\"KUNDE/LEV NR ?\",VLOOKUP(G1105,Register!$K$1:$L$618,2)))","v":0},0,null,0,null,0,null,null,0,0,0,0,0,0]
[null,0,null,0,null,null,null,"00:00:00",0,0,0,{"$f":"IF(AND(J1106=0,K1106=0),,IF(G1106=0,\"KUNDE/LEV NR ?\",VLOOKUP(G1106,Register!$K$1:$L$618,2)))","v":0},0,null,0,null,0,null,null,0,0,0,0,0,0]
[null,0,null,0,null,null,null,"00:00:00",0,0,0,{"$f":"IF(AND(J1107=0,K1107=0),,IF(G1107=0,\"KUNDE/LEV NR ?\",VLOOKUP(G1107,Register!$K$1:$L$618,2)))","v":0},0,null,0,null,0,null,null,0,0,0,0,0,0]
[null,0,null,0,null,null,null,"00:00:00",0,0,0,{"$f":"IF(AND(J1108=0,K1108=0),,IF(G1108=0,\"KUNDE/LEV NR ?\",VLOOKUP(G1108,Register!$K$1:$L$618,2)))","v":0},0,null,0,null,0,null,null,0,0,0,0,0,0]
[null,0,null,0,null,null,null,"00:00:00",0,0,0,{"$f":"IF(AND(J1109=0,K1109=0),,IF(G1109=0,\"KUNDE/LEV NR ?\",VLOOKUP(G1109,Register!$K$1:$L$618,2)))","v":0},0,null,0,null,0,null,null,0,0,0,0,0,0]
[null,0,null,0,null,null,null,"00:00:00",0,0,0,{"$f":"IF(AND(J1110=0,K1110=0),,IF(G1110=0,\"KUNDE/LEV NR ?\",VLOOKUP(G1110,Register!$K$1:$L$618,2)))","v":0},0,null,0,null,0,null,null,0,0,0,0,0,0]
[null,0,null,0,null,null,null,"00:00:00",0,0,0,{"$f":"IF(AND(J1111=0,K1111=0),,IF(G1111=0,\"KUNDE/LEV NR ?\",VLOOKUP(G1111,Register!$K$1:$L$618,2)))","v":0},0,null,0,null,0,null,null,0,0,0,0,0,0]
[null,0,null,0,null,null,null,"00:00:00",0,0,0,{"$f":"IF(AND(J1112=0,K1112=0),,IF(G1112=0,\"KUNDE/LEV NR ?\",VLOOKUP(G1112,Register!$K$1:$L$618,2)))","v":0},0,null,0,null,0,null,null,0,0,0,0,0,0]
[null,0,null,0,null,null,null,"00:00:00",0,0,0,{"$f":"IF(AND(J1113=0,K1113=0),,IF(G1113=0,\"KUNDE/LEV NR ?\",VLOOKUP(G1113,Register!$K$1:$L$618,2)))","v":0},0,null,0,null,0,null,null,0,0,0,0,0,0]
[null,0,null,0,null,null,null,"00:00:00",0,0,0,{"$f":"IF(AND(J1114=0,K1114=0),,IF(G1114=0,\"KUNDE/LEV NR ?\",VLOOKUP(G1114,Register!$K$1:$L$618,2)))","v":0},0,null,0,null,0,null,null,0,0,0,0,0,0]
[null,0,null,0,null,null,null,"00:00:00",0,0,0,{"$f":"IF(AND(J1115=0,K1115=0),,IF(G1115=0,\"KUNDE/LEV NR ?\",VLOOKUP(G1115,Register!$K$1:$L$618,2)))","v":0},0,null,0,null,0,null,null,0,0,0,0,0,0]
[null,0,null,0,null,null,null,"00:00:00",0,0,0,{"$f":"IF(AND(J1116=0,K1116=0),,IF(G1116=0,\"KUNDE/LEV NR ?\",VLOOKUP(G1116,Register!$K$1:$L$618,2)))","v":0},0,null,0,null,0,null,null,0,0,0,0,0,0]
[null,0,null,0,null,null,null,"00:00:00",0,0,0,{"$f":"IF(AND(J1117=0,K1117=0),,IF(G1117=0,\"KUNDE/LEV NR ?\",VLOOKUP(G1117,Register!$K$1:$L$618,2)))","v":0},0,null,0,null,0,null,null,0,0,0,0,0,0]
[null,0,null,0,null,null,null,"00:00:00",0,0,0,{"$f":"IF(AND(J1118=0,K1118=0),,IF(G1118=0,\"KUNDE/LEV NR ?\",VLOOKUP(G1118,Register!$K$1:$L$618,2)))","v":0},0,null,0,null,0,null,null,0,0,0,0,0,0]
[null,0,null,0,null,null,null,"00:00:00",0,0,0,{"$f":"IF(AND(J1119=0,K1119=0),,IF(G1119=0,\"KUNDE/LEV NR ?\",VLOOKUP(G1119,Register!$K$1:$L$618,2)))","v":0},0,null,0,null,0,null,null,0,0,0,0,0,0]
[null,0,null,0,null,null,null,"00:00:00",0,0,0,{"$f":"IF(AND(J1120=0,K1120=0),,IF(G1120=0,\"KUNDE/LEV NR ?\",VLOOKUP(G1120,Register!$K$1:$L$618,2)))","v":0},0,null,0,null,0,null,null,0,0,0,0,0,0]
[null,0,null,0,null,null,null,"00:00:00",0,0,0,{"$f":"IF(AND(J1121=0,K1121=0),,IF(G1121=0,\"KUNDE/LEV NR ?\",VLOOKUP(G1121,Register!$K$1:$L$618,2)))","v":0},0,null,0,null,0,null,null,0,0,0,0,0,0]
[null,0,null,0,null,null,null,"00:00:00",0,0,0,{"$f":"IF(AND(J1122=0,K1122=0),,IF(G1122=0,\"KUNDE/LEV NR ?\",VLOOKUP(G1122,Register!$K$1:$L$618,2)))","v":0},0,null,0,null,0,null,null,0,0,0,0,0,0]
[null,0,null,0,null,null,null,"00:00:00",0,0,0,{"$f":"IF(AND(J1123=0,K1123=0),,IF(G1123=0,\"KUNDE/LEV NR ?\",VLOOKUP(G1123,Register!$K$1:$L$618,2)))","v":0},0,null,0,null,0,null,null,0,0,0,0,0,0]
[null,0,null,0,null,null,null,"00:00:00",0,0,0,{"$f":"IF(AND(J1124=0,K1124=0),,IF(G1124=0,\"KUNDE/LEV NR ?\",VLOOKUP(G1124,Register!$K$1:$L$618,2)))","v":0},0,null,0,null,0,null,null,0,0,0,0,0,0]
[null,0,null,0,null,null,null,"00:00:00",0,0,0,{"$f":"IF(AND(J1125=0,K1125=0),,IF(G1125=0,\"KUNDE/LEV NR ?\",VLOOKUP(G1125,Register!$K$1:$L$618,2)))","v":0},0,null,0,null,0,null,null,0,0,0,0,0,0]
[null,0,null,0,null,null,null,"00:00:00",0,0,0,{"$f":"IF(AND(J1126=0,K1126=0),,IF(G1126=0,\"KUNDE/LEV NR ?\",VLOOKUP(G1126,Register!$K$1:$L$618,2)))","v":0},0,null,0,null,0,null,null,0,0,0,0,0,0]
[null,0,null,0,null,null,null,"00:00:00",0,0,0,{"$f":"IF(AND(J1127=0,K1127=0),,IF(G1127=0,\"KUNDE/LEV NR ?\",VLOOKUP(G1127,Register!$K$1:$L$618,2)))","v":0},0,null,0,null,0,null,null,0,0,0,0,0,0]
[null,0,null,0,null,null,null,"00:00:00",0,0,0,{"$f":"IF(AND(J1128=0,K1128=0),,IF(G1128=0,\"KUNDE/LEV NR ?\",VLOOKUP(G1128,Register!$K$1:$L$618,2)))","v":0},0,null,0,null,0,null,null,0,0,0,0,0,0]
[null,0,null,0,null,null,null,"00:00:00",0,0,0,{"$f":"IF(AND(J1129=0,K1129=0),,IF(G1129=0,\"KUNDE/LEV NR ?\",VLOOKUP(G1129,Register!$K$1:$L$618,2)))","v":0},0,null,0,null,0,null,null,0,0,0,0,0,0]
[null,0,null,0,null,null,null,"00:00:00",0,0,0,{"$f":"IF(AND(J1130=0,K1130=0),,IF(G1130=0,\"KUNDE/LEV NR ?\",VLOOKUP(G1130,Register!$K$1:$L$618,2)))","v":0},0,null,0,null,0,null,null,0,0,0,0,0,0]
[null,0,null,0,null,null,null,"00:00:00",0,0,0,{"$f":"IF(AND(J1131=0,K1131=0),,IF(G1131=0,\"KUNDE/LEV NR ?\",VLOOKUP(G1131,Register!$K$1:$L$618,2)))","v":0},0,null,0,null,0,null,null,0,0,0,0,0,0]
[null,0,null,0,null,null,null,"00:00:00",0,0,0,{"$f":"IF(AND(J1132=0,K1132=0),,IF(G1132=0,\"KUNDE/LEV NR ?\",VLOOKUP(G1132,Register!$K$1:$L$618,2)))","v":0},0,null,0,null,0,null,null,0,0,0,0,0,0]
[null,0,null,0,null,null,null,"00:00:00",0,0,0,{"$f":"IF(AND(J1133=0,K1133=0),,IF(G1133=0,\"KUNDE/LEV NR ?\",VLOOKUP(G1133,Register!$K$1:$L$618,2)))","v":0},0,null,0,null,0,null,null,0,0,0,0,0,0]
[null,0,null,0,null,null,null,"00:00:00",0,0,0,{"$f":"IF(AND(J1134=0,K1134=0),,IF(G1134=0,\"KUNDE/LEV NR ?\",VLOOKUP(G1134,Register!$K$1:$L$618,2)))","v":0},0,null,0,null,0,null,null,0,0,0,0,0,0]
[null,0,null,0,null,null,null,"00:00:00",0,0,0,{"$f":"IF(AND(J1135=0,K1135=0),,IF(G1135=0,\"KUNDE/LEV NR ?\",VLOOKUP(G1135,Register!$K$1:$L$618,2)))","v":0},0,null,0,null,0,null,null,0,0,0,0,0,0]
[null,0,null,0,null,null,null,"00:00:00",0,0,0,{"$f":"IF(AND(J1136=0,K1136=0),,IF(G1136=0,\"KUNDE/LEV NR ?\",VLOOKUP(G1136,Register!$K$1:$L$618,2)))","v":0},0,null,0,null,0,null,null,0,0,0,0,0,0]
[null,0,null,0,null,null,null,"00:00:00",0,0,0,{"$f":"IF(AND(J1137=0,K1137=0),,IF(G1137=0,\"KUNDE/LEV NR ?\",VLOOKUP(G1137,Register!$K$1:$L$618,2)))","v":0},0,null,0,null,0,null,null,0,0,0,0,0,0]
[null,0,null,0,null,null,null,"00:00:00",0,0,0,{"$f":"IF(AND(J1138=0,K1138=0),,IF(G1138=0,\"KUNDE/LEV NR ?\",VLOOKUP(G1138,Register!$K$1:$L$618,2)))","v":0},0,null,0,null,0,null,null,0,0,0,0,0,0]
[null,0,null,0,null,null,null,"00:00:00",0,0,0,{"$f":"IF(AND(J1139=0,K1139=0),,IF(G1139=0,\"KUNDE/LEV NR ?\",VLOOKUP(G1139,Register!$K$1:$L$618,2)))","v":0},0,null,0,null,0,null,null,0,0,0,0,0,0]
[null,0,null,0,null,null,null,"00:00:00",0,0,0,{"$f":"IF(AND(J1140=0,K1140=0),,IF(G1140=0,\"KUNDE/LEV NR ?\",VLOOKUP(G1140,Register!$K$1:$L$618,2)))","v":0},0,null,0,null,0,null,null,0,0,0,0,0,0]
[null,0,null,0,null,null,null,"00:00:00",0,0,0,{"$f":"IF(AND(J1141=0,K1141=0),,IF(G1141=0,\"KUNDE/LEV NR ?\",VLOOKUP(G1141,Register!$K$1:$L$618,2)))","v":0},0,null,0,null,0,null,null,0,0,0,0,0,0]
[null,0,null,0,null,null,null,"00:00:00",0,0,0,{"$f":"IF(AND(J1142=0,K1142=0),,IF(G1142=0,\"KUNDE/LEV NR ?\",VLOOKUP(G1142,Register!$K$1:$L$618,2)))","v":0},0,null,0,null,0,null,null,0,0,0,0,0,0]
[null,0,null,0,null,null,null,"00:00:00",0,0,0,{"$f":"IF(AND(J1143=0,K1143=0),,IF(G1143=0,\"KUNDE/LEV NR ?\",VLOOKUP(G1143,Register!$K$1:$L$618,2)))","v":0},0,null,0,null,0,null,null,0,0,0,0,0,0]
[null,0,null,0,null,null,null,"00:00:00",0,0,0,{"$f":"IF(AND(J1144=0,K1144=0),,IF(G1144=0,\"KUNDE/LEV NR ?\",VLOOKUP(G1144,Register!$K$1:$L$618,2)))","v":0},0,null,0,null,0,null,null,0,0,0,0,0,0]
[null,0,null,0,null,null,null,"00:00:00",0,0,0,{"$f":"IF(AND(J1145=0,K1145=0),,IF(G1145=0,\"KUNDE/LEV NR ?\",VLOOKUP(G1145,Register!$K$1:$L$618,2)))","v":0},0,null,0,null,0,null,null,0,0,0,0,0,0]
[null,0,null,0,null,null,null,"00:00:00",0,0,0,{"$f":"IF(AND(J1146=0,K1146=0),,IF(G1146=0,\"KUNDE/LEV NR ?\",VLOOKUP(G1146,Register!$K$1:$L$618,2)))","v":0},0,null,0,null,0,null,null,0,0,0,0,0,0]
[null,0,null,0,null,null,null,"00:00:00",0,0,0,{"$f":"IF(AND(J1147=0,K1147=0),,IF(G1147=0,\"KUNDE/LEV NR ?\",VLOOKUP(G1147,Register!$K$1:$L$618,2)))","v":0},0,null,0,null,0,null,null,0,0,0,0,0,0]
[null,0,null,0,null,null,null,"00:00:00",0,0,0,{"$f":"IF(AND(J1148=0,K1148=0),,IF(G1148=0,\"KUNDE/LEV NR ?\",VLOOKUP(G1148,Register!$K$1:$L$618,2)))","v":0},0,null,0,null,0,null,null,0,0,0,0,0,0]
[null,0,null,0,null,null,null,"00:00:00",0,0,0,{"$f":"IF(AND(J1149=0,K1149=0),,IF(G1149=0,\"KUNDE/LEV NR ?\",VLOOKUP(G1149,Register!$K$1:$L$618,2)))","v":0},0,null,0,null,0,null,null,0,0,0,0,0,0]
[null,0,null,0,null,null,null,"00:00:00",0,0,0,{"$f":"IF(AND(J1150=0,K1150=0),,IF(G1150=0,\"KUNDE/LEV NR ?\",VLOOKUP(G1150,Register!$K$1:$L$618,2)))","v":0},0,null,0,null,0,null,null,0,0,0,0,0,0]
[null,0,null,0,null,null,null,"00:00:00",0,0,0,{"$f":"IF(AND(J1151=0,K1151=0),,IF(G1151=0,\"KUNDE/LEV NR ?\",VLOOKUP(G1151,Register!$K$1:$L$618,2)))","v":0},0,null,0,null,0,null,null,0,0,0,0,0,0]
[null,0,null,0,null,null,null,"00:00:00",0,0,0,{"$f":"IF(AND(J1152=0,K1152=0),,IF(G1152=0,\"KUNDE/LEV NR ?\",VLOOKUP(G1152,Register!$K$1:$L$618,2)))","v":0},0,null,0,null,0,null,null,0,0,0,0,0,0]
[null,0,null,0,null,null,null,"00:00:00",0,0,0,{"$f":"IF(AND(J1153=0,K1153=0),,IF(G1153=0,\"KUNDE/LEV NR ?\",VLOOKUP(G1153,Register!$K$1:$L$618,2)))","v":0},0,null,0,null,0,null,null,0,0,0,0,0,0]
[null,0,null,0,null,null,null,"00:00:00",0,0,0,{"$f":"IF(AND(J1154=0,K1154=0),,IF(G1154=0,\"KUNDE/LEV NR ?\",VLOOKUP(G1154,Register!$K$1:$L$618,2)))","v":0},0,null,0,null,0,null,null,0,0,0,0,0,0]
[null,0,null,0,null,null,null,"00:00:00",0,0,0,{"$f":"IF(AND(J1155=0,K1155=0),,IF(G1155=0,\"KUNDE/LEV NR ?\",VLOOKUP(G1155,Register!$K$1:$L$618,2)))","v":0},0,null,0,null,0,null,null,0,0,0,0,0,0]
[null,0,null,0,null,null,null,"00:00:00",0,0,0,{"$f":"IF(AND(J1156=0,K1156=0),,IF(G1156=0,\"KUNDE/LEV NR ?\",VLOOKUP(G1156,Register!$K$1:$L$618,2)))","v":0},0,null,0,null,0,null,null,0,0,0,0,0,0]
[null,0,null,{"$f":"IF(C1157=0,,VLOOKUP(C1157,$AA$4:$AB$320,2))","v":0},null,null,null,"00:00:00",{"$f":"IF(H1157>0,\"d\",)","v":0},0,0,{"$f":"IF(AND(J1157=0,K1157=0),,IF(G1157=0,\"KUNDE/LEV NR ?\",VLOOKUP(G1157,Register!$K$1:$L$618,2)))","v":0},0,null,0,null,0,null,null,0,0,{"$f":"IF(R1157=0,,R1157/(1+VLOOKUP(P1157,$AC$5:$AD$362,2)))","v":0},{"$f":"IF(S1157=0,,S1157/(1+VLOOKUP(P1157,$AC$5:$AD$362,2)))","v":0},{"$f":"IF(P1157=0,,IF(P1157=P1158,,VLOOKUP(P1157,$AC$5:$AE$364,3)))","v":0},{"$f":"IF(P1157=0,,IF(P1157=P1158,,VLOOKUP(P1157,$AC$5:$AF$362,4)))","v":0}]
[null,0,null,0,null,null,null,"00:00:00",0,0,{"$f":"IF(AND(A1158>0,H1158>0),J1158*-1,)","v":0},{"$f":"IF(AND(J1158=0,K1158=0),,IF(G1158=0,\"KUNDE/LEV NR ?\",VLOOKUP(G1158,Register!$K$1:$L$618,2)))","v":0},0,null,0,null,0,null,null,0,0,0,0,0,0]
[null,0,null,0,null,null,null,"00:00:00",0,0,0,{"$f":"IF(AND(J1159=0,K1159=0),,IF(G1159=0,\"KUNDE/LEV NR ?\",VLOOKUP(G1159,Register!$K$1:$L$618,2)))","v":0},{"$f":"IF(ISNUMBER(A1159+B1159+E1159+F1159+G1159+H1159+J1159+K1159),A1159+B1159+E1159+F1159+G1159+H1159+J1159+K1159,\"FEIL\")","v":0},null,0,null,0,null,null,0,0,0,0,0,0]
[null,0,null,0,null,null,null,"00:00:00",0,0,0,{"$f":"IF(AND(J1160=0,K1160=0),,IF(G1160=0,\"KUNDE/LEV NR ?\",VLOOKUP(G1160,Register!$K$1:$L$618,2)))","v":0},0,null,0,null,0,null,null,0,0,0,0,0,0]
[null,0,null,0,null,null,null,"00:00:00",0,0,0,{"$f":"IF(AND(J1161=0,K1161=0),,IF(G1161=0,\"KUNDE/LEV NR ?\",VLOOKUP(G1161,Register!$K$1:$L$618,2)))","v":0},0,null,0,null,0,null,null,0,0,0,0,0,0]
[null,0,null,0,null,null,null,"00:00:00",0,0,0,{"$f":"IF(AND(J1162=0,K1162=0),,IF(G1162=0,\"KUNDE/LEV NR ?\",VLOOKUP(G1162,Register!$K$1:$L$618,2)))","v":0},0,null,0,null,0,null,null,0,0,0,0,0,0]
[null,{"$f":"IF(A1163>0,B1162+1,)","v":0},null,0,null,null,null,{"$f":"A1163","v":"00:00:00"},0,{"$f":"E1163*-1+F1163","v":0},0,{"$f":"IF(AND(J1163=0,K1163=0),,IF(G1163=0,\"KUNDE/LEV NR ?\",VLOOKUP(G1163,Register!$K$1:$L$618,2)))","v":0},0,null,0,null,0,null,null,0,0,0,0,0,0]
[null,0,null,0,null,null,null,"00:00:00",0,0,0,{"$f":"IF(AND(J1164=0,K1164=0),,IF(G1164=0,\"KUNDE/LEV NR ?\",VLOOKUP(G1164,Register!$K$1:$L$618,2)))","v":0},0,null,0,null,0,null,null,0,0,0,0,0,0]
[null,0,null,0,null,null,null,"00:00:00",0,0,0,{"$f":"IF(AND(J1165=0,K1165=0),,IF(G1165=0,\"KUNDE/LEV NR ?\",VLOOKUP(G1165,Register!$K$1:$L$618,2)))","v":0},0,null,0,null,0,null,null,0,0,0,0,0,0]
[null,0,null,0,null,null,null,"00:00:00",0,0,0,{"$f":"IF(AND(J1166=0,K1166=0),,IF(G1166=0,\"KUNDE/LEV NR ?\",VLOOKUP(G1166,Register!$K$1:$L$618,2)))","v":0},0,null,0,null,0,null,null,{"$f":"R1166-V1166","v":0},{"$f":"S1166-W1166","v":0},0,0,0,0]
[null,0,null,0,null,null,null,"00:00:00",0,0,0,{"$f":"IF(AND(J1167=0,K1167=0),,IF(G1167=0,\"KUNDE/LEV NR ?\",VLOOKUP(G1167,Register!$K$1:$L$618,2)))","v":0},0,null,0,null,0,null,null,0,0,0,0,0,0]
[null,0,null,0,null,null,null,"00:00:00",0,0,0,{"$f":"IF(AND(J1168=0,K1168=0),,IF(G1168=0,\"KUNDE/LEV NR ?\",VLOOKUP(G1168,Register!$K$1:$L$618,2)))","v":0},0,null,0,null,0,null,null,0,0,0,0,0,0]
[null,0,null,0,null,null,null,"00:00:00",0,0,0,{"$f":"IF(AND(J1169=0,K1169=0),,IF(G1169=0,\"KUNDE/LEV NR ?\",VLOOKUP(G1169,Register!$K$1:$L$618,2)))","v":0},0,null,0,null,0,null,null,0,0,0,0,0,0]
[null,0,null,0,null,null,null,"00:00:00",0,0,0,{"$f":"IF(AND(J1170=0,K1170=0),,IF(G1170=0,\"KUNDE/LEV NR ?\",VLOOKUP(G1170,Register!$K$1:$L$618,2)))","v":0},0,null,0,null,0,null,null,0,0,0,0,0,0]
[null,0,null,0,null,null,null,"00:00:00",0,0,0,{"$f":"IF(AND(J1171=0,K1171=0),,IF(G1171=0,\"KUNDE/LEV NR ?\",VLOOKUP(G1171,Register!$K$1:$L$618,2)))","v":0},0,null,0,null,0,null,null,0,0,0,0,0,0]
[null,0,null,0,null,null,null,"00:00:00",0,0,0,{"$f":"IF(AND(J1172=0,K1172=0),,IF(G1172=0,\"KUNDE/LEV NR ?\",VLOOKUP(G1172,Register!$K$1:$L$618,2)))","v":0},0,null,0,null,0,null,null,0,0,0,0,0,0]
[null,0,null,0,null,null,null,"00:00:00",0,0,0,{"$f":"IF(AND(J1173=0,K1173=0),,IF(G1173=0,\"KUNDE/LEV NR ?\",VLOOKUP(G1173,Register!$K$1:$L$618,2)))","v":0},0,null,0,null,0,null,null,0,0,0,0,0,0]
[null,0,null,0,null,null,null,"00:00:00",0,0,0,{"$f":"IF(AND(J1174=0,K1174=0),,IF(G1174=0,\"KUNDE/LEV NR ?\",VLOOKUP(G1174,Register!$K$1:$L$618,2)))","v":0},0,null,0,null,0,null,null,0,0,0,0,0,0]
[null,0,null,0,null,null,null,"00:00:00",0,0,0,{"$f":"IF(AND(J1175=0,K1175=0),,IF(G1175=0,\"KUNDE/LEV NR ?\",VLOOKUP(G1175,Register!$K$1:$L$618,2)))","v":0},0,null,0,null,0,null,null,0,0,0,0,0,0]
[null,0,null,0,null,null,null,"00:00:00",0,0,0,{"$f":"IF(AND(J1176=0,K1176=0),,IF(G1176=0,\"KUNDE/LEV NR ?\",VLOOKUP(G1176,Register!$K$1:$L$618,2)))","v":0},0,null,0,null,0,null,null,0,0,0,0,0,0]
[null,0,null,0,null,null,null,"00:00:00",0,0,0,{"$f":"IF(AND(J1177=0,K1177=0),,IF(G1177=0,\"KUNDE/LEV NR ?\",VLOOKUP(G1177,Register!$K$1:$L$618,2)))","v":0},0,null,0,null,0,null,null,0,0,0,0,0,0]
[null,0,null,0,null,null,null,"00:00:00",0,0,0,{"$f":"IF(AND(J1178=0,K1178=0),,IF(G1178=0,\"KUNDE/LEV NR ?\",VLOOKUP(G1178,Register!$K$1:$L$618,2)))","v":0},0,null,0,null,0,null,null,0,0,0,0,0,0]
[null,0,null,0,null,null,null,"00:00:00",0,0,0,{"$f":"IF(AND(J1179=0,K1179=0),,IF(G1179=0,\"KUNDE/LEV NR ?\",VLOOKUP(G1179,Register!$K$1:$L$618,2)))","v":0},0,null,0,null,0,null,null,0,0,0,0,0,0]
[null,0,null,0,null,null,null,"00:00:00",0,0,0,{"$f":"IF(AND(J1180=0,K1180=0),,IF(G1180=0,\"KUNDE/LEV NR ?\",VLOOKUP(G1180,Register!$K$1:$L$618,2)))","v":0},0,null,0,null,0,null,null,0,0,0,0,0,0]
[null,0,null,0,null,null,null,"00:00:00",0,0,0,{"$f":"IF(AND(J1181=0,K1181=0),,IF(G1181=0,\"KUNDE/LEV NR ?\",VLOOKUP(G1181,Register!$K$1:$L$618,2)))","v":0},0,null,0,null,0,null,null,0,0,0,0,0,0]
[null,0,null,0,null,null,null,"00:00:00",0,0,0,{"$f":"IF(AND(J1182=0,K1182=0),,IF(G1182=0,\"KUNDE/LEV NR ?\",VLOOKUP(G1182,Register!$K$1:$L$618,2)))","v":0},0,null,0,null,0,null,null,0,0,0,0,0,0]
[null,0,null,0,null,null,null,"00:00:00",0,0,0,{"$f":"IF(AND(J1183=0,K1183=0),,IF(G1183=0,\"KUNDE/LEV NR ?\",VLOOKUP(G1183,Register!$K$1:$L$618,2)))","v":0},0,null,0,null,0,null,null,0,0,0,0,0,0]
[null,0,null,0,null,null,null,"00:00:00",0,0,0,{"$f":"IF(AND(J1184=0,K1184=0),,IF(G1184=0,\"KUNDE/LEV NR ?\",VLOOKUP(G1184,Register!$K$1:$L$618,2)))","v":0},0,null,0,null,0,null,null,0,0,0,0,0,0]
[null,0,null,0,null,null,null,"00:00:00",0,0,0,{"$f":"IF(AND(J1185=0,K1185=0),,IF(G1185=0,\"KUNDE/LEV NR ?\",VLOOKUP(G1185,Register!$K$1:$L$618,2)))","v":0},0,null,0,null,0,null,null,0,0,0,0,0,0]
[null,0,null,0,null,null,null,"00:00:00",0,0,0,{"$f":"IF(AND(J1186=0,K1186=0),,IF(G1186=0,\"KUNDE/LEV NR ?\",VLOOKUP(G1186,Register!$K$1:$L$618,2)))","v":0},0,null,0,null,0,null,null,0,0,0,0,0,0]
[null,0,null,0,null,null,null,"00:00:00",0,0,0,{"$f":"IF(AND(J1187=0,K1187=0),,IF(G1187=0,\"KUNDE/LEV NR ?\",VLOOKUP(G1187,Register!$K$1:$L$618,2)))","v":0},0,null,0,null,0,null,null,0,0,0,0,0,0]
[null,0,null,0,null,null,null,"00:00:00",0,0,0,{"$f":"IF(AND(J1188=0,K1188=0),,IF(G1188=0,\"KUNDE/LEV NR ?\",VLOOKUP(G1188,Register!$K$1:$L$618,2)))","v":0},0,null,0,null,0,null,null,0,0,0,0,0,0]
[null,0,null,0,null,null,null,"00:00:00",0,0,0,{"$f":"IF(AND(J1189=0,K1189=0),,IF(G1189=0,\"KUNDE/LEV NR ?\",VLOOKUP(G1189,Register!$K$1:$L$618,2)))","v":0},0,null,0,null,0,null,null,0,0,0,0,0,0]
[null,0,null,0,null,null,null,"00:00:00",0,0,0,{"$f":"IF(AND(J1190=0,K1190=0),,IF(G1190=0,\"KUNDE/LEV NR ?\",VLOOKUP(G1190,Register!$K$1:$L$618,2)))","v":0},0,null,0,null,0,null,null,0,0,0,0,0,0]
[null,0,null,0,null,null,null,"00:00:00",0,0,0,{"$f":"IF(AND(J1191=0,K1191=0),,IF(G1191=0,\"KUNDE/LEV NR ?\",VLOOKUP(G1191,Register!$K$1:$L$618,2)))","v":0},0,null,0,null,0,null,null,0,0,0,0,0,0]
[null,0,null,0,null,null,null,"00:00:00",0,0,0,{"$f":"IF(AND(J1192=0,K1192=0),,IF(G1192=0,\"KUNDE/LEV NR ?\",VLOOKUP(G1192,Register!$K$1:$L$618,2)))","v":0},0,null,0,null,0,null,null,0,0,0,0,0,0]
[null,0,null,0,null,null,null,"00:00:00",0,0,0,{"$f":"IF(AND(J1193=0,K1193=0),,IF(G1193=0,\"KUNDE/LEV NR ?\",VLOOKUP(G1193,Register!$K$1:$L$618,2)))","v":0},0,null,0,null,0,null,null,0,0,0,0,0,0]
[null,0,null,0,null,null,null,"00:00:00",0,0,0,{"$f":"IF(AND(J1194=0,K1194=0),,IF(G1194=0,\"KUNDE/LEV NR ?\",VLOOKUP(G1194,Register!$K$1:$L$618,2)))","v":0},0,null,0,null,0,null,null,0,0,0,0,0,0]
[null,0,null,0,null,null,null,"00:00:00",0,0,0,{"$f":"IF(AND(J1195=0,K1195=0),,IF(G1195=0,\"KUNDE/LEV NR ?\",VLOOKUP(G1195,Register!$K$1:$L$618,2)))","v":0},0,null,0,null,0,null,null,0,0,0,0,0,0]
[null,0,null,0,null,null,null,"00:00:00",0,0,0,{"$f":"IF(AND(J1196=0,K1196=0),,IF(G1196=0,\"KUNDE/LEV NR ?\",VLOOKUP(G1196,Register!$K$1:$L$618,2)))","v":0},0,null,0,null,0,null,null,0,0,0,0,0,0]
[null,0,null,0,null,null,null,"00:00:00",0,0,0,{"$f":"IF(AND(J1197=0,K1197=0),,IF(G1197=0,\"KUNDE/LEV NR ?\",VLOOKUP(G1197,Register!$K$1:$L$618,2)))","v":0},0,null,0,null,0,null,null,0,0,0,0,0,0]
[null,0,null,0,null,null,null,"00:00:00",0,0,0,{"$f":"IF(AND(J1198=0,K1198=0),,IF(G1198=0,\"KUNDE/LEV NR ?\",VLOOKUP(G1198,Register!$K$1:$L$618,2)))","v":0},0,null,0,null,0,null,null,0,0,0,0,0,0]
[null,0,null,0,null,null,null,"00:00:00",0,0,0,{"$f":"IF(AND(J1199=0,K1199=0),,IF(G1199=0,\"KUNDE/LEV NR ?\",VLOOKUP(G1199,Register!$K$1:$L$618,2)))","v":0},0,null,0,null,0,null,null,0,0,0,0,0,0]
[null,0,null,0,null,null,null,"00:00:00",0,0,0,{"$f":"IF(AND(J1200=0,K1200=0),,IF(G1200=0,\"KUNDE/LEV NR ?\",VLOOKUP(G1200,Register!$K$1:$L$618,2)))","v":0},0,null,0,null,0,null,null,0,0,0,0,0,0]
[null,0,null,0,null,null,null,"00:00:00",0,0,0,{"$f":"IF(AND(J1201=0,K1201=0),,IF(G1201=0,\"KUNDE/LEV NR ?\",VLOOKUP(G1201,Register!$K$1:$L$618,2)))","v":0},0,null,0,null,0,null,null,0,0,0,0,0,0]
[null,0,null,0,null,null,null,"00:00:00",0,0,0,{"$f":"IF(AND(J1202=0,K1202=0),,IF(G1202=0,\"KUNDE/LEV NR ?\",VLOOKUP(G1202,Register!$K$1:$L$618,2)))","v":0},0,null,0,null,0,null,null,0,0,0,0,0,0]
[null,0,null,0,null,null,null,"00:00:00",0,0,0,{"$f":"IF(AND(J1203=0,K1203=0),,IF(G1203=0,\"KUNDE/LEV NR ?\",VLOOKUP(G1203,Register!$K$1:$L$618,2)))","v":0},0,null,0,null,0,null,null,0,0,0,0,0,0]
[null,0,null,0,null,null,null,"00:00:00",0,0,0,{"$f":"IF(AND(J1204=0,K1204=0),,IF(G1204=0,\"KUNDE/LEV NR ?\",VLOOKUP(G1204,Register!$K$1:$L$618,2)))","v":0},0,null,0,null,0,null,null,0,0,0,0,0,0]
[null,0,null,0,null,null,null,"00:00:00",0,0,0,{"$f":"IF(AND(J1205=0,K1205=0),,IF(G1205=0,\"KUNDE/LEV NR ?\",VLOOKUP(G1205,Register!$K$1:$L$618,2)))","v":0},0,null,0,null,0,null,null,0,0,0,0,0,0]
[null,0,null,0,null,null,null,"00:00:00",0,0,0,{"$f":"IF(AND(J1206=0,K1206=0),,IF(G1206=0,\"KUNDE/LEV NR ?\",VLOOKUP(G1206,Register!$K$1:$L$618,2)))","v":0},0,null,0,null,0,null,null,0,0,0,0,0,0]
[null,0,null,0,null,null,null,"00:00:00",0,0,0,{"$f":"IF(AND(J1207=0,K1207=0),,IF(G1207=0,\"KUNDE/LEV NR ?\",VLOOKUP(G1207,Register!$K$1:$L$618,2)))","v":0},0,null,0,null,0,null,null,0,0,0,0,0,0]
[null,0,null,0,null,null,null,"00:00:00",0,0,0,{"$f":"IF(AND(J1208=0,K1208=0),,IF(G1208=0,\"KUNDE/LEV NR ?\",VLOOKUP(G1208,Register!$K$1:$L$618,2)))","v":0},0,null,0,null,0,null,null,0,0,0,0,0,0]
[null,0,null,0,null,null,null,"00:00:00",0,0,0,{"$f":"IF(AND(J1209=0,K1209=0),,IF(G1209=0,\"KUNDE/LEV NR ?\",VLOOKUP(G1209,Register!$K$1:$L$618,2)))","v":0},0,null,0,null,0,null,null,0,0,0,0,0,0]
[null,0,null,0,null,null,null,"00:00:00",0,0,0,{"$f":"IF(AND(J1210=0,K1210=0),,IF(G1210=0,\"KUNDE/LEV NR ?\",VLOOKUP(G1210,Register!$K$1:$L$618,2)))","v":0},0,null,0,null,0,null,null,0,0,0,0,0,0]
[null,0,null,0,null,null,null,"00:00:00",0,0,0,{"$f":"IF(AND(J1211=0,K1211=0),,IF(G1211=0,\"KUNDE/LEV NR ?\",VLOOKUP(G1211,Register!$K$1:$L$618,2)))","v":0},0,null,0,null,0,null,null,0,0,0,0,0,0]
[null,0,null,0,null,null,null,"00:00:00",0,0,0,{"$f":"IF(AND(J1212=0,K1212=0),,IF(G1212=0,\"KUNDE/LEV NR ?\",VLOOKUP(G1212,Register!$K$1:$L$618,2)))","v":0},0,null,0,null,0,null,null,0,0,0,0,0,0]
[null,0,null,0,null,null,null,"00:00:00",0,0,0,{"$f":"IF(AND(J1213=0,K1213=0),,IF(G1213=0,\"KUNDE/LEV NR ?\",VLOOKUP(G1213,Register!$K$1:$L$618,2)))","v":0},0,null,0,null,0,null,null,0,0,0,0,0,0]
[null,0,null,0,null,null,null,"00:00:00",0,0,0,{"$f":"IF(AND(J1214=0,K1214=0),,IF(G1214=0,\"KUNDE/LEV NR ?\",VLOOKUP(G1214,Register!$K$1:$L$618,2)))","v":0},0,null,0,null,0,null,null,0,0,0,0,0,0]
[null,0,null,0,null,null,null,"00:00:00",0,0,0,{"$f":"IF(AND(J1215=0,K1215=0),,IF(G1215=0,\"KUNDE/LEV NR ?\",VLOOKUP(G1215,Register!$K$1:$L$618,2)))","v":0},0,null,0,null,0,null,null,0,0,0,0,0,0]
[null,0,null,0,null,null,null,"00:00:00",0,0,0,{"$f":"IF(AND(J1216=0,K1216=0),,IF(G1216=0,\"KUNDE/LEV NR ?\",VLOOKUP(G1216,Register!$K$1:$L$618,2)))","v":0},0,null,0,null,0,null,null,0,0,0,0,0,0]
[null,0,null,0,null,null,null,"00:00:00",0,0,0,{"$f":"IF(AND(J1217=0,K1217=0),,IF(G1217=0,\"KUNDE/LEV NR ?\",VLOOKUP(G1217,Register!$K$1:$L$618,2)))","v":0},0,null,0,null,0,null,null,0,0,0,0,0,0]
[null,0,null,0,null,null,null,"00:00:00",0,0,0,{"$f":"IF(AND(J1218=0,K1218=0),,IF(G1218=0,\"KUNDE/LEV NR ?\",VLOOKUP(G1218,Register!$K$1:$L$618,2)))","v":0},0,null,0,null,0,null,null,0,0,0,0,0,0]
[null,0,null,0,null,null,null,"00:00:00",0,0,0,{"$f":"IF(AND(J1219=0,K1219=0),,IF(G1219=0,\"KUNDE/LEV NR ?\",VLOOKUP(G1219,Register!$K$1:$L$618,2)))","v":0},0,null,0,null,0,null,null,0,0,0,0,0,0]
[null,0,null,0,null,null,null,"00:00:00",0,0,0,{"$f":"IF(AND(J1220=0,K1220=0),,IF(G1220=0,\"KUNDE/LEV NR ?\",VLOOKUP(G1220,Register!$K$1:$L$618,2)))","v":0},0,null,0,null,0,null,null,0,0,0,0,0,0]
[null,0,null,{"$f":"IF(C1221=0,,VLOOKUP(C1221,$AA$4:$AB$320,2))","v":0},null,null,null,"00:00:00",{"$f":"IF(H1221>0,\"d\",)","v":0},0,0,{"$f":"IF(AND(J1221=0,K1221=0),,IF(G1221=0,\"KUNDE/LEV NR ?\",VLOOKUP(G1221,Register!$K$1:$L$618,2)))","v":0},0,null,0,null,0,null,null,0,0,{"$f":"IF(R1221=0,,R1221/(1+VLOOKUP(P1221,$AC$5:$AD$362,2)))","v":0},{"$f":"IF(S1221=0,,S1221/(1+VLOOKUP(P1221,$AC$5:$AD$362,2)))","v":0},{"$f":"IF(P1221=0,,IF(P1221=P1222,,VLOOKUP(P1221,$AC$5:$AE$364,3)))","v":0},{"$f":"IF(P1221=0,,IF(P1221=P1222,,VLOOKUP(P1221,$AC$5:$AF$362,4)))","v":0}]
[null,0,null,0,null,null,null,"00:00:00",0,0,{"$f":"IF(AND(A1222>0,H1222>0),J1222*-1,)","v":0},{"$f":"IF(AND(J1222=0,K1222=0),,IF(G1222=0,\"KUNDE/LEV NR ?\",VLOOKUP(G1222,Register!$K$1:$L$618,2)))","v":0},0,null,0,null,0,null,null,0,0,0,0,0,0]
[null,0,null,0,null,null,null,"00:00:00",0,0,0,{"$f":"IF(AND(J1223=0,K1223=0),,IF(G1223=0,\"KUNDE/LEV NR ?\",VLOOKUP(G1223,Register!$K$1:$L$618,2)))","v":0},{"$f":"IF(ISNUMBER(A1223+B1223+E1223+F1223+G1223+H1223+J1223+K1223),A1223+B1223+E1223+F1223+G1223+H1223+J1223+K1223,\"FEIL\")","v":0},null,0,null,0,null,null,0,0,0,0,0,0]
[null,0,null,0,null,null,null,"00:00:00",0,0,0,{"$f":"IF(AND(J1224=0,K1224=0),,IF(G1224=0,\"KUNDE/LEV NR ?\",VLOOKUP(G1224,Register!$K$1:$L$618,2)))","v":0},0,null,0,null,0,null,null,0,0,0,0,0,0]
[null,0,null,0,null,null,null,"00:00:00",0,0,0,{"$f":"IF(AND(J1225=0,K1225=0),,IF(G1225=0,\"KUNDE/LEV NR ?\",VLOOKUP(G1225,Register!$K$1:$L$618,2)))","v":0},0,null,0,null,0,null,null,0,0,0,0,0,0]
[null,0,null,0,null,null,null,"00:00:00",0,0,0,{"$f":"IF(AND(J1226=0,K1226=0),,IF(G1226=0,\"KUNDE/LEV NR ?\",VLOOKUP(G1226,Register!$K$1:$L$618,2)))","v":0},0,null,0,null,0,null,null,0,0,0,0,0,0]
[null,{"$f":"IF(A1227>0,B1226+1,)","v":0},null,0,null,null,null,{"$f":"A1227","v":"00:00:00"},0,{"$f":"E1227*-1+F1227","v":0},0,{"$f":"IF(AND(J1227=0,K1227=0),,IF(G1227=0,\"KUNDE/LEV NR ?\",VLOOKUP(G1227,Register!$K$1:$L$618,2)))","v":0},0,null,0,null,0,null,null,0,0,0,0,0,0]
[null,0,null,0,null,null,null,"00:00:00",0,0,0,{"$f":"IF(AND(J1228=0,K1228=0),,IF(G1228=0,\"KUNDE/LEV NR ?\",VLOOKUP(G1228,Register!$K$1:$L$618,2)))","v":0},0,null,0,null,0,null,null,0,0,0,0,0,0]
[null,0,null,0,null,null,null,"00:00:00",0,0,0,{"$f":"IF(AND(J1229=0,K1229=0),,IF(G1229=0,\"KUNDE/LEV NR ?\",VLOOKUP(G1229,Register!$K$1:$L$618,2)))","v":0},0,null,0,null,0,null,null,0,0,0,0,0,0]
[null,0,null,0,null,null,null,"00:00:00",0,0,0,{"$f":"IF(AND(J1230=0,K1230=0),,IF(G1230=0,\"KUNDE/LEV NR ?\",VLOOKUP(G1230,Register!$K$1:$L$618,2)))","v":0},0,null,0,null,0,null,null,{"$f":"R1230-V1230","v":0},{"$f":"S1230-W1230","v":0},0,0,0,0]
[null,0,null,0,null,null,null,"00:00:00",0,0,0,{"$f":"IF(AND(J1231=0,K1231=0),,IF(G1231=0,\"KUNDE/LEV NR ?\",VLOOKUP(G1231,Register!$K$1:$L$618,2)))","v":0},0,null,0,null,0,null,null,0,0,0,0,0,0]
[null,0,null,0,null,null,null,"00:00:00",0,0,0,{"$f":"IF(AND(J1232=0,K1232=0),,IF(G1232=0,\"KUNDE/LEV NR ?\",VLOOKUP(G1232,Register!$K$1:$L$618,2)))","v":0},0,null,0,null,0,null,null,0,0,0,0,0,0]
[null,0,null,0,null,null,null,"00:00:00",0,0,0,{"$f":"IF(AND(J1233=0,K1233=0),,IF(G1233=0,\"KUNDE/LEV NR ?\",VLOOKUP(G1233,Register!$K$1:$L$618,2)))","v":0},0,null,0,null,0,null,null,0,0,0,0,0,0]
[null,0,null,0,null,null,null,"00:00:00",0,0,0,{"$f":"IF(AND(J1234=0,K1234=0),,IF(G1234=0,\"KUNDE/LEV NR ?\",VLOOKUP(G1234,Register!$K$1:$L$618,2)))","v":0},0,null,0,null,0,null,null,0,0,0,0,0,0]
[null,0,null,0,null,null,null,"00:00:00",0,0,0,{"$f":"IF(AND(J1235=0,K1235=0),,IF(G1235=0,\"KUNDE/LEV NR ?\",VLOOKUP(G1235,Register!$K$1:$L$618,2)))","v":0},0,null,0,null,0,null,null,0,0,0,0,0,0]
[null,0,null,0,null,null,null,"00:00:00",0,0,0,{"$f":"IF(AND(J1236=0,K1236=0),,IF(G1236=0,\"KUNDE/LEV NR ?\",VLOOKUP(G1236,Register!$K$1:$L$618,2)))","v":0},0,null,0,null,0,null,null,0,0,0,0,0,0]
[null,0,null,0,null,null,null,"00:00:00",0,0,0,{"$f":"IF(AND(J1237=0,K1237=0),,IF(G1237=0,\"KUNDE/LEV NR ?\",VLOOKUP(G1237,Register!$K$1:$L$618,2)))","v":0},0,null,0,null,0,null,null,0,0,0,0,0,0]
[null,0,null,0,null,null,null,"00:00:00",0,0,0,{"$f":"IF(AND(J1238=0,K1238=0),,IF(G1238=0,\"KUNDE/LEV NR ?\",VLOOKUP(G1238,Register!$K$1:$L$618,2)))","v":0},0,null,0,null,0,null,null,0,0,0,0,0,0]
[null,0,null,0,null,null,null,"00:00:00",0,0,0,{"$f":"IF(AND(J1239=0,K1239=0),,IF(G1239=0,\"KUNDE/LEV NR ?\",VLOOKUP(G1239,Register!$K$1:$L$618,2)))","v":0},0,null,0,null,0,null,null,0,0,0,0,0,0]
[null,0,null,0,null,null,null,"00:00:00",0,0,0,{"$f":"IF(AND(J1240=0,K1240=0),,IF(G1240=0,\"KUNDE/LEV NR ?\",VLOOKUP(G1240,Register!$K$1:$L$618,2)))","v":0},0,null,0,null,0,null,null,0,0,0,0,0,0]
[null,0,null,0,null,null,null,"00:00:00",0,0,0,{"$f":"IF(AND(J1241=0,K1241=0),,IF(G1241=0,\"KUNDE/LEV NR ?\",VLOOKUP(G1241,Register!$K$1:$L$618,2)))","v":0},0,null,0,null,0,null,null,0,0,0,0,0,0]
[null,0,null,0,null,null,null,"00:00:00",0,0,0,{"$f":"IF(AND(J1242=0,K1242=0),,IF(G1242=0,\"KUNDE/LEV NR ?\",VLOOKUP(G1242,Register!$K$1:$L$618,2)))","v":0},0,null,0,null,0,null,null,0,0,0,0,0,0]
[null,0,null,0,null,null,null,"00:00:00",0,0,0,{"$f":"IF(AND(J1243=0,K1243=0),,IF(G1243=0,\"KUNDE/LEV NR ?\",VLOOKUP(G1243,Register!$K$1:$L$618,2)))","v":0},0,null,0,null,0,null,null,0,0,0,0,0,0]
[null,0,null,0,null,null,null,"00:00:00",0,0,0,{"$f":"IF(AND(J1244=0,K1244=0),,IF(G1244=0,\"KUNDE/LEV NR ?\",VLOOKUP(G1244,Register!$K$1:$L$618,2)))","v":0},0,null,0,null,0,null,null,0,0,0,0,0,0]
[null,0,null,0,null,null,null,"00:00:00",0,0,0,{"$f":"IF(AND(J1245=0,K1245=0),,IF(G1245=0,\"KUNDE/LEV NR ?\",VLOOKUP(G1245,Register!$K$1:$L$618,2)))","v":0},0,null,0,null,0,null,null,0,0,0,0,0,0]
[null,0,null,0,null,null,null,"00:00:00",0,0,0,{"$f":"IF(AND(J1246=0,K1246=0),,IF(G1246=0,\"KUNDE/LEV NR ?\",VLOOKUP(G1246,Register!$K$1:$L$618,2)))","v":0},0,null,0,null,0,null,null,0,0,0,0,0,0]
[null,0,null,0,null,null,null,"00:00:00",0,0,0,{"$f":"IF(AND(J1247=0,K1247=0),,IF(G1247=0,\"KUNDE/LEV NR ?\",VLOOKUP(G1247,Register!$K$1:$L$618,2)))","v":0},0,null,0,null,0,null,null,0,0,0,0,0,0]
[null,0,null,0,null,null,null,"00:00:00",0,0,0,{"$f":"IF(AND(J1248=0,K1248=0),,IF(G1248=0,\"KUNDE/LEV NR ?\",VLOOKUP(G1248,Register!$K$1:$L$618,2)))","v":0},0,null,0,null,0,null,null,0,0,0,0,0,0]
[null,0,null,0,null,null,null,"00:00:00",0,0,0,{"$f":"IF(AND(J1249=0,K1249=0),,IF(G1249=0,\"KUNDE/LEV NR ?\",VLOOKUP(G1249,Register!$K$1:$L$618,2)))","v":0},0,null,0,null,0,null,null,0,0,0,0,0,0]
[null,0,null,0,null,null,null,"00:00:00",0,0,0,{"$f":"IF(AND(J1250=0,K1250=0),,IF(G1250=0,\"KUNDE/LEV NR ?\",VLOOKUP(G1250,Register!$K$1:$L$618,2)))","v":0},0,null,0,null,0,null,null,0,0,0,0,0,0]
[null,0,null,0,null,null,null,"00:00:00",0,0,0,{"$f":"IF(AND(J1251=0,K1251=0),,IF(G1251=0,\"KUNDE/LEV NR ?\",VLOOKUP(G1251,Register!$K$1:$L$618,2)))","v":0},0,null,0,null,0,null,null,0,0,0,0,0,0]
[null,0,null,0,null,null,null,"00:00:00",0,0,0,{"$f":"IF(AND(J1252=0,K1252=0),,IF(G1252=0,\"KUNDE/LEV NR ?\",VLOOKUP(G1252,Register!$K$1:$L$618,2)))","v":0},0,null,0,null,0,null,null,0,0,0,0,0,0]
[null,0,null,0,null,null,null,"00:00:00",0,0,0,{"$f":"IF(AND(J1253=0,K1253=0),,IF(G1253=0,\"KUNDE/LEV NR ?\",VLOOKUP(G1253,Register!$K$1:$L$618,2)))","v":0},0,null,0,null,0,null,null,0,0,0,0,0,0]
[null,0,null,0,null,null,null,"00:00:00",0,0,0,{"$f":"IF(AND(J1254=0,K1254=0),,IF(G1254=0,\"KUNDE/LEV NR ?\",VLOOKUP(G1254,Register!$K$1:$L$618,2)))","v":0},0,null,0,null,0,null,null,0,0,0,0,0,0]
[null,0,null,0,null,null,null,"00:00:00",0,0,0,{"$f":"IF(AND(J1255=0,K1255=0),,IF(G1255=0,\"KUNDE/LEV NR ?\",VLOOKUP(G1255,Register!$K$1:$L$618,2)))","v":0},0,null,0,null,0,null,null,0,0,0,0,0,0]
[null,0,null,0,null,null,null,"00:00:00",0,0,0,{"$f":"IF(AND(J1256=0,K1256=0),,IF(G1256=0,\"KUNDE/LEV NR ?\",VLOOKUP(G1256,Register!$K$1:$L$618,2)))","v":0},0,null,0,null,0,null,null,0,0,0,0,0,0]
[null,0,null,0,null,null,null,"00:00:00",0,0,0,{"$f":"IF(AND(J1257=0,K1257=0),,IF(G1257=0,\"KUNDE/LEV NR ?\",VLOOKUP(G1257,Register!$K$1:$L$618,2)))","v":0},0,null,0,null,0,null,null,0,0,0,0,0,0]
[null,0,null,0,null,null,null,"00:00:00",0,0,0,{"$f":"IF(AND(J1258=0,K1258=0),,IF(G1258=0,\"KUNDE/LEV NR ?\",VLOOKUP(G1258,Register!$K$1:$L$618,2)))","v":0},0,null,0,null,0,null,null,0,0,0,0,0,0]
[null,0,null,0,null,null,null,"00:00:00",0,0,0,{"$f":"IF(AND(J1259=0,K1259=0),,IF(G1259=0,\"KUNDE/LEV NR ?\",VLOOKUP(G1259,Register!$K$1:$L$618,2)))","v":0},0,null,0,null,0,null,null,0,0,0,0,0,0]
[null,0,null,0,null,null,null,"00:00:00",0,0,0,{"$f":"IF(AND(J1260=0,K1260=0),,IF(G1260=0,\"KUNDE/LEV NR ?\",VLOOKUP(G1260,Register!$K$1:$L$618,2)))","v":0},0,null,0,null,0,null,null,0,0,0,0,0,0]
[null,0,null,0,null,null,null,"00:00:00",0,0,0,{"$f":"IF(AND(J1261=0,K1261=0),,IF(G1261=0,\"KUNDE/LEV NR ?\",VLOOKUP(G1261,Register!$K$1:$L$618,2)))","v":0},0,null,0,null,0,null,null,0,0,0,0,0,0]
[null,0,null,0,null,null,null,"00:00:00",0,0,0,{"$f":"IF(AND(J1262=0,K1262=0),,IF(G1262=0,\"KUNDE/LEV NR ?\",VLOOKUP(G1262,Register!$K$1:$L$618,2)))","v":0},0,null,0,null,0,null,null,0,0,0,0,0,0]
[null,0,null,0,null,null,null,"00:00:00",0,0,0,{"$f":"IF(AND(J1263=0,K1263=0),,IF(G1263=0,\"KUNDE/LEV NR ?\",VLOOKUP(G1263,Register!$K$1:$L$618,2)))","v":0},0,null,0,null,0,null,null,0,0,0,0,0,0]
[null,0,null,0,null,null,null,"00:00:00",0,0,0,{"$f":"IF(AND(J1264=0,K1264=0),,IF(G1264=0,\"KUNDE/LEV NR ?\",VLOOKUP(G1264,Register!$K$1:$L$618,2)))","v":0},0,null,0,null,0,null,null,0,0,0,0,0,0]
[null,0,null,0,null,null,null,"00:00:00",0,0,0,{"$f":"IF(AND(J1265=0,K1265=0),,IF(G1265=0,\"KUNDE/LEV NR ?\",VLOOKUP(G1265,Register!$K$1:$L$618,2)))","v":0},0,null,0,null,0,null,null,0,0,0,0,0,0]
[null,0,null,0,null,null,null,"00:00:00",0,0,0,{"$f":"IF(AND(J1266=0,K1266=0),,IF(G1266=0,\"KUNDE/LEV NR ?\",VLOOKUP(G1266,Register!$K$1:$L$618,2)))","v":0},0,null,0,null,0,null,null,0,0,0,0,0,0]
[null,0,null,0,null,null,null,"00:00:00",0,0,0,{"$f":"IF(AND(J1267=0,K1267=0),,IF(G1267=0,\"KUNDE/LEV NR ?\",VLOOKUP(G1267,Register!$K$1:$L$618,2)))","v":0},0,null,0,null,0,null,null,0,0,0,0,0,0]
[null,0,null,0,null,null,null,"00:00:00",0,0,0,{"$f":"IF(AND(J1268=0,K1268=0),,IF(G1268=0,\"KUNDE/LEV NR ?\",VLOOKUP(G1268,Register!$K$1:$L$618,2)))","v":0},0,null,0,null,0,null,null,0,0,0,0,0,0]
[null,0,null,0,null,null,null,"00:00:00",0,0,0,{"$f":"IF(AND(J1269=0,K1269=0),,IF(G1269=0,\"KUNDE/LEV NR ?\",VLOOKUP(G1269,Register!$K$1:$L$618,2)))","v":0},0,null,0,null,0,null,null,0,0,0,0,0,0]
[null,0,null,0,null,null,null,"00:00:00",0,0,0,{"$f":"IF(AND(J1270=0,K1270=0),,IF(G1270=0,\"KUNDE/LEV NR ?\",VLOOKUP(G1270,Register!$K$1:$L$618,2)))","v":0},0,null,0,null,0,null,null,0,0,0,0,0,0]
[null,0,null,0,null,null,null,"00:00:00",0,0,0,{"$f":"IF(AND(J1271=0,K1271=0),,IF(G1271=0,\"KUNDE/LEV NR ?\",VLOOKUP(G1271,Register!$K$1:$L$618,2)))","v":0},0,null,0,null,0,null,null,0,0,0,0,0,0]
[null,0,null,0,null,null,null,"00:00:00",0,0,0,{"$f":"IF(AND(J1272=0,K1272=0),,IF(G1272=0,\"KUNDE/LEV NR ?\",VLOOKUP(G1272,Register!$K$1:$L$618,2)))","v":0},0,null,0,null,0,null,null,0,0,0,0,0,0]
[null,0,null,0,null,null,null,"00:00:00",0,0,0,{"$f":"IF(AND(J1273=0,K1273=0),,IF(G1273=0,\"KUNDE/LEV NR ?\",VLOOKUP(G1273,Register!$K$1:$L$618,2)))","v":0},0,null,0,null,0,null,null,0,0,0,0,0,0]
[null,0,null,0,null,null,null,"00:00:00",0,0,0,{"$f":"IF(AND(J1274=0,K1274=0),,IF(G1274=0,\"KUNDE/LEV NR ?\",VLOOKUP(G1274,Register!$K$1:$L$618,2)))","v":0},0,null,0,null,0,null,null,0,0,0,0,0,0]
[null,0,null,0,null,null,null,"00:00:00",0,0,0,{"$f":"IF(AND(J1275=0,K1275=0),,IF(G1275=0,\"KUNDE/LEV NR ?\",VLOOKUP(G1275,Register!$K$1:$L$618,2)))","v":0},0,null,0,null,0,null,null,0,0,0,0,0,0]
[null,0,null,0,null,null,null,"00:00:00",0,0,0,{"$f":"IF(AND(J1276=0,K1276=0),,IF(G1276=0,\"KUNDE/LEV NR ?\",VLOOKUP(G1276,Register!$K$1:$L$618,2)))","v":0},0,null,0,null,0,null,null,0,0,0,0,0,0]
[null,0,null,0,null,null,null,"00:00:00",0,0,0,{"$f":"IF(AND(J1277=0,K1277=0),,IF(G1277=0,\"KUNDE/LEV NR ?\",VLOOKUP(G1277,Register!$K$1:$L$618,2)))","v":0},0,null,0,null,0,null,null,0,0,0,0,0,0]
[null,0,null,0,null,null,null,"00:00:00",0,0,0,{"$f":"IF(AND(J1278=0,K1278=0),,IF(G1278=0,\"KUNDE/LEV NR ?\",VLOOKUP(G1278,Register!$K$1:$L$618,2)))","v":0},0,null,0,null,0,null,null,0,0,0,0,0,0]
[null,0,null,0,null,null,null,"00:00:00",0,0,0,{"$f":"IF(AND(J1279=0,K1279=0),,IF(G1279=0,\"KUNDE/LEV NR ?\",VLOOKUP(G1279,Register!$K$1:$L$618,2)))","v":0},0,null,0,null,0,null,null,0,0,0,0,0,0]
[null,0,null,0,null,null,null,"00:00:00",0,0,0,{"$f":"IF(AND(J1280=0,K1280=0),,IF(G1280=0,\"KUNDE/LEV NR ?\",VLOOKUP(G1280,Register!$K$1:$L$618,2)))","v":0},0,null,0,null,0,null,null,0,0,0,0,0,0]
[null,0,null,0,null,null,null,"00:00:00",0,0,0,{"$f":"IF(AND(J1281=0,K1281=0),,IF(G1281=0,\"KUNDE/LEV NR ?\",VLOOKUP(G1281,Register!$K$1:$L$618,2)))","v":0},0,null,0,null,0,null,null,0,0,0,0,0,0]
[null,0,null,0,null,null,null,"00:00:00",0,0,0,{"$f":"IF(AND(J1282=0,K1282=0),,IF(G1282=0,\"KUNDE/LEV NR ?\",VLOOKUP(G1282,Register!$K$1:$L$618,2)))","v":0},0,null,0,null,0,null,null,0,0,0,0,0,0]
[null,0,null,0,null,null,null,"00:00:00",0,0,0,{"$f":"IF(AND(J1283=0,K1283=0),,IF(G1283=0,\"KUNDE/LEV NR ?\",VLOOKUP(G1283,Register!$K$1:$L$618,2)))","v":0},0,null,0,null,0,null,null,0,0,0,0,0,0]
[null,0,null,0,null,null,null,"00:00:00",0,0,0,{"$f":"IF(AND(J1284=0,K1284=0),,IF(G1284=0,\"KUNDE/LEV NR ?\",VLOOKUP(G1284,Register!$K$1:$L$618,2)))","v":0},0,null,0,null,0,null,null,0,0,0,0,0,0]
[null,0,null,{"$f":"IF(C1285=0,,VLOOKUP(C1285,$AA$4:$AB$320,2))","v":0},null,null,null,"00:00:00",{"$f":"IF(H1285>0,\"d\",)","v":0},0,0,{"$f":"IF(AND(J1285=0,K1285=0),,IF(G1285=0,\"KUNDE/LEV NR ?\",VLOOKUP(G1285,Register!$K$1:$L$618,2)))","v":0},0,null,0,null,0,null,null,0,0,{"$f":"IF(R1285=0,,R1285/(1+VLOOKUP(P1285,$AC$5:$AD$362,2)))","v":0},{"$f":"IF(S1285=0,,S1285/(1+VLOOKUP(P1285,$AC$5:$AD$362,2)))","v":0},{"$f":"IF(P1285=0,,IF(P1285=P1286,,VLOOKUP(P1285,$AC$5:$AE$364,3)))","v":0},{"$f":"IF(P1285=0,,IF(P1285=P1286,,VLOOKUP(P1285,$AC$5:$AF$362,4)))","v":0}]
[null,0,null,0,null,null,null,"00:00:00",0,0,{"$f":"IF(AND(A1286>0,H1286>0),J1286*-1,)","v":0},{"$f":"IF(AND(J1286=0,K1286=0),,IF(G1286=0,\"KUNDE/LEV NR ?\",VLOOKUP(G1286,Register!$K$1:$L$618,2)))","v":0},0,null,0,null,0,null,null,0,0,0,0,0,0]
[null,0,null,0,null,null,null,"00:00:00",0,0,0,{"$f":"IF(AND(J1287=0,K1287=0),,IF(G1287=0,\"KUNDE/LEV NR ?\",VLOOKUP(G1287,Register!$K$1:$L$618,2)))","v":0},{"$f":"IF(ISNUMBER(A1287+B1287+E1287+F1287+G1287+H1287+J1287+K1287),A1287+B1287+E1287+F1287+G1287+H1287+J1287+K1287,\"FEIL\")","v":0},null,0,null,0,null,null,0,0,0,0,0,0]
[null,0,null,0,null,null,null,"00:00:00",0,0,0,{"$f":"IF(AND(J1288=0,K1288=0),,IF(G1288=0,\"KUNDE/LEV NR ?\",VLOOKUP(G1288,Register!$K$1:$L$618,2)))","v":0},0,null,0,null,0,null,null,0,0,0,0,0,0]
[null,0,null,0,null,null,null,"00:00:00",0,0,0,{"$f":"IF(AND(J1289=0,K1289=0),,IF(G1289=0,\"KUNDE/LEV NR ?\",VLOOKUP(G1289,Register!$K$1:$L$618,2)))","v":0},0,null,0,null,0,null,null,0,0,0,0,0,0]
[null,0,null,0,null,null,null,"00:00:00",0,0,0,{"$f":"IF(AND(J1290=0,K1290=0),,IF(G1290=0,\"KUNDE/LEV NR ?\",VLOOKUP(G1290,Register!$K$1:$L$618,2)))","v":0},0,null,0,null,0,null,null,0,0,0,0,0,0]
[null,{"$f":"IF(A1291>0,B1290+1,)","v":0},null,0,null,null,null,{"$f":"A1291","v":"00:00:00"},0,{"$f":"E1291*-1+F1291","v":0},0,{"$f":"IF(AND(J1291=0,K1291=0),,IF(G1291=0,\"KUNDE/LEV NR ?\",VLOOKUP(G1291,Register!$K$1:$L$618,2)))","v":0},0,null,0,null,0,null,null,0,0,0,0,0,0]
[null,0,null,0,null,null,null,"00:00:00",0,0,0,{"$f":"IF(AND(J1292=0,K1292=0),,IF(G1292=0,\"KUNDE/LEV NR ?\",VLOOKUP(G1292,Register!$K$1:$L$618,2)))","v":0},0,null,0,null,0,null,null,0,0,0,0,0,0]
[null,0,null,0,null,null,null,"00:00:00",0,0,0,{"$f":"IF(AND(J1293=0,K1293=0),,IF(G1293=0,\"KUNDE/LEV NR ?\",VLOOKUP(G1293,Register!$K$1:$L$618,2)))","v":0},0,null,0,null,0,null,null,0,0,0,0,0,0]
[null,0,null,0,null,null,null,"00:00:00",0,0,0,{"$f":"IF(AND(J1294=0,K1294=0),,IF(G1294=0,\"KUNDE/LEV NR ?\",VLOOKUP(G1294,Register!$K$1:$L$618,2)))","v":0},0,null,0,null,0,null,null,{"$f":"R1294-V1294","v":0},{"$f":"S1294-W1294","v":0},0,0,0,0]
[null,0,null,0,null,null,null,"00:00:00",0,0,0,{"$f":"IF(AND(J1295=0,K1295=0),,IF(G1295=0,\"KUNDE/LEV NR ?\",VLOOKUP(G1295,Register!$K$1:$L$618,2)))","v":0},0,null,0,null,0,null,null,0,0,0,0,0,0]
[null,0,null,0,null,null,null,"00:00:00",0,0,0,{"$f":"IF(AND(J1296=0,K1296=0),,IF(G1296=0,\"KUNDE/LEV NR ?\",VLOOKUP(G1296,Register!$K$1:$L$618,2)))","v":0},0,null,0,null,0,null,null,0,0,0,0,0,0]
[null,0,null,0,null,null,null,"00:00:00",0,0,0,{"$f":"IF(AND(J1297=0,K1297=0),,IF(G1297=0,\"KUNDE/LEV NR ?\",VLOOKUP(G1297,Register!$K$1:$L$618,2)))","v":0},0,null,0,null,0,null,null,0,0,0,0,0,0]
[null,0,null,0,null,null,null,"00:00:00",0,0,0,{"$f":"IF(AND(J1298=0,K1298=0),,IF(G1298=0,\"KUNDE/LEV NR ?\",VLOOKUP(G1298,Register!$K$1:$L$618,2)))","v":0},0,null,0,null,0,null,null,0,0,0,0,0,0]
[null,0,null,0,null,null,null,"00:00:00",0,0,0,{"$f":"IF(AND(J1299=0,K1299=0),,IF(G1299=0,\"KUNDE/LEV NR ?\",VLOOKUP(G1299,Register!$K$1:$L$618,2)))","v":0},0,null,0,null,0,null,null,0,0,0,0,0,0]
[null,0,null,0,null,null,null,"00:00:00",0,0,0,{"$f":"IF(AND(J1300=0,K1300=0),,IF(G1300=0,\"KUNDE/LEV NR ?\",VLOOKUP(G1300,Register!$K$1:$L$618,2)))","v":0},0,null,0,null,0,null,null,0,0,0,0,0,0]
[null,0,null,0,null,null,null,"00:00:00",0,0,0,{"$f":"IF(AND(J1301=0,K1301=0),,IF(G1301=0,\"KUNDE/LEV NR ?\",VLOOKUP(G1301,Register!$K$1:$L$618,2)))","v":0},0,null,0,null,0,null,null,0,0,0,0,0,0]
[null,0,null,0,null,null,null,"00:00:00",0,0,0,{"$f":"IF(AND(J1302=0,K1302=0),,IF(G1302=0,\"KUNDE/LEV NR ?\",VLOOKUP(G1302,Register!$K$1:$L$618,2)))","v":0},0,null,0,null,0,null,null,0,0,0,0,0,0]
[null,0,null,0,null,null,null,"00:00:00",0,0,0,{"$f":"IF(AND(J1303=0,K1303=0),,IF(G1303=0,\"KUNDE/LEV NR ?\",VLOOKUP(G1303,Register!$K$1:$L$618,2)))","v":0},0,null,0,null,0,null,null,0,0,0,0,0,0]
[null,0,null,0,null,null,null,"00:00:00",0,0,0,{"$f":"IF(AND(J1304=0,K1304=0),,IF(G1304=0,\"KUNDE/LEV NR ?\",VLOOKUP(G1304,Register!$K$1:$L$618,2)))","v":0},0,null,0,null,0,null,null,0,0,0,0,0,0]
[null,0,null,0,null,null,null,"00:00:00",0,0,0,{"$f":"IF(AND(J1305=0,K1305=0),,IF(G1305=0,\"KUNDE/LEV NR ?\",VLOOKUP(G1305,Register!$K$1:$L$618,2)))","v":0},0,null,0,null,0,null,null,0,0,0,0,0,0]
[null,0,null,0,null,null,null,"00:00:00",0,0,0,{"$f":"IF(AND(J1306=0,K1306=0),,IF(G1306=0,\"KUNDE/LEV NR ?\",VLOOKUP(G1306,Register!$K$1:$L$618,2)))","v":0},0,null,0,null,0,null,null,0,0,0,0,0,0]
[null,0,null,0,null,null,null,"00:00:00",0,0,0,{"$f":"IF(AND(J1307=0,K1307=0),,IF(G1307=0,\"KUNDE/LEV NR ?\",VLOOKUP(G1307,Register!$K$1:$L$618,2)))","v":0},0,null,0,null,0,null,null,0,0,0,0,0,0]
[null,0,null,0,null,null,null,"00:00:00",0,0,0,{"$f":"IF(AND(J1308=0,K1308=0),,IF(G1308=0,\"KUNDE/LEV NR ?\",VLOOKUP(G1308,Register!$K$1:$L$618,2)))","v":0},0,null,0,null,0,null,null,0,0,0,0,0,0]
[null,0,null,0,null,null,null,"00:00:00",0,0,0,{"$f":"IF(AND(J1309=0,K1309=0),,IF(G1309=0,\"KUNDE/LEV NR ?\",VLOOKUP(G1309,Register!$K$1:$L$618,2)))","v":0},0,null,0,null,0,null,null,0,0,0,0,0,0]
[null,0,null,0,null,null,null,"00:00:00",0,0,0,{"$f":"IF(AND(J1310=0,K1310=0),,IF(G1310=0,\"KUNDE/LEV NR ?\",VLOOKUP(G1310,Register!$K$1:$L$618,2)))","v":0},0,null,0,null,0,null,null,0,0,0,0,0,0]
[null,0,null,0,null,null,null,"00:00:00",0,0,0,{"$f":"IF(AND(J1311=0,K1311=0),,IF(G1311=0,\"KUNDE/LEV NR ?\",VLOOKUP(G1311,Register!$K$1:$L$618,2)))","v":0},0,null,0,null,0,null,null,0,0,0,0,0,0]
[null,0,null,0,null,null,null,"00:00:00",0,0,0,{"$f":"IF(AND(J1312=0,K1312=0),,IF(G1312=0,\"KUNDE/LEV NR ?\",VLOOKUP(G1312,Register!$K$1:$L$618,2)))","v":0},0,null,0,null,0,null,null,0,0,0,0,0,0]
[null,0,null,0,null,null,null,"00:00:00",0,0,0,{"$f":"IF(AND(J1313=0,K1313=0),,IF(G1313=0,\"KUNDE/LEV NR ?\",VLOOKUP(G1313,Register!$K$1:$L$618,2)))","v":0},0,null,0,null,0,null,null,0,0,0,0,0,0]
[null,0,null,0,null,null,null,"00:00:00",0,0,0,{"$f":"IF(AND(J1314=0,K1314=0),,IF(G1314=0,\"KUNDE/LEV NR ?\",VLOOKUP(G1314,Register!$K$1:$L$618,2)))","v":0},0,null,0,null,0,null,null,0,0,0,0,0,0]
[null,0,null,0,null,null,null,"00:00:00",0,0,0,{"$f":"IF(AND(J1315=0,K1315=0),,IF(G1315=0,\"KUNDE/LEV NR ?\",VLOOKUP(G1315,Register!$K$1:$L$618,2)))","v":0},0,null,0,null,0,null,null,0,0,0,0,0,0]
[null,0,null,0,null,null,null,"00:00:00",0,0,0,{"$f":"IF(AND(J1316=0,K1316=0),,IF(G1316=0,\"KUNDE/LEV NR ?\",VLOOKUP(G1316,Register!$K$1:$L$618,2)))","v":0},0,null,0,null,0,null,null,0,0,0,0,0,0]
[null,0,null,0,null,null,null,"00:00:00",0,0,0,{"$f":"IF(AND(J1317=0,K1317=0),,IF(G1317=0,\"KUNDE/LEV NR ?\",VLOOKUP(G1317,Register!$K$1:$L$618,2)))","v":0},0,null,0,null,0,null,null,0,0,0,0,0,0]
[null,0,null,0,null,null,null,"00:00:00",0,0,0,{"$f":"IF(AND(J1318=0,K1318=0),,IF(G1318=0,\"KUNDE/LEV NR ?\",VLOOKUP(G1318,Register!$K$1:$L$618,2)))","v":0},0,null,0,null,0,null,null,0,0,0,0,0,0]
[null,0,null,0,null,null,null,"00:00:00",0,0,0,{"$f":"IF(AND(J1319=0,K1319=0),,IF(G1319=0,\"KUNDE/LEV NR ?\",VLOOKUP(G1319,Register!$K$1:$L$618,2)))","v":0},0,null,0,null,0,null,null,0,0,0,0,0,0]
[null,0,null,0,null,null,null,"00:00:00",0,0,0,{"$f":"IF(AND(J1320=0,K1320=0),,IF(G1320=0,\"KUNDE/LEV NR ?\",VLOOKUP(G1320,Register!$K$1:$L$618,2)))","v":0},0,null,0,null,0,null,null,0,0,0,0,0,0]
[null,0,null,0,null,null,null,"00:00:00",0,0,0,{"$f":"IF(AND(J1321=0,K1321=0),,IF(G1321=0,\"KUNDE/LEV NR ?\",VLOOKUP(G1321,Register!$K$1:$L$618,2)))","v":0},0,null,0,null,0,null,null,0,0,0,0,0,0]
[null,0,null,0,null,null,null,"00:00:00",0,0,0,{"$f":"IF(AND(J1322=0,K1322=0),,IF(G1322=0,\"KUNDE/LEV NR ?\",VLOOKUP(G1322,Register!$K$1:$L$618,2)))","v":0},0,null,0,null,0,null,null,0,0,0,0,0,0]
[null,0,null,0,null,null,null,"00:00:00",0,0,0,{"$f":"IF(AND(J1323=0,K1323=0),,IF(G1323=0,\"KUNDE/LEV NR ?\",VLOOKUP(G1323,Register!$K$1:$L$618,2)))","v":0},0,null,0,null,0,null,null,0,0,0,0,0,0]
[null,0,null,0,null,null,null,"00:00:00",0,0,0,{"$f":"IF(AND(J1324=0,K1324=0),,IF(G1324=0,\"KUNDE/LEV NR ?\",VLOOKUP(G1324,Register!$K$1:$L$618,2)))","v":0},0,null,0,null,0,null,null,0,0,0,0,0,0]
[null,0,null,0,null,null,null,"00:00:00",0,0,0,{"$f":"IF(AND(J1325=0,K1325=0),,IF(G1325=0,\"KUNDE/LEV NR ?\",VLOOKUP(G1325,Register!$K$1:$L$618,2)))","v":0},0,null,0,null,0,null,null,0,0,0,0,0,0]
[null,0,null,0,null,null,null,"00:00:00",0,0,0,{"$f":"IF(AND(J1326=0,K1326=0),,IF(G1326=0,\"KUNDE/LEV NR ?\",VLOOKUP(G1326,Register!$K$1:$L$618,2)))","v":0},0,null,0,null,0,null,null,0,0,0,0,0,0]
[null,0,null,0,null,null,null,"00:00:00",0,0,0,{"$f":"IF(AND(J1327=0,K1327=0),,IF(G1327=0,\"KUNDE/LEV NR ?\",VLOOKUP(G1327,Register!$K$1:$L$618,2)))","v":0},0,null,0,null,0,null,null,0,0,0,0,0,0]
[null,0,null,0,null,null,null,"00:00:00",0,0,0,{"$f":"IF(AND(J1328=0,K1328=0),,IF(G1328=0,\"KUNDE/LEV NR ?\",VLOOKUP(G1328,Register!$K$1:$L$618,2)))","v":0},0,null,0,null,0,null,null,0,0,0,0,0,0]
[null,0,null,0,null,null,null,"00:00:00",0,0,0,{"$f":"IF(AND(J1329=0,K1329=0),,IF(G1329=0,\"KUNDE/LEV NR ?\",VLOOKUP(G1329,Register!$K$1:$L$618,2)))","v":0},0,null,0,null,0,null,null,0,0,0,0,0,0]
[null,0,null,0,null,null,null,"00:00:00",0,0,0,{"$f":"IF(AND(J1330=0,K1330=0),,IF(G1330=0,\"KUNDE/LEV NR ?\",VLOOKUP(G1330,Register!$K$1:$L$618,2)))","v":0},0,null,0,null,0,null,null,0,0,0,0,0,0]
[null,0,null,0,null,null,null,"00:00:00",0,0,0,{"$f":"IF(AND(J1331=0,K1331=0),,IF(G1331=0,\"KUNDE/LEV NR ?\",VLOOKUP(G1331,Register!$K$1:$L$618,2)))","v":0},0,null,0,null,0,null,null,0,0,0,0,0,0]
[null,0,null,0,null,null,null,"00:00:00",0,0,0,{"$f":"IF(AND(J1332=0,K1332=0),,IF(G1332=0,\"KUNDE/LEV NR ?\",VLOOKUP(G1332,Register!$K$1:$L$618,2)))","v":0},0,null,0,null,0,null,null,0,0,0,0,0,0]
[null,0,null,0,null,null,null,"00:00:00",0,0,0,{"$f":"IF(AND(J1333=0,K1333=0),,IF(G1333=0,\"KUNDE/LEV NR ?\",VLOOKUP(G1333,Register!$K$1:$L$618,2)))","v":0},0,null,0,null,0,null,null,0,0,0,0,0,0]
[null,0,null,0,null,null,null,"00:00:00",0,0,0,{"$f":"IF(AND(J1334=0,K1334=0),,IF(G1334=0,\"KUNDE/LEV NR ?\",VLOOKUP(G1334,Register!$K$1:$L$618,2)))","v":0},0,null,0,null,0,null,null,0,0,0,0,0,0]
[null,0,null,0,null,null,null,"00:00:00",0,0,0,{"$f":"IF(AND(J1335=0,K1335=0),,IF(G1335=0,\"KUNDE/LEV NR ?\",VLOOKUP(G1335,Register!$K$1:$L$618,2)))","v":0},0,null,0,null,0,null,null,0,0,0,0,0,0]
[null,0,null,0,null,null,null,"00:00:00",0,0,0,{"$f":"IF(AND(J1336=0,K1336=0),,IF(G1336=0,\"KUNDE/LEV NR ?\",VLOOKUP(G1336,Register!$K$1:$L$618,2)))","v":0},0,null,0,null,0,null,null,0,0,0,0,0,0]
[null,0,null,0,null,null,null,"00:00:00",0,0,0,{"$f":"IF(AND(J1337=0,K1337=0),,IF(G1337=0,\"KUNDE/LEV NR ?\",VLOOKUP(G1337,Register!$K$1:$L$618,2)))","v":0},0,null,0,null,0,null,null,0,0,0,0,0,0]
[null,0,null,0,null,null,null,"00:00:00",0,0,0,{"$f":"IF(AND(J1338=0,K1338=0),,IF(G1338=0,\"KUNDE/LEV NR ?\",VLOOKUP(G1338,Register!$K$1:$L$618,2)))","v":0},0,null,0,null,0,null,null,0,0,0,0,0,0]
[null,0,null,0,null,null,null,"00:00:00",0,0,0,{"$f":"IF(AND(J1339=0,K1339=0),,IF(G1339=0,\"KUNDE/LEV NR ?\",VLOOKUP(G1339,Register!$K$1:$L$618,2)))","v":0},0,null,0,null,0,null,null,0,0,0,0,0,0]
[null,0,null,0,null,null,null,"00:00:00",0,0,0,{"$f":"IF(AND(J1340=0,K1340=0),,IF(G1340=0,\"KUNDE/LEV NR ?\",VLOOKUP(G1340,Register!$K$1:$L$618,2)))","v":0},0,null,0,null,0,null,null,0,0,0,0,0,0]
[null,0,null,0,null,null,null,"00:00:00",0,0,0,{"$f":"IF(AND(J1341=0,K1341=0),,IF(G1341=0,\"KUNDE/LEV NR ?\",VLOOKUP(G1341,Register!$K$1:$L$618,2)))","v":0},0,null,0,null,0,null,null,0,0,0,0,0,0]
[null,0,null,0,null,null,null,"00:00:00",0,0,0,{"$f":"IF(AND(J1342=0,K1342=0),,IF(G1342=0,\"KUNDE/LEV NR ?\",VLOOKUP(G1342,Register!$K$1:$L$618,2)))","v":0},0,null,0,null,0,null,null,0,0,0,0,0,0]
[null,0,null,0,null,null,null,"00:00:00",0,0,0,{"$f":"IF(AND(J1343=0,K1343=0),,IF(G1343=0,\"KUNDE/LEV NR ?\",VLOOKUP(G1343,Register!$K$1:$L$618,2)))","v":0},0,null,0,null,0,null,null,0,0,0,0,0,0]
[null,0,null,0,null,null,null,"00:00:00",0,0,0,{"$f":"IF(AND(J1344=0,K1344=0),,IF(G1344=0,\"KUNDE/LEV NR ?\",VLOOKUP(G1344,Register!$K$1:$L$618,2)))","v":0},0,null,0,null,0,null,null,0,0,0,0,0,0]
[null,0,null,0,null,null,null,"00:00:00",0,0,0,{"$f":"IF(AND(J1345=0,K1345=0),,IF(G1345=0,\"KUNDE/LEV NR ?\",VLOOKUP(G1345,Register!$K$1:$L$618,2)))","v":0},0,null,0,null,0,null,null,0,0,0,0,0,0]
[null,0,null,0,null,null,null,"00:00:00",0,0,0,{"$f":"IF(AND(J1346=0,K1346=0),,IF(G1346=0,\"KUNDE/LEV NR ?\",VLOOKUP(G1346,Register!$K$1:$L$618,2)))","v":0},0,null,0,null,0,null,null,0,0,0,0,0,0]
[null,0,null,0,null,null,null,"00:00:00",0,0,0,{"$f":"IF(AND(J1347=0,K1347=0),,IF(G1347=0,\"KUNDE/LEV NR ?\",VLOOKUP(G1347,Register!$K$1:$L$618,2)))","v":0},0,null,0,null,0,null,null,0,0,0,0,0,0]
[null,0,null,0,null,null,null,"00:00:00",0,0,0,{"$f":"IF(AND(J1348=0,K1348=0),,IF(G1348=0,\"KUNDE/LEV NR ?\",VLOOKUP(G1348,Register!$K$1:$L$618,2)))","v":0},0,null,0,null,0,null,null,0,0,0,0,0,0]
[null,0,null,{"$f":"IF(C1349=0,,VLOOKUP(C1349,$AA$4:$AB$320,2))","v":0},null,null,null,"00:00:00",{"$f":"IF(H1349>0,\"d\",)","v":0},0,0,{"$f":"IF(AND(J1349=0,K1349=0),,IF(G1349=0,\"KUNDE/LEV NR ?\",VLOOKUP(G1349,Register!$K$1:$L$618,2)))","v":0},0,null,0,null,0,null,null,0,0,{"$f":"IF(R1349=0,,R1349/(1+VLOOKUP(P1349,$AC$5:$AD$362,2)))","v":0},{"$f":"IF(S1349=0,,S1349/(1+VLOOKUP(P1349,$AC$5:$AD$362,2)))","v":0},{"$f":"IF(P1349=0,,IF(P1349=P1350,,VLOOKUP(P1349,$AC$5:$AE$364,3)))","v":0},{"$f":"IF(P1349=0,,IF(P1349=P1350,,VLOOKUP(P1349,$AC$5:$AF$362,4)))","v":0}]
[null,0,null,0,null,null,null,"00:00:00",0,0,{"$f":"IF(AND(A1350>0,H1350>0),J1350*-1,)","v":0},{"$f":"IF(AND(J1350=0,K1350=0),,IF(G1350=0,\"KUNDE/LEV NR ?\",VLOOKUP(G1350,Register!$K$1:$L$618,2)))","v":0},0,null,0,null,0,null,null,0,0,0,0,0,0]
[null,0,null,0,null,null,null,"00:00:00",0,0,0,{"$f":"IF(AND(J1351=0,K1351=0),,IF(G1351=0,\"KUNDE/LEV NR ?\",VLOOKUP(G1351,Register!$K$1:$L$618,2)))","v":0},{"$f":"IF(ISNUMBER(A1351+B1351+E1351+F1351+G1351+H1351+J1351+K1351),A1351+B1351+E1351+F1351+G1351+H1351+J1351+K1351,\"FEIL\")","v":0},null,0,null,0,null,null,0,0,0,0,0,0]
[null,0,null,0,null,null,null,"00:00:00",0,0,0,{"$f":"IF(AND(J1352=0,K1352=0),,IF(G1352=0,\"KUNDE/LEV NR ?\",VLOOKUP(G1352,Register!$K$1:$L$618,2)))","v":0},0,null,0,null,0,null,null,0,0,0,0,0,0]
[null,0,null,0,null,null,null,"00:00:00",0,0,0,{"$f":"IF(AND(J1353=0,K1353=0),,IF(G1353=0,\"KUNDE/LEV NR ?\",VLOOKUP(G1353,Register!$K$1:$L$618,2)))","v":0},0,null,0,null,0,null,null,0,0,0,0,0,0]
[null,0,null,0,null,null,null,"00:00:00",0,0,0,{"$f":"IF(AND(J1354=0,K1354=0),,IF(G1354=0,\"KUNDE/LEV NR ?\",VLOOKUP(G1354,Register!$K$1:$L$618,2)))","v":0},0,null,0,null,0,null,null,0,0,0,0,0,0]
[null,{"$f":"IF(A1355>0,B1354+1,)","v":0},null,0,null,null,null,{"$f":"A1355","v":"00:00:00"},0,{"$f":"E1355*-1+F1355","v":0},0,{"$f":"IF(AND(J1355=0,K1355=0),,IF(G1355=0,\"KUNDE/LEV NR ?\",VLOOKUP(G1355,Register!$K$1:$L$618,2)))","v":0},0,null,0,null,0,null,null,0,0,0,0,0,0]
[null,0,null,0,null,null,null,"00:00:00",0,0,0,{"$f":"IF(AND(J1356=0,K1356=0),,IF(G1356=0,\"KUNDE/LEV NR ?\",VLOOKUP(G1356,Register!$K$1:$L$618,2)))","v":0},0,null,0,null,0,null,null,0,0,0,0,0,0]
[null,0,null,0,null,null,null,"00:00:00",0,0,0,{"$f":"IF(AND(J1357=0,K1357=0),,IF(G1357=0,\"KUNDE/LEV NR ?\",VLOOKUP(G1357,Register!$K$1:$L$618,2)))","v":0},0,null,0,null,0,null,null,0,0,0,0,0,0]
[null,0,null,0,null,null,null,"00:00:00",0,0,0,{"$f":"IF(AND(J1358=0,K1358=0),,IF(G1358=0,\"KUNDE/LEV NR ?\",VLOOKUP(G1358,Register!$K$1:$L$618,2)))","v":0},0,null,0,null,0,null,null,{"$f":"R1358-V1358","v":0},{"$f":"S1358-W1358","v":0},0,0,0,0]
[null,0,null,0,null,null,null,"00:00:00",0,0,0,{"$f":"IF(AND(J1359=0,K1359=0),,IF(G1359=0,\"KUNDE/LEV NR ?\",VLOOKUP(G1359,Register!$K$1:$L$618,2)))","v":0},0,null,0,null,0,null,null,0,0,0,0,0,0]
[null,0,null,0,null,null,null,"00:00:00",0,0,0,{"$f":"IF(AND(J1360=0,K1360=0),,IF(G1360=0,\"KUNDE/LEV NR ?\",VLOOKUP(G1360,Register!$K$1:$L$618,2)))","v":0},0,null,0,null,0,null,null,0,0,0,0,0,0]
[null,0,null,0,null,null,null,"00:00:00",0,0,0,{"$f":"IF(AND(J1361=0,K1361=0),,IF(G1361=0,\"KUNDE/LEV NR ?\",VLOOKUP(G1361,Register!$K$1:$L$618,2)))","v":0},0,null,0,null,0,null,null,0,0,0,0,0,0]
[null,0,null,0,null,null,null,"00:00:00",0,0,0,{"$f":"IF(AND(J1362=0,K1362=0),,IF(G1362=0,\"KUNDE/LEV NR ?\",VLOOKUP(G1362,Register!$K$1:$L$618,2)))","v":0},0,null,0,null,0,null,null,0,0,0,0,0,0]
[null,0,null,0,null,null,null,"00:00:00",0,0,0,{"$f":"IF(AND(J1363=0,K1363=0),,IF(G1363=0,\"KUNDE/LEV NR ?\",VLOOKUP(G1363,Register!$K$1:$L$618,2)))","v":0},0,null,0,null,0,null,null,0,0,0,0,0,0]
[null,0,null,0,null,null,null,"00:00:00",0,0,0,{"$f":"IF(AND(J1364=0,K1364=0),,IF(G1364=0,\"KUNDE/LEV NR ?\",VLOOKUP(G1364,Register!$K$1:$L$618,2)))","v":0},0,null,0,null,0,null,null,0,0,0,0,0,0]
[null,0,null,0,null,null,null,"00:00:00",0,0,0,{"$f":"IF(AND(J1365=0,K1365=0),,IF(G1365=0,\"KUNDE/LEV NR ?\",VLOOKUP(G1365,Register!$K$1:$L$618,2)))","v":0},0,null,0,null,0,null,null,0,0,0,0,0,0]
[null,0,null,0,null,null,null,"00:00:00",0,0,0,{"$f":"IF(AND(J1366=0,K1366=0),,IF(G1366=0,\"KUNDE/LEV NR ?\",VLOOKUP(G1366,Register!$K$1:$L$618,2)))","v":0},0,null,0,null,0,null,null,0,0,0,0,0,0]
[null,0,null,0,null,null,null,"00:00:00",0,0,0,{"$f":"IF(AND(J1367=0,K1367=0),,IF(G1367=0,\"KUNDE/LEV NR ?\",VLOOKUP(G1367,Register!$K$1:$L$618,2)))","v":0},0,null,0,null,0,null,null,0,0,0,0,0,0]
[null,0,null,0,null,null,null,"00:00:00",0,0,0,{"$f":"IF(AND(J1368=0,K1368=0),,IF(G1368=0,\"KUNDE/LEV NR ?\",VLOOKUP(G1368,Register!$K$1:$L$618,2)))","v":0},0,null,0,null,0,null,null,0,0,0,0,0,0]
[null,0,null,0,null,null,null,"00:00:00",0,0,0,{"$f":"IF(AND(J1369=0,K1369=0),,IF(G1369=0,\"KUNDE/LEV NR ?\",VLOOKUP(G1369,Register!$K$1:$L$618,2)))","v":0},0,null,0,null,0,null,null,0,0,0,0,0,0]
[null,0,null,0,null,null,null,"00:00:00",0,0,0,{"$f":"IF(AND(J1370=0,K1370=0),,IF(G1370=0,\"KUNDE/LEV NR ?\",VLOOKUP(G1370,Register!$K$1:$L$618,2)))","v":0},0,null,0,null,0,null,null,0,0,0,0,0,0]
[null,0,null,0,null,null,null,"00:00:00",0,0,0,{"$f":"IF(AND(J1371=0,K1371=0),,IF(G1371=0,\"KUNDE/LEV NR ?\",VLOOKUP(G1371,Register!$K$1:$L$618,2)))","v":0},0,null,0,null,0,null,null,0,0,0,0,0,0]
[null,0,null,0,null,null,null,"00:00:00",0,0,0,{"$f":"IF(AND(J1372=0,K1372=0),,IF(G1372=0,\"KUNDE/LEV NR ?\",VLOOKUP(G1372,Register!$K$1:$L$618,2)))","v":0},0,null,0,null,0,null,null,0,0,0,0,0,0]
[null,0,null,0,null,null,null,"00:00:00",0,0,0,{"$f":"IF(AND(J1373=0,K1373=0),,IF(G1373=0,\"KUNDE/LEV NR ?\",VLOOKUP(G1373,Register!$K$1:$L$618,2)))","v":0},0,null,0,null,0,null,null,0,0,0,0,0,0]
[null,0,null,0,null,null,null,"00:00:00",0,0,0,{"$f":"IF(AND(J1374=0,K1374=0),,IF(G1374=0,\"KUNDE/LEV NR ?\",VLOOKUP(G1374,Register!$K$1:$L$618,2)))","v":0},0,null,0,null,0,null,null,0,0,0,0,0,0]
[null,0,null,0,null,null,null,"00:00:00",0,0,0,{"$f":"IF(AND(J1375=0,K1375=0),,IF(G1375=0,\"KUNDE/LEV NR ?\",VLOOKUP(G1375,Register!$K$1:$L$618,2)))","v":0},0,null,0,null,0,null,null,0,0,0,0,0,0]
[null,0,null,0,null,null,null,"00:00:00",0,0,0,{"$f":"IF(AND(J1376=0,K1376=0),,IF(G1376=0,\"KUNDE/LEV NR ?\",VLOOKUP(G1376,Register!$K$1:$L$618,2)))","v":0},0,null,0,null,0,null,null,0,0,0,0,0,0]
[null,0,null,0,null,null,null,"00:00:00",0,0,0,{"$f":"IF(AND(J1377=0,K1377=0),,IF(G1377=0,\"KUNDE/LEV NR ?\",VLOOKUP(G1377,Register!$K$1:$L$618,2)))","v":0},0,null,0,null,0,null,null,0,0,0,0,0,0]
[null,0,null,0,null,null,null,"00:00:00",0,0,0,{"$f":"IF(AND(J1378=0,K1378=0),,IF(G1378=0,\"KUNDE/LEV NR ?\",VLOOKUP(G1378,Register!$K$1:$L$618,2)))","v":0},0,null,0,null,0,null,null,0,0,0,0,0,0]
[null,0,null,0,null,null,null,"00:00:00",0,0,0,{"$f":"IF(AND(J1379=0,K1379=0),,IF(G1379=0,\"KUNDE/LEV NR ?\",VLOOKUP(G1379,Register!$K$1:$L$618,2)))","v":0},0,null,0,null,0,null,null,0,0,0,0,0,0]
[null,0,null,0,null,null,null,"00:00:00",0,0,0,{"$f":"IF(AND(J1380=0,K1380=0),,IF(G1380=0,\"KUNDE/LEV NR ?\",VLOOKUP(G1380,Register!$K$1:$L$618,2)))","v":0},0,null,0,null,0,null,null,0,0,0,0,0,0]
[null,0,null,0,null,null,null,"00:00:00",0,0,0,{"$f":"IF(AND(J1381=0,K1381=0),,IF(G1381=0,\"KUNDE/LEV NR ?\",VLOOKUP(G1381,Register!$K$1:$L$618,2)))","v":0},0,null,0,null,0,null,null,0,0,0,0,0,0]
[null,0,null,0,null,null,null,"00:00:00",0,0,0,{"$f":"IF(AND(J1382=0,K1382=0),,IF(G1382=0,\"KUNDE/LEV NR ?\",VLOOKUP(G1382,Register!$K$1:$L$618,2)))","v":0},0,null,0,null,0,null,null,0,0,0,0,0,0]
[null,0,null,0,null,null,null,"00:00:00",0,0,0,{"$f":"IF(AND(J1383=0,K1383=0),,IF(G1383=0,\"KUNDE/LEV NR ?\",VLOOKUP(G1383,Register!$K$1:$L$618,2)))","v":0},0,null,0,null,0,null,null,0,0,0,0,0,0]
[null,0,null,0,null,null,null,"00:00:00",0,0,0,{"$f":"IF(AND(J1384=0,K1384=0),,IF(G1384=0,\"KUNDE/LEV NR ?\",VLOOKUP(G1384,Register!$K$1:$L$618,2)))","v":0},0,null,0,null,0,null,null,0,0,0,0,0,0]
[null,0,null,0,null,null,null,"00:00:00",0,0,0,{"$f":"IF(AND(J1385=0,K1385=0),,IF(G1385=0,\"KUNDE/LEV NR ?\",VLOOKUP(G1385,Register!$K$1:$L$618,2)))","v":0},0,null,0,null,0,null,null,0,0,0,0,0,0]
[null,0,null,0,null,null,null,"00:00:00",0,0,0,{"$f":"IF(AND(J1386=0,K1386=0),,IF(G1386=0,\"KUNDE/LEV NR ?\",VLOOKUP(G1386,Register!$K$1:$L$618,2)))","v":0},0,null,0,null,0,null,null,0,0,0,0,0,0]
[null,0,null,0,null,null,null,"00:00:00",0,0,0,{"$f":"IF(AND(J1387=0,K1387=0),,IF(G1387=0,\"KUNDE/LEV NR ?\",VLOOKUP(G1387,Register!$K$1:$L$618,2)))","v":0},0,null,0,null,0,null,null,0,0,0,0,0,0]
[null,0,null,0,null,null,null,"00:00:00",0,0,0,{"$f":"IF(AND(J1388=0,K1388=0),,IF(G1388=0,\"KUNDE/LEV NR ?\",VLOOKUP(G1388,Register!$K$1:$L$618,2)))","v":0},0,null,0,null,0,null,null,0,0,0,0,0,0]
[null,0,null,0,null,null,null,"00:00:00",0,0,0,{"$f":"IF(AND(J1389=0,K1389=0),,IF(G1389=0,\"KUNDE/LEV NR ?\",VLOOKUP(G1389,Register!$K$1:$L$618,2)))","v":0},0,null,0,null,0,null,null,0,0,0,0,0,0]
[null,0,null,0,null,null,null,"00:00:00",0,0,0,{"$f":"IF(AND(J1390=0,K1390=0),,IF(G1390=0,\"KUNDE/LEV NR ?\",VLOOKUP(G1390,Register!$K$1:$L$618,2)))","v":0},0,null,0,null,0,null,null,0,0,0,0,0,0]
[null,0,null,0,null,null,null,"00:00:00",0,0,0,{"$f":"IF(AND(J1391=0,K1391=0),,IF(G1391=0,\"KUNDE/LEV NR ?\",VLOOKUP(G1391,Register!$K$1:$L$618,2)))","v":0},0,null,0,null,0,null,null,0,0,0,0,0,0]
[null,0,null,0,null,null,null,"00:00:00",0,0,0,{"$f":"IF(AND(J1392=0,K1392=0),,IF(G1392=0,\"KUNDE/LEV NR ?\",VLOOKUP(G1392,Register!$K$1:$L$618,2)))","v":0},0,null,0,null,0,null,null,0,0,0,0,0,0]
[null,0,null,0,null,null,null,"00:00:00",0,0,0,{"$f":"IF(AND(J1393=0,K1393=0),,IF(G1393=0,\"KUNDE/LEV NR ?\",VLOOKUP(G1393,Register!$K$1:$L$618,2)))","v":0},0,null,0,null,0,null,null,0,0,0,0,0,0]
[null,0,null,0,null,null,null,"00:00:00",0,0,0,{"$f":"IF(AND(J1394=0,K1394=0),,IF(G1394=0,\"KUNDE/LEV NR ?\",VLOOKUP(G1394,Register!$K$1:$L$618,2)))","v":0},0,null,0,null,0,null,null,0,0,0,0,0,0]
[null,0,null,0,null,null,null,"00:00:00",0,0,0,{"$f":"IF(AND(J1395=0,K1395=0),,IF(G1395=0,\"KUNDE/LEV NR ?\",VLOOKUP(G1395,Register!$K$1:$L$618,2)))","v":0},0,null,0,null,0,null,null,0,0,0,0,0,0]
[null,0,null,0,null,null,null,"00:00:00",0,0,0,{"$f":"IF(AND(J1396=0,K1396=0),,IF(G1396=0,\"KUNDE/LEV NR ?\",VLOOKUP(G1396,Register!$K$1:$L$618,2)))","v":0},0,null,0,null,0,null,null,0,0,0,0,0,0]
[null,0,null,0,null,null,null,"00:00:00",0,0,0,{"$f":"IF(AND(J1397=0,K1397=0),,IF(G1397=0,\"KUNDE/LEV NR ?\",VLOOKUP(G1397,Register!$K$1:$L$618,2)))","v":0},0,null,0,null,0,null,null,0,0,0,0,0,0]
[null,0,null,0,null,null,null,"00:00:00",0,0,0,{"$f":"IF(AND(J1398=0,K1398=0),,IF(G1398=0,\"KUNDE/LEV NR ?\",VLOOKUP(G1398,Register!$K$1:$L$618,2)))","v":0},0,null,0,null,0,null,null,0,0,0,0,0,0]
[null,0,null,0,null,null,null,"00:00:00",0,0,0,{"$f":"IF(AND(J1399=0,K1399=0),,IF(G1399=0,\"KUNDE/LEV NR ?\",VLOOKUP(G1399,Register!$K$1:$L$618,2)))","v":0},0,null,0,null,0,null,null,0,0,0,0,0,0]
[null,0,null,0,null,null,null,"00:00:00",0,0,0,{"$f":"IF(AND(J1400=0,K1400=0),,IF(G1400=0,\"KUNDE/LEV NR ?\",VLOOKUP(G1400,Register!$K$1:$L$618,2)))","v":0},0,null,0,null,0,null,null,0,0,0,0,0,0]
[null,0,null,0,null,null,null,"00:00:00",0,0,0,{"$f":"IF(AND(J1401=0,K1401=0),,IF(G1401=0,\"KUNDE/LEV NR ?\",VLOOKUP(G1401,Register!$K$1:$L$618,2)))","v":0},0,null,0,null,0,null,null,0,0,0,0,0,0]
[null,0,null,0,null,null,null,"00:00:00",0,0,0,{"$f":"IF(AND(J1402=0,K1402=0),,IF(G1402=0,\"KUNDE/LEV NR ?\",VLOOKUP(G1402,Register!$K$1:$L$618,2)))","v":0},0,null,0,null,0,null,null,0,0,0,0,0,0]
[null,0,null,0,null,null,null,"00:00:00",0,0,0,{"$f":"IF(AND(J1403=0,K1403=0),,IF(G1403=0,\"KUNDE/LEV NR ?\",VLOOKUP(G1403,Register!$K$1:$L$618,2)))","v":0},0,null,0,null,0,null,null,0,0,0,0,0,0]
[null,0,null,0,null,null,null,"00:00:00",0,0,0,{"$f":"IF(AND(J1404=0,K1404=0),,IF(G1404=0,\"KUNDE/LEV NR ?\",VLOOKUP(G1404,Register!$K$1:$L$618,2)))","v":0},0,null,0,null,0,null,null,0,0,0,0,0,0]
[null,0,null,0,null,null,null,"00:00:00",0,0,0,{"$f":"IF(AND(J1405=0,K1405=0),,IF(G1405=0,\"KUNDE/LEV NR ?\",VLOOKUP(G1405,Register!$K$1:$L$618,2)))","v":0},0,null,0,null,0,null,null,0,0,0,0,0,0]
[null,0,null,0,null,null,null,"00:00:00",0,0,0,{"$f":"IF(AND(J1406=0,K1406=0),,IF(G1406=0,\"KUNDE/LEV NR ?\",VLOOKUP(G1406,Register!$K$1:$L$618,2)))","v":0},0,null,0,null,0,null,null,0,0,0,0,0,0]
[null,0,null,0,null,null,null,"00:00:00",0,0,0,{"$f":"IF(AND(J1407=0,K1407=0),,IF(G1407=0,\"KUNDE/LEV NR ?\",VLOOKUP(G1407,Register!$K$1:$L$618,2)))","v":0},0,null,0,null,0,null,null,0,0,0,0,0,0]
[null,0,null,0,null,null,null,"00:00:00",0,0,0,{"$f":"IF(AND(J1408=0,K1408=0),,IF(G1408=0,\"KUNDE/LEV NR ?\",VLOOKUP(G1408,Register!$K$1:$L$618,2)))","v":0},0,null,0,null,0,null,null,0,0,0,0,0,0]
[null,0,null,0,null,null,null,"00:00:00",0,0,0,{"$f":"IF(AND(J1409=0,K1409=0),,IF(G1409=0,\"KUNDE/LEV NR ?\",VLOOKUP(G1409,Register!$K$1:$L$618,2)))","v":0},0,null,0,null,0,null,null,0,0,0,0,0,0]
[null,0,null,0,null,null,null,"00:00:00",0,0,0,{"$f":"IF(AND(J1410=0,K1410=0),,IF(G1410=0,\"KUNDE/LEV NR ?\",VLOOKUP(G1410,Register!$K$1:$L$618,2)))","v":0},0,null,0,null,0,null,null,0,0,0,0,0,0]
[null,0,null,0,null,null,null,"00:00:00",0,0,0,{"$f":"IF(AND(J1411=0,K1411=0),,IF(G1411=0,\"KUNDE/LEV NR ?\",VLOOKUP(G1411,Register!$K$1:$L$618,2)))","v":0},0,null,0,null,0,null,null,0,0,0,0,0,0]
[null,0,null,0,null,null,null,"00:00:00",0,0,0,{"$f":"IF(AND(J1412=0,K1412=0),,IF(G1412=0,\"KUNDE/LEV NR ?\",VLOOKUP(G1412,Register!$K$1:$L$618,2)))","v":0},0,null,0,null,0,null,null,0,0,0,0,0,0]
[null,0,null,{"$f":"IF(C1413=0,,VLOOKUP(C1413,$AA$4:$AB$320,2))","v":0},null,null,null,"00:00:00",{"$f":"IF(H1413>0,\"d\",)","v":0},0,0,{"$f":"IF(AND(J1413=0,K1413=0),,IF(G1413=0,\"KUNDE/LEV NR ?\",VLOOKUP(G1413,Register!$K$1:$L$618,2)))","v":0},0,null,0,null,0,null,null,0,0,{"$f":"IF(R1413=0,,R1413/(1+VLOOKUP(P1413,$AC$5:$AD$362,2)))","v":0},{"$f":"IF(S1413=0,,S1413/(1+VLOOKUP(P1413,$AC$5:$AD$362,2)))","v":0},{"$f":"IF(P1413=0,,IF(P1413=P1414,,VLOOKUP(P1413,$AC$5:$AE$364,3)))","v":0},{"$f":"IF(P1413=0,,IF(P1413=P1414,,VLOOKUP(P1413,$AC$5:$AF$362,4)))","v":0}]
[null,0,null,0,null,null,null,"00:00:00",0,0,{"$f":"IF(AND(A1414>0,H1414>0),J1414*-1,)","v":0},{"$f":"IF(AND(J1414=0,K1414=0),,IF(G1414=0,\"KUNDE/LEV NR ?\",VLOOKUP(G1414,Register!$K$1:$L$618,2)))","v":0},0,null,0,null,0,null,null,0,0,0,0,0,0]
[null,0,null,0,null,null,null,"00:00:00",0,0,0,{"$f":"IF(AND(J1415=0,K1415=0),,IF(G1415=0,\"KUNDE/LEV NR ?\",VLOOKUP(G1415,Register!$K$1:$L$618,2)))","v":0},{"$f":"IF(ISNUMBER(A1415+B1415+E1415+F1415+G1415+H1415+J1415+K1415),A1415+B1415+E1415+F1415+G1415+H1415+J1415+K1415,\"FEIL\")","v":0},null,0,null,0,null,null,0,0,0,0,0,0]
[null,0,null,0,null,null,null,"00:00:00",0,0,0,{"$f":"IF(AND(J1416=0,K1416=0),,IF(G1416=0,\"KUNDE/LEV NR ?\",VLOOKUP(G1416,Register!$K$1:$L$618,2)))","v":0},0,null,0,null,0,null,null,0,0,0,0,0,0]
[null,0,null,0,null,null,null,"00:00:00",0,0,0,{"$f":"IF(AND(J1417=0,K1417=0),,IF(G1417=0,\"KUNDE/LEV NR ?\",VLOOKUP(G1417,Register!$K$1:$L$618,2)))","v":0},0,null,0,null,0,null,null,0,0,0,0,0,0]
[null,0,null,0,null,null,null,"00:00:00",0,0,0,{"$f":"IF(AND(J1418=0,K1418=0),,IF(G1418=0,\"KUNDE/LEV NR ?\",VLOOKUP(G1418,Register!$K$1:$L$618,2)))","v":0},0,null,0,null,0,null,null,0,0,0,0,0,0]
[null,{"$f":"IF(A1419>0,B1418+1,)","v":0},null,0,null,null,null,{"$f":"A1419","v":"00:00:00"},0,{"$f":"E1419*-1+F1419","v":0},0,{"$f":"IF(AND(J1419=0,K1419=0),,IF(G1419=0,\"KUNDE/LEV NR ?\",VLOOKUP(G1419,Register!$K$1:$L$618,2)))","v":0},0,null,0,null,0,null,null,0,0,0,0,0,0]
[null,0,null,0,null,null,null,"00:00:00",0,0,0,{"$f":"IF(AND(J1420=0,K1420=0),,IF(G1420=0,\"KUNDE/LEV NR ?\",VLOOKUP(G1420,Register!$K$1:$L$618,2)))","v":0},0,null,0,null,0,null,null,0,0,0,0,0,0]
[null,0,null,0,null,null,null,"00:00:00",0,0,0,{"$f":"IF(AND(J1421=0,K1421=0),,IF(G1421=0,\"KUNDE/LEV NR ?\",VLOOKUP(G1421,Register!$K$1:$L$618,2)))","v":0},0,null,0,null,0,null,null,0,0,0,0,0,0]
[null,0,null,0,null,null,null,"00:00:00",0,0,0,{"$f":"IF(AND(J1422=0,K1422=0),,IF(G1422=0,\"KUNDE/LEV NR ?\",VLOOKUP(G1422,Register!$K$1:$L$618,2)))","v":0},0,null,0,null,0,null,null,{"$f":"R1422-V1422","v":0},{"$f":"S1422-W1422","v":0},0,0,0,0]
[null,0,null,0,null,null,null,"00:00:00",0,0,0,{"$f":"IF(AND(J1423=0,K1423=0),,IF(G1423=0,\"KUNDE/LEV NR ?\",VLOOKUP(G1423,Register!$K$1:$L$618,2)))","v":0},0,null,0,null,0,null,null,0,0,0,0,0,0]
[null,0,null,0,null,null,null,"00:00:00",0,0,0,{"$f":"IF(AND(J1424=0,K1424=0),,IF(G1424=0,\"KUNDE/LEV NR ?\",VLOOKUP(G1424,Register!$K$1:$L$618,2)))","v":0},0,null,0,null,0,null,null,0,0,0,0,0,0]
[null,0,null,0,null,null,null,"00:00:00",0,0,0,{"$f":"IF(AND(J1425=0,K1425=0),,IF(G1425=0,\"KUNDE/LEV NR ?\",VLOOKUP(G1425,Register!$K$1:$L$618,2)))","v":0},0,null,0,null,0,null,null,0,0,0,0,0,0]
[null,0,null,0,null,null,null,"00:00:00",0,0,0,{"$f":"IF(AND(J1426=0,K1426=0),,IF(G1426=0,\"KUNDE/LEV NR ?\",VLOOKUP(G1426,Register!$K$1:$L$618,2)))","v":0},0,null,0,null,0,null,null,0,0,0,0,0,0]
[null,0,null,0,null,null,null,"00:00:00",0,0,0,{"$f":"IF(AND(J1427=0,K1427=0),,IF(G1427=0,\"KUNDE/LEV NR ?\",VLOOKUP(G1427,Register!$K$1:$L$618,2)))","v":0},0,null,0,null,0,null,null,0,0,0,0,0,0]
[null,0,null,0,null,null,null,"00:00:00",0,0,0,{"$f":"IF(AND(J1428=0,K1428=0),,IF(G1428=0,\"KUNDE/LEV NR ?\",VLOOKUP(G1428,Register!$K$1:$L$618,2)))","v":0},0,null,0,null,0,null,null,0,0,0,0,0,0]
[null,0,null,0,null,null,null,"00:00:00",0,0,0,{"$f":"IF(AND(J1429=0,K1429=0),,IF(G1429=0,\"KUNDE/LEV NR ?\",VLOOKUP(G1429,Register!$K$1:$L$618,2)))","v":0},0,null,0,null,0,null,null,0,0,0,0,0,0]
[null,0,null,0,null,null,null,"00:00:00",0,0,0,{"$f":"IF(AND(J1430=0,K1430=0),,IF(G1430=0,\"KUNDE/LEV NR ?\",VLOOKUP(G1430,Register!$K$1:$L$618,2)))","v":0},0,null,0,null,0,null,null,0,0,0,0,0,0]
[null,0,null,0,null,null,null,"00:00:00",0,0,0,{"$f":"IF(AND(J1431=0,K1431=0),,IF(G1431=0,\"KUNDE/LEV NR ?\",VLOOKUP(G1431,Register!$K$1:$L$618,2)))","v":0},0,null,0,null,0,null,null,0,0,0,0,0,0]
[null,0,null,0,null,null,null,"00:00:00",0,0,0,{"$f":"IF(AND(J1432=0,K1432=0),,IF(G1432=0,\"KUNDE/LEV NR ?\",VLOOKUP(G1432,Register!$K$1:$L$618,2)))","v":0},0,null,0,null,0,null,null,0,0,0,0,0,0]
[null,0,null,0,null,null,null,"00:00:00",0,0,0,{"$f":"IF(AND(J1433=0,K1433=0),,IF(G1433=0,\"KUNDE/LEV NR ?\",VLOOKUP(G1433,Register!$K$1:$L$618,2)))","v":0},0,null,0,null,0,null,null,0,0,0,0,0,0]
[null,0,null,0,null,null,null,"00:00:00",0,0,0,{"$f":"IF(AND(J1434=0,K1434=0),,IF(G1434=0,\"KUNDE/LEV NR ?\",VLOOKUP(G1434,Register!$K$1:$L$618,2)))","v":0},0,null,0,null,0,null,null,0,0,0,0,0,0]
[null,0,null,0,null,null,null,"00:00:00",0,0,0,{"$f":"IF(AND(J1435=0,K1435=0),,IF(G1435=0,\"KUNDE/LEV NR ?\",VLOOKUP(G1435,Register!$K$1:$L$618,2)))","v":0},0,null,0,null,0,null,null,0,0,0,0,0,0]
[null,0,null,0,null,null,null,"00:00:00",0,0,0,{"$f":"IF(AND(J1436=0,K1436=0),,IF(G1436=0,\"KUNDE/LEV NR ?\",VLOOKUP(G1436,Register!$K$1:$L$618,2)))","v":0},0,null,0,null,0,null,null,0,0,0,0,0,0]
[null,0,null,0,null,null,null,"00:00:00",0,0,0,{"$f":"IF(AND(J1437=0,K1437=0),,IF(G1437=0,\"KUNDE/LEV NR ?\",VLOOKUP(G1437,Register!$K$1:$L$618,2)))","v":0},0,null,0,null,0,null,null,0,0,0,0,0,0]
[null,0,null,0,null,null,null,"00:00:00",0,0,0,{"$f":"IF(AND(J1438=0,K1438=0),,IF(G1438=0,\"KUNDE/LEV NR ?\",VLOOKUP(G1438,Register!$K$1:$L$618,2)))","v":0},0,null,0,null,0,null,null,0,0,0,0,0,0]
[null,0,null,0,null,null,null,"00:00:00",0,0,0,{"$f":"IF(AND(J1439=0,K1439=0),,IF(G1439=0,\"KUNDE/LEV NR ?\",VLOOKUP(G1439,Register!$K$1:$L$618,2)))","v":0},0,null,0,null,0,null,null,0,0,0,0,0,0]
[null,0,null,0,null,null,null,"00:00:00",0,0,0,{"$f":"IF(AND(J1440=0,K1440=0),,IF(G1440=0,\"KUNDE/LEV NR ?\",VLOOKUP(G1440,Register!$K$1:$L$618,2)))","v":0},0,null,0,null,0,null,null,0,0,0,0,0,0]
[null,0,null,0,null,null,null,"00:00:00",0,0,0,{"$f":"IF(AND(J1441=0,K1441=0),,IF(G1441=0,\"KUNDE/LEV NR ?\",VLOOKUP(G1441,Register!$K$1:$L$618,2)))","v":0},0,null,0,null,0,null,null,0,0,0,0,0,0]
[null,0,null,0,null,null,null,"00:00:00",0,0,0,{"$f":"IF(AND(J1442=0,K1442=0),,IF(G1442=0,\"KUNDE/LEV NR ?\",VLOOKUP(G1442,Register!$K$1:$L$618,2)))","v":0},0,null,0,null,0,null,null,0,0,0,0,0,0]
[null,0,null,0,null,null,null,"00:00:00",0,0,0,{"$f":"IF(AND(J1443=0,K1443=0),,IF(G1443=0,\"KUNDE/LEV NR ?\",VLOOKUP(G1443,Register!$K$1:$L$618,2)))","v":0},0,null,0,null,0,null,null,0,0,0,0,0,0]
[null,0,null,0,null,null,null,"00:00:00",0,0,0,{"$f":"IF(AND(J1444=0,K1444=0),,IF(G1444=0,\"KUNDE/LEV NR ?\",VLOOKUP(G1444,Register!$K$1:$L$618,2)))","v":0},0,null,0,null,0,null,null,0,0,0,0,0,0]
[null,0,null,0,null,null,null,"00:00:00",0,0,0,{"$f":"IF(AND(J1445=0,K1445=0),,IF(G1445=0,\"KUNDE/LEV NR ?\",VLOOKUP(G1445,Register!$K$1:$L$618,2)))","v":0},0,null,0,null,0,null,null,0,0,0,0,0,0]
[null,0,null,0,null,null,null,"00:00:00",0,0,0,{"$f":"IF(AND(J1446=0,K1446=0),,IF(G1446=0,\"KUNDE/LEV NR ?\",VLOOKUP(G1446,Register!$K$1:$L$618,2)))","v":0},0,null,0,null,0,null,null,0,0,0,0,0,0]
[null,0,null,0,null,null,null,"00:00:00",0,0,0,{"$f":"IF(AND(J1447=0,K1447=0),,IF(G1447=0,\"KUNDE/LEV NR ?\",VLOOKUP(G1447,Register!$K$1:$L$618,2)))","v":0},0,null,0,null,0,null,null,0,0,0,0,0,0]
[null,0,null,0,null,null,null,"00:00:00",0,0,0,{"$f":"IF(AND(J1448=0,K1448=0),,IF(G1448=0,\"KUNDE/LEV NR ?\",VLOOKUP(G1448,Register!$K$1:$L$618,2)))","v":0},0,null,0,null,0,null,null,0,0,0,0,0,0]
[null,0,null,0,null,null,null,"00:00:00",0,0,0,{"$f":"IF(AND(J1449=0,K1449=0),,IF(G1449=0,\"KUNDE/LEV NR ?\",VLOOKUP(G1449,Register!$K$1:$L$618,2)))","v":0},0,null,0,null,0,null,null,0,0,0,0,0,0]
[null,0,null,0,null,null,null,"00:00:00",0,0,0,{"$f":"IF(AND(J1450=0,K1450=0),,IF(G1450=0,\"KUNDE/LEV NR ?\",VLOOKUP(G1450,Register!$K$1:$L$618,2)))","v":0},0,null,0,null,0,null,null,0,0,0,0,0,0]
[null,0,null,0,null,null,null,"00:00:00",0,0,0,{"$f":"IF(AND(J1451=0,K1451=0),,IF(G1451=0,\"KUNDE/LEV NR ?\",VLOOKUP(G1451,Register!$K$1:$L$618,2)))","v":0},0,null,0,null,0,null,null,0,0,0,0,0,0]
[null,0,null,0,null,null,null,"00:00:00",0,0,0,{"$f":"IF(AND(J1452=0,K1452=0),,IF(G1452=0,\"KUNDE/LEV NR ?\",VLOOKUP(G1452,Register!$K$1:$L$618,2)))","v":0},0,null,0,null,0,null,null,0,0,0,0,0,0]
[null,0,null,0,null,null,null,"00:00:00",0,0,0,{"$f":"IF(AND(J1453=0,K1453=0),,IF(G1453=0,\"KUNDE/LEV NR ?\",VLOOKUP(G1453,Register!$K$1:$L$618,2)))","v":0},0,null,0,null,0,null,null,0,0,0,0,0,0]
[null,0,null,0,null,null,null,"00:00:00",0,0,0,{"$f":"IF(AND(J1454=0,K1454=0),,IF(G1454=0,\"KUNDE/LEV NR ?\",VLOOKUP(G1454,Register!$K$1:$L$618,2)))","v":0},0,null,0,null,0,null,null,0,0,0,0,0,0]
[null,0,null,0,null,null,null,"00:00:00",0,0,0,{"$f":"IF(AND(J1455=0,K1455=0),,IF(G1455=0,\"KUNDE/LEV NR ?\",VLOOKUP(G1455,Register!$K$1:$L$618,2)))","v":0},0,null,0,null,0,null,null,0,0,0,0,0,0]
[null,0,null,0,null,null,null,"00:00:00",0,0,0,{"$f":"IF(AND(J1456=0,K1456=0),,IF(G1456=0,\"KUNDE/LEV NR ?\",VLOOKUP(G1456,Register!$K$1:$L$618,2)))","v":0},0,null,0,null,0,null,null,0,0,0,0,0,0]
[null,0,null,0,null,null,null,"00:00:00",0,0,0,{"$f":"IF(AND(J1457=0,K1457=0),,IF(G1457=0,\"KUNDE/LEV NR ?\",VLOOKUP(G1457,Register!$K$1:$L$618,2)))","v":0},0,null,0,null,0,null,null,0,0,0,0,0,0]
[null,0,null,0,null,null,null,"00:00:00",0,0,0,{"$f":"IF(AND(J1458=0,K1458=0),,IF(G1458=0,\"KUNDE/LEV NR ?\",VLOOKUP(G1458,Register!$K$1:$L$618,2)))","v":0},0,null,0,null,0,null,null,0,0,0,0,0,0]
[null,0,null,0,null,null,null,"00:00:00",0,0,0,{"$f":"IF(AND(J1459=0,K1459=0),,IF(G1459=0,\"KUNDE/LEV NR ?\",VLOOKUP(G1459,Register!$K$1:$L$618,2)))","v":0},0,null,0,null,0,null,null,0,0,0,0,0,0]
[null,0,null,0,null,null,null,"00:00:00",0,0,0,{"$f":"IF(AND(J1460=0,K1460=0),,IF(G1460=0,\"KUNDE/LEV NR ?\",VLOOKUP(G1460,Register!$K$1:$L$618,2)))","v":0},0,null,0,null,0,null,null,0,0,0,0,0,0]
[null,0,null,0,null,null,null,"00:00:00",0,0,0,{"$f":"IF(AND(J1461=0,K1461=0),,IF(G1461=0,\"KUNDE/LEV NR ?\",VLOOKUP(G1461,Register!$K$1:$L$618,2)))","v":0},0,null,0,null,0,null,null,0,0,0,0,0,0]
[null,0,null,0,null,null,null,"00:00:00",0,0,0,{"$f":"IF(AND(J1462=0,K1462=0),,IF(G1462=0,\"KUNDE/LEV NR ?\",VLOOKUP(G1462,Register!$K$1:$L$618,2)))","v":0},0,null,0,null,0,null,null,0,0,0,0,0,0]
[null,0,null,0,null,null,null,"00:00:00",0,0,0,{"$f":"IF(AND(J1463=0,K1463=0),,IF(G1463=0,\"KUNDE/LEV NR ?\",VLOOKUP(G1463,Register!$K$1:$L$618,2)))","v":0},0,null,0,null,0,null,null,0,0,0,0,0,0]
[null,0,null,0,null,null,null,"00:00:00",0,0,0,{"$f":"IF(AND(J1464=0,K1464=0),,IF(G1464=0,\"KUNDE/LEV NR ?\",VLOOKUP(G1464,Register!$K$1:$L$618,2)))","v":0},0,null,0,null,0,null,null,0,0,0,0,0,0]
[null,0,null,0,null,null,null,"00:00:00",0,0,0,{"$f":"IF(AND(J1465=0,K1465=0),,IF(G1465=0,\"KUNDE/LEV NR ?\",VLOOKUP(G1465,Register!$K$1:$L$618,2)))","v":0},0,null,0,null,0,null,null,0,0,0,0,0,0]
[null,0,null,0,null,null,null,"00:00:00",0,0,0,{"$f":"IF(AND(J1466=0,K1466=0),,IF(G1466=0,\"KUNDE/LEV NR ?\",VLOOKUP(G1466,Register!$K$1:$L$618,2)))","v":0},0,null,0,null,0,null,null,0,0,0,0,0,0]
[null,0,null,0,null,null,null,"00:00:00",0,0,0,{"$f":"IF(AND(J1467=0,K1467=0),,IF(G1467=0,\"KUNDE/LEV NR ?\",VLOOKUP(G1467,Register!$K$1:$L$618,2)))","v":0},0,null,0,null,0,null,null,0,0,0,0,0,0]
[null,0,null,0,null,null,null,"00:00:00",0,0,0,{"$f":"IF(AND(J1468=0,K1468=0),,IF(G1468=0,\"KUNDE/LEV NR ?\",VLOOKUP(G1468,Register!$K$1:$L$618,2)))","v":0},0,null,0,null,0,null,null,0,0,0,0,0,0]
[null,0,null,0,null,null,null,"00:00:00",0,0,0,{"$f":"IF(AND(J1469=0,K1469=0),,IF(G1469=0,\"KUNDE/LEV NR ?\",VLOOKUP(G1469,Register!$K$1:$L$618,2)))","v":0},0,null,0,null,0,null,null,0,0,0,0,0,0]
[null,0,null,0,null,null,null,"00:00:00",0,0,0,{"$f":"IF(AND(J1470=0,K1470=0),,IF(G1470=0,\"KUNDE/LEV NR ?\",VLOOKUP(G1470,Register!$K$1:$L$618,2)))","v":0},0,null,0,null,0,null,null,0,0,0,0,0,0]
[null,0,null,0,null,null,null,"00:00:00",0,0,0,{"$f":"IF(AND(J1471=0,K1471=0),,IF(G1471=0,\"KUNDE/LEV NR ?\",VLOOKUP(G1471,Register!$K$1:$L$618,2)))","v":0},0,null,0,null,0,null,null,0,0,0,0,0,0]
[null,0,null,0,null,null,null,"00:00:00",0,0,0,{"$f":"IF(AND(J1472=0,K1472=0),,IF(G1472=0,\"KUNDE/LEV NR ?\",VLOOKUP(G1472,Register!$K$1:$L$618,2)))","v":0},0,null,0,null,0,null,null,0,0,0,0,0,0]
[null,0,null,0,null,null,null,"00:00:00",0,0,0,{"$f":"IF(AND(J1473=0,K1473=0),,IF(G1473=0,\"KUNDE/LEV NR ?\",VLOOKUP(G1473,Register!$K$1:$L$618,2)))","v":0},0,null,0,null,0,null,null,0,0,0,0,0,0]
[null,0,null,0,null,null,null,"00:00:00",0,0,0,{"$f":"IF(AND(J1474=0,K1474=0),,IF(G1474=0,\"KUNDE/LEV NR ?\",VLOOKUP(G1474,Register!$K$1:$L$618,2)))","v":0},0,null,0,null,0,null,null,0,0,0,0,0,0]
[null,0,null,0,null,null,null,"00:00:00",0,0,0,{"$f":"IF(AND(J1475=0,K1475=0),,IF(G1475=0,\"KUNDE/LEV NR ?\",VLOOKUP(G1475,Register!$K$1:$L$618,2)))","v":0},0,null,0,null,0,null,null,0,0,0,0,0,0]
[null,0,null,0,null,null,null,"00:00:00",0,0,0,{"$f":"IF(AND(J1476=0,K1476=0),,IF(G1476=0,\"KUNDE/LEV NR ?\",VLOOKUP(G1476,Register!$K$1:$L$618,2)))","v":0},0,null,0,null,0,null,null,0,0,0,0,0,0]
[null,0,null,{"$f":"IF(C1477=0,,VLOOKUP(C1477,$AA$4:$AB$320,2))","v":0},null,null,null,"00:00:00",{"$f":"IF(H1477>0,\"d\",)","v":0},0,0,{"$f":"IF(AND(J1477=0,K1477=0),,IF(G1477=0,\"KUNDE/LEV NR ?\",VLOOKUP(G1477,Register!$K$1:$L$618,2)))","v":0},0,null,0,null,0,null,null,0,0,{"$f":"IF(R1477=0,,R1477/(1+VLOOKUP(P1477,$AC$5:$AD$362,2)))","v":0},{"$f":"IF(S1477=0,,S1477/(1+VLOOKUP(P1477,$AC$5:$AD$362,2)))","v":0},{"$f":"IF(P1477=0,,IF(P1477=P1478,,VLOOKUP(P1477,$AC$5:$AE$364,3)))","v":0},{"$f":"IF(P1477=0,,IF(P1477=P1478,,VLOOKUP(P1477,$AC$5:$AF$362,4)))","v":0}]
[null,0,null,0,null,null,null,"00:00:00",0,0,{"$f":"IF(AND(A1478>0,H1478>0),J1478*-1,)","v":0},{"$f":"IF(AND(J1478=0,K1478=0),,IF(G1478=0,\"KUNDE/LEV NR ?\",VLOOKUP(G1478,Register!$K$1:$L$618,2)))","v":0},0,null,0,null,0,null,null,0,0,0,0,0,0]
[null,0,null,0,null,null,null,"00:00:00",0,0,0,{"$f":"IF(AND(J1479=0,K1479=0),,IF(G1479=0,\"KUNDE/LEV NR ?\",VLOOKUP(G1479,Register!$K$1:$L$618,2)))","v":0},{"$f":"IF(ISNUMBER(A1479+B1479+E1479+F1479+G1479+H1479+J1479+K1479),A1479+B1479+E1479+F1479+G1479+H1479+J1479+K1479,\"FEIL\")","v":0},null,0,null,0,null,null,0,0,0,0,0,0]
[null,0,null,0,null,null,null,"00:00:00",0,0,0,{"$f":"IF(AND(J1480=0,K1480=0),,IF(G1480=0,\"KUNDE/LEV NR ?\",VLOOKUP(G1480,Register!$K$1:$L$618,2)))","v":0},0,null,0,null,0,null,null,0,0,0,0,0,0]
[null,0,null,0,null,null,null,"00:00:00",0,0,0,{"$f":"IF(AND(J1481=0,K1481=0),,IF(G1481=0,\"KUNDE/LEV NR ?\",VLOOKUP(G1481,Register!$K$1:$L$618,2)))","v":0},0,null,0,null,0,null,null,0,0,0,0,0,0]
[null,0,null,0,null,null,null,"00:00:00",0,0,0,{"$f":"IF(AND(J1482=0,K1482=0),,IF(G1482=0,\"KUNDE/LEV NR ?\",VLOOKUP(G1482,Register!$K$1:$L$618,2)))","v":0},0,null,0,null,0,null,null,0,0,0,0,0,0]
[null,{"$f":"IF(A1483>0,B1482+1,)","v":0},null,0,null,null,null,{"$f":"A1483","v":"00:00:00"},0,{"$f":"E1483*-1+F1483","v":0},0,{"$f":"IF(AND(J1483=0,K1483=0),,IF(G1483=0,\"KUNDE/LEV NR ?\",VLOOKUP(G1483,Register!$K$1:$L$618,2)))","v":0},0,null,0,null,0,null,null,0,0,0,0,0,0]
[null,0,null,0,null,null,null,"00:00:00",0,0,0,{"$f":"IF(AND(J1484=0,K1484=0),,IF(G1484=0,\"KUNDE/LEV NR ?\",VLOOKUP(G1484,Register!$K$1:$L$618,2)))","v":0},0,null,0,null,0,null,null,0,0,0,0,0,0]
[null,0,null,0,null,null,null,"00:00:00",0,0,0,{"$f":"IF(AND(J1485=0,K1485=0),,IF(G1485=0,\"KUNDE/LEV NR ?\",VLOOKUP(G1485,Register!$K$1:$L$618,2)))","v":0},0,null,0,null,0,null,null,0,0,0,0,0,0]
[null,0,null,0,null,null,null,"00:00:00",0,0,0,{"$f":"IF(AND(J1486=0,K1486=0),,IF(G1486=0,\"KUNDE/LEV NR ?\",VLOOKUP(G1486,Register!$K$1:$L$618,2)))","v":0},0,null,0,null,0,null,null,{"$f":"R1486-V1486","v":0},{"$f":"S1486-W1486","v":0},0,0,0,0]
[null,0,null,0,null,null,null,"00:00:00",0,0,0,{"$f":"IF(AND(J1487=0,K1487=0),,IF(G1487=0,\"KUNDE/LEV NR ?\",VLOOKUP(G1487,Register!$K$1:$L$618,2)))","v":0},0,null,0,null,0,null,null,0,0,0,0,0,0]
[null,0,null,0,null,null,null,"00:00:00",0,0,0,{"$f":"IF(AND(J1488=0,K1488=0),,IF(G1488=0,\"KUNDE/LEV NR ?\",VLOOKUP(G1488,Register!$K$1:$L$618,2)))","v":0},0,null,0,null,0,null,null,0,0,0,0,0,0]
[null,0,null,0,null,null,null,"00:00:00",0,0,0,{"$f":"IF(AND(J1489=0,K1489=0),,IF(G1489=0,\"KUNDE/LEV NR ?\",VLOOKUP(G1489,Register!$K$1:$L$618,2)))","v":0},0,null,0,null,0,null,null,0,0,0,0,0,0]
[null,0,null,0,null,null,null,"00:00:00",0,0,0,{"$f":"IF(AND(J1490=0,K1490=0),,IF(G1490=0,\"KUNDE/LEV NR ?\",VLOOKUP(G1490,Register!$K$1:$L$618,2)))","v":0},0,null,0,null,0,null,null,0,0,0,0,0,0]
[null,0,null,0,null,null,null,"00:00:00",0,0,0,{"$f":"IF(AND(J1491=0,K1491=0),,IF(G1491=0,\"KUNDE/LEV NR ?\",VLOOKUP(G1491,Register!$K$1:$L$618,2)))","v":0},0,null,0,null,0,null,null,0,0,0,0,0,0]
[null,0,null,0,null,null,null,"00:00:00",0,0,0,{"$f":"IF(AND(J1492=0,K1492=0),,IF(G1492=0,\"KUNDE/LEV NR ?\",VLOOKUP(G1492,Register!$K$1:$L$618,2)))","v":0},0,null,0,null,0,null,null,0,0,0,0,0,0]
[null,0,null,0,null,null,null,"00:00:00",0,0,0,{"$f":"IF(AND(J1493=0,K1493=0),,IF(G1493=0,\"KUNDE/LEV NR ?\",VLOOKUP(G1493,Register!$K$1:$L$618,2)))","v":0},0,null,0,null,0,null,null,0,0,0,0,0,0]
[null,0,null,0,null,null,null,"00:00:00",0,0,0,{"$f":"IF(AND(J1494=0,K1494=0),,IF(G1494=0,\"KUNDE/LEV NR ?\",VLOOKUP(G1494,Register!$K$1:$L$618,2)))","v":0},0,null,0,null,0,null,null,0,0,0,0,0,0]
[null,0,null,0,null,null,null,"00:00:00",0,0,0,{"$f":"IF(AND(J1495=0,K1495=0),,IF(G1495=0,\"KUNDE/LEV NR ?\",VLOOKUP(G1495,Register!$K$1:$L$618,2)))","v":0},0,null,0,null,0,null,null,0,0,0,0,0,0]
[null,0,null,0,null,null,null,"00:00:00",0,0,0,{"$f":"IF(AND(J1496=0,K1496=0),,IF(G1496=0,\"KUNDE/LEV NR ?\",VLOOKUP(G1496,Register!$K$1:$L$618,2)))","v":0},0,null,0,null,0,null,null,0,0,0,0,0,0]
[null,0,null,0,null,null,null,"00:00:00",0,0,0,{"$f":"IF(AND(J1497=0,K1497=0),,IF(G1497=0,\"KUNDE/LEV NR ?\",VLOOKUP(G1497,Register!$K$1:$L$618,2)))","v":0},0,null,0,null,0,null,null,0,0,0,0,0,0]
[null,0,null,0,null,null,null,"00:00:00",0,0,0,{"$f":"IF(AND(J1498=0,K1498=0),,IF(G1498=0,\"KUNDE/LEV NR ?\",VLOOKUP(G1498,Register!$K$1:$L$618,2)))","v":0},0,null,0,null,0,null,null,0,0,0,0,0,0]
[null,0,null,0,null,null,null,"00:00:00",0,0,0,{"$f":"IF(AND(J1499=0,K1499=0),,IF(G1499=0,\"KUNDE/LEV NR ?\",VLOOKUP(G1499,Register!$K$1:$L$618,2)))","v":0},0,null,0,null,0,null,null,0,0,0,0,0,0]
[null,0,null,0,null,null,null,"00:00:00",0,0,0,{"$f":"IF(AND(J1500=0,K1500=0),,IF(G1500=0,\"KUNDE/LEV NR ?\",VLOOKUP(G1500,Register!$K$1:$L$618,2)))","v":0},0,null,0,null,0,null,null,0,0,0,0,0,0]
[null,0,null,0,null,null,null,"00:00:00",0,0,0,{"$f":"IF(AND(J1501=0,K1501=0),,IF(G1501=0,\"KUNDE/LEV NR ?\",VLOOKUP(G1501,Register!$K$1:$L$618,2)))","v":0},0,null,0,null,0,null,null,0,0,0,0,0,0]
[null,0,null,0,null,null,null,"00:00:00",0,0,0,{"$f":"IF(AND(J1502=0,K1502=0),,IF(G1502=0,\"KUNDE/LEV NR ?\",VLOOKUP(G1502,Register!$K$1:$L$618,2)))","v":0},0,null,0,null,0,null,null,0,0,0,0,0,0]
[null,0,null,0,null,null,null,"00:00:00",0,0,0,{"$f":"IF(AND(J1503=0,K1503=0),,IF(G1503=0,\"KUNDE/LEV NR ?\",VLOOKUP(G1503,Register!$K$1:$L$618,2)))","v":0},0,null,0,null,0,null,null,0,0,0,0,0,0]
[null,0,null,0,null,null,null,"00:00:00",0,0,0,{"$f":"IF(AND(J1504=0,K1504=0),,IF(G1504=0,\"KUNDE/LEV NR ?\",VLOOKUP(G1504,Register!$K$1:$L$618,2)))","v":0},0,null,0,null,0,null,null,0,0,0,0,0,0]
[null,0,null,0,null,null,null,"00:00:00",0,0,0,{"$f":"IF(AND(J1505=0,K1505=0),,IF(G1505=0,\"KUNDE/LEV NR ?\",VLOOKUP(G1505,Register!$K$1:$L$618,2)))","v":0},0,null,0,null,0,null,null,0,0,0,0,0,0]
[null,0,null,0,null,null,null,"00:00:00",0,0,0,{"$f":"IF(AND(J1506=0,K1506=0),,IF(G1506=0,\"KUNDE/LEV NR ?\",VLOOKUP(G1506,Register!$K$1:$L$618,2)))","v":0},0,null,0,null,0,null,null,0,0,0,0,0,0]
[null,0,null,0,null,null,null,"00:00:00",0,0,0,{"$f":"IF(AND(J1507=0,K1507=0),,IF(G1507=0,\"KUNDE/LEV NR ?\",VLOOKUP(G1507,Register!$K$1:$L$618,2)))","v":0},0,null,0,null,0,null,null,0,0,0,0,0,0]
[null,0,null,0,null,null,null,"00:00:00",0,0,0,{"$f":"IF(AND(J1508=0,K1508=0),,IF(G1508=0,\"KUNDE/LEV NR ?\",VLOOKUP(G1508,Register!$K$1:$L$618,2)))","v":0},0,null,0,null,0,null,null,0,0,0,0,0,0]
[null,0,null,0,null,null,null,"00:00:00",0,0,0,{"$f":"IF(AND(J1509=0,K1509=0),,IF(G1509=0,\"KUNDE/LEV NR ?\",VLOOKUP(G1509,Register!$K$1:$L$618,2)))","v":0},0,null,0,null,0,null,null,0,0,0,0,0,0]
[null,0,null,0,null,null,null,"00:00:00",0,0,0,{"$f":"IF(AND(J1510=0,K1510=0),,IF(G1510=0,\"KUNDE/LEV NR ?\",VLOOKUP(G1510,Register!$K$1:$L$618,2)))","v":0},0,null,0,null,0,null,null,0,0,0,0,0,0]
[null,0,null,0,null,null,null,"00:00:00",0,0,0,{"$f":"IF(AND(J1511=0,K1511=0),,IF(G1511=0,\"KUNDE/LEV NR ?\",VLOOKUP(G1511,Register!$K$1:$L$618,2)))","v":0},0,null,0,null,0,null,null,0,0,0,0,0,0]
[null,0,null,0,null,null,null,"00:00:00",0,0,0,{"$f":"IF(AND(J1512=0,K1512=0),,IF(G1512=0,\"KUNDE/LEV NR ?\",VLOOKUP(G1512,Register!$K$1:$L$618,2)))","v":0},0,null,0,null,0,null,null,0,0,0,0,0,0]
[null,0,null,0,null,null,null,"00:00:00",0,0,0,{"$f":"IF(AND(J1513=0,K1513=0),,IF(G1513=0,\"KUNDE/LEV NR ?\",VLOOKUP(G1513,Register!$K$1:$L$618,2)))","v":0},0,null,0,null,0,null,null,0,0,0,0,0,0]
[null,0,null,0,null,null,null,"00:00:00",0,0,0,{"$f":"IF(AND(J1514=0,K1514=0),,IF(G1514=0,\"KUNDE/LEV NR ?\",VLOOKUP(G1514,Register!$K$1:$L$618,2)))","v":0},0,null,0,null,0,null,null,0,0,0,0,0,0]
[null,0,null,0,null,null,null,"00:00:00",0,0,0,{"$f":"IF(AND(J1515=0,K1515=0),,IF(G1515=0,\"KUNDE/LEV NR ?\",VLOOKUP(G1515,Register!$K$1:$L$618,2)))","v":0},0,null,0,null,0,null,null,0,0,0,0,0,0]
[null,0,null,0,null,null,null,"00:00:00",0,0,0,{"$f":"IF(AND(J1516=0,K1516=0),,IF(G1516=0,\"KUNDE/LEV NR ?\",VLOOKUP(G1516,Register!$K$1:$L$618,2)))","v":0},0,null,0,null,0,null,null,0,0,0,0,0,0]
[null,0,null,0,null,null,null,"00:00:00",0,0,0,{"$f":"IF(AND(J1517=0,K1517=0),,IF(G1517=0,\"KUNDE/LEV NR ?\",VLOOKUP(G1517,Register!$K$1:$L$618,2)))","v":0},0,null,0,null,0,null,null,0,0,0,0,0,0]
[null,0,null,0,null,null,null,"00:00:00",0,0,0,{"$f":"IF(AND(J1518=0,K1518=0),,IF(G1518=0,\"KUNDE/LEV NR ?\",VLOOKUP(G1518,Register!$K$1:$L$618,2)))","v":0},0,null,0,null,0,null,null,0,0,0,0,0,0]
[null,0,null,0,null,null,null,"00:00:00",0,0,0,{"$f":"IF(AND(J1519=0,K1519=0),,IF(G1519=0,\"KUNDE/LEV NR ?\",VLOOKUP(G1519,Register!$K$1:$L$618,2)))","v":0},0,null,0,null,0,null,null,0,0,0,0,0,0]
[null,0,null,0,null,null,null,"00:00:00",0,0,0,{"$f":"IF(AND(J1520=0,K1520=0),,IF(G1520=0,\"KUNDE/LEV NR ?\",VLOOKUP(G1520,Register!$K$1:$L$618,2)))","v":0},0,null,0,null,0,null,null,0,0,0,0,0,0]
[null,0,null,0,null,null,null,"00:00:00",0,0,0,{"$f":"IF(AND(J1521=0,K1521=0),,IF(G1521=0,\"KUNDE/LEV NR ?\",VLOOKUP(G1521,Register!$K$1:$L$618,2)))","v":0},0,null,0,null,0,null,null,0,0,0,0,0,0]
[null,0,null,0,null,null,null,"00:00:00",0,0,0,{"$f":"IF(AND(J1522=0,K1522=0),,IF(G1522=0,\"KUNDE/LEV NR ?\",VLOOKUP(G1522,Register!$K$1:$L$618,2)))","v":0},0,null,0,null,0,null,null,0,0,0,0,0,0]
[null,0,null,0,null,null,null,"00:00:00",0,0,0,{"$f":"IF(AND(J1523=0,K1523=0),,IF(G1523=0,\"KUNDE/LEV NR ?\",VLOOKUP(G1523,Register!$K$1:$L$618,2)))","v":0},0,null,0,null,0,null,null,0,0,0,0,0,0]
[null,0,null,0,null,null,null,"00:00:00",0,0,0,{"$f":"IF(AND(J1524=0,K1524=0),,IF(G1524=0,\"KUNDE/LEV NR ?\",VLOOKUP(G1524,Register!$K$1:$L$618,2)))","v":0},0,null,0,null,0,null,null,0,0,0,0,0,0]
[null,0,null,0,null,null,null,"00:00:00",0,0,0,{"$f":"IF(AND(J1525=0,K1525=0),,IF(G1525=0,\"KUNDE/LEV NR ?\",VLOOKUP(G1525,Register!$K$1:$L$618,2)))","v":0},0,null,0,null,0,null,null,0,0,0,0,0,0]
[null,0,null,0,null,null,null,"00:00:00",0,0,0,{"$f":"IF(AND(J1526=0,K1526=0),,IF(G1526=0,\"KUNDE/LEV NR ?\",VLOOKUP(G1526,Register!$K$1:$L$618,2)))","v":0},0,null,0,null,0,null,null,0,0,0,0,0,0]
[null,0,null,0,null,null,null,"00:00:00",0,0,0,{"$f":"IF(AND(J1527=0,K1527=0),,IF(G1527=0,\"KUNDE/LEV NR ?\",VLOOKUP(G1527,Register!$K$1:$L$618,2)))","v":0},0,null,0,null,0,null,null,0,0,0,0,0,0]
[null,0,null,0,null,null,null,"00:00:00",0,0,0,{"$f":"IF(AND(J1528=0,K1528=0),,IF(G1528=0,\"KUNDE/LEV NR ?\",VLOOKUP(G1528,Register!$K$1:$L$618,2)))","v":0},0,null,0,null,0,null,null,0,0,0,0,0,0]
[null,0,null,0,null,null,null,"00:00:00",0,0,0,{"$f":"IF(AND(J1529=0,K1529=0),,IF(G1529=0,\"KUNDE/LEV NR ?\",VLOOKUP(G1529,Register!$K$1:$L$618,2)))","v":0},0,null,0,null,0,null,null,0,0,0,0,0,0]
[null,0,null,0,null,null,null,"00:00:00",0,0,0,{"$f":"IF(AND(J1530=0,K1530=0),,IF(G1530=0,\"KUNDE/LEV NR ?\",VLOOKUP(G1530,Register!$K$1:$L$618,2)))","v":0},0,null,0,null,0,null,null,0,0,0,0,0,0]
[null,0,null,0,null,null,null,"00:00:00",0,0,0,{"$f":"IF(AND(J1531=0,K1531=0),,IF(G1531=0,\"KUNDE/LEV NR ?\",VLOOKUP(G1531,Register!$K$1:$L$618,2)))","v":0},0,null,0,null,0,null,null,0,0,0,0,0,0]
[null,0,null,0,null,null,null,"00:00:00",0,0,0,{"$f":"IF(AND(J1532=0,K1532=0),,IF(G1532=0,\"KUNDE/LEV NR ?\",VLOOKUP(G1532,Register!$K$1:$L$618,2)))","v":0},0,null,0,null,0,null,null,0,0,0,0,0,0]
[null,0,null,0,null,null,null,"00:00:00",0,0,0,{"$f":"IF(AND(J1533=0,K1533=0),,IF(G1533=0,\"KUNDE/LEV NR ?\",VLOOKUP(G1533,Register!$K$1:$L$618,2)))","v":0},0,null,0,null,0,null,null,0,0,0,0,0,0]
[null,0,null,0,null,null,null,"00:00:00",0,0,0,{"$f":"IF(AND(J1534=0,K1534=0),,IF(G1534=0,\"KUNDE/LEV NR ?\",VLOOKUP(G1534,Register!$K$1:$L$618,2)))","v":0},0,null,0,null,0,null,null,0,0,0,0,0,0]
[null,0,null,0,null,null,null,"00:00:00",0,0,0,{"$f":"IF(AND(J1535=0,K1535=0),,IF(G1535=0,\"KUNDE/LEV NR ?\",VLOOKUP(G1535,Register!$K$1:$L$618,2)))","v":0},0,null,0,null,0,null,null,0,0,0,0,0,0]
[null,0,null,0,null,null,null,"00:00:00",0,0,0,{"$f":"IF(AND(J1536=0,K1536=0),,IF(G1536=0,\"KUNDE/LEV NR ?\",VLOOKUP(G1536,Register!$K$1:$L$618,2)))","v":0},0,null,0,null,0,null,null,0,0,0,0,0,0]
[null,0,null,0,null,null,null,"00:00:00",0,0,0,{"$f":"IF(AND(J1537=0,K1537=0),,IF(G1537=0,\"KUNDE/LEV NR ?\",VLOOKUP(G1537,Register!$K$1:$L$618,2)))","v":0},0,null,0,null,0,null,null,0,0,0,0,0,0]
[null,0,null,0,null,null,null,"00:00:00",0,0,0,{"$f":"IF(AND(J1538=0,K1538=0),,IF(G1538=0,\"KUNDE/LEV NR ?\",VLOOKUP(G1538,Register!$K$1:$L$618,2)))","v":0},0,null,0,null,0,null,null,0,0,0,0,0,0]
[null,0,null,0,null,null,null,"00:00:00",0,0,0,{"$f":"IF(AND(J1539=0,K1539=0),,IF(G1539=0,\"KUNDE/LEV NR ?\",VLOOKUP(G1539,Register!$K$1:$L$618,2)))","v":0},0,null,0,null,0,null,null,0,0,0,0,0,0]
[null,0,null,0,null,null,null,"00:00:00",0,0,0,{"$f":"IF(AND(J1540=0,K1540=0),,IF(G1540=0,\"KUNDE/LEV NR ?\",VLOOKUP(G1540,Register!$K$1:$L$618,2)))","v":0},0,null,0,null,0,null,null,0,0,0,0,0,0]
[null,0,null,{"$f":"IF(C1541=0,,VLOOKUP(C1541,$AA$4:$AB$320,2))","v":0},null,null,null,"00:00:00",{"$f":"IF(H1541>0,\"d\",)","v":0},0,0,{"$f":"IF(AND(J1541=0,K1541=0),,IF(G1541=0,\"KUNDE/LEV NR ?\",VLOOKUP(G1541,Register!$K$1:$L$618,2)))","v":0},0,null,0,null,0,null,null,0,0,{"$f":"IF(R1541=0,,R1541/(1+VLOOKUP(P1541,$AC$5:$AD$362,2)))","v":0},{"$f":"IF(S1541=0,,S1541/(1+VLOOKUP(P1541,$AC$5:$AD$362,2)))","v":0},{"$f":"IF(P1541=0,,IF(P1541=P1542,,VLOOKUP(P1541,$AC$5:$AE$364,3)))","v":0},{"$f":"IF(P1541=0,,IF(P1541=P1542,,VLOOKUP(P1541,$AC$5:$AF$362,4)))","v":0}]
[null,0,null,0,null,null,null,"00:00:00",0,0,{"$f":"IF(AND(A1542>0,H1542>0),J1542*-1,)","v":0},{"$f":"IF(AND(J1542=0,K1542=0),,IF(G1542=0,\"KUNDE/LEV NR ?\",VLOOKUP(G1542,Register!$K$1:$L$618,2)))","v":0},0,null,0,null,0,null,null,0,0,0,0,0,0]
[null,0,null,0,null,null,null,"00:00:00",0,0,0,{"$f":"IF(AND(J1543=0,K1543=0),,IF(G1543=0,\"KUNDE/LEV NR ?\",VLOOKUP(G1543,Register!$K$1:$L$618,2)))","v":0},{"$f":"IF(ISNUMBER(A1543+B1543+E1543+F1543+G1543+H1543+J1543+K1543),A1543+B1543+E1543+F1543+G1543+H1543+J1543+K1543,\"FEIL\")","v":0},null,0,null,0,null,null,0,0,0,0,0,0]
[null,0,null,0,null,null,null,"00:00:00",0,0,0,{"$f":"IF(AND(J1544=0,K1544=0),,IF(G1544=0,\"KUNDE/LEV NR ?\",VLOOKUP(G1544,Register!$K$1:$L$618,2)))","v":0},0,null,0,null,0,null,null,0,0,0,0,0,0]
[null,0,null,0,null,null,null,"00:00:00",0,0,0,{"$f":"IF(AND(J1545=0,K1545=0),,IF(G1545=0,\"KUNDE/LEV NR ?\",VLOOKUP(G1545,Register!$K$1:$L$618,2)))","v":0},0,null,0,null,0,null,null,0,0,0,0,0,0]
[null,0,null,0,null,null,null,"00:00:00",0,0,0,{"$f":"IF(AND(J1546=0,K1546=0),,IF(G1546=0,\"KUNDE/LEV NR ?\",VLOOKUP(G1546,Register!$K$1:$L$618,2)))","v":0},0,null,0,null,0,null,null,0,0,0,0,0,0]
[null,{"$f":"IF(A1547>0,B1546+1,)","v":0},null,0,null,null,null,{"$f":"A1547","v":"00:00:00"},0,{"$f":"E1547*-1+F1547","v":0},0,{"$f":"IF(AND(J1547=0,K1547=0),,IF(G1547=0,\"KUNDE/LEV NR ?\",VLOOKUP(G1547,Register!$K$1:$L$618,2)))","v":0},0,null,0,null,0,null,null,0,0,0,0,0,0]
[null,0,null,0,null,null,null,"00:00:00",0,0,0,{"$f":"IF(AND(J1548=0,K1548=0),,IF(G1548=0,\"KUNDE/LEV NR ?\",VLOOKUP(G1548,Register!$K$1:$L$618,2)))","v":0},0,null,0,null,0,null,null,0,0,0,0,0,0]
[null,0,null,0,null,null,null,"00:00:00",0,0,0,{"$f":"IF(AND(J1549=0,K1549=0),,IF(G1549=0,\"KUNDE/LEV NR ?\",VLOOKUP(G1549,Register!$K$1:$L$618,2)))","v":0},0,null,0,null,0,null,null,0,0,0,0,0,0]
[null,0,null,0,null,null,null,"00:00:00",0,0,0,{"$f":"IF(AND(J1550=0,K1550=0),,IF(G1550=0,\"KUNDE/LEV NR ?\",VLOOKUP(G1550,Register!$K$1:$L$618,2)))","v":0},0,null,0,null,0,null,null,{"$f":"R1550-V1550","v":0},{"$f":"S1550-W1550","v":0},0,0,0,0]
[null,0,null,0,null,null,null,"00:00:00",0,0,0,{"$f":"IF(AND(J1551=0,K1551=0),,IF(G1551=0,\"KUNDE/LEV NR ?\",VLOOKUP(G1551,Register!$K$1:$L$618,2)))","v":0},0,null,0,null,0,null,null,0,0,0,0,0,0]
[null,0,null,0,null,null,null,"00:00:00",0,0,0,{"$f":"IF(AND(J1552=0,K1552=0),,IF(G1552=0,\"KUNDE/LEV NR ?\",VLOOKUP(G1552,Register!$K$1:$L$618,2)))","v":0},0,null,0,null,0,null,null,0,0,0,0,0,0]
[null,0,null,0,null,null,null,"00:00:00",0,0,0,{"$f":"IF(AND(J1553=0,K1553=0),,IF(G1553=0,\"KUNDE/LEV NR ?\",VLOOKUP(G1553,Register!$K$1:$L$618,2)))","v":0},0,null,0,null,0,null,null,0,0,0,0,0,0]
[null,0,null,0,null,null,null,"00:00:00",0,0,0,{"$f":"IF(AND(J1554=0,K1554=0),,IF(G1554=0,\"KUNDE/LEV NR ?\",VLOOKUP(G1554,Register!$K$1:$L$618,2)))","v":0},0,null,0,null,0,null,null,0,0,0,0,0,0]
[null,0,null,0,null,null,null,"00:00:00",0,0,0,{"$f":"IF(AND(J1555=0,K1555=0),,IF(G1555=0,\"KUNDE/LEV NR ?\",VLOOKUP(G1555,Register!$K$1:$L$618,2)))","v":0},0,null,0,null,0,null,null,0,0,0,0,0,0]
[null,0,null,0,null,null,null,"00:00:00",0,0,0,{"$f":"IF(AND(J1556=0,K1556=0),,IF(G1556=0,\"KUNDE/LEV NR ?\",VLOOKUP(G1556,Register!$K$1:$L$618,2)))","v":0},0,null,0,null,0,null,null,0,0,0,0,0,0]
[null,0,null,0,null,null,null,"00:00:00",0,0,0,{"$f":"IF(AND(J1557=0,K1557=0),,IF(G1557=0,\"KUNDE/LEV NR ?\",VLOOKUP(G1557,Register!$K$1:$L$618,2)))","v":0},0,null,0,null,0,null,null,0,0,0,0,0,0]
[null,0,null,0,null,null,null,"00:00:00",0,0,0,{"$f":"IF(AND(J1558=0,K1558=0),,IF(G1558=0,\"KUNDE/LEV NR ?\",VLOOKUP(G1558,Register!$K$1:$L$618,2)))","v":0},0,null,0,null,0,null,null,0,0,0,0,0,0]
[null,0,null,0,null,null,null,"00:00:00",0,0,0,{"$f":"IF(AND(J1559=0,K1559=0),,IF(G1559=0,\"KUNDE/LEV NR ?\",VLOOKUP(G1559,Register!$K$1:$L$618,2)))","v":0},0,null,0,null,0,null,null,0,0,0,0,0,0]
[null,0,null,0,null,null,null,"00:00:00",0,0,0,{"$f":"IF(AND(J1560=0,K1560=0),,IF(G1560=0,\"KUNDE/LEV NR ?\",VLOOKUP(G1560,Register!$K$1:$L$618,2)))","v":0},0,null,0,null,0,null,null,0,0,0,0,0,0]
[null,0,null,0,null,null,null,"00:00:00",0,0,0,{"$f":"IF(AND(J1561=0,K1561=0),,IF(G1561=0,\"KUNDE/LEV NR ?\",VLOOKUP(G1561,Register!$K$1:$L$618,2)))","v":0},0,null,0,null,0,null,null,0,0,0,0,0,0]
[null,0,null,0,null,null,null,"00:00:00",0,0,0,{"$f":"IF(AND(J1562=0,K1562=0),,IF(G1562=0,\"KUNDE/LEV NR ?\",VLOOKUP(G1562,Register!$K$1:$L$618,2)))","v":0},0,null,0,null,0,null,null,0,0,0,0,0,0]
[null,0,null,0,null,null,null,"00:00:00",0,0,0,{"$f":"IF(AND(J1563=0,K1563=0),,IF(G1563=0,\"KUNDE/LEV NR ?\",VLOOKUP(G1563,Register!$K$1:$L$618,2)))","v":0},0,null,0,null,0,null,null,0,0,0,0,0,0]
[null,0,null,0,null,null,null,"00:00:00",0,0,0,{"$f":"IF(AND(J1564=0,K1564=0),,IF(G1564=0,\"KUNDE/LEV NR ?\",VLOOKUP(G1564,Register!$K$1:$L$618,2)))","v":0},0,null,0,null,0,null,null,0,0,0,0,0,0]
[null,0,null,0,null,null,null,"00:00:00",0,0,0,{"$f":"IF(AND(J1565=0,K1565=0),,IF(G1565=0,\"KUNDE/LEV NR ?\",VLOOKUP(G1565,Register!$K$1:$L$618,2)))","v":0},0,null,0,null,0,null,null,0,0,0,0,0,0]
[null,0,null,0,null,null,null,"00:00:00",0,0,0,{"$f":"IF(AND(J1566=0,K1566=0),,IF(G1566=0,\"KUNDE/LEV NR ?\",VLOOKUP(G1566,Register!$K$1:$L$618,2)))","v":0},0,null,0,null,0,null,null,0,0,0,0,0,0]
[null,0,null,0,null,null,null,"00:00:00",0,0,0,{"$f":"IF(AND(J1567=0,K1567=0),,IF(G1567=0,\"KUNDE/LEV NR ?\",VLOOKUP(G1567,Register!$K$1:$L$618,2)))","v":0},0,null,0,null,0,null,null,0,0,0,0,0,0]
[null,0,null,0,null,null,null,"00:00:00",0,0,0,{"$f":"IF(AND(J1568=0,K1568=0),,IF(G1568=0,\"KUNDE/LEV NR ?\",VLOOKUP(G1568,Register!$K$1:$L$618,2)))","v":0},0,null,0,null,0,null,null,0,0,0,0,0,0]
[null,0,null,0,null,null,null,"00:00:00",0,0,0,{"$f":"IF(AND(J1569=0,K1569=0),,IF(G1569=0,\"KUNDE/LEV NR ?\",VLOOKUP(G1569,Register!$K$1:$L$618,2)))","v":0},0,null,0,null,0,null,null,0,0,0,0,0,0]
[null,0,null,0,null,null,null,"00:00:00",0,0,0,{"$f":"IF(AND(J1570=0,K1570=0),,IF(G1570=0,\"KUNDE/LEV NR ?\",VLOOKUP(G1570,Register!$K$1:$L$618,2)))","v":0},0,null,0,null,0,null,null,0,0,0,0,0,0]
[null,0,null,0,null,null,null,"00:00:00",0,0,0,{"$f":"IF(AND(J1571=0,K1571=0),,IF(G1571=0,\"KUNDE/LEV NR ?\",VLOOKUP(G1571,Register!$K$1:$L$618,2)))","v":0},0,null,0,null,0,null,null,0,0,0,0,0,0]
[null,0,null,0,null,null,null,"00:00:00",0,0,0,{"$f":"IF(AND(J1572=0,K1572=0),,IF(G1572=0,\"KUNDE/LEV NR ?\",VLOOKUP(G1572,Register!$K$1:$L$618,2)))","v":0},0,null,0,null,0,null,null,0,0,0,0,0,0]
[null,0,null,0,null,null,null,"00:00:00",0,0,0,{"$f":"IF(AND(J1573=0,K1573=0),,IF(G1573=0,\"KUNDE/LEV NR ?\",VLOOKUP(G1573,Register!$K$1:$L$618,2)))","v":0},0,null,0,null,0,null,null,0,0,0,0,0,0]
[null,0,null,0,null,null,null,"00:00:00",0,0,0,{"$f":"IF(AND(J1574=0,K1574=0),,IF(G1574=0,\"KUNDE/LEV NR ?\",VLOOKUP(G1574,Register!$K$1:$L$618,2)))","v":0},0,null,0,null,0,null,null,0,0,0,0,0,0]
[null,0,null,0,null,null,null,"00:00:00",0,0,0,{"$f":"IF(AND(J1575=0,K1575=0),,IF(G1575=0,\"KUNDE/LEV NR ?\",VLOOKUP(G1575,Register!$K$1:$L$618,2)))","v":0},0,null,0,null,0,null,null,0,0,0,0,0,0]
[null,0,null,0,null,null,null,"00:00:00",0,0,0,{"$f":"IF(AND(J1576=0,K1576=0),,IF(G1576=0,\"KUNDE/LEV NR ?\",VLOOKUP(G1576,Register!$K$1:$L$618,2)))","v":0},0,null,0,null,0,null,null,0,0,0,0,0,0]
[null,0,null,0,null,null,null,"00:00:00",0,0,0,{"$f":"IF(AND(J1577=0,K1577=0),,IF(G1577=0,\"KUNDE/LEV NR ?\",VLOOKUP(G1577,Register!$K$1:$L$618,2)))","v":0},0,null,0,null,0,null,null,0,0,0,0,0,0]
[null,0,null,0,null,null,null,"00:00:00",0,0,0,{"$f":"IF(AND(J1578=0,K1578=0),,IF(G1578=0,\"KUNDE/LEV NR ?\",VLOOKUP(G1578,Register!$K$1:$L$618,2)))","v":0},0,null,0,null,0,null,null,0,0,0,0,0,0]
[null,0,null,0,null,null,null,"00:00:00",0,0,0,{"$f":"IF(AND(J1579=0,K1579=0),,IF(G1579=0,\"KUNDE/LEV NR ?\",VLOOKUP(G1579,Register!$K$1:$L$618,2)))","v":0},0,null,0,null,0,null,null,0,0,0,0,0,0]
[null,0,null,0,null,null,null,"00:00:00",0,0,0,{"$f":"IF(AND(J1580=0,K1580=0),,IF(G1580=0,\"KUNDE/LEV NR ?\",VLOOKUP(G1580,Register!$K$1:$L$618,2)))","v":0},0,null,0,null,0,null,null,0,0,0,0,0,0]
[null,0,null,0,null,null,null,"00:00:00",0,0,0,{"$f":"IF(AND(J1581=0,K1581=0),,IF(G1581=0,\"KUNDE/LEV NR ?\",VLOOKUP(G1581,Register!$K$1:$L$618,2)))","v":0},0,null,0,null,0,null,null,0,0,0,0,0,0]
[null,0,null,0,null,null,null,"00:00:00",0,0,0,{"$f":"IF(AND(J1582=0,K1582=0),,IF(G1582=0,\"KUNDE/LEV NR ?\",VLOOKUP(G1582,Register!$K$1:$L$618,2)))","v":0},0,null,0,null,0,null,null,0,0,0,0,0,0]
[null,0,null,0,null,null,null,"00:00:00",0,0,0,{"$f":"IF(AND(J1583=0,K1583=0),,IF(G1583=0,\"KUNDE/LEV NR ?\",VLOOKUP(G1583,Register!$K$1:$L$618,2)))","v":0},0,null,0,null,0,null,null,0,0,0,0,0,0]
[null,0,null,0,null,null,null,"00:00:00",0,0,0,{"$f":"IF(AND(J1584=0,K1584=0),,IF(G1584=0,\"KUNDE/LEV NR ?\",VLOOKUP(G1584,Register!$K$1:$L$618,2)))","v":0},0,null,0,null,0,null,null,0,0,0,0,0,0]
[null,0,null,0,null,null,null,"00:00:00",0,0,0,{"$f":"IF(AND(J1585=0,K1585=0),,IF(G1585=0,\"KUNDE/LEV NR ?\",VLOOKUP(G1585,Register!$K$1:$L$618,2)))","v":0},0,null,0,null,0,null,null,0,0,0,0,0,0]
[null,0,null,0,null,null,null,"00:00:00",0,0,0,{"$f":"IF(AND(J1586=0,K1586=0),,IF(G1586=0,\"KUNDE/LEV NR ?\",VLOOKUP(G1586,Register!$K$1:$L$618,2)))","v":0},0,null,0,null,0,null,null,0,0,0,0,0,0]
[null,0,null,0,null,null,null,"00:00:00",0,0,0,{"$f":"IF(AND(J1587=0,K1587=0),,IF(G1587=0,\"KUNDE/LEV NR ?\",VLOOKUP(G1587,Register!$K$1:$L$618,2)))","v":0},0,null,0,null,0,null,null,0,0,0,0,0,0]
[null,0,null,0,null,null,null,"00:00:00",0,0,0,{"$f":"IF(AND(J1588=0,K1588=0),,IF(G1588=0,\"KUNDE/LEV NR ?\",VLOOKUP(G1588,Register!$K$1:$L$618,2)))","v":0},0,null,0,null,0,null,null,0,0,0,0,0,0]
[null,0,null,0,null,null,null,"00:00:00",0,0,0,{"$f":"IF(AND(J1589=0,K1589=0),,IF(G1589=0,\"KUNDE/LEV NR ?\",VLOOKUP(G1589,Register!$K$1:$L$618,2)))","v":0},0,null,0,null,0,null,null,0,0,0,0,0,0]
[null,0,null,0,null,null,null,"00:00:00",0,0,0,{"$f":"IF(AND(J1590=0,K1590=0),,IF(G1590=0,\"KUNDE/LEV NR ?\",VLOOKUP(G1590,Register!$K$1:$L$618,2)))","v":0},0,null,0,null,0,null,null,0,0,0,0,0,0]
[null,0,null,0,null,null,null,"00:00:00",0,0,0,{"$f":"IF(AND(J1591=0,K1591=0),,IF(G1591=0,\"KUNDE/LEV NR ?\",VLOOKUP(G1591,Register!$K$1:$L$618,2)))","v":0},0,null,0,null,0,null,null,0,0,0,0,0,0]
[null,0,null,0,null,null,null,"00:00:00",0,0,0,{"$f":"IF(AND(J1592=0,K1592=0),,IF(G1592=0,\"KUNDE/LEV NR ?\",VLOOKUP(G1592,Register!$K$1:$L$618,2)))","v":0},0,null,0,null,0,null,null,0,0,0,0,0,0]
[null,0,null,0,null,null,null,"00:00:00",0,0,0,{"$f":"IF(AND(J1593=0,K1593=0),,IF(G1593=0,\"KUNDE/LEV NR ?\",VLOOKUP(G1593,Register!$K$1:$L$618,2)))","v":0},0,null,0,null,0,null,null,0,0,0,0,0,0]
[null,0,null,0,null,null,null,"00:00:00",0,0,0,{"$f":"IF(AND(J1594=0,K1594=0),,IF(G1594=0,\"KUNDE/LEV NR ?\",VLOOKUP(G1594,Register!$K$1:$L$618,2)))","v":0},0,null,0,null,0,null,null,0,0,0,0,0,0]
[null,0,null,0,null,null,null,"00:00:00",0,0,0,{"$f":"IF(AND(J1595=0,K1595=0),,IF(G1595=0,\"KUNDE/LEV NR ?\",VLOOKUP(G1595,Register!$K$1:$L$618,2)))","v":0},0,null,0,null,0,null,null,0,0,0,0,0,0]
[null,0,null,0,null,null,null,"00:00:00",0,0,0,{"$f":"IF(AND(J1596=0,K1596=0),,IF(G1596=0,\"KUNDE/LEV NR ?\",VLOOKUP(G1596,Register!$K$1:$L$618,2)))","v":0},0,null,0,null,0,null,null,0,0,0,0,0,0]
[null,0,null,0,null,null,null,"00:00:00",0,0,0,{"$f":"IF(AND(J1597=0,K1597=0),,IF(G1597=0,\"KUNDE/LEV NR ?\",VLOOKUP(G1597,Register!$K$1:$L$618,2)))","v":0},0,null,0,null,0,null,null,0,0,0,0,0,0]
[null,0,null,0,null,null,null,"00:00:00",0,0,0,{"$f":"IF(AND(J1598=0,K1598=0),,IF(G1598=0,\"KUNDE/LEV NR ?\",VLOOKUP(G1598,Register!$K$1:$L$618,2)))","v":0},0,null,0,null,0,null,null,0,0,0,0,0,0]
[null,0,null,0,null,null,null,"00:00:00",0,0,0,{"$f":"IF(AND(J1599=0,K1599=0),,IF(G1599=0,\"KUNDE/LEV NR ?\",VLOOKUP(G1599,Register!$K$1:$L$618,2)))","v":0},0,null,0,null,0,null,null,0,0,0,0,0,0]
[null,0,null,0,null,null,null,"00:00:00",0,0,0,{"$f":"IF(AND(J1600=0,K1600=0),,IF(G1600=0,\"KUNDE/LEV NR ?\",VLOOKUP(G1600,Register!$K$1:$L$618,2)))","v":0},0,null,0,null,0,null,null,0,0,0,0,0,0]
[null,0,null,0,null,null,null,"00:00:00",0,0,0,{"$f":"IF(AND(J1601=0,K1601=0),,IF(G1601=0,\"KUNDE/LEV NR ?\",VLOOKUP(G1601,Register!$K$1:$L$618,2)))","v":0},0,null,0,null,0,null,null,0,0,0,0,0,0]
[null,0,null,0,null,null,null,"00:00:00",0,0,0,{"$f":"IF(AND(J1602=0,K1602=0),,IF(G1602=0,\"KUNDE/LEV NR ?\",VLOOKUP(G1602,Register!$K$1:$L$618,2)))","v":0},0,null,0,null,0,null,null,0,0,0,0,0,0]
[null,0,null,0,null,null,null,"00:00:00",0,0,0,{"$f":"IF(AND(J1603=0,K1603=0),,IF(G1603=0,\"KUNDE/LEV NR ?\",VLOOKUP(G1603,Register!$K$1:$L$618,2)))","v":0},0,null,0,null,0,null,null,0,0,0,0,0,0]
[null,0,null,0,null,null,null,"00:00:00",0,0,0,{"$f":"IF(AND(J1604=0,K1604=0),,IF(G1604=0,\"KUNDE/LEV NR ?\",VLOOKUP(G1604,Register!$K$1:$L$618,2)))","v":0},0,null,0,null,0,null,null,0,0,0,0,0,0]
[null,0,null,{"$f":"IF(C1605=0,,VLOOKUP(C1605,$AA$4:$AB$320,2))","v":0},null,null,null,"00:00:00",{"$f":"IF(H1605>0,\"d\",)","v":0},0,0,{"$f":"IF(AND(J1605=0,K1605=0),,IF(G1605=0,\"KUNDE/LEV NR ?\",VLOOKUP(G1605,Register!$K$1:$L$618,2)))","v":0},0,null,0,null,0,null,null,0,0,{"$f":"IF(R1605=0,,R1605/(1+VLOOKUP(P1605,$AC$5:$AD$362,2)))","v":0},{"$f":"IF(S1605=0,,S1605/(1+VLOOKUP(P1605,$AC$5:$AD$362,2)))","v":0},{"$f":"IF(P1605=0,,IF(P1605=P1606,,VLOOKUP(P1605,$AC$5:$AE$364,3)))","v":0},{"$f":"IF(P1605=0,,IF(P1605=P1606,,VLOOKUP(P1605,$AC$5:$AF$362,4)))","v":0}]
[null,0,null,0,null,null,null,"00:00:00",0,0,{"$f":"IF(AND(A1606>0,H1606>0),J1606*-1,)","v":0},{"$f":"IF(AND(J1606=0,K1606=0),,IF(G1606=0,\"KUNDE/LEV NR ?\",VLOOKUP(G1606,Register!$K$1:$L$618,2)))","v":0},0,null,0,null,0,null,null,0,0,0,0,0,0]
[null,0,null,0,null,null,null,"00:00:00",0,0,0,{"$f":"IF(AND(J1607=0,K1607=0),,IF(G1607=0,\"KUNDE/LEV NR ?\",VLOOKUP(G1607,Register!$K$1:$L$618,2)))","v":0},{"$f":"IF(ISNUMBER(A1607+B1607+E1607+F1607+G1607+H1607+J1607+K1607),A1607+B1607+E1607+F1607+G1607+H1607+J1607+K1607,\"FEIL\")","v":0},null,0,null,0,null,null,0,0,0,0,0,0]
[null,0,null,0,null,null,null,"00:00:00",0,0,0,{"$f":"IF(AND(J1608=0,K1608=0),,IF(G1608=0,\"KUNDE/LEV NR ?\",VLOOKUP(G1608,Register!$K$1:$L$618,2)))","v":0},0,null,0,null,0,null,null,0,0,0,0,0,0]
[null,0,null,0,null,null,null,"00:00:00",0,0,0,{"$f":"IF(AND(J1609=0,K1609=0),,IF(G1609=0,\"KUNDE/LEV NR ?\",VLOOKUP(G1609,Register!$K$1:$L$618,2)))","v":0},0,null,0,null,0,null,null,0,0,0,0,0,0]
[null,0,null,0,null,null,null,"00:00:00",0,0,0,{"$f":"IF(AND(J1610=0,K1610=0),,IF(G1610=0,\"KUNDE/LEV NR ?\",VLOOKUP(G1610,Register!$K$1:$L$618,2)))","v":0},0,null,0,null,0,null,null,0,0,0,0,0,0]
[null,{"$f":"IF(A1611>0,B1610+1,)","v":0},null,0,null,null,null,{"$f":"A1611","v":"00:00:00"},0,{"$f":"E1611*-1+F1611","v":0},0,{"$f":"IF(AND(J1611=0,K1611=0),,IF(G1611=0,\"KUNDE/LEV NR ?\",VLOOKUP(G1611,Register!$K$1:$L$618,2)))","v":0},0,null,0,null,0,null,null,0,0,0,0,0,0]
[null,0,null,0,null,null,null,"00:00:00",0,0,0,{"$f":"IF(AND(J1612=0,K1612=0),,IF(G1612=0,\"KUNDE/LEV NR ?\",VLOOKUP(G1612,Register!$K$1:$L$618,2)))","v":0},0,null,0,null,0,null,null,0,0,0,0,0,0]
[null,0,null,0,null,null,null,"00:00:00",0,0,0,{"$f":"IF(AND(J1613=0,K1613=0),,IF(G1613=0,\"KUNDE/LEV NR ?\",VLOOKUP(G1613,Register!$K$1:$L$618,2)))","v":0},0,null,0,null,0,null,null,0,0,0,0,0,0]
[null,0,null,0,null,null,null,"00:00:00",0,0,0,{"$f":"IF(AND(J1614=0,K1614=0),,IF(G1614=0,\"KUNDE/LEV NR ?\",VLOOKUP(G1614,Register!$K$1:$L$618,2)))","v":0},0,null,0,null,0,null,null,{"$f":"R1614-V1614","v":0},{"$f":"S1614-W1614","v":0},0,0,0,0]
[null,0,null,0,null,null,null,"00:00:00",0,0,0,{"$f":"IF(AND(J1615=0,K1615=0),,IF(G1615=0,\"KUNDE/LEV NR ?\",VLOOKUP(G1615,Register!$K$1:$L$618,2)))","v":0},0,null,0,null,0,null,null,0,0,0,0,0,0]
[null,0,null,0,null,null,null,"00:00:00",0,0,0,{"$f":"IF(AND(J1616=0,K1616=0),,IF(G1616=0,\"KUNDE/LEV NR ?\",VLOOKUP(G1616,Register!$K$1:$L$618,2)))","v":0},0,null,0,null,0,null,null,0,0,0,0,0,0]
[null,0,null,0,null,null,null,"00:00:00",0,0,0,{"$f":"IF(AND(J1617=0,K1617=0),,IF(G1617=0,\"KUNDE/LEV NR ?\",VLOOKUP(G1617,Register!$K$1:$L$618,2)))","v":0},0,null,0,null,0,null,null,0,0,0,0,0,0]
[null,0,null,0,null,null,null,"00:00:00",0,0,0,{"$f":"IF(AND(J1618=0,K1618=0),,IF(G1618=0,\"KUNDE/LEV NR ?\",VLOOKUP(G1618,Register!$K$1:$L$618,2)))","v":0},0,null,0,null,0,null,null,0,0,0,0,0,0]
[null,0,null,0,null,null,null,"00:00:00",0,0,0,{"$f":"IF(AND(J1619=0,K1619=0),,IF(G1619=0,\"KUNDE/LEV NR ?\",VLOOKUP(G1619,Register!$K$1:$L$618,2)))","v":0},0,null,0,null,0,null,null,0,0,0,0,0,0]
[null,0,null,0,null,null,null,"00:00:00",0,0,0,{"$f":"IF(AND(J1620=0,K1620=0),,IF(G1620=0,\"KUNDE/LEV NR ?\",VLOOKUP(G1620,Register!$K$1:$L$618,2)))","v":0},0,null,0,null,0,null,null,0,0,0,0,0,0]
[null,0,null,0,null,null,null,"00:00:00",0,0,0,{"$f":"IF(AND(J1621=0,K1621=0),,IF(G1621=0,\"KUNDE/LEV NR ?\",VLOOKUP(G1621,Register!$K$1:$L$618,2)))","v":0},0,null,0,null,0,null,null,0,0,0,0,0,0]
[null,0,null,0,null,null,null,"00:00:00",0,0,0,{"$f":"IF(AND(J1622=0,K1622=0),,IF(G1622=0,\"KUNDE/LEV NR ?\",VLOOKUP(G1622,Register!$K$1:$L$618,2)))","v":0},0,null,0,null,0,null,null,0,0,0,0,0,0]
[null,0,null,0,null,null,null,"00:00:00",0,0,0,{"$f":"IF(AND(J1623=0,K1623=0),,IF(G1623=0,\"KUNDE/LEV NR ?\",VLOOKUP(G1623,Register!$K$1:$L$618,2)))","v":0},0,null,0,null,0,null,null,0,0,0,0,0,0]
[null,0,null,0,null,null,null,"00:00:00",0,0,0,{"$f":"IF(AND(J1624=0,K1624=0),,IF(G1624=0,\"KUNDE/LEV NR ?\",VLOOKUP(G1624,Register!$K$1:$L$618,2)))","v":0},0,null,0,null,0,null,null,0,0,0,0,0,0]
[null,0,null,0,null,null,null,"00:00:00",0,0,0,{"$f":"IF(AND(J1625=0,K1625=0),,IF(G1625=0,\"KUNDE/LEV NR ?\",VLOOKUP(G1625,Register!$K$1:$L$618,2)))","v":0},0,null,0,null,0,null,null,0,0,0,0,0,0]
[null,0,null,0,null,null,null,"00:00:00",0,0,0,{"$f":"IF(AND(J1626=0,K1626=0),,IF(G1626=0,\"KUNDE/LEV NR ?\",VLOOKUP(G1626,Register!$K$1:$L$618,2)))","v":0},0,null,0,null,0,null,null,0,0,0,0,0,0]
[null,0,null,0,null,null,null,"00:00:00",0,0,0,{"$f":"IF(AND(J1627=0,K1627=0),,IF(G1627=0,\"KUNDE/LEV NR ?\",VLOOKUP(G1627,Register!$K$1:$L$618,2)))","v":0},0,null,0,null,0,null,null,0,0,0,0,0,0]
[null,0,null,0,null,null,null,"00:00:00",0,0,0,{"$f":"IF(AND(J1628=0,K1628=0),,IF(G1628=0,\"KUNDE/LEV NR ?\",VLOOKUP(G1628,Register!$K$1:$L$618,2)))","v":0},0,null,0,null,0,null,null,0,0,0,0,0,0]
[null,0,null,0,null,null,null,"00:00:00",0,0,0,{"$f":"IF(AND(J1629=0,K1629=0),,IF(G1629=0,\"KUNDE/LEV NR ?\",VLOOKUP(G1629,Register!$K$1:$L$618,2)))","v":0},0,null,0,null,0,null,null,0,0,0,0,0,0]
[null,0,null,0,null,null,null,"00:00:00",0,0,0,{"$f":"IF(AND(J1630=0,K1630=0),,IF(G1630=0,\"KUNDE/LEV NR ?\",VLOOKUP(G1630,Register!$K$1:$L$618,2)))","v":0},0,null,0,null,0,null,null,0,0,0,0,0,0]
[null,0,null,0,null,null,null,"00:00:00",0,0,0,{"$f":"IF(AND(J1631=0,K1631=0),,IF(G1631=0,\"KUNDE/LEV NR ?\",VLOOKUP(G1631,Register!$K$1:$L$618,2)))","v":0},0,null,0,null,0,null,null,0,0,0,0,0,0]
[null,0,null,0,null,null,null,"00:00:00",0,0,0,{"$f":"IF(AND(J1632=0,K1632=0),,IF(G1632=0,\"KUNDE/LEV NR ?\",VLOOKUP(G1632,Register!$K$1:$L$618,2)))","v":0},0,null,0,null,0,null,null,0,0,0,0,0,0]
[null,0,null,0,null,null,null,"00:00:00",0,0,0,{"$f":"IF(AND(J1633=0,K1633=0),,IF(G1633=0,\"KUNDE/LEV NR ?\",VLOOKUP(G1633,Register!$K$1:$L$618,2)))","v":0},0,null,0,null,0,null,null,0,0,0,0,0,0]
[null,0,null,0,null,null,null,"00:00:00",0,0,0,{"$f":"IF(AND(J1634=0,K1634=0),,IF(G1634=0,\"KUNDE/LEV NR ?\",VLOOKUP(G1634,Register!$K$1:$L$618,2)))","v":0},0,null,0,null,0,null,null,0,0,0,0,0,0]
[null,0,null,0,null,null,null,"00:00:00",0,0,0,{"$f":"IF(AND(J1635=0,K1635=0),,IF(G1635=0,\"KUNDE/LEV NR ?\",VLOOKUP(G1635,Register!$K$1:$L$618,2)))","v":0},0,null,0,null,0,null,null,0,0,0,0,0,0]
[null,0,null,0,null,null,null,"00:00:00",0,0,0,{"$f":"IF(AND(J1636=0,K1636=0),,IF(G1636=0,\"KUNDE/LEV NR ?\",VLOOKUP(G1636,Register!$K$1:$L$618,2)))","v":0},0,null,0,null,0,null,null,0,0,0,0,0,0]
[null,0,null,0,null,null,null,"00:00:00",0,0,0,{"$f":"IF(AND(J1637=0,K1637=0),,IF(G1637=0,\"KUNDE/LEV NR ?\",VLOOKUP(G1637,Register!$K$1:$L$618,2)))","v":0},0,null,0,null,0,null,null,0,0,0,0,0,0]
[null,0,null,0,null,null,null,"00:00:00",0,0,0,{"$f":"IF(AND(J1638=0,K1638=0),,IF(G1638=0,\"KUNDE/LEV NR ?\",VLOOKUP(G1638,Register!$K$1:$L$618,2)))","v":0},0,null,0,null,0,null,null,0,0,0,0,0,0]
[null,0,null,0,null,null,null,"00:00:00",0,0,0,{"$f":"IF(AND(J1639=0,K1639=0),,IF(G1639=0,\"KUNDE/LEV NR ?\",VLOOKUP(G1639,Register!$K$1:$L$618,2)))","v":0},0,null,0,null,0,null,null,0,0,0,0,0,0]
[null,0,null,0,null,null,null,"00:00:00",0,0,0,{"$f":"IF(AND(J1640=0,K1640=0),,IF(G1640=0,\"KUNDE/LEV NR ?\",VLOOKUP(G1640,Register!$K$1:$L$618,2)))","v":0},0,null,0,null,0,null,null,0,0,0,0,0,0]
[null,0,null,0,null,null,null,"00:00:00",0,0,0,{"$f":"IF(AND(J1641=0,K1641=0),,IF(G1641=0,\"KUNDE/LEV NR ?\",VLOOKUP(G1641,Register!$K$1:$L$618,2)))","v":0},0,null,0,null,0,null,null,0,0,0,0,0,0]
[null,0,null,0,null,null,null,"00:00:00",0,0,0,{"$f":"IF(AND(J1642=0,K1642=0),,IF(G1642=0,\"KUNDE/LEV NR ?\",VLOOKUP(G1642,Register!$K$1:$L$618,2)))","v":0},0,null,0,null,0,null,null,0,0,0,0,0,0]
[null,0,null,0,null,null,null,"00:00:00",0,0,0,{"$f":"IF(AND(J1643=0,K1643=0),,IF(G1643=0,\"KUNDE/LEV NR ?\",VLOOKUP(G1643,Register!$K$1:$L$618,2)))","v":0},0,null,0,null,0,null,null,0,0,0,0,0,0]
[null,0,null,0,null,null,null,"00:00:00",0,0,0,{"$f":"IF(AND(J1644=0,K1644=0),,IF(G1644=0,\"KUNDE/LEV NR ?\",VLOOKUP(G1644,Register!$K$1:$L$618,2)))","v":0},0,null,0,null,0,null,null,0,0,0,0,0,0]
[null,0,null,0,null,null,null,"00:00:00",0,0,0,{"$f":"IF(AND(J1645=0,K1645=0),,IF(G1645=0,\"KUNDE/LEV NR ?\",VLOOKUP(G1645,Register!$K$1:$L$618,2)))","v":0},0,null,0,null,0,null,null,0,0,0,0,0,0]
[null,0,null,0,null,null,null,"00:00:00",0,0,0,{"$f":"IF(AND(J1646=0,K1646=0),,IF(G1646=0,\"KUNDE/LEV NR ?\",VLOOKUP(G1646,Register!$K$1:$L$618,2)))","v":0},0,null,0,null,0,null,null,0,0,0,0,0,0]
[null,0,null,0,null,null,null,"00:00:00",0,0,0,{"$f":"IF(AND(J1647=0,K1647=0),,IF(G1647=0,\"KUNDE/LEV NR ?\",VLOOKUP(G1647,Register!$K$1:$L$618,2)))","v":0},0,null,0,null,0,null,null,0,0,0,0,0,0]
[null,0,null,0,null,null,null,"00:00:00",0,0,0,{"$f":"IF(AND(J1648=0,K1648=0),,IF(G1648=0,\"KUNDE/LEV NR ?\",VLOOKUP(G1648,Register!$K$1:$L$618,2)))","v":0},0,null,0,null,0,null,null,0,0,0,0,0,0]
[null,0,null,0,null,null,null,"00:00:00",0,0,0,{"$f":"IF(AND(J1649=0,K1649=0),,IF(G1649=0,\"KUNDE/LEV NR ?\",VLOOKUP(G1649,Register!$K$1:$L$618,2)))","v":0},0,null,0,null,0,null,null,0,0,0,0,0,0]
[null,0,null,0,null,null,null,"00:00:00",0,0,0,{"$f":"IF(AND(J1650=0,K1650=0),,IF(G1650=0,\"KUNDE/LEV NR ?\",VLOOKUP(G1650,Register!$K$1:$L$618,2)))","v":0},0,null,0,null,0,null,null,0,0,0,0,0,0]
[null,0,null,0,null,null,null,"00:00:00",0,0,0,{"$f":"IF(AND(J1651=0,K1651=0),,IF(G1651=0,\"KUNDE/LEV NR ?\",VLOOKUP(G1651,Register!$K$1:$L$618,2)))","v":0},0,null,0,null,0,null,null,0,0,0,0,0,0]
[null,0,null,0,null,null,null,"00:00:00",0,0,0,{"$f":"IF(AND(J1652=0,K1652=0),,IF(G1652=0,\"KUNDE/LEV NR ?\",VLOOKUP(G1652,Register!$K$1:$L$618,2)))","v":0},0,null,0,null,0,null,null,0,0,0,0,0,0]
[null,0,null,0,null,null,null,"00:00:00",0,0,0,{"$f":"IF(AND(J1653=0,K1653=0),,IF(G1653=0,\"KUNDE/LEV NR ?\",VLOOKUP(G1653,Register!$K$1:$L$618,2)))","v":0},0,null,0,null,0,null,null,0,0,0,0,0,0]
[null,0,null,0,null,null,null,"00:00:00",0,0,0,{"$f":"IF(AND(J1654=0,K1654=0),,IF(G1654=0,\"KUNDE/LEV NR ?\",VLOOKUP(G1654,Register!$K$1:$L$618,2)))","v":0},0,null,0,null,0,null,null,0,0,0,0,0,0]
[null,0,null,0,null,null,null,"00:00:00",0,0,0,{"$f":"IF(AND(J1655=0,K1655=0),,IF(G1655=0,\"KUNDE/LEV NR ?\",VLOOKUP(G1655,Register!$K$1:$L$618,2)))","v":0},0,null,0,null,0,null,null,0,0,0,0,0,0]
[null,0,null,0,null,null,null,"00:00:00",0,0,0,{"$f":"IF(AND(J1656=0,K1656=0),,IF(G1656=0,\"KUNDE/LEV NR ?\",VLOOKUP(G1656,Register!$K$1:$L$618,2)))","v":0},0,null,0,null,0,null,null,0,0,0,0,0,0]
[null,0,null,0,null,null,null,"00:00:00",0,0,0,{"$f":"IF(AND(J1657=0,K1657=0),,IF(G1657=0,\"KUNDE/LEV NR ?\",VLOOKUP(G1657,Register!$K$1:$L$618,2)))","v":0},0,null,0,null,0,null,null,0,0,0,0,0,0]
[null,0,null,0,null,null,null,"00:00:00",0,0,0,{"$f":"IF(AND(J1658=0,K1658=0),,IF(G1658=0,\"KUNDE/LEV NR ?\",VLOOKUP(G1658,Register!$K$1:$L$618,2)))","v":0},0,null,0,null,0,null,null,0,0,0,0,0,0]
[null,0,null,0,null,null,null,"00:00:00",0,0,0,{"$f":"IF(AND(J1659=0,K1659=0),,IF(G1659=0,\"KUNDE/LEV NR ?\",VLOOKUP(G1659,Register!$K$1:$L$618,2)))","v":0},0,null,0,null,0,null,null,0,0,0,0,0,0]
[null,0,null,0,null,null,null,"00:00:00",0,0,0,{"$f":"IF(AND(J1660=0,K1660=0),,IF(G1660=0,\"KUNDE/LEV NR ?\",VLOOKUP(G1660,Register!$K$1:$L$618,2)))","v":0},0,null,0,null,0,null,null,0,0,0,0,0,0]
[null,0,null,0,null,null,null,"00:00:00",0,0,0,{"$f":"IF(AND(J1661=0,K1661=0),,IF(G1661=0,\"KUNDE/LEV NR ?\",VLOOKUP(G1661,Register!$K$1:$L$618,2)))","v":0},0,null,0,null,0,null,null,0,0,0,0,0,0]
[null,0,null,0,null,null,null,"00:00:00",0,0,0,{"$f":"IF(AND(J1662=0,K1662=0),,IF(G1662=0,\"KUNDE/LEV NR ?\",VLOOKUP(G1662,Register!$K$1:$L$618,2)))","v":0},0,null,0,null,0,null,null,0,0,0,0,0,0]
[null,0,null,0,null,null,null,"00:00:00",0,0,0,{"$f":"IF(AND(J1663=0,K1663=0),,IF(G1663=0,\"KUNDE/LEV NR ?\",VLOOKUP(G1663,Register!$K$1:$L$618,2)))","v":0},0,null,0,null,0,null,null,0,0,0,0,0,0]
[null,0,null,0,null,null,null,"00:00:00",0,0,0,{"$f":"IF(AND(J1664=0,K1664=0),,IF(G1664=0,\"KUNDE/LEV NR ?\",VLOOKUP(G1664,Register!$K$1:$L$618,2)))","v":0},0,null,0,null,0,null,null,0,0,0,0,0,0]
[null,0,null,0,null,null,null,"00:00:00",0,0,0,{"$f":"IF(AND(J1665=0,K1665=0),,IF(G1665=0,\"KUNDE/LEV NR ?\",VLOOKUP(G1665,Register!$K$1:$L$618,2)))","v":0},0,null,0,null,0,null,null,0,0,0,0,0,0]
[null,0,null,0,null,null,null,"00:00:00",0,0,0,{"$f":"IF(AND(J1666=0,K1666=0),,IF(G1666=0,\"KUNDE/LEV NR ?\",VLOOKUP(G1666,Register!$K$1:$L$618,2)))","v":0},0,null,0,null,0,null,null,0,0,0,0,0,0]
[null,0,null,0,null,null,null,"00:00:00",0,0,0,{"$f":"IF(AND(J1667=0,K1667=0),,IF(G1667=0,\"KUNDE/LEV NR ?\",VLOOKUP(G1667,Register!$K$1:$L$618,2)))","v":0},0,null,0,null,0,null,null,0,0,0,0,0,0]
[null,0,null,0,null,null,null,"00:00:00",0,0,0,{"$f":"IF(AND(J1668=0,K1668=0),,IF(G1668=0,\"KUNDE/LEV NR ?\",VLOOKUP(G1668,Register!$K$1:$L$618,2)))","v":0},0,null,0,null,0,null,null,0,0,0,0,0,0]
[null,0,null,{"$f":"IF(C1669=0,,VLOOKUP(C1669,$AA$4:$AB$320,2))","v":0},null,null,null,"00:00:00",{"$f":"IF(H1669>0,\"d\",)","v":0},0,0,{"$f":"IF(AND(J1669=0,K1669=0),,IF(G1669=0,\"KUNDE/LEV NR ?\",VLOOKUP(G1669,Register!$K$1:$L$618,2)))","v":0},0,null,0,null,0,null,null,0,0,{"$f":"IF(R1669=0,,R1669/(1+VLOOKUP(P1669,$AC$5:$AD$362,2)))","v":0},{"$f":"IF(S1669=0,,S1669/(1+VLOOKUP(P1669,$AC$5:$AD$362,2)))","v":0},{"$f":"IF(P1669=0,,IF(P1669=P1670,,VLOOKUP(P1669,$AC$5:$AE$364,3)))","v":0},{"$f":"IF(P1669=0,,IF(P1669=P1670,,VLOOKUP(P1669,$AC$5:$AF$362,4)))","v":0}]
[null,0,null,0,null,null,null,"00:00:00",0,0,{"$f":"IF(AND(A1670>0,H1670>0),J1670*-1,)","v":0},{"$f":"IF(AND(J1670=0,K1670=0),,IF(G1670=0,\"KUNDE/LEV NR ?\",VLOOKUP(G1670,Register!$K$1:$L$618,2)))","v":0},0,null,0,null,0,null,null,0,0,0,0,0,0]
[null,0,null,0,null,null,null,"00:00:00",0,0,0,{"$f":"IF(AND(J1671=0,K1671=0),,IF(G1671=0,\"KUNDE/LEV NR ?\",VLOOKUP(G1671,Register!$K$1:$L$618,2)))","v":0},{"$f":"IF(ISNUMBER(A1671+B1671+E1671+F1671+G1671+H1671+J1671+K1671),A1671+B1671+E1671+F1671+G1671+H1671+J1671+K1671,\"FEIL\")","v":0},null,0,null,0,null,null,0,0,0,0,0,0]
[null,0,null,0,null,null,null,"00:00:00",0,0,0,{"$f":"IF(AND(J1672=0,K1672=0),,IF(G1672=0,\"KUNDE/LEV NR ?\",VLOOKUP(G1672,Register!$K$1:$L$618,2)))","v":0},0,null,0,null,0,null,null,0,0,0,0,0,0]
[null,0,null,0,null,null,null,"00:00:00",0,0,0,{"$f":"IF(AND(J1673=0,K1673=0),,IF(G1673=0,\"KUNDE/LEV NR ?\",VLOOKUP(G1673,Register!$K$1:$L$618,2)))","v":0},0,null,0,null,0,null,null,0,0,0,0,0,0]
[null,0,null,0,null,null,null,"00:00:00",0,0,0,{"$f":"IF(AND(J1674=0,K1674=0),,IF(G1674=0,\"KUNDE/LEV NR ?\",VLOOKUP(G1674,Register!$K$1:$L$618,2)))","v":0},0,null,0,null,0,null,null,0,0,0,0,0,0]
[null,{"$f":"IF(A1675>0,B1674+1,)","v":0},null,0,null,null,null,{"$f":"A1675","v":"00:00:00"},0,{"$f":"E1675*-1+F1675","v":0},0,{"$f":"IF(AND(J1675=0,K1675=0),,IF(G1675=0,\"KUNDE/LEV NR ?\",VLOOKUP(G1675,Register!$K$1:$L$618,2)))","v":0},0,null,0,null,0,null,null,0,0,0,0,0,0]
[null,0,null,0,null,null,null,"00:00:00",0,0,0,{"$f":"IF(AND(J1676=0,K1676=0),,IF(G1676=0,\"KUNDE/LEV NR ?\",VLOOKUP(G1676,Register!$K$1:$L$618,2)))","v":0},0,null,0,null,0,null,null,0,0,0,0,0,0]
[null,0,null,0,null,null,null,"00:00:00",0,0,0,{"$f":"IF(AND(J1677=0,K1677=0),,IF(G1677=0,\"KUNDE/LEV NR ?\",VLOOKUP(G1677,Register!$K$1:$L$618,2)))","v":0},0,null,0,null,0,null,null,0,0,0,0,0,0]
[null,0,null,0,null,null,null,"00:00:00",0,0,0,{"$f":"IF(AND(J1678=0,K1678=0),,IF(G1678=0,\"KUNDE/LEV NR ?\",VLOOKUP(G1678,Register!$K$1:$L$618,2)))","v":0},0,null,0,null,0,null,null,{"$f":"R1678-V1678","v":0},{"$f":"S1678-W1678","v":0},0,0,0,0]
[null,0,null,0,null,null,null,"00:00:00",0,0,0,{"$f":"IF(AND(J1679=0,K1679=0),,IF(G1679=0,\"KUNDE/LEV NR ?\",VLOOKUP(G1679,Register!$K$1:$L$618,2)))","v":0},0,null,0,null,0,null,null,0,0,0,0,0,0]
[null,0,null,0,null,null,null,"00:00:00",0,0,0,{"$f":"IF(AND(J1680=0,K1680=0),,IF(G1680=0,\"KUNDE/LEV NR ?\",VLOOKUP(G1680,Register!$K$1:$L$618,2)))","v":0},0,null,0,null,0,null,null,0,0,0,0,0,0]
[null,0,null,0,null,null,null,"00:00:00",0,0,0,{"$f":"IF(AND(J1681=0,K1681=0),,IF(G1681=0,\"KUNDE/LEV NR ?\",VLOOKUP(G1681,Register!$K$1:$L$618,2)))","v":0},0,null,0,null,0,null,null,0,0,0,0,0,0]
[null,0,null,0,null,null,null,"00:00:00",0,0,0,{"$f":"IF(AND(J1682=0,K1682=0),,IF(G1682=0,\"KUNDE/LEV NR ?\",VLOOKUP(G1682,Register!$K$1:$L$618,2)))","v":0},0,null,0,null,0,null,null,0,0,0,0,0,0]
[null,0,null,0,null,null,null,"00:00:00",0,0,0,{"$f":"IF(AND(J1683=0,K1683=0),,IF(G1683=0,\"KUNDE/LEV NR ?\",VLOOKUP(G1683,Register!$K$1:$L$618,2)))","v":0},0,null,0,null,0,null,null,0,0,0,0,0,0]
[null,0,null,0,null,null,null,"00:00:00",0,0,0,{"$f":"IF(AND(J1684=0,K1684=0),,IF(G1684=0,\"KUNDE/LEV NR ?\",VLOOKUP(G1684,Register!$K$1:$L$618,2)))","v":0},0,null,0,null,0,null,null,0,0,0,0,0,0]
[null,0,null,0,null,null,null,"00:00:00",0,0,0,{"$f":"IF(AND(J1685=0,K1685=0),,IF(G1685=0,\"KUNDE/LEV NR ?\",VLOOKUP(G1685,Register!$K$1:$L$618,2)))","v":0},0,null,0,null,0,null,null,0,0,0,0,0,0]
[null,0,null,0,null,null,null,"00:00:00",0,0,0,{"$f":"IF(AND(J1686=0,K1686=0),,IF(G1686=0,\"KUNDE/LEV NR ?\",VLOOKUP(G1686,Register!$K$1:$L$618,2)))","v":0},0,null,0,null,0,null,null,0,0,0,0,0,0]
[null,0,null,0,null,null,null,"00:00:00",0,0,0,{"$f":"IF(AND(J1687=0,K1687=0),,IF(G1687=0,\"KUNDE/LEV NR ?\",VLOOKUP(G1687,Register!$K$1:$L$618,2)))","v":0},0,null,0,null,0,null,null,0,0,0,0,0,0]
[null,0,null,0,null,null,null,"00:00:00",0,0,0,{"$f":"IF(AND(J1688=0,K1688=0),,IF(G1688=0,\"KUNDE/LEV NR ?\",VLOOKUP(G1688,Register!$K$1:$L$618,2)))","v":0},0,null,0,null,0,null,null,0,0,0,0,0,0]
[null,0,null,0,null,null,null,"00:00:00",0,0,0,{"$f":"IF(AND(J1689=0,K1689=0),,IF(G1689=0,\"KUNDE/LEV NR ?\",VLOOKUP(G1689,Register!$K$1:$L$618,2)))","v":0},0,null,0,null,0,null,null,0,0,0,0,0,0]
[null,0,null,0,null,null,null,"00:00:00",0,0,0,{"$f":"IF(AND(J1690=0,K1690=0),,IF(G1690=0,\"KUNDE/LEV NR ?\",VLOOKUP(G1690,Register!$K$1:$L$618,2)))","v":0},0,null,0,null,0,null,null,0,0,0,0,0,0]
[null,0,null,0,null,null,null,"00:00:00",0,0,0,{"$f":"IF(AND(J1691=0,K1691=0),,IF(G1691=0,\"KUNDE/LEV NR ?\",VLOOKUP(G1691,Register!$K$1:$L$618,2)))","v":0},0,null,0,null,0,null,null,0,0,0,0,0,0]
[null,0,null,0,null,null,null,"00:00:00",0,0,0,{"$f":"IF(AND(J1692=0,K1692=0),,IF(G1692=0,\"KUNDE/LEV NR ?\",VLOOKUP(G1692,Register!$K$1:$L$618,2)))","v":0},0,null,0,null,0,null,null,0,0,0,0,0,0]
[null,0,null,0,null,null,null,"00:00:00",0,0,0,{"$f":"IF(AND(J1693=0,K1693=0),,IF(G1693=0,\"KUNDE/LEV NR ?\",VLOOKUP(G1693,Register!$K$1:$L$618,2)))","v":0},0,null,0,null,0,null,null,0,0,0,0,0,0]
[null,0,null,0,null,null,null,"00:00:00",0,0,0,{"$f":"IF(AND(J1694=0,K1694=0),,IF(G1694=0,\"KUNDE/LEV NR ?\",VLOOKUP(G1694,Register!$K$1:$L$618,2)))","v":0},0,null,0,null,0,null,null,0,0,0,0,0,0]
[null,0,null,0,null,null,null,"00:00:00",0,0,0,{"$f":"IF(AND(J1695=0,K1695=0),,IF(G1695=0,\"KUNDE/LEV NR ?\",VLOOKUP(G1695,Register!$K$1:$L$618,2)))","v":0},0,null,0,null,0,null,null,0,0,0,0,0,0]
[null,0,null,0,null,null,null,"00:00:00",0,0,0,{"$f":"IF(AND(J1696=0,K1696=0),,IF(G1696=0,\"KUNDE/LEV NR ?\",VLOOKUP(G1696,Register!$K$1:$L$618,2)))","v":0},0,null,0,null,0,null,null,0,0,0,0,0,0]
[null,0,null,0,null,null,null,"00:00:00",0,0,0,{"$f":"IF(AND(J1697=0,K1697=0),,IF(G1697=0,\"KUNDE/LEV NR ?\",VLOOKUP(G1697,Register!$K$1:$L$618,2)))","v":0},0,null,0,null,0,null,null,0,0,0,0,0,0]
[null,0,null,0,null,null,null,"00:00:00",0,0,0,{"$f":"IF(AND(J1698=0,K1698=0),,IF(G1698=0,\"KUNDE/LEV NR ?\",VLOOKUP(G1698,Register!$K$1:$L$618,2)))","v":0},0,null,0,null,0,null,null,0,0,0,0,0,0]
[null,0,null,0,null,null,null,"00:00:00",0,0,0,{"$f":"IF(AND(J1699=0,K1699=0),,IF(G1699=0,\"KUNDE/LEV NR ?\",VLOOKUP(G1699,Register!$K$1:$L$618,2)))","v":0},0,null,0,null,0,null,null,0,0,0,0,0,0]
[null,0,null,0,null,null,null,"00:00:00",0,0,0,{"$f":"IF(AND(J1700=0,K1700=0),,IF(G1700=0,\"KUNDE/LEV NR ?\",VLOOKUP(G1700,Register!$K$1:$L$618,2)))","v":0},0,null,0,null,0,null,null,0,0,0,0,0,0]
[null,0,null,0,null,null,null,"00:00:00",0,0,0,{"$f":"IF(AND(J1701=0,K1701=0),,IF(G1701=0,\"KUNDE/LEV NR ?\",VLOOKUP(G1701,Register!$K$1:$L$618,2)))","v":0},0,null,0,null,0,null,null,0,0,0,0,0,0]
[null,0,null,0,null,null,null,"00:00:00",0,0,0,{"$f":"IF(AND(J1702=0,K1702=0),,IF(G1702=0,\"KUNDE/LEV NR ?\",VLOOKUP(G1702,Register!$K$1:$L$618,2)))","v":0},0,null,0,null,0,null,null,0,0,0,0,0,0]
[null,0,null,0,null,null,null,"00:00:00",0,0,0,{"$f":"IF(AND(J1703=0,K1703=0),,IF(G1703=0,\"KUNDE/LEV NR ?\",VLOOKUP(G1703,Register!$K$1:$L$618,2)))","v":0},0,null,0,null,0,null,null,0,0,0,0,0,0]
[null,0,null,0,null,null,null,"00:00:00",0,0,0,{"$f":"IF(AND(J1704=0,K1704=0),,IF(G1704=0,\"KUNDE/LEV NR ?\",VLOOKUP(G1704,Register!$K$1:$L$618,2)))","v":0},0,null,0,null,0,null,null,0,0,0,0,0,0]
[null,0,null,0,null,null,null,"00:00:00",0,0,0,{"$f":"IF(AND(J1705=0,K1705=0),,IF(G1705=0,\"KUNDE/LEV NR ?\",VLOOKUP(G1705,Register!$K$1:$L$618,2)))","v":0},0,null,0,null,0,null,null,0,0,0,0,0,0]
[null,0,null,0,null,null,null,"00:00:00",0,0,0,{"$f":"IF(AND(J1706=0,K1706=0),,IF(G1706=0,\"KUNDE/LEV NR ?\",VLOOKUP(G1706,Register!$K$1:$L$618,2)))","v":0},0,null,0,null,0,null,null,0,0,0,0,0,0]
[null,0,null,0,null,null,null,"00:00:00",0,0,0,{"$f":"IF(AND(J1707=0,K1707=0),,IF(G1707=0,\"KUNDE/LEV NR ?\",VLOOKUP(G1707,Register!$K$1:$L$618,2)))","v":0},0,null,0,null,0,null,null,0,0,0,0,0,0]
[null,0,null,0,null,null,null,"00:00:00",0,0,0,{"$f":"IF(AND(J1708=0,K1708=0),,IF(G1708=0,\"KUNDE/LEV NR ?\",VLOOKUP(G1708,Register!$K$1:$L$618,2)))","v":0},0,null,0,null,0,null,null,0,0,0,0,0,0]
[null,0,null,0,null,null,null,"00:00:00",0,0,0,{"$f":"IF(AND(J1709=0,K1709=0),,IF(G1709=0,\"KUNDE/LEV NR ?\",VLOOKUP(G1709,Register!$K$1:$L$618,2)))","v":0},0,null,0,null,0,null,null,0,0,0,0,0,0]
[null,0,null,0,null,null,null,"00:00:00",0,0,0,{"$f":"IF(AND(J1710=0,K1710=0),,IF(G1710=0,\"KUNDE/LEV NR ?\",VLOOKUP(G1710,Register!$K$1:$L$618,2)))","v":0},0,null,0,null,0,null,null,0,0,0,0,0,0]
[null,0,null,0,null,null,null,"00:00:00",0,0,0,{"$f":"IF(AND(J1711=0,K1711=0),,IF(G1711=0,\"KUNDE/LEV NR ?\",VLOOKUP(G1711,Register!$K$1:$L$618,2)))","v":0},0,null,0,null,0,null,null,0,0,0,0,0,0]
[null,0,null,0,null,null,null,"00:00:00",0,0,0,{"$f":"IF(AND(J1712=0,K1712=0),,IF(G1712=0,\"KUNDE/LEV NR ?\",VLOOKUP(G1712,Register!$K$1:$L$618,2)))","v":0},0,null,0,null,0,null,null,0,0,0,0,0,0]
[null,0,null,0,null,null,null,"00:00:00",0,0,0,{"$f":"IF(AND(J1713=0,K1713=0),,IF(G1713=0,\"KUNDE/LEV NR ?\",VLOOKUP(G1713,Register!$K$1:$L$618,2)))","v":0},0,null,0,null,0,null,null,0,0,0,0,0,0]
[null,0,null,0,null,null,null,"00:00:00",0,0,0,{"$f":"IF(AND(J1714=0,K1714=0),,IF(G1714=0,\"KUNDE/LEV NR ?\",VLOOKUP(G1714,Register!$K$1:$L$618,2)))","v":0},0,null,0,null,0,null,null,0,0,0,0,0,0]
[null,0,null,0,null,null,null,"00:00:00",0,0,0,{"$f":"IF(AND(J1715=0,K1715=0),,IF(G1715=0,\"KUNDE/LEV NR ?\",VLOOKUP(G1715,Register!$K$1:$L$618,2)))","v":0},0,null,0,null,0,null,null,0,0,0,0,0,0]
[null,0,null,0,null,null,null,"00:00:00",0,0,0,{"$f":"IF(AND(J1716=0,K1716=0),,IF(G1716=0,\"KUNDE/LEV NR ?\",VLOOKUP(G1716,Register!$K$1:$L$618,2)))","v":0},0,null,0,null,0,null,null,0,0,0,0,0,0]
[null,0,null,0,null,null,null,"00:00:00",0,0,0,{"$f":"IF(AND(J1717=0,K1717=0),,IF(G1717=0,\"KUNDE/LEV NR ?\",VLOOKUP(G1717,Register!$K$1:$L$618,2)))","v":0},0,null,0,null,0,null,null,0,0,0,0,0,0]
[null,0,null,0,null,null,null,"00:00:00",0,0,0,{"$f":"IF(AND(J1718=0,K1718=0),,IF(G1718=0,\"KUNDE/LEV NR ?\",VLOOKUP(G1718,Register!$K$1:$L$618,2)))","v":0},0,null,0,null,0,null,null,0,0,0,0,0,0]
[null,0,null,0,null,null,null,"00:00:00",0,0,0,{"$f":"IF(AND(J1719=0,K1719=0),,IF(G1719=0,\"KUNDE/LEV NR ?\",VLOOKUP(G1719,Register!$K$1:$L$618,2)))","v":0},0,null,0,null,0,null,null,0,0,0,0,0,0]
[null,0,null,0,null,null,null,"00:00:00",0,0,0,{"$f":"IF(AND(J1720=0,K1720=0),,IF(G1720=0,\"KUNDE/LEV NR ?\",VLOOKUP(G1720,Register!$K$1:$L$618,2)))","v":0},0,null,0,null,0,null,null,0,0,0,0,0,0]
[null,0,null,0,null,null,null,"00:00:00",0,0,0,{"$f":"IF(AND(J1721=0,K1721=0),,IF(G1721=0,\"KUNDE/LEV NR ?\",VLOOKUP(G1721,Register!$K$1:$L$618,2)))","v":0},0,null,0,null,0,null,null,0,0,0,0,0,0]
[null,0,null,0,null,null,null,"00:00:00",0,0,0,{"$f":"IF(AND(J1722=0,K1722=0),,IF(G1722=0,\"KUNDE/LEV NR ?\",VLOOKUP(G1722,Register!$K$1:$L$618,2)))","v":0},0,null,0,null,0,null,null,0,0,0,0,0,0]
[null,0,null,0,null,null,null,"00:00:00",0,0,0,{"$f":"IF(AND(J1723=0,K1723=0),,IF(G1723=0,\"KUNDE/LEV NR ?\",VLOOKUP(G1723,Register!$K$1:$L$618,2)))","v":0},0,null,0,null,0,null,null,0,0,0,0,0,0]
[null,0,null,0,null,null,null,"00:00:00",0,0,0,{"$f":"IF(AND(J1724=0,K1724=0),,IF(G1724=0,\"KUNDE/LEV NR ?\",VLOOKUP(G1724,Register!$K$1:$L$618,2)))","v":0},0,null,0,null,0,null,null,0,0,0,0,0,0]
[null,0,null,0,null,null,null,"00:00:00",0,0,0,{"$f":"IF(AND(J1725=0,K1725=0),,IF(G1725=0,\"KUNDE/LEV NR ?\",VLOOKUP(G1725,Register!$K$1:$L$618,2)))","v":0},0,null,0,null,0,null,null,0,0,0,0,0,0]
[null,0,null,0,null,null,null,"00:00:00",0,0,0,{"$f":"IF(AND(J1726=0,K1726=0),,IF(G1726=0,\"KUNDE/LEV NR ?\",VLOOKUP(G1726,Register!$K$1:$L$618,2)))","v":0},0,null,0,null,0,null,null,0,0,0,0,0,0]
[null,0,null,0,null,null,null,"00:00:00",0,0,0,{"$f":"IF(AND(J1727=0,K1727=0),,IF(G1727=0,\"KUNDE/LEV NR ?\",VLOOKUP(G1727,Register!$K$1:$L$618,2)))","v":0},0,null,0,null,0,null,null,0,0,0,0,0,0]
[null,0,null,0,null,null,null,"00:00:00",0,0,0,{"$f":"IF(AND(J1728=0,K1728=0),,IF(G1728=0,\"KUNDE/LEV NR ?\",VLOOKUP(G1728,Register!$K$1:$L$618,2)))","v":0},0,null,0,null,0,null,null,0,0,0,0,0,0]
[null,0,null,0,null,null,null,"00:00:00",0,0,0,{"$f":"IF(AND(J1729=0,K1729=0),,IF(G1729=0,\"KUNDE/LEV NR ?\",VLOOKUP(G1729,Register!$K$1:$L$618,2)))","v":0},0,null,0,null,0,null,null,0,0,0,0,0,0]
[null,0,null,0,null,null,null,"00:00:00",0,0,0,{"$f":"IF(AND(J1730=0,K1730=0),,IF(G1730=0,\"KUNDE/LEV NR ?\",VLOOKUP(G1730,Register!$K$1:$L$618,2)))","v":0},0,null,0,null,0,null,null,0,0,0,0,0,0]
[null,0,null,0,null,null,null,"00:00:00",0,0,0,{"$f":"IF(AND(J1731=0,K1731=0),,IF(G1731=0,\"KUNDE/LEV NR ?\",VLOOKUP(G1731,Register!$K$1:$L$618,2)))","v":0},0,null,0,null,0,null,null,0,0,0,0,0,0]
[null,0,null,0,null,null,null,"00:00:00",0,0,0,{"$f":"IF(AND(J1732=0,K1732=0),,IF(G1732=0,\"KUNDE/LEV NR ?\",VLOOKUP(G1732,Register!$K$1:$L$618,2)))","v":0},0,null,0,null,0,null,null,0,0,0,0,0,0]
[null,0,null,{"$f":"IF(C1733=0,,VLOOKUP(C1733,$AA$4:$AB$320,2))","v":0},null,null,null,"00:00:00",{"$f":"IF(H1733>0,\"d\",)","v":0},0,0,{"$f":"IF(AND(J1733=0,K1733=0),,IF(G1733=0,\"KUNDE/LEV NR ?\",VLOOKUP(G1733,Register!$K$1:$L$618,2)))","v":0},0,null,0,null,0,null,null,0,0,{"$f":"IF(R1733=0,,R1733/(1+VLOOKUP(P1733,$AC$5:$AD$362,2)))","v":0},{"$f":"IF(S1733=0,,S1733/(1+VLOOKUP(P1733,$AC$5:$AD$362,2)))","v":0},{"$f":"IF(P1733=0,,IF(P1733=P1734,,VLOOKUP(P1733,$AC$5:$AE$364,3)))","v":0},{"$f":"IF(P1733=0,,IF(P1733=P1734,,VLOOKUP(P1733,$AC$5:$AF$362,4)))","v":0}]
[null,0,null,0,null,null,null,"00:00:00",0,0,{"$f":"IF(AND(A1734>0,H1734>0),J1734*-1,)","v":0},{"$f":"IF(AND(J1734=0,K1734=0),,IF(G1734=0,\"KUNDE/LEV NR ?\",VLOOKUP(G1734,Register!$K$1:$L$618,2)))","v":0},0,null,0,null,0,null,null,0,0,0,0,0,0]
[null,0,null,0,null,null,null,"00:00:00",0,0,0,{"$f":"IF(AND(J1735=0,K1735=0),,IF(G1735=0,\"KUNDE/LEV NR ?\",VLOOKUP(G1735,Register!$K$1:$L$618,2)))","v":0},{"$f":"IF(ISNUMBER(A1735+B1735+E1735+F1735+G1735+H1735+J1735+K1735),A1735+B1735+E1735+F1735+G1735+H1735+J1735+K1735,\"FEIL\")","v":0},null,0,null,0,null,null,0,0,0,0,0,0]
[null,0,null,0,null,null,null,"00:00:00",0,0,0,{"$f":"IF(AND(J1736=0,K1736=0),,IF(G1736=0,\"KUNDE/LEV NR ?\",VLOOKUP(G1736,Register!$K$1:$L$618,2)))","v":0},0,null,0,null,0,null,null,0,0,0,0,0,0]
[null,0,null,0,null,null,null,"00:00:00",0,0,0,{"$f":"IF(AND(J1737=0,K1737=0),,IF(G1737=0,\"KUNDE/LEV NR ?\",VLOOKUP(G1737,Register!$K$1:$L$618,2)))","v":0},0,null,0,null,0,null,null,0,0,0,0,0,0]
[null,0,null,0,null,null,null,"00:00:00",0,0,0,{"$f":"IF(AND(J1738=0,K1738=0),,IF(G1738=0,\"KUNDE/LEV NR ?\",VLOOKUP(G1738,Register!$K$1:$L$618,2)))","v":0},0,null,0,null,0,null,null,0,0,0,0,0,0]
[null,{"$f":"IF(A1739>0,B1738+1,)","v":0},null,0,null,null,null,{"$f":"A1739","v":"00:00:00"},0,{"$f":"E1739*-1+F1739","v":0},0,{"$f":"IF(AND(J1739=0,K1739=0),,IF(G1739=0,\"KUNDE/LEV NR ?\",VLOOKUP(G1739,Register!$K$1:$L$618,2)))","v":0},0,null,0,null,0,null,null,0,0,0,0,0,0]
[null,0,null,0,null,null,null,"00:00:00",0,0,0,{"$f":"IF(AND(J1740=0,K1740=0),,IF(G1740=0,\"KUNDE/LEV NR ?\",VLOOKUP(G1740,Register!$K$1:$L$618,2)))","v":0},0,null,0,null,0,null,null,0,0,0,0,0,0]
[null,0,null,0,null,null,null,"00:00:00",0,0,0,{"$f":"IF(AND(J1741=0,K1741=0),,IF(G1741=0,\"KUNDE/LEV NR ?\",VLOOKUP(G1741,Register!$K$1:$L$618,2)))","v":0},0,null,0,null,0,null,null,0,0,0,0,0,0]
[null,0,null,0,null,null,null,"00:00:00",0,0,0,{"$f":"IF(AND(J1742=0,K1742=0),,IF(G1742=0,\"KUNDE/LEV NR ?\",VLOOKUP(G1742,Register!$K$1:$L$618,2)))","v":0},0,null,0,null,0,null,null,{"$f":"R1742-V1742","v":0},{"$f":"S1742-W1742","v":0},0,0,0,0]
[null,0,null,0,null,null,null,"00:00:00",0,0,0,{"$f":"IF(AND(J1743=0,K1743=0),,IF(G1743=0,\"KUNDE/LEV NR ?\",VLOOKUP(G1743,Register!$K$1:$L$618,2)))","v":0},0,null,0,null,0,null,null,0,0,0,0,0,0]
[null,0,null,0,null,null,null,"00:00:00",0,0,0,{"$f":"IF(AND(J1744=0,K1744=0),,IF(G1744=0,\"KUNDE/LEV NR ?\",VLOOKUP(G1744,Register!$K$1:$L$618,2)))","v":0},0,null,0,null,0,null,null,0,0,0,0,0,0]
[null,0,null,0,null,null,null,"00:00:00",0,0,0,{"$f":"IF(AND(J1745=0,K1745=0),,IF(G1745=0,\"KUNDE/LEV NR ?\",VLOOKUP(G1745,Register!$K$1:$L$618,2)))","v":0},0,null,0,null,0,null,null,0,0,0,0,0,0]
[null,0,null,0,null,null,null,"00:00:00",0,0,0,{"$f":"IF(AND(J1746=0,K1746=0),,IF(G1746=0,\"KUNDE/LEV NR ?\",VLOOKUP(G1746,Register!$K$1:$L$618,2)))","v":0},0,null,0,null,0,null,null,0,0,0,0,0,0]
[null,0,null,0,null,null,null,"00:00:00",0,0,0,{"$f":"IF(AND(J1747=0,K1747=0),,IF(G1747=0,\"KUNDE/LEV NR ?\",VLOOKUP(G1747,Register!$K$1:$L$618,2)))","v":0},0,null,0,null,0,null,null,0,0,0,0,0,0]
[null,0,null,0,null,null,null,"00:00:00",0,0,0,{"$f":"IF(AND(J1748=0,K1748=0),,IF(G1748=0,\"KUNDE/LEV NR ?\",VLOOKUP(G1748,Register!$K$1:$L$618,2)))","v":0},0,null,0,null,0,null,null,0,0,0,0,0,0]
[null,0,null,0,null,null,null,"00:00:00",0,0,0,{"$f":"IF(AND(J1749=0,K1749=0),,IF(G1749=0,\"KUNDE/LEV NR ?\",VLOOKUP(G1749,Register!$K$1:$L$618,2)))","v":0},0,null,0,null,0,null,null,0,0,0,0,0,0]
[null,0,null,0,null,null,null,"00:00:00",0,0,0,{"$f":"IF(AND(J1750=0,K1750=0),,IF(G1750=0,\"KUNDE/LEV NR ?\",VLOOKUP(G1750,Register!$K$1:$L$618,2)))","v":0},0,null,0,null,0,null,null,0,0,0,0,0,0]
[null,0,null,0,null,null,null,"00:00:00",0,0,0,{"$f":"IF(AND(J1751=0,K1751=0),,IF(G1751=0,\"KUNDE/LEV NR ?\",VLOOKUP(G1751,Register!$K$1:$L$618,2)))","v":0},0,null,0,null,0,null,null,0,0,0,0,0,0]
[null,0,null,0,null,null,null,"00:00:00",0,0,0,{"$f":"IF(AND(J1752=0,K1752=0),,IF(G1752=0,\"KUNDE/LEV NR ?\",VLOOKUP(G1752,Register!$K$1:$L$618,2)))","v":0},0,null,0,null,0,null,null,0,0,0,0,0,0]
[null,0,null,0,null,null,null,"00:00:00",0,0,0,{"$f":"IF(AND(J1753=0,K1753=0),,IF(G1753=0,\"KUNDE/LEV NR ?\",VLOOKUP(G1753,Register!$K$1:$L$618,2)))","v":0},0,null,0,null,0,null,null,0,0,0,0,0,0]
[null,0,null,0,null,null,null,"00:00:00",0,0,0,{"$f":"IF(AND(J1754=0,K1754=0),,IF(G1754=0,\"KUNDE/LEV NR ?\",VLOOKUP(G1754,Register!$K$1:$L$618,2)))","v":0},0,null,0,null,0,null,null,0,0,0,0,0,0]
[null,0,null,0,null,null,null,"00:00:00",0,0,0,{"$f":"IF(AND(J1755=0,K1755=0),,IF(G1755=0,\"KUNDE/LEV NR ?\",VLOOKUP(G1755,Register!$K$1:$L$618,2)))","v":0},0,null,0,null,0,null,null,0,0,0,0,0,0]
[null,0,null,0,null,null,null,"00:00:00",0,0,0,{"$f":"IF(AND(J1756=0,K1756=0),,IF(G1756=0,\"KUNDE/LEV NR ?\",VLOOKUP(G1756,Register!$K$1:$L$618,2)))","v":0},0,null,0,null,0,null,null,0,0,0,0,0,0]
[null,0,null,0,null,null,null,"00:00:00",0,0,0,{"$f":"IF(AND(J1757=0,K1757=0),,IF(G1757=0,\"KUNDE/LEV NR ?\",VLOOKUP(G1757,Register!$K$1:$L$618,2)))","v":0},0,null,0,null,0,null,null,0,0,0,0,0,0]
[null,0,null,0,null,null,null,"00:00:00",0,0,0,{"$f":"IF(AND(J1758=0,K1758=0),,IF(G1758=0,\"KUNDE/LEV NR ?\",VLOOKUP(G1758,Register!$K$1:$L$618,2)))","v":0},0,null,0,null,0,null,null,0,0,0,0,0,0]
[null,0,null,0,null,null,null,"00:00:00",0,0,0,{"$f":"IF(AND(J1759=0,K1759=0),,IF(G1759=0,\"KUNDE/LEV NR ?\",VLOOKUP(G1759,Register!$K$1:$L$618,2)))","v":0},0,null,0,null,0,null,null,0,0,0,0,0,0]
[null,0,null,0,null,null,null,"00:00:00",0,0,0,{"$f":"IF(AND(J1760=0,K1760=0),,IF(G1760=0,\"KUNDE/LEV NR ?\",VLOOKUP(G1760,Register!$K$1:$L$618,2)))","v":0},0,null,0,null,0,null,null,0,0,0,0,0,0]
[null,0,null,0,null,null,null,"00:00:00",0,0,0,{"$f":"IF(AND(J1761=0,K1761=0),,IF(G1761=0,\"KUNDE/LEV NR ?\",VLOOKUP(G1761,Register!$K$1:$L$618,2)))","v":0},0,null,0,null,0,null,null,0,0,0,0,0,0]
[null,0,null,0,null,null,null,"00:00:00",0,0,0,{"$f":"IF(AND(J1762=0,K1762=0),,IF(G1762=0,\"KUNDE/LEV NR ?\",VLOOKUP(G1762,Register!$K$1:$L$618,2)))","v":0},0,null,0,null,0,null,null,0,0,0,0,0,0]
[null,0,null,0,null,null,null,"00:00:00",0,0,0,{"$f":"IF(AND(J1763=0,K1763=0),,IF(G1763=0,\"KUNDE/LEV NR ?\",VLOOKUP(G1763,Register!$K$1:$L$618,2)))","v":0},0,null,0,null,0,null,null,0,0,0,0,0,0]
[null,0,null,0,null,null,null,"00:00:00",0,0,0,{"$f":"IF(AND(J1764=0,K1764=0),,IF(G1764=0,\"KUNDE/LEV NR ?\",VLOOKUP(G1764,Register!$K$1:$L$618,2)))","v":0},0,null,0,null,0,null,null,0,0,0,0,0,0]
[null,0,null,0,null,null,null,"00:00:00",0,0,0,{"$f":"IF(AND(J1765=0,K1765=0),,IF(G1765=0,\"KUNDE/LEV NR ?\",VLOOKUP(G1765,Register!$K$1:$L$618,2)))","v":0},0,null,0,null,0,null,null,0,0,0,0,0,0]
[null,0,null,0,null,null,null,"00:00:00",0,0,0,{"$f":"IF(AND(J1766=0,K1766=0),,IF(G1766=0,\"KUNDE/LEV NR ?\",VLOOKUP(G1766,Register!$K$1:$L$618,2)))","v":0},0,null,0,null,0,null,null,0,0,0,0,0,0]
[null,0,null,0,null,null,null,"00:00:00",0,0,0,{"$f":"IF(AND(J1767=0,K1767=0),,IF(G1767=0,\"KUNDE/LEV NR ?\",VLOOKUP(G1767,Register!$K$1:$L$618,2)))","v":0},0,null,0,null,0,null,null,0,0,0,0,0,0]
[null,0,null,0,null,null,null,"00:00:00",0,0,0,{"$f":"IF(AND(J1768=0,K1768=0),,IF(G1768=0,\"KUNDE/LEV NR ?\",VLOOKUP(G1768,Register!$K$1:$L$618,2)))","v":0},0,null,0,null,0,null,null,0,0,0,0,0,0]
[null,0,null,0,null,null,null,"00:00:00",0,0,0,{"$f":"IF(AND(J1769=0,K1769=0),,IF(G1769=0,\"KUNDE/LEV NR ?\",VLOOKUP(G1769,Register!$K$1:$L$618,2)))","v":0},0,null,0,null,0,null,null,0,0,0,0,0,0]
[null,0,null,0,null,null,null,"00:00:00",0,0,0,{"$f":"IF(AND(J1770=0,K1770=0),,IF(G1770=0,\"KUNDE/LEV NR ?\",VLOOKUP(G1770,Register!$K$1:$L$618,2)))","v":0},0,null,0,null,0,null,null,0,0,0,0,0,0]
[null,0,null,0,null,null,null,"00:00:00",0,0,0,{"$f":"IF(AND(J1771=0,K1771=0),,IF(G1771=0,\"KUNDE/LEV NR ?\",VLOOKUP(G1771,Register!$K$1:$L$618,2)))","v":0},0,null,0,null,0,null,null,0,0,0,0,0,0]
[null,0,null,0,null,null,null,"00:00:00",0,0,0,{"$f":"IF(AND(J1772=0,K1772=0),,IF(G1772=0,\"KUNDE/LEV NR ?\",VLOOKUP(G1772,Register!$K$1:$L$618,2)))","v":0},0,null,0,null,0,null,null,0,0,0,0,0,0]
[null,0,null,0,null,null,null,"00:00:00",0,0,0,{"$f":"IF(AND(J1773=0,K1773=0),,IF(G1773=0,\"KUNDE/LEV NR ?\",VLOOKUP(G1773,Register!$K$1:$L$618,2)))","v":0},0,null,0,null,0,null,null,0,0,0,0,0,0]
[null,0,null,0,null,null,null,"00:00:00",0,0,0,{"$f":"IF(AND(J1774=0,K1774=0),,IF(G1774=0,\"KUNDE/LEV NR ?\",VLOOKUP(G1774,Register!$K$1:$L$618,2)))","v":0},0,null,0,null,0,null,null,0,0,0,0,0,0]
[null,0,null,0,null,null,null,"00:00:00",0,0,0,{"$f":"IF(AND(J1775=0,K1775=0),,IF(G1775=0,\"KUNDE/LEV NR ?\",VLOOKUP(G1775,Register!$K$1:$L$618,2)))","v":0},0,null,0,null,0,null,null,0,0,0,0,0,0]
[null,0,null,0,null,null,null,"00:00:00",0,0,0,{"$f":"IF(AND(J1776=0,K1776=0),,IF(G1776=0,\"KUNDE/LEV NR ?\",VLOOKUP(G1776,Register!$K$1:$L$618,2)))","v":0},0,null,0,null,0,null,null,0,0,0,0,0,0]
[null,0,null,0,null,null,null,"00:00:00",0,0,0,{"$f":"IF(AND(J1777=0,K1777=0),,IF(G1777=0,\"KUNDE/LEV NR ?\",VLOOKUP(G1777,Register!$K$1:$L$618,2)))","v":0},0,null,0,null,0,null,null,0,0,0,0,0,0]
[null,0,null,0,null,null,null,"00:00:00",0,0,0,{"$f":"IF(AND(J1778=0,K1778=0),,IF(G1778=0,\"KUNDE/LEV NR ?\",VLOOKUP(G1778,Register!$K$1:$L$618,2)))","v":0},0,null,0,null,0,null,null,0,0,0,0,0,0]
[null,0,null,0,null,null,null,"00:00:00",0,0,0,{"$f":"IF(AND(J1779=0,K1779=0),,IF(G1779=0,\"KUNDE/LEV NR ?\",VLOOKUP(G1779,Register!$K$1:$L$618,2)))","v":0},0,null,0,null,0,null,null,0,0,0,0,0,0]
[null,0,null,0,null,null,null,"00:00:00",0,0,0,{"$f":"IF(AND(J1780=0,K1780=0),,IF(G1780=0,\"KUNDE/LEV NR ?\",VLOOKUP(G1780,Register!$K$1:$L$618,2)))","v":0},0,null,0,null,0,null,null,0,0,0,0,0,0]
[null,0,null,0,null,null,null,"00:00:00",0,0,0,{"$f":"IF(AND(J1781=0,K1781=0),,IF(G1781=0,\"KUNDE/LEV NR ?\",VLOOKUP(G1781,Register!$K$1:$L$618,2)))","v":0},0,null,0,null,0,null,null,0,0,0,0,0,0]
[null,0,null,0,null,null,null,"00:00:00",0,0,0,{"$f":"IF(AND(J1782=0,K1782=0),,IF(G1782=0,\"KUNDE/LEV NR ?\",VLOOKUP(G1782,Register!$K$1:$L$618,2)))","v":0},0,null,0,null,0,null,null,0,0,0,0,0,0]
[null,0,null,0,null,null,null,"00:00:00",0,0,0,{"$f":"IF(AND(J1783=0,K1783=0),,IF(G1783=0,\"KUNDE/LEV NR ?\",VLOOKUP(G1783,Register!$K$1:$L$618,2)))","v":0},0,null,0,null,0,null,null,0,0,0,0,0,0]
[null,0,null,0,null,null,null,"00:00:00",0,0,0,{"$f":"IF(AND(J1784=0,K1784=0),,IF(G1784=0,\"KUNDE/LEV NR ?\",VLOOKUP(G1784,Register!$K$1:$L$618,2)))","v":0},0,null,0,null,0,null,null,0,0,0,0,0,0]
[null,0,null,0,null,null,null,"00:00:00",0,0,0,{"$f":"IF(AND(J1785=0,K1785=0),,IF(G1785=0,\"KUNDE/LEV NR ?\",VLOOKUP(G1785,Register!$K$1:$L$618,2)))","v":0},0,null,0,null,0,null,null,0,0,0,0,0,0]
[null,0,null,0,null,null,null,"00:00:00",0,0,0,{"$f":"IF(AND(J1786=0,K1786=0),,IF(G1786=0,\"KUNDE/LEV NR ?\",VLOOKUP(G1786,Register!$K$1:$L$618,2)))","v":0},0,null,0,null,0,null,null,0,0,0,0,0,0]
[null,0,null,0,null,null,null,"00:00:00",0,0,0,{"$f":"IF(AND(J1787=0,K1787=0),,IF(G1787=0,\"KUNDE/LEV NR ?\",VLOOKUP(G1787,Register!$K$1:$L$618,2)))","v":0},0,null,0,null,0,null,null,0,0,0,0,0,0]
[null,0,null,0,null,null,null,"00:00:00",0,0,0,{"$f":"IF(AND(J1788=0,K1788=0),,IF(G1788=0,\"KUNDE/LEV NR ?\",VLOOKUP(G1788,Register!$K$1:$L$618,2)))","v":0},0,null,0,null,0,null,null,0,0,0,0,0,0]
[null,0,null,0,null,null,null,"00:00:00",0,0,0,{"$f":"IF(AND(J1789=0,K1789=0),,IF(G1789=0,\"KUNDE/LEV NR ?\",VLOOKUP(G1789,Register!$K$1:$L$618,2)))","v":0},0,null,0,null,0,null,null,0,0,0,0,0,0]
[null,0,null,0,null,null,null,"00:00:00",0,0,0,{"$f":"IF(AND(J1790=0,K1790=0),,IF(G1790=0,\"KUNDE/LEV NR ?\",VLOOKUP(G1790,Register!$K$1:$L$618,2)))","v":0},0,null,0,null,0,null,null,0,0,0,0,0,0]
[null,0,null,0,null,null,null,"00:00:00",0,0,0,{"$f":"IF(AND(J1791=0,K1791=0),,IF(G1791=0,\"KUNDE/LEV NR ?\",VLOOKUP(G1791,Register!$K$1:$L$618,2)))","v":0},0,null,0,null,0,null,null,0,0,0,0,0,0]
[null,0,null,0,null,null,null,"00:00:00",0,0,0,{"$f":"IF(AND(J1792=0,K1792=0),,IF(G1792=0,\"KUNDE/LEV NR ?\",VLOOKUP(G1792,Register!$K$1:$L$618,2)))","v":0},0,null,0,null,0,null,null,0,0,0,0,0,0]
[null,0,null,0,null,null,null,"00:00:00",0,0,0,{"$f":"IF(AND(J1793=0,K1793=0),,IF(G1793=0,\"KUNDE/LEV NR ?\",VLOOKUP(G1793,Register!$K$1:$L$618,2)))","v":0},0,null,0,null,0,null,null,0,0,0,0,0,0]
[null,0,null,0,null,null,null,"00:00:00",0,0,0,{"$f":"IF(AND(J1794=0,K1794=0),,IF(G1794=0,\"KUNDE/LEV NR ?\",VLOOKUP(G1794,Register!$K$1:$L$618,2)))","v":0},0,null,0,null,0,null,null,0,0,0,0,0,0]
[null,0,null,0,null,null,null,"00:00:00",0,0,0,{"$f":"IF(AND(J1795=0,K1795=0),,IF(G1795=0,\"KUNDE/LEV NR ?\",VLOOKUP(G1795,Register!$K$1:$L$618,2)))","v":0},0,null,0,null,0,null,null,0,0,0,0,0,0]
[null,0,null,0,null,null,null,"00:00:00",0,0,0,{"$f":"IF(AND(J1796=0,K1796=0),,IF(G1796=0,\"KUNDE/LEV NR ?\",VLOOKUP(G1796,Register!$K$1:$L$618,2)))","v":0},0,null,0,null,0,null,null,0,0,0,0,0,0]
[null,0,null,{"$f":"IF(C1797=0,,VLOOKUP(C1797,$AA$4:$AB$320,2))","v":0},null,null,null,"00:00:00",{"$f":"IF(H1797>0,\"d\",)","v":0},0,0,{"$f":"IF(AND(J1797=0,K1797=0),,IF(G1797=0,\"KUNDE/LEV NR ?\",VLOOKUP(G1797,Register!$K$1:$L$618,2)))","v":0},0,null,0,null,0,null,null,0,0,{"$f":"IF(R1797=0,,R1797/(1+VLOOKUP(P1797,$AC$5:$AD$362,2)))","v":0},{"$f":"IF(S1797=0,,S1797/(1+VLOOKUP(P1797,$AC$5:$AD$362,2)))","v":0},{"$f":"IF(P1797=0,,IF(P1797=P1798,,VLOOKUP(P1797,$AC$5:$AE$364,3)))","v":0},{"$f":"IF(P1797=0,,IF(P1797=P1798,,VLOOKUP(P1797,$AC$5:$AF$362,4)))","v":0}]
[null,0,null,0,null,null,null,"00:00:00",0,0,{"$f":"IF(AND(A1798>0,H1798>0),J1798*-1,)","v":0},{"$f":"IF(AND(J1798=0,K1798=0),,IF(G1798=0,\"KUNDE/LEV NR ?\",VLOOKUP(G1798,Register!$K$1:$L$618,2)))","v":0},0,null,0,null,0,null,null,0,0,0,0,0,0]
[null,0,null,0,null,null,null,"00:00:00",0,0,0,{"$f":"IF(AND(J1799=0,K1799=0),,IF(G1799=0,\"KUNDE/LEV NR ?\",VLOOKUP(G1799,Register!$K$1:$L$618,2)))","v":0},{"$f":"IF(ISNUMBER(A1799+B1799+E1799+F1799+G1799+H1799+J1799+K1799),A1799+B1799+E1799+F1799+G1799+H1799+J1799+K1799,\"FEIL\")","v":0},null,0,null,0,null,null,0,0,0,0,0,0]
[null,0,null,0,null,null,null,"00:00:00",0,0,0,{"$f":"IF(AND(J1800=0,K1800=0),,IF(G1800=0,\"KUNDE/LEV NR ?\",VLOOKUP(G1800,Register!$K$1:$L$618,2)))","v":0},0,null,0,null,0,null,null,0,0,0,0,0,0]
[null,0,null,0,null,null,null,"00:00:00",0,0,0,{"$f":"IF(AND(J1801=0,K1801=0),,IF(G1801=0,\"KUNDE/LEV NR ?\",VLOOKUP(G1801,Register!$K$1:$L$618,2)))","v":0},0,null,0,null,0,null,null,0,0,0,0,0,0]
[null,0,null,0,null,null,null,"00:00:00",0,0,0,{"$f":"IF(AND(J1802=0,K1802=0),,IF(G1802=0,\"KUNDE/LEV NR ?\",VLOOKUP(G1802,Register!$K$1:$L$618,2)))","v":0},0,null,0,null,0,null,null,0,0,0,0,0,0]
[null,{"$f":"IF(A1803>0,B1802+1,)","v":0},null,0,null,null,null,{"$f":"A1803","v":"00:00:00"},0,{"$f":"E1803*-1+F1803","v":0},0,{"$f":"IF(AND(J1803=0,K1803=0),,IF(G1803=0,\"KUNDE/LEV NR ?\",VLOOKUP(G1803,Register!$K$1:$L$618,2)))","v":0},0,null,0,null,0,null,null,0,0,0,0,0,0]
[null,0,null,0,null,null,null,"00:00:00",0,0,0,{"$f":"IF(AND(J1804=0,K1804=0),,IF(G1804=0,\"KUNDE/LEV NR ?\",VLOOKUP(G1804,Register!$K$1:$L$618,2)))","v":0},0,null,0,null,0,null,null,0,0,0,0,0,0]
[null,0,null,0,null,null,null,"00:00:00",0,0,0,{"$f":"IF(AND(J1805=0,K1805=0),,IF(G1805=0,\"KUNDE/LEV NR ?\",VLOOKUP(G1805,Register!$K$1:$L$618,2)))","v":0},0,null,0,null,0,null,null,0,0,0,0,0,0]
[null,0,null,0,null,null,null,"00:00:00",0,0,0,{"$f":"IF(AND(J1806=0,K1806=0),,IF(G1806=0,\"KUNDE/LEV NR ?\",VLOOKUP(G1806,Register!$K$1:$L$618,2)))","v":0},0,null,0,null,0,null,null,{"$f":"R1806-V1806","v":0},{"$f":"S1806-W1806","v":0},0,0,0,0]
[null,0,null,0,null,null,null,"00:00:00",0,0,0,{"$f":"IF(AND(J1807=0,K1807=0),,IF(G1807=0,\"KUNDE/LEV NR ?\",VLOOKUP(G1807,Register!$K$1:$L$618,2)))","v":0},0,null,0,null,0,null,null,0,0,0,0,0,0]
[null,0,null,0,null,null,null,"00:00:00",0,0,0,{"$f":"IF(AND(J1808=0,K1808=0),,IF(G1808=0,\"KUNDE/LEV NR ?\",VLOOKUP(G1808,Register!$K$1:$L$618,2)))","v":0},0,null,0,null,0,null,null,0,0,0,0,0,0]
[null,0,null,0,null,null,null,"00:00:00",0,0,0,{"$f":"IF(AND(J1809=0,K1809=0),,IF(G1809=0,\"KUNDE/LEV NR ?\",VLOOKUP(G1809,Register!$K$1:$L$618,2)))","v":0},0,null,0,null,0,null,null,0,0,0,0,0,0]
[null,0,null,0,null,null,null,"00:00:00",0,0,0,{"$f":"IF(AND(J1810=0,K1810=0),,IF(G1810=0,\"KUNDE/LEV NR ?\",VLOOKUP(G1810,Register!$K$1:$L$618,2)))","v":0},0,null,0,null,0,null,null,0,0,0,0,0,0]
[null,0,null,0,null,null,null,"00:00:00",0,0,0,{"$f":"IF(AND(J1811=0,K1811=0),,IF(G1811=0,\"KUNDE/LEV NR ?\",VLOOKUP(G1811,Register!$K$1:$L$618,2)))","v":0},0,null,0,null,0,null,null,0,0,0,0,0,0]
[null,0,null,0,null,null,null,"00:00:00",0,0,0,{"$f":"IF(AND(J1812=0,K1812=0),,IF(G1812=0,\"KUNDE/LEV NR ?\",VLOOKUP(G1812,Register!$K$1:$L$618,2)))","v":0},0,null,0,null,0,null,null,0,0,0,0,0,0]
[null,0,null,0,null,null,null,"00:00:00",0,0,0,{"$f":"IF(AND(J1813=0,K1813=0),,IF(G1813=0,\"KUNDE/LEV NR ?\",VLOOKUP(G1813,Register!$K$1:$L$618,2)))","v":0},0,null,0,null,0,null,null,0,0,0,0,0,0]
[null,0,null,0,null,null,null,"00:00:00",0,0,0,{"$f":"IF(AND(J1814=0,K1814=0),,IF(G1814=0,\"KUNDE/LEV NR ?\",VLOOKUP(G1814,Register!$K$1:$L$618,2)))","v":0},0,null,0,null,0,null,null,0,0,0,0,0,0]
[null,0,null,0,null,null,null,"00:00:00",0,0,0,{"$f":"IF(AND(J1815=0,K1815=0),,IF(G1815=0,\"KUNDE/LEV NR ?\",VLOOKUP(G1815,Register!$K$1:$L$618,2)))","v":0},0,null,0,null,0,null,null,0,0,0,0,0,0]
[null,0,null,0,null,null,null,"00:00:00",0,0,0,{"$f":"IF(AND(J1816=0,K1816=0),,IF(G1816=0,\"KUNDE/LEV NR ?\",VLOOKUP(G1816,Register!$K$1:$L$618,2)))","v":0},0,null,0,null,0,null,null,0,0,0,0,0,0]
[null,0,null,0,null,null,null,"00:00:00",0,0,0,{"$f":"IF(AND(J1817=0,K1817=0),,IF(G1817=0,\"KUNDE/LEV NR ?\",VLOOKUP(G1817,Register!$K$1:$L$618,2)))","v":0},0,null,0,null,0,null,null,0,0,0,0,0,0]
[null,0,null,0,null,null,null,"00:00:00",0,0,0,{"$f":"IF(AND(J1818=0,K1818=0),,IF(G1818=0,\"KUNDE/LEV NR ?\",VLOOKUP(G1818,Register!$K$1:$L$618,2)))","v":0},0,null,0,null,0,null,null,0,0,0,0,0,0]
[null,0,null,0,null,null,null,"00:00:00",0,0,0,{"$f":"IF(AND(J1819=0,K1819=0),,IF(G1819=0,\"KUNDE/LEV NR ?\",VLOOKUP(G1819,Register!$K$1:$L$618,2)))","v":0},0,null,0,null,0,null,null,0,0,0,0,0,0]
[null,0,null,0,null,null,null,"00:00:00",0,0,0,{"$f":"IF(AND(J1820=0,K1820=0),,IF(G1820=0,\"KUNDE/LEV NR ?\",VLOOKUP(G1820,Register!$K$1:$L$618,2)))","v":0},0,null,0,null,0,null,null,0,0,0,0,0,0]
[null,0,null,0,null,null,null,"00:00:00",0,0,0,{"$f":"IF(AND(J1821=0,K1821=0),,IF(G1821=0,\"KUNDE/LEV NR ?\",VLOOKUP(G1821,Register!$K$1:$L$618,2)))","v":0},0,null,0,null,0,null,null,0,0,0,0,0,0]
[null,0,null,0,null,null,null,"00:00:00",0,0,0,{"$f":"IF(AND(J1822=0,K1822=0),,IF(G1822=0,\"KUNDE/LEV NR ?\",VLOOKUP(G1822,Register!$K$1:$L$618,2)))","v":0},0,null,0,null,0,null,null,0,0,0,0,0,0]
[null,0,null,0,null,null,null,"00:00:00",0,0,0,{"$f":"IF(AND(J1823=0,K1823=0),,IF(G1823=0,\"KUNDE/LEV NR ?\",VLOOKUP(G1823,Register!$K$1:$L$618,2)))","v":0},0,null,0,null,0,null,null,0,0,0,0,0,0]
[null,0,null,0,null,null,null,"00:00:00",0,0,0,{"$f":"IF(AND(J1824=0,K1824=0),,IF(G1824=0,\"KUNDE/LEV NR ?\",VLOOKUP(G1824,Register!$K$1:$L$618,2)))","v":0},0,null,0,null,0,null,null,0,0,0,0,0,0]
[null,0,null,0,null,null,null,"00:00:00",0,0,0,{"$f":"IF(AND(J1825=0,K1825=0),,IF(G1825=0,\"KUNDE/LEV NR ?\",VLOOKUP(G1825,Register!$K$1:$L$618,2)))","v":0},0,null,0,null,0,null,null,0,0,0,0,0,0]
[null,0,null,0,null,null,null,"00:00:00",0,0,0,{"$f":"IF(AND(J1826=0,K1826=0),,IF(G1826=0,\"KUNDE/LEV NR ?\",VLOOKUP(G1826,Register!$K$1:$L$618,2)))","v":0},0,null,0,null,0,null,null,0,0,0,0,0,0]
[null,0,null,0,null,null,null,"00:00:00",0,0,0,{"$f":"IF(AND(J1827=0,K1827=0),,IF(G1827=0,\"KUNDE/LEV NR ?\",VLOOKUP(G1827,Register!$K$1:$L$618,2)))","v":0},0,null,0,null,0,null,null,0,0,0,0,0,0]
[null,0,null,0,null,null,null,"00:00:00",0,0,0,{"$f":"IF(AND(J1828=0,K1828=0),,IF(G1828=0,\"KUNDE/LEV NR ?\",VLOOKUP(G1828,Register!$K$1:$L$618,2)))","v":0},0,null,0,null,0,null,null,0,0,0,0,0,0]
[null,0,null,0,null,null,null,"00:00:00",0,0,0,{"$f":"IF(AND(J1829=0,K1829=0),,IF(G1829=0,\"KUNDE/LEV NR ?\",VLOOKUP(G1829,Register!$K$1:$L$618,2)))","v":0},0,null,0,null,0,null,null,0,0,0,0,0,0]
[null,0,null,0,null,null,null,"00:00:00",0,0,0,{"$f":"IF(AND(J1830=0,K1830=0),,IF(G1830=0,\"KUNDE/LEV NR ?\",VLOOKUP(G1830,Register!$K$1:$L$618,2)))","v":0},0,null,0,null,0,null,null,0,0,0,0,0,0]
[null,0,null,0,null,null,null,"00:00:00",0,0,0,{"$f":"IF(AND(J1831=0,K1831=0),,IF(G1831=0,\"KUNDE/LEV NR ?\",VLOOKUP(G1831,Register!$K$1:$L$618,2)))","v":0},0,null,0,null,0,null,null,0,0,0,0,0,0]
[null,0,null,0,null,null,null,"00:00:00",0,0,0,{"$f":"IF(AND(J1832=0,K1832=0),,IF(G1832=0,\"KUNDE/LEV NR ?\",VLOOKUP(G1832,Register!$K$1:$L$618,2)))","v":0},0,null,0,null,0,null,null,0,0,0,0,0,0]
[null,0,null,0,null,null,null,"00:00:00",0,0,0,{"$f":"IF(AND(J1833=0,K1833=0),,IF(G1833=0,\"KUNDE/LEV NR ?\",VLOOKUP(G1833,Register!$K$1:$L$618,2)))","v":0},0,null,0,null,0,null,null,0,0,0,0,0,0]
[null,0,null,0,null,null,null,"00:00:00",0,0,0,{"$f":"IF(AND(J1834=0,K1834=0),,IF(G1834=0,\"KUNDE/LEV NR ?\",VLOOKUP(G1834,Register!$K$1:$L$618,2)))","v":0},0,null,0,null,0,null,null,0,0,0,0,0,0]
[null,0,null,0,null,null,null,"00:00:00",0,0,0,{"$f":"IF(AND(J1835=0,K1835=0),,IF(G1835=0,\"KUNDE/LEV NR ?\",VLOOKUP(G1835,Register!$K$1:$L$618,2)))","v":0},0,null,0,null,0,null,null,0,0,0,0,0,0]
[null,0,null,0,null,null,null,"00:00:00",0,0,0,{"$f":"IF(AND(J1836=0,K1836=0),,IF(G1836=0,\"KUNDE/LEV NR ?\",VLOOKUP(G1836,Register!$K$1:$L$618,2)))","v":0},0,null,0,null,0,null,null,0,0,0,0,0,0]
[null,0,null,0,null,null,null,"00:00:00",0,0,0,{"$f":"IF(AND(J1837=0,K1837=0),,IF(G1837=0,\"KUNDE/LEV NR ?\",VLOOKUP(G1837,Register!$K$1:$L$618,2)))","v":0},0,null,0,null,0,null,null,0,0,0,0,0,0]
[null,0,null,0,null,null,null,"00:00:00",0,0,0,{"$f":"IF(AND(J1838=0,K1838=0),,IF(G1838=0,\"KUNDE/LEV NR ?\",VLOOKUP(G1838,Register!$K$1:$L$618,2)))","v":0},0,null,0,null,0,null,null,0,0,0,0,0,0]
[null,0,null,0,null,null,null,"00:00:00",0,0,0,{"$f":"IF(AND(J1839=0,K1839=0),,IF(G1839=0,\"KUNDE/LEV NR ?\",VLOOKUP(G1839,Register!$K$1:$L$618,2)))","v":0},0,null,0,null,0,null,null,0,0,0,0,0,0]
[null,0,null,0,null,null,null,"00:00:00",0,0,0,{"$f":"IF(AND(J1840=0,K1840=0),,IF(G1840=0,\"KUNDE/LEV NR ?\",VLOOKUP(G1840,Register!$K$1:$L$618,2)))","v":0},0,null,0,null,0,null,null,0,0,0,0,0,0]
[null,0,null,0,null,null,null,"00:00:00",0,0,0,{"$f":"IF(AND(J1841=0,K1841=0),,IF(G1841=0,\"KUNDE/LEV NR ?\",VLOOKUP(G1841,Register!$K$1:$L$618,2)))","v":0},0,null,0,null,0,null,null,0,0,0,0,0,0]
[null,0,null,0,null,null,null,"00:00:00",0,0,0,{"$f":"IF(AND(J1842=0,K1842=0),,IF(G1842=0,\"KUNDE/LEV NR ?\",VLOOKUP(G1842,Register!$K$1:$L$618,2)))","v":0},0,null,0,null,0,null,null,0,0,0,0,0,0]
[null,0,null,0,null,null,null,"00:00:00",0,0,0,{"$f":"IF(AND(J1843=0,K1843=0),,IF(G1843=0,\"KUNDE/LEV NR ?\",VLOOKUP(G1843,Register!$K$1:$L$618,2)))","v":0},0,null,0,null,0,null,null,0,0,0,0,0,0]
[null,0,null,0,null,null,null,"00:00:00",0,0,0,{"$f":"IF(AND(J1844=0,K1844=0),,IF(G1844=0,\"KUNDE/LEV NR ?\",VLOOKUP(G1844,Register!$K$1:$L$618,2)))","v":0},0,null,0,null,0,null,null,0,0,0,0,0,0]
[null,0,null,0,null,null,null,"00:00:00",0,0,0,{"$f":"IF(AND(J1845=0,K1845=0),,IF(G1845=0,\"KUNDE/LEV NR ?\",VLOOKUP(G1845,Register!$K$1:$L$618,2)))","v":0},0,null,0,null,0,null,null,0,0,0,0,0,0]
[null,0,null,0,null,null,null,"00:00:00",0,0,0,{"$f":"IF(AND(J1846=0,K1846=0),,IF(G1846=0,\"KUNDE/LEV NR ?\",VLOOKUP(G1846,Register!$K$1:$L$618,2)))","v":0},0,null,0,null,0,null,null,0,0,0,0,0,0]
[null,0,null,0,null,null,null,"00:00:00",0,0,0,{"$f":"IF(AND(J1847=0,K1847=0),,IF(G1847=0,\"KUNDE/LEV NR ?\",VLOOKUP(G1847,Register!$K$1:$L$618,2)))","v":0},0,null,0,null,0,null,null,0,0,0,0,0,0]
[null,0,null,0,null,null,null,"00:00:00",0,0,0,{"$f":"IF(AND(J1848=0,K1848=0),,IF(G1848=0,\"KUNDE/LEV NR ?\",VLOOKUP(G1848,Register!$K$1:$L$618,2)))","v":0},0,null,0,null,0,null,null,0,0,0,0,0,0]
[null,0,null,0,null,null,null,"00:00:00",0,0,0,{"$f":"IF(AND(J1849=0,K1849=0),,IF(G1849=0,\"KUNDE/LEV NR ?\",VLOOKUP(G1849,Register!$K$1:$L$618,2)))","v":0},0,null,0,null,0,null,null,0,0,0,0,0,0]
[null,0,null,0,null,null,null,"00:00:00",0,0,0,{"$f":"IF(AND(J1850=0,K1850=0),,IF(G1850=0,\"KUNDE/LEV NR ?\",VLOOKUP(G1850,Register!$K$1:$L$618,2)))","v":0},0,null,0,null,0,null,null,0,0,0,0,0,0]
[null,0,null,0,null,null,null,"00:00:00",0,0,0,{"$f":"IF(AND(J1851=0,K1851=0),,IF(G1851=0,\"KUNDE/LEV NR ?\",VLOOKUP(G1851,Register!$K$1:$L$618,2)))","v":0},0,null,0,null,0,null,null,0,0,0,0,0,0]
[null,0,null,0,null,null,null,"00:00:00",0,0,0,{"$f":"IF(AND(J1852=0,K1852=0),,IF(G1852=0,\"KUNDE/LEV NR ?\",VLOOKUP(G1852,Register!$K$1:$L$618,2)))","v":0},0,null,0,null,0,null,null,0,0,0,0,0,0]
[null,0,null,0,null,null,null,"00:00:00",0,0,0,{"$f":"IF(AND(J1853=0,K1853=0),,IF(G1853=0,\"KUNDE/LEV NR ?\",VLOOKUP(G1853,Register!$K$1:$L$618,2)))","v":0},0,null,0,null,0,null,null,0,0,0,0,0,0]
[null,0,null,0,null,null,null,"00:00:00",0,0,0,{"$f":"IF(AND(J1854=0,K1854=0),,IF(G1854=0,\"KUNDE/LEV NR ?\",VLOOKUP(G1854,Register!$K$1:$L$618,2)))","v":0},0,null,0,null,0,null,null,0,0,0,0,0,0]
[null,0,null,0,null,null,null,"00:00:00",0,0,0,{"$f":"IF(AND(J1855=0,K1855=0),,IF(G1855=0,\"KUNDE/LEV NR ?\",VLOOKUP(G1855,Register!$K$1:$L$618,2)))","v":0},0,null,0,null,0,null,null,0,0,0,0,0,0]
[null,0,null,0,null,null,null,"00:00:00",0,0,0,{"$f":"IF(AND(J1856=0,K1856=0),,IF(G1856=0,\"KUNDE/LEV NR ?\",VLOOKUP(G1856,Register!$K$1:$L$618,2)))","v":0},0,null,0,null,0,null,null,0,0,0,0,0,0]
[null,0,null,0,null,null,null,"00:00:00",0,0,0,{"$f":"IF(AND(J1857=0,K1857=0),,IF(G1857=0,\"KUNDE/LEV NR ?\",VLOOKUP(G1857,Register!$K$1:$L$618,2)))","v":0},0,null,0,null,0,null,null,0,0,0,0,0,0]
[null,0,null,0,null,null,null,"00:00:00",0,0,0,{"$f":"IF(AND(J1858=0,K1858=0),,IF(G1858=0,\"KUNDE/LEV NR ?\",VLOOKUP(G1858,Register!$K$1:$L$618,2)))","v":0},0,null,0,null,0,null,null,0,0,0,0,0,0]
[null,0,null,0,null,null,null,"00:00:00",0,0,0,{"$f":"IF(AND(J1859=0,K1859=0),,IF(G1859=0,\"KUNDE/LEV NR ?\",VLOOKUP(G1859,Register!$K$1:$L$618,2)))","v":0},0,null,0,null,0,null,null,0,0,0,0,0,0]
[null,0,null,0,null,null,null,"00:00:00",0,0,0,{"$f":"IF(AND(J1860=0,K1860=0),,IF(G1860=0,\"KUNDE/LEV NR ?\",VLOOKUP(G1860,Register!$K$1:$L$618,2)))","v":0},0,null,0,null,0,null,null,0,0,0,0,0,0]
[null,0,null,{"$f":"IF(C1861=0,,VLOOKUP(C1861,$AA$4:$AB$320,2))","v":0},null,null,null,"00:00:00",{"$f":"IF(H1861>0,\"d\",)","v":0},0,0,{"$f":"IF(AND(J1861=0,K1861=0),,IF(G1861=0,\"KUNDE/LEV NR ?\",VLOOKUP(G1861,Register!$K$1:$L$618,2)))","v":0},0,null,0,null,0,null,null,0,0,{"$f":"IF(R1861=0,,R1861/(1+VLOOKUP(P1861,$AC$5:$AD$362,2)))","v":0},{"$f":"IF(S1861=0,,S1861/(1+VLOOKUP(P1861,$AC$5:$AD$362,2)))","v":0},{"$f":"IF(P1861=0,,IF(P1861=P1862,,VLOOKUP(P1861,$AC$5:$AE$364,3)))","v":0},{"$f":"IF(P1861=0,,IF(P1861=P1862,,VLOOKUP(P1861,$AC$5:$AF$362,4)))","v":0}]
[null,0,null,0,null,null,null,"00:00:00",0,0,{"$f":"IF(AND(A1862>0,H1862>0),J1862*-1,)","v":0},{"$f":"IF(AND(J1862=0,K1862=0),,IF(G1862=0,\"KUNDE/LEV NR ?\",VLOOKUP(G1862,Register!$K$1:$L$618,2)))","v":0},0,null,0,null,0,null,null,0,0,0,0,0,0]
[null,0,null,0,null,null,null,"00:00:00",0,0,0,{"$f":"IF(AND(J1863=0,K1863=0),,IF(G1863=0,\"KUNDE/LEV NR ?\",VLOOKUP(G1863,Register!$K$1:$L$618,2)))","v":0},{"$f":"IF(ISNUMBER(A1863+B1863+E1863+F1863+G1863+H1863+J1863+K1863),A1863+B1863+E1863+F1863+G1863+H1863+J1863+K1863,\"FEIL\")","v":0},null,0,null,0,null,null,0,0,0,0,0,0]
[null,0,null,0,null,null,null,"00:00:00",0,0,0,{"$f":"IF(AND(J1864=0,K1864=0),,IF(G1864=0,\"KUNDE/LEV NR ?\",VLOOKUP(G1864,Register!$K$1:$L$618,2)))","v":0},0,null,0,null,0,null,null,0,0,0,0,0,0]
[null,0,null,0,null,null,null,"00:00:00",0,0,0,{"$f":"IF(AND(J1865=0,K1865=0),,IF(G1865=0,\"KUNDE/LEV NR ?\",VLOOKUP(G1865,Register!$K$1:$L$618,2)))","v":0},0,null,0,null,0,null,null,0,0,0,0,0,0]
[null,0,null,0,null,null,null,"00:00:00",0,0,0,{"$f":"IF(AND(J1866=0,K1866=0),,IF(G1866=0,\"KUNDE/LEV NR ?\",VLOOKUP(G1866,Register!$K$1:$L$618,2)))","v":0},0,null,0,null,0,null,null,0,0,0,0,0,0]
[null,{"$f":"IF(A1867>0,B1866+1,)","v":0},null,0,null,null,null,{"$f":"A1867","v":"00:00:00"},0,{"$f":"E1867*-1+F1867","v":0},0,{"$f":"IF(AND(J1867=0,K1867=0),,IF(G1867=0,\"KUNDE/LEV NR ?\",VLOOKUP(G1867,Register!$K$1:$L$618,2)))","v":0},0,null,0,null,0,null,null,0,0,0,0,0,0]
[null,0,null,0,null,null,null,"00:00:00",0,0,0,{"$f":"IF(AND(J1868=0,K1868=0),,IF(G1868=0,\"KUNDE/LEV NR ?\",VLOOKUP(G1868,Register!$K$1:$L$618,2)))","v":0},0,null,0,null,0,null,null,0,0,0,0,0,0]
[null,0,null,0,null,null,null,"00:00:00",0,0,0,{"$f":"IF(AND(J1869=0,K1869=0),,IF(G1869=0,\"KUNDE/LEV NR ?\",VLOOKUP(G1869,Register!$K$1:$L$618,2)))","v":0},0,null,0,null,0,null,null,0,0,0,0,0,0]
[null,0,null,0,null,null,null,"00:00:00",0,0,0,{"$f":"IF(AND(J1870=0,K1870=0),,IF(G1870=0,\"KUNDE/LEV NR ?\",VLOOKUP(G1870,Register!$K$1:$L$618,2)))","v":0},0,null,0,null,0,null,null,{"$f":"R1870-V1870","v":0},{"$f":"S1870-W1870","v":0},0,0,0,0]
[null,0,null,0,null,null,null,"00:00:00",0,0,0,{"$f":"IF(AND(J1871=0,K1871=0),,IF(G1871=0,\"KUNDE/LEV NR ?\",VLOOKUP(G1871,Register!$K$1:$L$618,2)))","v":0},0,null,0,null,0,null,null,0,0,0,0,0,0]
[null,0,null,0,null,null,null,"00:00:00",0,0,0,{"$f":"IF(AND(J1872=0,K1872=0),,IF(G1872=0,\"KUNDE/LEV NR ?\",VLOOKUP(G1872,Register!$K$1:$L$618,2)))","v":0},0,null,0,null,0,null,null,0,0,0,0,0,0]
[null,0,null,0,null,null,null,"00:00:00",0,0,0,{"$f":"IF(AND(J1873=0,K1873=0),,IF(G1873=0,\"KUNDE/LEV NR ?\",VLOOKUP(G1873,Register!$K$1:$L$618,2)))","v":0},0,null,0,null,0,null,null,0,0,0,0,0,0]
[null,0,null,0,null,null,null,"00:00:00",0,0,0,{"$f":"IF(AND(J1874=0,K1874=0),,IF(G1874=0,\"KUNDE/LEV NR ?\",VLOOKUP(G1874,Register!$K$1:$L$618,2)))","v":0},0,null,0,null,0,null,null,0,0,0,0,0,0]
[null,0,null,0,null,null,null,"00:00:00",0,0,0,{"$f":"IF(AND(J1875=0,K1875=0),,IF(G1875=0,\"KUNDE/LEV NR ?\",VLOOKUP(G1875,Register!$K$1:$L$618,2)))","v":0},0,null,0,null,0,null,null,0,0,0,0,0,0]
[null,0,null,0,null,null,null,"00:00:00",0,0,0,{"$f":"IF(AND(J1876=0,K1876=0),,IF(G1876=0,\"KUNDE/LEV NR ?\",VLOOKUP(G1876,Register!$K$1:$L$618,2)))","v":0},0,null,0,null,0,null,null,0,0,0,0,0,0]
[null,0,null,0,null,null,null,"00:00:00",0,0,0,{"$f":"IF(AND(J1877=0,K1877=0),,IF(G1877=0,\"KUNDE/LEV NR ?\",VLOOKUP(G1877,Register!$K$1:$L$618,2)))","v":0},0,null,0,null,0,null,null,0,0,0,0,0,0]
[null,0,null,0,null,null,null,"00:00:00",0,0,0,{"$f":"IF(AND(J1878=0,K1878=0),,IF(G1878=0,\"KUNDE/LEV NR ?\",VLOOKUP(G1878,Register!$K$1:$L$618,2)))","v":0},0,null,0,null,0,null,null,0,0,0,0,0,0]
[null,0,null,0,null,null,null,"00:00:00",0,0,0,{"$f":"IF(AND(J1879=0,K1879=0),,IF(G1879=0,\"KUNDE/LEV NR ?\",VLOOKUP(G1879,Register!$K$1:$L$618,2)))","v":0},0,null,0,null,0,null,null,0,0,0,0,0,0]
[null,0,null,0,null,null,null,"00:00:00",0,0,0,{"$f":"IF(AND(J1880=0,K1880=0),,IF(G1880=0,\"KUNDE/LEV NR ?\",VLOOKUP(G1880,Register!$K$1:$L$618,2)))","v":0},0,null,0,null,0,null,null,0,0,0,0,0,0]
[null,0,null,0,null,null,null,"00:00:00",0,0,0,{"$f":"IF(AND(J1881=0,K1881=0),,IF(G1881=0,\"KUNDE/LEV NR ?\",VLOOKUP(G1881,Register!$K$1:$L$618,2)))","v":0},0,null,0,null,0,null,null,0,0,0,0,0,0]
[null,0,null,0,null,null,null,"00:00:00",0,0,0,{"$f":"IF(AND(J1882=0,K1882=0),,IF(G1882=0,\"KUNDE/LEV NR ?\",VLOOKUP(G1882,Register!$K$1:$L$618,2)))","v":0},0,null,0,null,0,null,null,0,0,0,0,0,0]
[null,0,null,0,null,null,null,"00:00:00",0,0,0,{"$f":"IF(AND(J1883=0,K1883=0),,IF(G1883=0,\"KUNDE/LEV NR ?\",VLOOKUP(G1883,Register!$K$1:$L$618,2)))","v":0},0,null,0,null,0,null,null,0,0,0,0,0,0]
[null,0,null,0,null,null,null,"00:00:00",0,0,0,{"$f":"IF(AND(J1884=0,K1884=0),,IF(G1884=0,\"KUNDE/LEV NR ?\",VLOOKUP(G1884,Register!$K$1:$L$618,2)))","v":0},0,null,0,null,0,null,null,0,0,0,0,0,0]
[null,0,null,0,null,null,null,"00:00:00",0,0,0,{"$f":"IF(AND(J1885=0,K1885=0),,IF(G1885=0,\"KUNDE/LEV NR ?\",VLOOKUP(G1885,Register!$K$1:$L$618,2)))","v":0},0,null,0,null,0,null,null,0,0,0,0,0,0]
[null,0,null,0,null,null,null,"00:00:00",0,0,0,{"$f":"IF(AND(J1886=0,K1886=0),,IF(G1886=0,\"KUNDE/LEV NR ?\",VLOOKUP(G1886,Register!$K$1:$L$618,2)))","v":0},0,null,0,null,0,null,null,0,0,0,0,0,0]
[null,0,null,0,null,null,null,"00:00:00",0,0,0,{"$f":"IF(AND(J1887=0,K1887=0),,IF(G1887=0,\"KUNDE/LEV NR ?\",VLOOKUP(G1887,Register!$K$1:$L$618,2)))","v":0},0,null,0,null,0,null,null,0,0,0,0,0,0]
[null,0,null,0,null,null,null,"00:00:00",0,0,0,{"$f":"IF(AND(J1888=0,K1888=0),,IF(G1888=0,\"KUNDE/LEV NR ?\",VLOOKUP(G1888,Register!$K$1:$L$618,2)))","v":0},0,null,0,null,0,null,null,0,0,0,0,0,0]
[null,0,null,0,null,null,null,"00:00:00",0,0,0,{"$f":"IF(AND(J1889=0,K1889=0),,IF(G1889=0,\"KUNDE/LEV NR ?\",VLOOKUP(G1889,Register!$K$1:$L$618,2)))","v":0},0,null,0,null,0,null,null,0,0,0,0,0,0]
[null,0,null,0,null,null,null,"00:00:00",0,0,0,{"$f":"IF(AND(J1890=0,K1890=0),,IF(G1890=0,\"KUNDE/LEV NR ?\",VLOOKUP(G1890,Register!$K$1:$L$618,2)))","v":0},0,null,0,null,0,null,null,0,0,0,0,0,0]
[null,0,null,0,null,null,null,"00:00:00",0,0,0,{"$f":"IF(AND(J1891=0,K1891=0),,IF(G1891=0,\"KUNDE/LEV NR ?\",VLOOKUP(G1891,Register!$K$1:$L$618,2)))","v":0},0,null,0,null,0,null,null,0,0,0,0,0,0]
[null,0,null,0,null,null,null,"00:00:00",0,0,0,{"$f":"IF(AND(J1892=0,K1892=0),,IF(G1892=0,\"KUNDE/LEV NR ?\",VLOOKUP(G1892,Register!$K$1:$L$618,2)))","v":0},0,null,0,null,0,null,null,0,0,0,0,0,0]
[null,0,null,0,null,null,null,"00:00:00",0,0,0,{"$f":"IF(AND(J1893=0,K1893=0),,IF(G1893=0,\"KUNDE/LEV NR ?\",VLOOKUP(G1893,Register!$K$1:$L$618,2)))","v":0},0,null,0,null,0,null,null,0,0,0,0,0,0]
[null,0,null,0,null,null,null,"00:00:00",0,0,0,{"$f":"IF(AND(J1894=0,K1894=0),,IF(G1894=0,\"KUNDE/LEV NR ?\",VLOOKUP(G1894,Register!$K$1:$L$618,2)))","v":0},0,null,0,null,0,null,null,0,0,0,0,0,0]
[null,0,null,0,null,null,null,"00:00:00",0,0,0,{"$f":"IF(AND(J1895=0,K1895=0),,IF(G1895=0,\"KUNDE/LEV NR ?\",VLOOKUP(G1895,Register!$K$1:$L$618,2)))","v":0},0,null,0,null,0,null,null,0,0,0,0,0,0]
[null,0,null,0,null,null,null,"00:00:00",0,0,0,{"$f":"IF(AND(J1896=0,K1896=0),,IF(G1896=0,\"KUNDE/LEV NR ?\",VLOOKUP(G1896,Register!$K$1:$L$618,2)))","v":0},0,null,0,null,0,null,null,0,0,0,0,0,0]
[null,0,null,0,null,null,null,"00:00:00",0,0,0,{"$f":"IF(AND(J1897=0,K1897=0),,IF(G1897=0,\"KUNDE/LEV NR ?\",VLOOKUP(G1897,Register!$K$1:$L$618,2)))","v":0},0,null,0,null,0,null,null,0,0,0,0,0,0]
[null,0,null,0,null,null,null,"00:00:00",0,0,0,{"$f":"IF(AND(J1898=0,K1898=0),,IF(G1898=0,\"KUNDE/LEV NR ?\",VLOOKUP(G1898,Register!$K$1:$L$618,2)))","v":0},0,null,0,null,0,null,null,0,0,0,0,0,0]
[null,0,null,0,null,null,null,"00:00:00",0,0,0,{"$f":"IF(AND(J1899=0,K1899=0),,IF(G1899=0,\"KUNDE/LEV NR ?\",VLOOKUP(G1899,Register!$K$1:$L$618,2)))","v":0},0,null,0,null,0,null,null,0,0,0,0,0,0]
[null,0,null,0,null,null,null,"00:00:00",0,0,0,{"$f":"IF(AND(J1900=0,K1900=0),,IF(G1900=0,\"KUNDE/LEV NR ?\",VLOOKUP(G1900,Register!$K$1:$L$618,2)))","v":0},0,null,0,null,0,null,null,0,0,0,0,0,0]
[null,0,null,0,null,null,null,"00:00:00",0,0,0,{"$f":"IF(AND(J1901=0,K1901=0),,IF(G1901=0,\"KUNDE/LEV NR ?\",VLOOKUP(G1901,Register!$K$1:$L$618,2)))","v":0},0,null,0,null,0,null,null,0,0,0,0,0,0]
[null,0,null,0,null,null,null,"00:00:00",0,0,0,{"$f":"IF(AND(J1902=0,K1902=0),,IF(G1902=0,\"KUNDE/LEV NR ?\",VLOOKUP(G1902,Register!$K$1:$L$618,2)))","v":0},0,null,0,null,0,null,null,0,0,0,0,0,0]
[null,0,null,0,null,null,null,"00:00:00",0,0,0,{"$f":"IF(AND(J1903=0,K1903=0),,IF(G1903=0,\"KUNDE/LEV NR ?\",VLOOKUP(G1903,Register!$K$1:$L$618,2)))","v":0},0,null,0,null,0,null,null,0,0,0,0,0,0]
[null,0,null,0,null,null,null,"00:00:00",0,0,0,{"$f":"IF(AND(J1904=0,K1904=0),,IF(G1904=0,\"KUNDE/LEV NR ?\",VLOOKUP(G1904,Register!$K$1:$L$618,2)))","v":0},0,null,0,null,0,null,null,0,0,0,0,0,0]
[null,0,null,0,null,null,null,"00:00:00",0,0,0,{"$f":"IF(AND(J1905=0,K1905=0),,IF(G1905=0,\"KUNDE/LEV NR ?\",VLOOKUP(G1905,Register!$K$1:$L$618,2)))","v":0},0,null,0,null,0,null,null,0,0,0,0,0,0]
[null,0,null,0,null,null,null,"00:00:00",0,0,0,{"$f":"IF(AND(J1906=0,K1906=0),,IF(G1906=0,\"KUNDE/LEV NR ?\",VLOOKUP(G1906,Register!$K$1:$L$618,2)))","v":0},0,null,0,null,0,null,null,0,0,0,0,0,0]
[null,0,null,0,null,null,null,"00:00:00",0,0,0,{"$f":"IF(AND(J1907=0,K1907=0),,IF(G1907=0,\"KUNDE/LEV NR ?\",VLOOKUP(G1907,Register!$K$1:$L$618,2)))","v":0},0,null,0,null,0,null,null,0,0,0,0,0,0]
[null,0,null,0,null,null,null,"00:00:00",0,0,0,{"$f":"IF(AND(J1908=0,K1908=0),,IF(G1908=0,\"KUNDE/LEV NR ?\",VLOOKUP(G1908,Register!$K$1:$L$618,2)))","v":0},0,null,0,null,0,null,null,0,0,0,0,0,0]
[null,0,null,0,null,null,null,"00:00:00",0,0,0,{"$f":"IF(AND(J1909=0,K1909=0),,IF(G1909=0,\"KUNDE/LEV NR ?\",VLOOKUP(G1909,Register!$K$1:$L$618,2)))","v":0},0,null,0,null,0,null,null,0,0,0,0,0,0]
[null,0,null,0,null,null,null,"00:00:00",0,0,0,{"$f":"IF(AND(J1910=0,K1910=0),,IF(G1910=0,\"KUNDE/LEV NR ?\",VLOOKUP(G1910,Register!$K$1:$L$618,2)))","v":0},0,null,0,null,0,null,null,0,0,0,0,0,0]
[null,0,null,0,null,null,null,"00:00:00",0,0,0,{"$f":"IF(AND(J1911=0,K1911=0),,IF(G1911=0,\"KUNDE/LEV NR ?\",VLOOKUP(G1911,Register!$K$1:$L$618,2)))","v":0},0,null,0,null,0,null,null,0,0,0,0,0,0]
[null,0,null,0,null,null,null,"00:00:00",0,0,0,{"$f":"IF(AND(J1912=0,K1912=0),,IF(G1912=0,\"KUNDE/LEV NR ?\",VLOOKUP(G1912,Register!$K$1:$L$618,2)))","v":0},0,null,0,null,0,null,null,0,0,0,0,0,0]
[null,0,null,0,null,null,null,"00:00:00",0,0,0,{"$f":"IF(AND(J1913=0,K1913=0),,IF(G1913=0,\"KUNDE/LEV NR ?\",VLOOKUP(G1913,Register!$K$1:$L$618,2)))","v":0},0,null,0,null,0,null,null,0,0,0,0,0,0]
[null,0,null,0,null,null,null,"00:00:00",0,0,0,{"$f":"IF(AND(J1914=0,K1914=0),,IF(G1914=0,\"KUNDE/LEV NR ?\",VLOOKUP(G1914,Register!$K$1:$L$618,2)))","v":0},0,null,0,null,0,null,null,0,0,0,0,0,0]
[null,0,null,0,null,null,null,"00:00:00",0,0,0,{"$f":"IF(AND(J1915=0,K1915=0),,IF(G1915=0,\"KUNDE/LEV NR ?\",VLOOKUP(G1915,Register!$K$1:$L$618,2)))","v":0},0,null,0,null,0,null,null,0,0,0,0,0,0]
[null,0,null,0,null,null,null,"00:00:00",0,0,0,{"$f":"IF(AND(J1916=0,K1916=0),,IF(G1916=0,\"KUNDE/LEV NR ?\",VLOOKUP(G1916,Register!$K$1:$L$618,2)))","v":0},0,null,0,null,0,null,null,0,0,0,0,0,0]
[null,0,null,0,null,null,null,"00:00:00",0,0,0,{"$f":"IF(AND(J1917=0,K1917=0),,IF(G1917=0,\"KUNDE/LEV NR ?\",VLOOKUP(G1917,Register!$K$1:$L$618,2)))","v":0},0,null,0,null,0,null,null,0,0,0,0,0,0]
[null,0,null,0,null,null,null,"00:00:00",0,0,0,{"$f":"IF(AND(J1918=0,K1918=0),,IF(G1918=0,\"KUNDE/LEV NR ?\",VLOOKUP(G1918,Register!$K$1:$L$618,2)))","v":0},0,null,0,null,0,null,null,0,0,0,0,0,0]
[null,0,null,0,null,null,null,"00:00:00",0,0,0,{"$f":"IF(AND(J1919=0,K1919=0),,IF(G1919=0,\"KUNDE/LEV NR ?\",VLOOKUP(G1919,Register!$K$1:$L$618,2)))","v":0},0,null,0,null,0,null,null,0,0,0,0,0,0]
[null,0,null,0,null,null,null,"00:00:00",0,0,0,{"$f":"IF(AND(J1920=0,K1920=0),,IF(G1920=0,\"KUNDE/LEV NR ?\",VLOOKUP(G1920,Register!$K$1:$L$618,2)))","v":0},0,null,0,null,0,null,null,0,0,0,0,0,0]
[null,0,null,0,null,null,null,"00:00:00",0,0,0,{"$f":"IF(AND(J1921=0,K1921=0),,IF(G1921=0,\"KUNDE/LEV NR ?\",VLOOKUP(G1921,Register!$K$1:$L$618,2)))","v":0},0,null,0,null,0,null,null,0,0,0,0,0,0]
[null,0,null,0,null,null,null,"00:00:00",0,0,0,{"$f":"IF(AND(J1922=0,K1922=0),,IF(G1922=0,\"KUNDE/LEV NR ?\",VLOOKUP(G1922,Register!$K$1:$L$618,2)))","v":0},0,null,0,null,0,null,null,0,0,0,0,0,0]
[null,0,null,0,null,null,null,"00:00:00",0,0,0,{"$f":"IF(AND(J1923=0,K1923=0),,IF(G1923=0,\"KUNDE/LEV NR ?\",VLOOKUP(G1923,Register!$K$1:$L$618,2)))","v":0},0,null,0,null,0,null,null,0,0,0,0,0,0]
[null,0,null,0,null,null,null,"00:00:00",0,0,0,{"$f":"IF(AND(J1924=0,K1924=0),,IF(G1924=0,\"KUNDE/LEV NR ?\",VLOOKUP(G1924,Register!$K$1:$L$618,2)))","v":0},0,null,0,null,0,null,null,0,0,0,0,0,0]
[null,0,null,{"$f":"IF(C1925=0,,VLOOKUP(C1925,$AA$4:$AB$320,2))","v":0},null,null,null,"00:00:00",{"$f":"IF(H1925>0,\"d\",)","v":0},0,0,{"$f":"IF(AND(J1925=0,K1925=0),,IF(G1925=0,\"KUNDE/LEV NR ?\",VLOOKUP(G1925,Register!$K$1:$L$618,2)))","v":0},0,null,0,null,0,null,null,0,0,{"$f":"IF(R1925=0,,R1925/(1+VLOOKUP(P1925,$AC$5:$AD$362,2)))","v":0},{"$f":"IF(S1925=0,,S1925/(1+VLOOKUP(P1925,$AC$5:$AD$362,2)))","v":0},{"$f":"IF(P1925=0,,IF(P1925=P1926,,VLOOKUP(P1925,$AC$5:$AE$364,3)))","v":0},{"$f":"IF(P1925=0,,IF(P1925=P1926,,VLOOKUP(P1925,$AC$5:$AF$362,4)))","v":0}]
[null,0,null,0,null,null,null,"00:00:00",0,0,{"$f":"IF(AND(A1926>0,H1926>0),J1926*-1,)","v":0},{"$f":"IF(AND(J1926=0,K1926=0),,IF(G1926=0,\"KUNDE/LEV NR ?\",VLOOKUP(G1926,Register!$K$1:$L$618,2)))","v":0},0,null,0,null,0,null,null,0,0,0,0,0,0]
[null,0,null,0,null,null,null,"00:00:00",0,0,0,{"$f":"IF(AND(J1927=0,K1927=0),,IF(G1927=0,\"KUNDE/LEV NR ?\",VLOOKUP(G1927,Register!$K$1:$L$618,2)))","v":0},{"$f":"IF(ISNUMBER(A1927+B1927+E1927+F1927+G1927+H1927+J1927+K1927),A1927+B1927+E1927+F1927+G1927+H1927+J1927+K1927,\"FEIL\")","v":0},null,0,null,0,null,null,0,0,0,0,0,0]
[null,0,null,0,null,null,null,"00:00:00",0,0,0,{"$f":"IF(AND(J1928=0,K1928=0),,IF(G1928=0,\"KUNDE/LEV NR ?\",VLOOKUP(G1928,Register!$K$1:$L$618,2)))","v":0},0,null,0,null,0,null,null,0,0,0,0,0,0]
[null,0,null,0,null,null,null,"00:00:00",0,0,0,{"$f":"IF(AND(J1929=0,K1929=0),,IF(G1929=0,\"KUNDE/LEV NR ?\",VLOOKUP(G1929,Register!$K$1:$L$618,2)))","v":0},0,null,0,null,0,null,null,0,0,0,0,0,0]
[null,0,null,0,null,null,null,"00:00:00",0,0,0,{"$f":"IF(AND(J1930=0,K1930=0),,IF(G1930=0,\"KUNDE/LEV NR ?\",VLOOKUP(G1930,Register!$K$1:$L$618,2)))","v":0},0,null,0,null,0,null,null,0,0,0,0,0,0]
[null,{"$f":"IF(A1931>0,B1930+1,)","v":0},null,0,null,null,null,{"$f":"A1931","v":"00:00:00"},0,{"$f":"E1931*-1+F1931","v":0},0,{"$f":"IF(AND(J1931=0,K1931=0),,IF(G1931=0,\"KUNDE/LEV NR ?\",VLOOKUP(G1931,Register!$K$1:$L$618,2)))","v":0},0,null,0,null,0,null,null,0,0,0,0,0,0]
[null,0,null,0,null,null,null,"00:00:00",0,0,0,{"$f":"IF(AND(J1932=0,K1932=0),,IF(G1932=0,\"KUNDE/LEV NR ?\",VLOOKUP(G1932,Register!$K$1:$L$618,2)))","v":0},0,null,0,null,0,null,null,0,0,0,0,0,0]
[null,0,null,0,null,null,null,"00:00:00",0,0,0,{"$f":"IF(AND(J1933=0,K1933=0),,IF(G1933=0,\"KUNDE/LEV NR ?\",VLOOKUP(G1933,Register!$K$1:$L$618,2)))","v":0},0,null,0,null,0,null,null,0,0,0,0,0,0]
[null,0,null,0,null,null,null,"00:00:00",0,0,0,{"$f":"IF(AND(J1934=0,K1934=0),,IF(G1934=0,\"KUNDE/LEV NR ?\",VLOOKUP(G1934,Register!$K$1:$L$618,2)))","v":0},0,null,0,null,0,null,null,{"$f":"R1934-V1934","v":0},{"$f":"S1934-W1934","v":0},0,0,0,0]
[null,0,null,0,null,null,null,"00:00:00",0,0,0,{"$f":"IF(AND(J1935=0,K1935=0),,IF(G1935=0,\"KUNDE/LEV NR ?\",VLOOKUP(G1935,Register!$K$1:$L$618,2)))","v":0},0,null,0,null,0,null,null,0,0,0,0,0,0]
[null,0,null,0,null,null,null,"00:00:00",0,0,0,{"$f":"IF(AND(J1936=0,K1936=0),,IF(G1936=0,\"KUNDE/LEV NR ?\",VLOOKUP(G1936,Register!$K$1:$L$618,2)))","v":0},0,null,0,null,0,null,null,0,0,0,0,0,0]
[null,0,null,0,null,null,null,"00:00:00",0,0,0,{"$f":"IF(AND(J1937=0,K1937=0),,IF(G1937=0,\"KUNDE/LEV NR ?\",VLOOKUP(G1937,Register!$K$1:$L$618,2)))","v":0},0,null,0,null,0,null,null,0,0,0,0,0,0]
[null,0,null,0,null,null,null,"00:00:00",0,0,0,{"$f":"IF(AND(J1938=0,K1938=0),,IF(G1938=0,\"KUNDE/LEV NR ?\",VLOOKUP(G1938,Register!$K$1:$L$618,2)))","v":0},0,null,0,null,0,null,null,0,0,0,0,0,0]
[null,0,null,0,null,null,null,"00:00:00",0,0,0,{"$f":"IF(AND(J1939=0,K1939=0),,IF(G1939=0,\"KUNDE/LEV NR ?\",VLOOKUP(G1939,Register!$K$1:$L$618,2)))","v":0},0,null,0,null,0,null,null,0,0,0,0,0,0]
[null,0,null,0,null,null,null,"00:00:00",0,0,0,{"$f":"IF(AND(J1940=0,K1940=0),,IF(G1940=0,\"KUNDE/LEV NR ?\",VLOOKUP(G1940,Register!$K$1:$L$618,2)))","v":0},0,null,0,null,0,null,null,0,0,0,0,0,0]
[null,0,null,0,null,null,null,"00:00:00",0,0,0,{"$f":"IF(AND(J1941=0,K1941=0),,IF(G1941=0,\"KUNDE/LEV NR ?\",VLOOKUP(G1941,Register!$K$1:$L$618,2)))","v":0},0,null,0,null,0,null,null,0,0,0,0,0,0]
[null,0,null,0,null,null,null,"00:00:00",0,0,0,{"$f":"IF(AND(J1942=0,K1942=0),,IF(G1942=0,\"KUNDE/LEV NR ?\",VLOOKUP(G1942,Register!$K$1:$L$618,2)))","v":0},0,null,0,null,0,null,null,0,0,0,0,0,0]
[null,0,null,0,null,null,null,"00:00:00",0,0,0,{"$f":"IF(AND(J1943=0,K1943=0),,IF(G1943=0,\"KUNDE/LEV NR ?\",VLOOKUP(G1943,Register!$K$1:$L$618,2)))","v":0},0,null,0,null,0,null,null,0,0,0,0,0,0]
[null,0,null,0,null,null,null,"00:00:00",0,0,0,{"$f":"IF(AND(J1944=0,K1944=0),,IF(G1944=0,\"KUNDE/LEV NR ?\",VLOOKUP(G1944,Register!$K$1:$L$618,2)))","v":0},0,null,0,null,0,null,null,0,0,0,0,0,0]
[null,0,null,0,null,null,null,"00:00:00",0,0,0,{"$f":"IF(AND(J1945=0,K1945=0),,IF(G1945=0,\"KUNDE/LEV NR ?\",VLOOKUP(G1945,Register!$K$1:$L$618,2)))","v":0},0,null,0,null,0,null,null,0,0,0,0,0,0]
[null,0,null,0,null,null,null,"00:00:00",0,0,0,{"$f":"IF(AND(J1946=0,K1946=0),,IF(G1946=0,\"KUNDE/LEV NR ?\",VLOOKUP(G1946,Register!$K$1:$L$618,2)))","v":0},0,null,0,null,0,null,null,0,0,0,0,0,0]
[null,0,null,0,null,null,null,"00:00:00",0,0,0,{"$f":"IF(AND(J1947=0,K1947=0),,IF(G1947=0,\"KUNDE/LEV NR ?\",VLOOKUP(G1947,Register!$K$1:$L$618,2)))","v":0},0,null,0,null,0,null,null,0,0,0,0,0,0]
[null,0,null,0,null,null,null,"00:00:00",0,0,0,{"$f":"IF(AND(J1948=0,K1948=0),,IF(G1948=0,\"KUNDE/LEV NR ?\",VLOOKUP(G1948,Register!$K$1:$L$618,2)))","v":0},0,null,0,null,0,null,null,0,0,0,0,0,0]
[null,0,null,0,null,null,null,"00:00:00",0,0,0,{"$f":"IF(AND(J1949=0,K1949=0),,IF(G1949=0,\"KUNDE/LEV NR ?\",VLOOKUP(G1949,Register!$K$1:$L$618,2)))","v":0},0,null,0,null,0,null,null,0,0,0,0,0,0]
[null,0,null,0,null,null,null,"00:00:00",0,0,0,{"$f":"IF(AND(J1950=0,K1950=0),,IF(G1950=0,\"KUNDE/LEV NR ?\",VLOOKUP(G1950,Register!$K$1:$L$618,2)))","v":0},0,null,0,null,0,null,null,0,0,0,0,0,0]
[null,0,null,0,null,null,null,"00:00:00",0,0,0,{"$f":"IF(AND(J1951=0,K1951=0),,IF(G1951=0,\"KUNDE/LEV NR ?\",VLOOKUP(G1951,Register!$K$1:$L$618,2)))","v":0},0,null,0,null,0,null,null,0,0,0,0,0,0]
[null,0,null,0,null,null,null,"00:00:00",0,0,0,{"$f":"IF(AND(J1952=0,K1952=0),,IF(G1952=0,\"KUNDE/LEV NR ?\",VLOOKUP(G1952,Register!$K$1:$L$618,2)))","v":0},0,null,0,null,0,null,null,0,0,0,0,0,0]
[null,0,null,0,null,null,null,"00:00:00",0,0,0,{"$f":"IF(AND(J1953=0,K1953=0),,IF(G1953=0,\"KUNDE/LEV NR ?\",VLOOKUP(G1953,Register!$K$1:$L$618,2)))","v":0},0,null,0,null,0,null,null,0,0,0,0,0,0]
[null,0,null,0,null,null,null,"00:00:00",0,0,0,{"$f":"IF(AND(J1954=0,K1954=0),,IF(G1954=0,\"KUNDE/LEV NR ?\",VLOOKUP(G1954,Register!$K$1:$L$618,2)))","v":0},0,null,0,null,0,null,null,0,0,0,0,0,0]
[null,0,null,0,null,null,null,"00:00:00",0,0,0,{"$f":"IF(AND(J1955=0,K1955=0),,IF(G1955=0,\"KUNDE/LEV NR ?\",VLOOKUP(G1955,Register!$K$1:$L$618,2)))","v":0},0,null,0,null,0,null,null,0,0,0,0,0,0]
[null,0,null,0,null,null,null,"00:00:00",0,0,0,{"$f":"IF(AND(J1956=0,K1956=0),,IF(G1956=0,\"KUNDE/LEV NR ?\",VLOOKUP(G1956,Register!$K$1:$L$618,2)))","v":0},0,null,0,null,0,null,null,0,0,0,0,0,0]
[null,0,null,0,null,null,null,"00:00:00",0,0,0,{"$f":"IF(AND(J1957=0,K1957=0),,IF(G1957=0,\"KUNDE/LEV NR ?\",VLOOKUP(G1957,Register!$K$1:$L$618,2)))","v":0},0,null,0,null,0,null,null,0,0,0,0,0,0]
[null,0,null,0,null,null,null,"00:00:00",0,0,0,{"$f":"IF(AND(J1958=0,K1958=0),,IF(G1958=0,\"KUNDE/LEV NR ?\",VLOOKUP(G1958,Register!$K$1:$L$618,2)))","v":0},0,null,0,null,0,null,null,0,0,0,0,0,0]
[null,0,null,0,null,null,null,"00:00:00",0,0,0,{"$f":"IF(AND(J1959=0,K1959=0),,IF(G1959=0,\"KUNDE/LEV NR ?\",VLOOKUP(G1959,Register!$K$1:$L$618,2)))","v":0},0,null,0,null,0,null,null,0,0,0,0,0,0]
[null,0,null,0,null,null,null,"00:00:00",0,0,0,{"$f":"IF(AND(J1960=0,K1960=0),,IF(G1960=0,\"KUNDE/LEV NR ?\",VLOOKUP(G1960,Register!$K$1:$L$618,2)))","v":0},0,null,0,null,0,null,null,0,0,0,0,0,0]
[null,0,null,0,null,null,null,"00:00:00",0,0,0,{"$f":"IF(AND(J1961=0,K1961=0),,IF(G1961=0,\"KUNDE/LEV NR ?\",VLOOKUP(G1961,Register!$K$1:$L$618,2)))","v":0},0,null,0,null,0,null,null,0,0,0,0,0,0]
[null,0,null,0,null,null,null,"00:00:00",0,0,0,{"$f":"IF(AND(J1962=0,K1962=0),,IF(G1962=0,\"KUNDE/LEV NR ?\",VLOOKUP(G1962,Register!$K$1:$L$618,2)))","v":0},0,null,0,null,0,null,null,0,0,0,0,0,0]
[null,0,null,0,null,null,null,"00:00:00",0,0,0,{"$f":"IF(AND(J1963=0,K1963=0),,IF(G1963=0,\"KUNDE/LEV NR ?\",VLOOKUP(G1963,Register!$K$1:$L$618,2)))","v":0},0,null,0,null,0,null,null,0,0,0,0,0,0]
[null,0,null,0,null,null,null,"00:00:00",0,0,0,{"$f":"IF(AND(J1964=0,K1964=0),,IF(G1964=0,\"KUNDE/LEV NR ?\",VLOOKUP(G1964,Register!$K$1:$L$618,2)))","v":0},0,null,0,null,0,null,null,0,0,0,0,0,0]
[null,0,null,0,null,null,null,"00:00:00",0,0,0,{"$f":"IF(AND(J1965=0,K1965=0),,IF(G1965=0,\"KUNDE/LEV NR ?\",VLOOKUP(G1965,Register!$K$1:$L$618,2)))","v":0},0,null,0,null,0,null,null,0,0,0,0,0,0]
[null,0,null,0,null,null,null,"00:00:00",0,0,0,{"$f":"IF(AND(J1966=0,K1966=0),,IF(G1966=0,\"KUNDE/LEV NR ?\",VLOOKUP(G1966,Register!$K$1:$L$618,2)))","v":0},0,null,0,null,0,null,null,0,0,0,0,0,0]
[null,0,null,0,null,null,null,"00:00:00",0,0,0,{"$f":"IF(AND(J1967=0,K1967=0),,IF(G1967=0,\"KUNDE/LEV NR ?\",VLOOKUP(G1967,Register!$K$1:$L$618,2)))","v":0},0,null,0,null,0,null,null,0,0,0,0,0,0]
[null,0,null,0,null,null,null,"00:00:00",0,0,0,{"$f":"IF(AND(J1968=0,K1968=0),,IF(G1968=0,\"KUNDE/LEV NR ?\",VLOOKUP(G1968,Register!$K$1:$L$618,2)))","v":0},0,null,0,null,0,null,null,0,0,0,0,0,0]
[null,0,null,0,null,null,null,"00:00:00",0,0,0,{"$f":"IF(AND(J1969=0,K1969=0),,IF(G1969=0,\"KUNDE/LEV NR ?\",VLOOKUP(G1969,Register!$K$1:$L$618,2)))","v":0},0,null,0,null,0,null,null,0,0,0,0,0,0]
[null,0,null,0,null,null,null,"00:00:00",0,0,0,{"$f":"IF(AND(J1970=0,K1970=0),,IF(G1970=0,\"KUNDE/LEV NR ?\",VLOOKUP(G1970,Register!$K$1:$L$618,2)))","v":0},0,null,0,null,0,null,null,0,0,0,0,0,0]
[null,0,null,0,null,null,null,"00:00:00",0,0,0,{"$f":"IF(AND(J1971=0,K1971=0),,IF(G1971=0,\"KUNDE/LEV NR ?\",VLOOKUP(G1971,Register!$K$1:$L$618,2)))","v":0},0,null,0,null,0,null,null,0,0,0,0,0,0]
[null,0,null,0,null,null,null,"00:00:00",0,0,0,{"$f":"IF(AND(J1972=0,K1972=0),,IF(G1972=0,\"KUNDE/LEV NR ?\",VLOOKUP(G1972,Register!$K$1:$L$618,2)))","v":0},0,null,0,null,0,null,null,0,0,0,0,0,0]
[null,0,null,0,null,null,null,"00:00:00",0,0,0,{"$f":"IF(AND(J1973=0,K1973=0),,IF(G1973=0,\"KUNDE/LEV NR ?\",VLOOKUP(G1973,Register!$K$1:$L$618,2)))","v":0},0,null,0,null,0,null,null,0,0,0,0,0,0]
[null,0,null,0,null,null,null,"00:00:00",0,0,0,{"$f":"IF(AND(J1974=0,K1974=0),,IF(G1974=0,\"KUNDE/LEV NR ?\",VLOOKUP(G1974,Register!$K$1:$L$618,2)))","v":0},0,null,0,null,0,null,null,0,0,0,0,0,0]
[null,0,null,0,null,null,null,"00:00:00",0,0,0,{"$f":"IF(AND(J1975=0,K1975=0),,IF(G1975=0,\"KUNDE/LEV NR ?\",VLOOKUP(G1975,Register!$K$1:$L$618,2)))","v":0},0,null,0,null,0,null,null,0,0,0,0,0,0]
[null,0,null,0,null,null,null,"00:00:00",0,0,0,{"$f":"IF(AND(J1976=0,K1976=0),,IF(G1976=0,\"KUNDE/LEV NR ?\",VLOOKUP(G1976,Register!$K$1:$L$618,2)))","v":0},0,null,0,null,0,null,null,0,0,0,0,0,0]
[null,0,null,0,null,null,null,"00:00:00",0,0,0,{"$f":"IF(AND(J1977=0,K1977=0),,IF(G1977=0,\"KUNDE/LEV NR ?\",VLOOKUP(G1977,Register!$K$1:$L$618,2)))","v":0},0,null,0,null,0,null,null,0,0,0,0,0,0]
[null,0,null,0,null,null,null,"00:00:00",0,0,0,{"$f":"IF(AND(J1978=0,K1978=0),,IF(G1978=0,\"KUNDE/LEV NR ?\",VLOOKUP(G1978,Register!$K$1:$L$618,2)))","v":0},0,null,0,null,0,null,null,0,0,0,0,0,0]
[null,0,null,0,null,null,null,"00:00:00",0,0,0,{"$f":"IF(AND(J1979=0,K1979=0),,IF(G1979=0,\"KUNDE/LEV NR ?\",VLOOKUP(G1979,Register!$K$1:$L$618,2)))","v":0},0,null,0,null,0,null,null,0,0,0,0,0,0]
[null,0,null,0,null,null,null,"00:00:00",0,0,0,{"$f":"IF(AND(J1980=0,K1980=0),,IF(G1980=0,\"KUNDE/LEV NR ?\",VLOOKUP(G1980,Register!$K$1:$L$618,2)))","v":0},0,null,0,null,0,null,null,0,0,0,0,0,0]
[null,0,null,0,null,null,null,"00:00:00",0,0,0,{"$f":"IF(AND(J1981=0,K1981=0),,IF(G1981=0,\"KUNDE/LEV NR ?\",VLOOKUP(G1981,Register!$K$1:$L$618,2)))","v":0},0,null,0,null,0,null,null,0,0,0,0,0,0]
[null,0,null,0,null,null,null,"00:00:00",0,0,0,{"$f":"IF(AND(J1982=0,K1982=0),,IF(G1982=0,\"KUNDE/LEV NR ?\",VLOOKUP(G1982,Register!$K$1:$L$618,2)))","v":0},0,null,0,null,0,null,null,0,0,0,0,0,0]
[null,0,null,0,null,null,null,"00:00:00",0,0,0,{"$f":"IF(AND(J1983=0,K1983=0),,IF(G1983=0,\"KUNDE/LEV NR ?\",VLOOKUP(G1983,Register!$K$1:$L$618,2)))","v":0},0,null,0,null,0,null,null,0,0,0,0,0,0]
[null,0,null,0,null,null,null,"00:00:00",0,0,0,{"$f":"IF(AND(J1984=0,K1984=0),,IF(G1984=0,\"KUNDE/LEV NR ?\",VLOOKUP(G1984,Register!$K$1:$L$618,2)))","v":0},0,null,0,null,0,null,null,0,0,0,0,0,0]
[null,0,null,0,null,null,null,"00:00:00",0,0,0,{"$f":"IF(AND(J1985=0,K1985=0),,IF(G1985=0,\"KUNDE/LEV NR ?\",VLOOKUP(G1985,Register!$K$1:$L$618,2)))","v":0},0,null,0,null,0,null,null,0,0,0,0,0,0]
[null,0,null,0,null,null,null,"00:00:00",0,0,0,{"$f":"IF(AND(J1986=0,K1986=0),,IF(G1986=0,\"KUNDE/LEV NR ?\",VLOOKUP(G1986,Register!$K$1:$L$618,2)))","v":0},0,null,0,null,0,null,null,0,0,0,0,0,0]
[null,0,null,0,null,null,null,"00:00:00",0,0,0,{"$f":"IF(AND(J1987=0,K1987=0),,IF(G1987=0,\"KUNDE/LEV NR ?\",VLOOKUP(G1987,Register!$K$1:$L$618,2)))","v":0},0,null,0,null,0,null,null,0,0,0,0,0,0]
[null,0,null,0,null,null,null,"00:00:00",0,0,0,{"$f":"IF(AND(J1988=0,K1988=0),,IF(G1988=0,\"KUNDE/LEV NR ?\",VLOOKUP(G1988,Register!$K$1:$L$618,2)))","v":0},0,null,0,null,0,null,null,0,0,0,0,0,0]
[null,0,null,{"$f":"IF(C1989=0,,VLOOKUP(C1989,$AA$4:$AB$320,2))","v":0},null,null,null,"00:00:00",{"$f":"IF(H1989>0,\"d\",)","v":0},0,0,{"$f":"IF(AND(J1989=0,K1989=0),,IF(G1989=0,\"KUNDE/LEV NR ?\",VLOOKUP(G1989,Register!$K$1:$L$618,2)))","v":0},0,null,0,null,0,null,null,0,0,{"$f":"IF(R1989=0,,R1989/(1+VLOOKUP(P1989,$AC$5:$AD$362,2)))","v":0},{"$f":"IF(S1989=0,,S1989/(1+VLOOKUP(P1989,$AC$5:$AD$362,2)))","v":0},{"$f":"IF(P1989=0,,IF(P1989=P1990,,VLOOKUP(P1989,$AC$5:$AE$364,3)))","v":0},{"$f":"IF(P1989=0,,IF(P1989=P1990,,VLOOKUP(P1989,$AC$5:$AF$362,4)))","v":0}]
[null,0,null,0,null,null,null,"00:00:00",0,0,{"$f":"IF(AND(A1990>0,H1990>0),J1990*-1,)","v":0},{"$f":"IF(AND(J1990=0,K1990=0),,IF(G1990=0,\"KUNDE/LEV NR ?\",VLOOKUP(G1990,Register!$K$1:$L$618,2)))","v":0},0,null,0,null,0,null,null,0,0,0,0,0,0]
[null,0,null,0,null,null,null,"00:00:00",0,0,0,{"$f":"IF(AND(J1991=0,K1991=0),,IF(G1991=0,\"KUNDE/LEV NR ?\",VLOOKUP(G1991,Register!$K$1:$L$618,2)))","v":0},{"$f":"IF(ISNUMBER(A1991+B1991+E1991+F1991+G1991+H1991+J1991+K1991),A1991+B1991+E1991+F1991+G1991+H1991+J1991+K1991,\"FEIL\")","v":0},null,0,null,0,null,null,0,0,0,0,0,0]
[null,0,null,0,null,null,null,"00:00:00",0,0,0,{"$f":"IF(AND(J1992=0,K1992=0),,IF(G1992=0,\"KUNDE/LEV NR ?\",VLOOKUP(G1992,Register!$K$1:$L$618,2)))","v":0},0,null,0,null,0,null,null,0,0,0,0,0,0]
[null,0,null,0,null,null,null,"00:00:00",0,0,0,{"$f":"IF(AND(J1993=0,K1993=0),,IF(G1993=0,\"KUNDE/LEV NR ?\",VLOOKUP(G1993,Register!$K$1:$L$618,2)))","v":0},0,null,0,null,0,null,null,0,0,0,0,0,0]
[null,0,null,0,null,null,null,"00:00:00",0,0,0,{"$f":"IF(AND(J1994=0,K1994=0),,IF(G1994=0,\"KUNDE/LEV NR ?\",VLOOKUP(G1994,Register!$K$1:$L$618,2)))","v":0},0,null,0,null,0,null,null,0,0,0,0,0,0]
[null,{"$f":"IF(A1995>0,B1994+1,)","v":0},null,0,null,null,null,{"$f":"A1995","v":"00:00:00"},0,{"$f":"E1995*-1+F1995","v":0},0,{"$f":"IF(AND(J1995=0,K1995=0),,IF(G1995=0,\"KUNDE/LEV NR ?\",VLOOKUP(G1995,Register!$K$1:$L$618,2)))","v":0},0,null,0,null,0,null,null,0,0,0,0,0,0]
[null,0,null,0,null,null,null,"00:00:00",0,0,0,{"$f":"IF(AND(J1996=0,K1996=0),,IF(G1996=0,\"KUNDE/LEV NR ?\",VLOOKUP(G1996,Register!$K$1:$L$618,2)))","v":0},0,null,0,null,0,null,null,0,0,0,0,0,0]
[null,0,null,0,null,null,null,"00:00:00",0,0,0,{"$f":"IF(AND(J1997=0,K1997=0),,IF(G1997=0,\"KUNDE/LEV NR ?\",VLOOKUP(G1997,Register!$K$1:$L$618,2)))","v":0},0,null,0,null,0,null,null,0,0,0,0,0,0]
[null,0,null,0,null,null,null,"00:00:00",0,0,{"$f":"IF(AND(A1998>0,H1998>0),J1998*-1,)","v":0},{"$f":"IF(AND(J1998=0,K1998=0),,IF(G1998=0,\"KUNDE/LEV NR ?\",VLOOKUP(G1998,Register!$K$1:$L$618,2)))","v":0},0,null,0,null,0,null,null,{"$f":"R1998-V1998","v":0},{"$f":"S1998-W1998","v":0},0,0,0,0]
[null,0,null,0,null,null,null,"00:00:00",0,0,{"$f":"IF(AND(A1999>0,H1999>0),J1999*-1,)","v":0},{"$f":"IF(AND(J1999=0,K1999=0),,IF(G1999=0,\"KUNDE/LEV NR ?\",VLOOKUP(G1999,Register!$K$1:$L$618,2)))","v":0},0,null,0,null,0,null,null,0,0,0,0,0,0]
[null,0,null,0,null,null,null,"00:00:00",0,0,{"$f":"IF(AND(A2000>0,H2000>0),J2000*-1,)","v":0},{"$f":"IF(AND(J2000=0,K2000=0),,IF(G2000=0,\"KUNDE/LEV NR ?\",VLOOKUP(G2000,Register!$K$1:$L$618,2)))","v":0},0,null,0,null,0,null,null,0,0,0,0,0,0]
[null,0,null,{"$f":"IF(C2001=0,,VLOOKUP(C2001,$AA$4:$AB$935,2))","v":0},null,null,null,"00:00:00",0,0,{"$f":"IF(AND(A2001>0,H2001>0),J2001*-1,)","v":0},{"$f":"IF(AND(J2001=0,K2001=0),,IF(G2001=0,\"KUNDE/LEV NR ?\",VLOOKUP(G2001,Register!$K$1:$L$618,2)))","v":0},0,null,0,null,0,null,null,0,0,0,0,0,0]
[null,0,null,0,null,null,null,"00:00:00",0,0,0,{"$f":"IF(AND(J2002=0,K2002=0),,IF(G2002=0,\"KUNDE/LEV NR ?\",VLOOKUP(G2002,Register!$K$1:$L$618,2)))","v":0},0,null,0,null,0,null,null,0,0,0,0,0,0]
[null,0,null,0,null,null,null,"00:00:00",0,0,0,{"$f":"IF(AND(J2003=0,K2003=0),,IF(G2003=0,\"KUNDE/LEV NR ?\",VLOOKUP(G2003,Register!$K$1:$L$618,2)))","v":0},0,null,0,null,0,null,null,0,0,0,0,0,0]
[null,0,null,0,null,null,null,"00:00:00",0,0,0,{"$f":"IF(AND(J2004=0,K2004=0),,IF(G2004=0,\"KUNDE/LEV NR ?\",VLOOKUP(G2004,Register!$K$1:$L$618,2)))","v":0},0,null,0,null,0,null,null,0,0,0,0,0,0]
[null,0,null,0,null,null,null,"00:00:00",0,0,0,{"$f":"IF(AND(J2005=0,K2005=0),,IF(G2005=0,\"KUNDE/LEV NR ?\",VLOOKUP(G2005,Register!$K$1:$L$618,2)))","v":0},0,null,0,null,0,null,null,0,0,0,0,0,0]
[null,0,null,0,null,null,null,"00:00:00",0,0,0,{"$f":"IF(AND(J2006=0,K2006=0),,IF(G2006=0,\"KUNDE/LEV NR ?\",VLOOKUP(G2006,Register!$K$1:$L$618,2)))","v":0},0,null,0,null,0,null,null,0,0,0,0,0,0]
[null,0,null,0,null,null,null,"00:00:00",0,0,0,{"$f":"IF(AND(J2007=0,K2007=0),,IF(G2007=0,\"KUNDE/LEV NR ?\",VLOOKUP(G2007,Register!$K$1:$L$618,2)))","v":0},0,null,0,null,0,null,null,0,0,0,0,0,0]
[null,0,null,0,null,null,null,"00:00:00",0,0,0,{"$f":"IF(AND(J2008=0,K2008=0),,IF(G2008=0,\"KUNDE/LEV NR ?\",VLOOKUP(G2008,Register!$K$1:$L$618,2)))","v":0},0,null,0,null,0,null,null,0,0,0,0,0,0]
[null,0,null,0,null,null,null,"00:00:00",0,0,0,{"$f":"IF(AND(J2009=0,K2009=0),,IF(G2009=0,\"KUNDE/LEV NR ?\",VLOOKUP(G2009,Register!$K$1:$L$618,2)))","v":0},0,null,0,null,0,null,null,0,0,0,0,0,0]
[null,0,null,0,null,null,null,"00:00:00",0,0,0,{"$f":"IF(AND(J2010=0,K2010=0),,IF(G2010=0,\"KUNDE/LEV NR ?\",VLOOKUP(G2010,Register!$K$1:$L$618,2)))","v":0},0,null,0,null,0,null,null,0,0,0,0,0,0]
[null,0,null,0,null,null,null,"00:00:00",0,0,0,{"$f":"IF(AND(J2011=0,K2011=0),,IF(G2011=0,\"KUNDE/LEV NR ?\",VLOOKUP(G2011,Register!$K$1:$L$618,2)))","v":0},0,null,0,null,0,null,null,0,0,0,0,0,0]
[null,0,null,0,null,null,null,"00:00:00",0,0,0,{"$f":"IF(AND(J2012=0,K2012=0),,IF(G2012=0,\"KUNDE/LEV NR ?\",VLOOKUP(G2012,Register!$K$1:$L$618,2)))","v":0},0,null,0,null,0,null,null,0,0,0,0,0,0]
[null,0,null,0,null,null,null,"00:00:00",0,0,0,{"$f":"IF(AND(J2013=0,K2013=0),,IF(G2013=0,\"KUNDE/LEV NR ?\",VLOOKUP(G2013,Register!$K$1:$L$618,2)))","v":0},0,null,0,null,0,null,null,0,0,0,0,0,0]
[null,0,null,0,null,null,null,"00:00:00",0,0,0,{"$f":"IF(AND(J2014=0,K2014=0),,IF(G2014=0,\"KUNDE/LEV NR ?\",VLOOKUP(G2014,Register!$K$1:$L$618,2)))","v":0},0,null,0,null,0,null,null,0,0,0,0,0,0]
[null,0,null,0,null,null,null,"00:00:00",0,0,0,{"$f":"IF(AND(J2015=0,K2015=0),,IF(G2015=0,\"KUNDE/LEV NR ?\",VLOOKUP(G2015,Register!$K$1:$L$618,2)))","v":0},0,null,0,null,0,null,null,0,0,0,0,0,0]
[null,0,null,0,null,null,null,"00:00:00",0,0,0,{"$f":"IF(AND(J2016=0,K2016=0),,IF(G2016=0,\"KUNDE/LEV NR ?\",VLOOKUP(G2016,Register!$K$1:$L$618,2)))","v":0},0,null,0,null,0,null,null,0,0,0,0,0,0]
[null,0,null,0,null,null,null,"00:00:00",0,0,0,{"$f":"IF(AND(J2017=0,K2017=0),,IF(G2017=0,\"KUNDE/LEV NR ?\",VLOOKUP(G2017,Register!$K$1:$L$618,2)))","v":0},0,null,0,null,0,null,null,0,0,0,0,0,0]
[null,0,null,0,null,null,null,"00:00:00",0,0,0,{"$f":"IF(AND(J2018=0,K2018=0),,IF(G2018=0,\"KUNDE/LEV NR ?\",VLOOKUP(G2018,Register!$K$1:$L$618,2)))","v":0},0,null,0,null,0,null,null,0,0,0,0,0,0]
[null,0,null,0,null,null,null,"00:00:00",0,0,0,{"$f":"IF(AND(J2019=0,K2019=0),,IF(G2019=0,\"KUNDE/LEV NR ?\",VLOOKUP(G2019,Register!$K$1:$L$618,2)))","v":0},0,null,0,null,0,null,null,0,0,0,0,0,0]
[null,0,null,0,null,null,null,"00:00:00",0,0,0,{"$f":"IF(AND(J2020=0,K2020=0),,IF(G2020=0,\"KUNDE/LEV NR ?\",VLOOKUP(G2020,Register!$K$1:$L$618,2)))","v":0},0,null,0,null,0,null,null,0,0,0,0,0,0]
[null,0,null,0,null,null,null,"00:00:00",0,0,0,{"$f":"IF(AND(J2021=0,K2021=0),,IF(G2021=0,\"KUNDE/LEV NR ?\",VLOOKUP(G2021,Register!$K$1:$L$618,2)))","v":0},0,null,0,null,0,null,null,0,0,0,0,0,0]
[null,0,null,0,null,null,null,"00:00:00",0,0,0,{"$f":"IF(AND(J2022=0,K2022=0),,IF(G2022=0,\"KUNDE/LEV NR ?\",VLOOKUP(G2022,Register!$K$1:$L$618,2)))","v":0},0,null,0,null,0,null,null,0,0,0,0,0,0]
[null,0,null,0,null,null,null,"00:00:00",0,0,0,{"$f":"IF(AND(J2023=0,K2023=0),,IF(G2023=0,\"KUNDE/LEV NR ?\",VLOOKUP(G2023,Register!$K$1:$L$618,2)))","v":0},0,null,0,null,0,null,null,0,0,0,0,0,0]
[null,0,null,0,null,null,null,"00:00:00",0,0,0,{"$f":"IF(AND(J2024=0,K2024=0),,IF(G2024=0,\"KUNDE/LEV NR ?\",VLOOKUP(G2024,Register!$K$1:$L$618,2)))","v":0},0,null,0,null,0,null,null,0,0,0,0,0,0]
[null,0,null,0,null,null,null,"00:00:00",0,0,0,{"$f":"IF(AND(J2025=0,K2025=0),,IF(G2025=0,\"KUNDE/LEV NR ?\",VLOOKUP(G2025,Register!$K$1:$L$618,2)))","v":0},0,null,0,null,0,null,null,0,0,0,0,0,0]
[null,0,null,0,null,null,null,"00:00:00",0,0,0,{"$f":"IF(AND(J2026=0,K2026=0),,IF(G2026=0,\"KUNDE/LEV NR ?\",VLOOKUP(G2026,Register!$K$1:$L$618,2)))","v":0},0,null,0,null,0,null,null,0,0,0,0,0,0]
[null,0,null,0,null,null,null,"00:00:00",0,0,0,{"$f":"IF(AND(J2027=0,K2027=0),,IF(G2027=0,\"KUNDE/LEV NR ?\",VLOOKUP(G2027,Register!$K$1:$L$618,2)))","v":0},0,null,0,null,0,null,null,0,0,0,0,0,0]
[null,0,null,0,null,null,null,"00:00:00",0,0,0,{"$f":"IF(AND(J2028=0,K2028=0),,IF(G2028=0,\"KUNDE/LEV NR ?\",VLOOKUP(G2028,Register!$K$1:$L$618,2)))","v":0},0,null,0,null,0,null,null,0,0,0,0,0,0]
[null,0,null,0,null,null,null,"00:00:00",0,0,0,{"$f":"IF(AND(J2029=0,K2029=0),,IF(G2029=0,\"KUNDE/LEV NR ?\",VLOOKUP(G2029,Register!$K$1:$L$618,2)))","v":0},0,null,0,null,0,null,null,0,0,0,0,0,0]
[null,0,null,0,null,null,null,"00:00:00",0,0,0,{"$f":"IF(AND(J2030=0,K2030=0),,IF(G2030=0,\"KUNDE/LEV NR ?\",VLOOKUP(G2030,Register!$K$1:$L$618,2)))","v":0},0,null,0,null,0,null,null,0,0,0,0,0,0]
[null,0,null,0,null,null,null,"00:00:00",0,0,0,{"$f":"IF(AND(J2031=0,K2031=0),,IF(G2031=0,\"KUNDE/LEV NR ?\",VLOOKUP(G2031,Register!$K$1:$L$618,2)))","v":0},0,null,0,null,0,null,null,0,0,0,0,0,0]
[null,0,null,0,null,null,null,"00:00:00",0,0,0,{"$f":"IF(AND(J2032=0,K2032=0),,IF(G2032=0,\"KUNDE/LEV NR ?\",VLOOKUP(G2032,Register!$K$1:$L$618,2)))","v":0},0,null,0,null,0,null,null,0,0,0,0,0,0]
[null,0,null,0,null,null,null,"00:00:00",0,0,0,{"$f":"IF(AND(J2033=0,K2033=0),,IF(G2033=0,\"KUNDE/LEV NR ?\",VLOOKUP(G2033,Register!$K$1:$L$618,2)))","v":0},0,null,0,null,0,null,null,0,0,0,0,0,0]
[null,0,null,0,null,null,null,"00:00:00",0,0,0,{"$f":"IF(AND(J2034=0,K2034=0),,IF(G2034=0,\"KUNDE/LEV NR ?\",VLOOKUP(G2034,Register!$K$1:$L$618,2)))","v":0},0,null,0,null,0,null,null,0,0,0,0,0,0]
[null,0,null,0,null,null,null,"00:00:00",0,0,0,{"$f":"IF(AND(J2035=0,K2035=0),,IF(G2035=0,\"KUNDE/LEV NR ?\",VLOOKUP(G2035,Register!$K$1:$L$618,2)))","v":0},0,null,0,null,0,null,null,0,0,0,0,0,0]
[null,0,null,0,null,null,null,"00:00:00",0,0,0,{"$f":"IF(AND(J2036=0,K2036=0),,IF(G2036=0,\"KUNDE/LEV NR ?\",VLOOKUP(G2036,Register!$K$1:$L$618,2)))","v":0},0,null,0,null,0,null,null,0,0,0,0,0,0]
[null,0,null,0,null,null,null,"00:00:00",0,0,0,{"$f":"IF(AND(J2037=0,K2037=0),,IF(G2037=0,\"KUNDE/LEV NR ?\",VLOOKUP(G2037,Register!$K$1:$L$618,2)))","v":0},0,null,0,null,0,null,null,0,0,0,0,0,0]
[null,0,null,0,null,null,null,"00:00:00",0,0,0,{"$f":"IF(AND(J2038=0,K2038=0),,IF(G2038=0,\"KUNDE/LEV NR ?\",VLOOKUP(G2038,Register!$K$1:$L$618,2)))","v":0},0,null,0,null,0,null,null,0,0,0,0,0,0]
[null,0,null,0,null,null,null,"00:00:00",0,0,0,{"$f":"IF(AND(J2039=0,K2039=0),,IF(G2039=0,\"KUNDE/LEV NR ?\",VLOOKUP(G2039,Register!$K$1:$L$618,2)))","v":0},0,null,0,null,0,null,null,0,0,0,0,0,0]
[null,0,null,0,null,null,null,"00:00:00",0,0,0,{"$f":"IF(AND(J2040=0,K2040=0),,IF(G2040=0,\"KUNDE/LEV NR ?\",VLOOKUP(G2040,Register!$K$1:$L$618,2)))","v":0},0,null,0,null,0,null,null,0,0,0,0,0,0]
[null,0,null,0,null,null,null,"00:00:00",0,0,0,{"$f":"IF(AND(J2041=0,K2041=0),,IF(G2041=0,\"KUNDE/LEV NR ?\",VLOOKUP(G2041,Register!$K$1:$L$618,2)))","v":0},0,null,0,null,0,null,null,0,0,0,0,0,0]
[null,0,null,0,null,null,null,"00:00:00",0,0,0,{"$f":"IF(AND(J2042=0,K2042=0),,IF(G2042=0,\"KUNDE/LEV NR ?\",VLOOKUP(G2042,Register!$K$1:$L$618,2)))","v":0},0,null,0,null,0,null,null,0,0,0,0,0,0]
[null,0,null,0,null,null,null,"00:00:00",0,0,0,{"$f":"IF(AND(J2043=0,K2043=0),,IF(G2043=0,\"KUNDE/LEV NR ?\",VLOOKUP(G2043,Register!$K$1:$L$618,2)))","v":0},0,null,0,null,0,null,null,0,0,0,0,0,0]
[null,0,null,0,null,null,null,"00:00:00",0,0,0,{"$f":"IF(AND(J2044=0,K2044=0),,IF(G2044=0,\"KUNDE/LEV NR ?\",VLOOKUP(G2044,Register!$K$1:$L$618,2)))","v":0},0,null,0,null,0,null,null,0,0,0,0,0,0]
[null,0,null,0,null,null,null,"00:00:00",0,0,0,{"$f":"IF(AND(J2045=0,K2045=0),,IF(G2045=0,\"KUNDE/LEV NR ?\",VLOOKUP(G2045,Register!$K$1:$L$618,2)))","v":0},0,null,0,null,0,null,null,0,0,0,0,0,0]
[null,0,null,0,null,null,null,"00:00:00",0,0,0,{"$f":"IF(AND(J2046=0,K2046=0),,IF(G2046=0,\"KUNDE/LEV NR ?\",VLOOKUP(G2046,Register!$K$1:$L$618,2)))","v":0},0,null,0,null,0,null,null,0,0,0,0,0,0]
[null,0,null,0,null,null,null,"00:00:00",0,0,0,{"$f":"IF(AND(J2047=0,K2047=0),,IF(G2047=0,\"KUNDE/LEV NR ?\",VLOOKUP(G2047,Register!$K$1:$L$618,2)))","v":0},0,null,0,null,0,null,null,0,0,0,0,0,0]
[null,0,null,0,null,null,null,"00:00:00",0,0,0,{"$f":"IF(AND(J2048=0,K2048=0),,IF(G2048=0,\"KUNDE/LEV NR ?\",VLOOKUP(G2048,Register!$K$1:$L$618,2)))","v":0},0,null,0,null,0,null,null,0,0,0,0,0,0]
[null,0,null,0,null,null,null,"00:00:00",0,0,0,{"$f":"IF(AND(J2049=0,K2049=0),,IF(G2049=0,\"KUNDE/LEV NR ?\",VLOOKUP(G2049,Register!$K$1:$L$618,2)))","v":0},0,null,0,null,0,null,null,0,0,0,0,0,0]
[null,0,null,0,null,null,null,"00:00:00",0,0,0,{"$f":"IF(AND(J2050=0,K2050=0),,IF(G2050=0,\"KUNDE/LEV NR ?\",VLOOKUP(G2050,Register!$K$1:$L$618,2)))","v":0},0,null,0,null,0,null,null,0,0,0,0,0,0]
[null,0,null,0,null,null,null,"00:00:00",0,0,0,{"$f":"IF(AND(J2051=0,K2051=0),,IF(G2051=0,\"KUNDE/LEV NR ?\",VLOOKUP(G2051,Register!$K$1:$L$618,2)))","v":0},0,null,0,null,0,null,null,0,0,0,0,0,0]
[null,0,null,0,null,null,null,"00:00:00",0,0,0,{"$f":"IF(AND(J2052=0,K2052=0),,IF(G2052=0,\"KUNDE/LEV NR ?\",VLOOKUP(G2052,Register!$K$1:$L$618,2)))","v":0},0,null,0,null,0,null,null,0,0,0,0,0,0]
[null,0,null,0,null,null,null,"00:00:00",{"$f":"IF(H2053>0,\"d\",)","v":0},0,0,{"$f":"IF(AND(J2053=0,K2053=0),,IF(G2053=0,\"KUNDE/LEV NR ?\",VLOOKUP(G2053,Register!$K$1:$L$618,2)))","v":0},0,null,0,null,0,null,null,0,0,{"$f":"IF(R2053=0,,R2053/(1+VLOOKUP(P2053,$AC$5:$AD$362,2)))","v":0},{"$f":"IF(S2053=0,,S2053/(1+VLOOKUP(P2053,$AC$5:$AD$362,2)))","v":0},{"$f":"IF(P2053=0,,IF(P2053=P2054,,VLOOKUP(P2053,$AC$5:$AE$364,3)))","v":0},{"$f":"IF(P2053=0,,IF(P2053=P2054,,VLOOKUP(P2053,$AC$5:$AF$362,4)))","v":0}]
[null,0,null,0,null,null,null,"00:00:00",0,0,0,{"$f":"IF(AND(J2054=0,K2054=0),,IF(G2054=0,\"KUNDE/LEV NR ?\",VLOOKUP(G2054,Register!$K$1:$L$618,2)))","v":0},0,null,0,null,0,null,null,0,0,0,0,0,0]
[null,0,null,0,null,null,null,"00:00:00",0,0,0,{"$f":"IF(AND(J2055=0,K2055=0),,IF(G2055=0,\"KUNDE/LEV NR ?\",VLOOKUP(G2055,Register!$K$1:$L$618,2)))","v":0},{"$f":"IF(ISNUMBER(A2055+B2055+E2055+F2055+G2055+H2055+J2055+K2055),A2055+B2055+E2055+F2055+G2055+H2055+J2055+K2055,\"FEIL\")","v":0},null,0,null,0,null,null,0,0,0,0,0,0]
[null,0,null,0,null,null,null,"00:00:00",0,0,0,{"$f":"IF(AND(J2056=0,K2056=0),,IF(G2056=0,\"KUNDE/LEV NR ?\",VLOOKUP(G2056,Register!$K$1:$L$618,2)))","v":0},0,null,0,null,0,null,null,0,0,0,0,0,0]
[null,0,null,0,null,null,null,"00:00:00",0,0,0,{"$f":"IF(AND(J2057=0,K2057=0),,IF(G2057=0,\"KUNDE/LEV NR ?\",VLOOKUP(G2057,Register!$K$1:$L$618,2)))","v":0},0,null,0,null,0,null,null,0,0,0,0,0,0]
[null,0,null,0,null,null,null,"00:00:00",0,0,0,{"$f":"IF(AND(J2058=0,K2058=0),,IF(G2058=0,\"KUNDE/LEV NR ?\",VLOOKUP(G2058,Register!$K$1:$L$618,2)))","v":0},0,null,0,null,0,null,null,0,0,0,0,0,0]
[null,{"$f":"IF(A2059>0,B2058+1,)","v":0},null,0,null,null,null,{"$f":"A2059","v":"00:00:00"},0,{"$f":"E2059*-1+F2059","v":0},0,{"$f":"IF(AND(J2059=0,K2059=0),,IF(G2059=0,\"KUNDE/LEV NR ?\",VLOOKUP(G2059,Register!$K$1:$L$618,2)))","v":0},0,null,0,null,0,null,null,0,0,0,0,0,0]
[null,0,null,0,null,null,null,"00:00:00",0,0,0,{"$f":"IF(AND(J2060=0,K2060=0),,IF(G2060=0,\"KUNDE/LEV NR ?\",VLOOKUP(G2060,Register!$K$1:$L$618,2)))","v":0},0,null,0,null,0,null,null,0,0,0,0,0,0]
[null,0,null,0,null,null,null,"00:00:00",0,0,0,{"$f":"IF(AND(J2061=0,K2061=0),,IF(G2061=0,\"KUNDE/LEV NR ?\",VLOOKUP(G2061,Register!$K$1:$L$618,2)))","v":0},0,null,0,null,0,null,null,0,0,0,0,0,0]
[null,0,null,0,null,null,null,"00:00:00",0,0,0,{"$f":"IF(AND(J2062=0,K2062=0),,IF(G2062=0,\"KUNDE/LEV NR ?\",VLOOKUP(G2062,Register!$K$1:$L$618,2)))","v":0},0,null,0,null,0,null,null,{"$f":"R2062-V2062","v":0},{"$f":"S2062-W2062","v":0},0,0,0,0]
[null,0,null,0,null,null,null,"00:00:00",0,0,0,{"$f":"IF(AND(J2063=0,K2063=0),,IF(G2063=0,\"KUNDE/LEV NR ?\",VLOOKUP(G2063,Register!$K$1:$L$618,2)))","v":0},0,null,0,null,0,null,null,0,0,0,0,0,0]
[null,0,null,0,null,null,null,"00:00:00",0,0,0,{"$f":"IF(AND(J2064=0,K2064=0),,IF(G2064=0,\"KUNDE/LEV NR ?\",VLOOKUP(G2064,Register!$K$1:$L$618,2)))","v":0},0,null,0,null,0,null,null,0,0,0,0,0,0]
[null,0,null,{"$f":"IF(C2065=0,,VLOOKUP(C2065,$AA$4:$AB$935,2))","v":0},null,null,null,"00:00:00",0,0,{"$f":"IF(AND(A2065>0,H2065>0),J2065*-1,)","v":0},{"$f":"IF(AND(J2065=0,K2065=0),,IF(G2065=0,\"KUNDE/LEV NR ?\",VLOOKUP(G2065,Register!$K$1:$L$618,2)))","v":0},0,null,0,null,0,null,null,0,0,0,0,0,0]
[null,0,null,0,null,null,null,"00:00:00",0,0,0,{"$f":"IF(AND(J2066=0,K2066=0),,IF(G2066=0,\"KUNDE/LEV NR ?\",VLOOKUP(G2066,Register!$K$1:$L$618,2)))","v":0},0,null,0,null,0,null,null,0,0,0,0,0,0]
[null,0,null,0,null,null,null,"00:00:00",0,0,0,{"$f":"IF(AND(J2067=0,K2067=0),,IF(G2067=0,\"KUNDE/LEV NR ?\",VLOOKUP(G2067,Register!$K$1:$L$618,2)))","v":0},0,null,0,null,0,null,null,0,0,0,0,0,0]
[null,0,null,0,null,null,null,"00:00:00",0,0,0,{"$f":"IF(AND(J2068=0,K2068=0),,IF(G2068=0,\"KUNDE/LEV NR ?\",VLOOKUP(G2068,Register!$K$1:$L$618,2)))","v":0},0,null,0,null,0,null,null,0,0,0,0,0,0]
[null,0,null,0,null,null,null,"00:00:00",0,0,0,{"$f":"IF(AND(J2069=0,K2069=0),,IF(G2069=0,\"KUNDE/LEV NR ?\",VLOOKUP(G2069,Register!$K$1:$L$618,2)))","v":0},0,null,0,null,0,null,null,0,0,0,0,0,0]
[null,0,null,0,null,null,null,"00:00:00",0,0,0,{"$f":"IF(AND(J2070=0,K2070=0),,IF(G2070=0,\"KUNDE/LEV NR ?\",VLOOKUP(G2070,Register!$K$1:$L$618,2)))","v":0},0,null,0,null,0,null,null,0,0,0,0,0,0]
[null,0,null,0,null,null,null,"00:00:00",0,0,0,{"$f":"IF(AND(J2071=0,K2071=0),,IF(G2071=0,\"KUNDE/LEV NR ?\",VLOOKUP(G2071,Register!$K$1:$L$618,2)))","v":0},0,null,0,null,0,null,null,0,0,0,0,0,0]
[null,0,null,0,null,null,null,"00:00:00",0,0,0,{"$f":"IF(AND(J2072=0,K2072=0),,IF(G2072=0,\"KUNDE/LEV NR ?\",VLOOKUP(G2072,Register!$K$1:$L$618,2)))","v":0},0,null,0,null,0,null,null,0,0,0,0,0,0]
[null,0,null,0,null,null,null,"00:00:00",0,0,0,{"$f":"IF(AND(J2073=0,K2073=0),,IF(G2073=0,\"KUNDE/LEV NR ?\",VLOOKUP(G2073,Register!$K$1:$L$618,2)))","v":0},0,null,0,null,0,null,null,0,0,0,0,0,0]
[null,0,null,0,null,null,null,"00:00:00",0,0,0,{"$f":"IF(AND(J2074=0,K2074=0),,IF(G2074=0,\"KUNDE/LEV NR ?\",VLOOKUP(G2074,Register!$K$1:$L$618,2)))","v":0},0,null,0,null,0,null,null,0,0,0,0,0,0]
[null,0,null,0,null,null,null,"00:00:00",0,0,0,{"$f":"IF(AND(J2075=0,K2075=0),,IF(G2075=0,\"KUNDE/LEV NR ?\",VLOOKUP(G2075,Register!$K$1:$L$618,2)))","v":0},0,null,0,null,0,null,null,0,0,0,0,0,0]
[null,0,null,0,null,null,null,"00:00:00",0,0,0,{"$f":"IF(AND(J2076=0,K2076=0),,IF(G2076=0,\"KUNDE/LEV NR ?\",VLOOKUP(G2076,Register!$K$1:$L$618,2)))","v":0},0,null,0,null,0,null,null,0,0,0,0,0,0]
[null,0,null,0,null,null,null,"00:00:00",0,0,0,{"$f":"IF(AND(J2077=0,K2077=0),,IF(G2077=0,\"KUNDE/LEV NR ?\",VLOOKUP(G2077,Register!$K$1:$L$618,2)))","v":0},0,null,0,null,0,null,null,0,0,0,0,0,0]
[null,0,null,0,null,null,null,"00:00:00",0,0,0,{"$f":"IF(AND(J2078=0,K2078=0),,IF(G2078=0,\"KUNDE/LEV NR ?\",VLOOKUP(G2078,Register!$K$1:$L$618,2)))","v":0},0,null,0,null,0,null,null,0,0,0,0,0,0]
[null,0,null,0,null,null,null,"00:00:00",0,0,0,{"$f":"IF(AND(J2079=0,K2079=0),,IF(G2079=0,\"KUNDE/LEV NR ?\",VLOOKUP(G2079,Register!$K$1:$L$618,2)))","v":0},0,null,0,null,0,null,null,0,0,0,0,0,0]
[null,0,null,0,null,null,null,"00:00:00",0,0,0,{"$f":"IF(AND(J2080=0,K2080=0),,IF(G2080=0,\"KUNDE/LEV NR ?\",VLOOKUP(G2080,Register!$K$1:$L$618,2)))","v":0},0,null,0,null,0,null,null,0,0,0,0,0,0]
[null,0,null,0,null,null,null,"00:00:00",0,0,0,{"$f":"IF(AND(J2081=0,K2081=0),,IF(G2081=0,\"KUNDE/LEV NR ?\",VLOOKUP(G2081,Register!$K$1:$L$618,2)))","v":0},0,null,0,null,0,null,null,0,0,0,0,0,0]
[null,0,null,0,null,null,null,"00:00:00",0,0,0,{"$f":"IF(AND(J2082=0,K2082=0),,IF(G2082=0,\"KUNDE/LEV NR ?\",VLOOKUP(G2082,Register!$K$1:$L$618,2)))","v":0},0,null,0,null,0,null,null,0,0,0,0,0,0]
[null,0,null,0,null,null,null,"00:00:00",0,0,0,{"$f":"IF(AND(J2083=0,K2083=0),,IF(G2083=0,\"KUNDE/LEV NR ?\",VLOOKUP(G2083,Register!$K$1:$L$618,2)))","v":0},0,null,0,null,0,null,null,0,0,0,0,0,0]
[null,0,null,0,null,null,null,"00:00:00",0,0,0,{"$f":"IF(AND(J2084=0,K2084=0),,IF(G2084=0,\"KUNDE/LEV NR ?\",VLOOKUP(G2084,Register!$K$1:$L$618,2)))","v":0},0,null,0,null,0,null,null,0,0,0,0,0,0]
[null,0,null,0,null,null,null,"00:00:00",0,0,0,{"$f":"IF(AND(J2085=0,K2085=0),,IF(G2085=0,\"KUNDE/LEV NR ?\",VLOOKUP(G2085,Register!$K$1:$L$618,2)))","v":0},0,null,0,null,0,null,null,0,0,0,0,0,0]
[null,0,null,0,null,null,null,"00:00:00",0,0,0,{"$f":"IF(AND(J2086=0,K2086=0),,IF(G2086=0,\"KUNDE/LEV NR ?\",VLOOKUP(G2086,Register!$K$1:$L$618,2)))","v":0},0,null,0,null,0,null,null,0,0,0,0,0,0]
[null,0,null,0,null,null,null,"00:00:00",0,0,0,{"$f":"IF(AND(J2087=0,K2087=0),,IF(G2087=0,\"KUNDE/LEV NR ?\",VLOOKUP(G2087,Register!$K$1:$L$618,2)))","v":0},0,null,0,null,0,null,null,0,0,0,0,0,0]
[null,0,null,0,null,null,null,"00:00:00",0,0,0,{"$f":"IF(AND(J2088=0,K2088=0),,IF(G2088=0,\"KUNDE/LEV NR ?\",VLOOKUP(G2088,Register!$K$1:$L$618,2)))","v":0},0,null,0,null,0,null,null,0,0,0,0,0,0]
[null,0,null,0,null,null,null,"00:00:00",0,0,0,{"$f":"IF(AND(J2089=0,K2089=0),,IF(G2089=0,\"KUNDE/LEV NR ?\",VLOOKUP(G2089,Register!$K$1:$L$618,2)))","v":0},0,null,0,null,0,null,null,0,0,0,0,0,0]
[null,0,null,0,null,null,null,"00:00:00",0,0,0,{"$f":"IF(AND(J2090=0,K2090=0),,IF(G2090=0,\"KUNDE/LEV NR ?\",VLOOKUP(G2090,Register!$K$1:$L$618,2)))","v":0},0,null,0,null,0,null,null,0,0,0,0,0,0]
[null,0,null,0,null,null,null,"00:00:00",0,0,0,{"$f":"IF(AND(J2091=0,K2091=0),,IF(G2091=0,\"KUNDE/LEV NR ?\",VLOOKUP(G2091,Register!$K$1:$L$618,2)))","v":0},0,null,0,null,0,null,null,0,0,0,0,0,0]
[null,0,null,0,null,null,null,"00:00:00",0,0,0,{"$f":"IF(AND(J2092=0,K2092=0),,IF(G2092=0,\"KUNDE/LEV NR ?\",VLOOKUP(G2092,Register!$K$1:$L$618,2)))","v":0},0,null,0,null,0,null,null,0,0,0,0,0,0]
[null,0,null,0,null,null,null,"00:00:00",0,0,0,{"$f":"IF(AND(J2093=0,K2093=0),,IF(G2093=0,\"KUNDE/LEV NR ?\",VLOOKUP(G2093,Register!$K$1:$L$618,2)))","v":0},0,null,0,null,0,null,null,0,0,0,0,0,0]
[null,0,null,0,null,null,null,"00:00:00",0,0,0,{"$f":"IF(AND(J2094=0,K2094=0),,IF(G2094=0,\"KUNDE/LEV NR ?\",VLOOKUP(G2094,Register!$K$1:$L$618,2)))","v":0},0,null,0,null,0,null,null,0,0,0,0,0,0]
[null,0,null,0,null,null,null,"00:00:00",0,0,0,{"$f":"IF(AND(J2095=0,K2095=0),,IF(G2095=0,\"KUNDE/LEV NR ?\",VLOOKUP(G2095,Register!$K$1:$L$618,2)))","v":0},0,null,0,null,0,null,null,0,0,0,0,0,0]
[null,0,null,0,null,null,null,"00:00:00",0,0,0,{"$f":"IF(AND(J2096=0,K2096=0),,IF(G2096=0,\"KUNDE/LEV NR ?\",VLOOKUP(G2096,Register!$K$1:$L$618,2)))","v":0},0,null,0,null,0,null,null,0,0,0,0,0,0]
[null,0,null,0,null,null,null,"00:00:00",0,0,0,{"$f":"IF(AND(J2097=0,K2097=0),,IF(G2097=0,\"KUNDE/LEV NR ?\",VLOOKUP(G2097,Register!$K$1:$L$618,2)))","v":0},0,null,0,null,0,null,null,0,0,0,0,0,0]
[null,0,null,0,null,null,null,"00:00:00",0,0,0,{"$f":"IF(AND(J2098=0,K2098=0),,IF(G2098=0,\"KUNDE/LEV NR ?\",VLOOKUP(G2098,Register!$K$1:$L$618,2)))","v":0},0,null,0,null,0,null,null,0,0,0,0,0,0]
[null,0,null,0,null,null,null,"00:00:00",0,0,0,{"$f":"IF(AND(J2099=0,K2099=0),,IF(G2099=0,\"KUNDE/LEV NR ?\",VLOOKUP(G2099,Register!$K$1:$L$618,2)))","v":0},0,null,0,null,0,null,null,0,0,0,0,0,0]
[null,0,null,0,null,null,null,"00:00:00",0,0,0,{"$f":"IF(AND(J2100=0,K2100=0),,IF(G2100=0,\"KUNDE/LEV NR ?\",VLOOKUP(G2100,Register!$K$1:$L$618,2)))","v":0},0,null,0,null,0,null,null,0,0,0,0,0,0]
[null,0,null,0,null,null,null,"00:00:00",0,0,0,{"$f":"IF(AND(J2101=0,K2101=0),,IF(G2101=0,\"KUNDE/LEV NR ?\",VLOOKUP(G2101,Register!$K$1:$L$618,2)))","v":0},0,null,0,null,0,null,null,0,0,0,0,0,0]
[null,0,null,0,null,null,null,"00:00:00",0,0,0,{"$f":"IF(AND(J2102=0,K2102=0),,IF(G2102=0,\"KUNDE/LEV NR ?\",VLOOKUP(G2102,Register!$K$1:$L$618,2)))","v":0},0,null,0,null,0,null,null,0,0,0,0,0,0]
[null,0,null,0,null,null,null,"00:00:00",0,0,0,{"$f":"IF(AND(J2103=0,K2103=0),,IF(G2103=0,\"KUNDE/LEV NR ?\",VLOOKUP(G2103,Register!$K$1:$L$618,2)))","v":0},0,null,0,null,0,null,null,0,0,0,0,0,0]
[null,0,null,0,null,null,null,"00:00:00",0,0,0,{"$f":"IF(AND(J2104=0,K2104=0),,IF(G2104=0,\"KUNDE/LEV NR ?\",VLOOKUP(G2104,Register!$K$1:$L$618,2)))","v":0},0,null,0,null,0,null,null,0,0,0,0,0,0]
[null,0,null,0,null,null,null,"00:00:00",0,0,0,{"$f":"IF(AND(J2105=0,K2105=0),,IF(G2105=0,\"KUNDE/LEV NR ?\",VLOOKUP(G2105,Register!$K$1:$L$618,2)))","v":0},0,null,0,null,0,null,null,0,0,0,0,0,0]
[null,0,null,0,null,null,null,"00:00:00",0,0,0,{"$f":"IF(AND(J2106=0,K2106=0),,IF(G2106=0,\"KUNDE/LEV NR ?\",VLOOKUP(G2106,Register!$K$1:$L$618,2)))","v":0},0,null,0,null,0,null,null,0,0,0,0,0,0]
[null,0,null,0,null,null,null,"00:00:00",0,0,0,{"$f":"IF(AND(J2107=0,K2107=0),,IF(G2107=0,\"KUNDE/LEV NR ?\",VLOOKUP(G2107,Register!$K$1:$L$618,2)))","v":0},0,null,0,null,0,null,null,0,0,0,0,0,0]
[null,0,null,0,null,null,null,"00:00:00",0,0,0,{"$f":"IF(AND(J2108=0,K2108=0),,IF(G2108=0,\"KUNDE/LEV NR ?\",VLOOKUP(G2108,Register!$K$1:$L$618,2)))","v":0},0,null,0,null,0,null,null,0,0,0,0,0,0]
[null,0,null,0,null,null,null,"00:00:00",0,0,0,{"$f":"IF(AND(J2109=0,K2109=0),,IF(G2109=0,\"KUNDE/LEV NR ?\",VLOOKUP(G2109,Register!$K$1:$L$618,2)))","v":0},0,null,0,null,0,null,null,0,0,0,0,0,0]
[null,0,null,0,null,null,null,"00:00:00",0,0,0,{"$f":"IF(AND(J2110=0,K2110=0),,IF(G2110=0,\"KUNDE/LEV NR ?\",VLOOKUP(G2110,Register!$K$1:$L$618,2)))","v":0},0,null,0,null,0,null,null,0,0,0,0,0,0]
[null,0,null,0,null,null,null,"00:00:00",0,0,0,{"$f":"IF(AND(J2111=0,K2111=0),,IF(G2111=0,\"KUNDE/LEV NR ?\",VLOOKUP(G2111,Register!$K$1:$L$618,2)))","v":0},0,null,0,null,0,null,null,0,0,0,0,0,0]
[null,0,null,0,null,null,null,"00:00:00",0,0,0,{"$f":"IF(AND(J2112=0,K2112=0),,IF(G2112=0,\"KUNDE/LEV NR ?\",VLOOKUP(G2112,Register!$K$1:$L$618,2)))","v":0},0,null,0,null,0,null,null,0,0,0,0,0,0]
[null,0,null,0,null,null,null,"00:00:00",0,0,0,{"$f":"IF(AND(J2113=0,K2113=0),,IF(G2113=0,\"KUNDE/LEV NR ?\",VLOOKUP(G2113,Register!$K$1:$L$618,2)))","v":0},0,null,0,null,0,null,null,0,0,0,0,0,0]
[null,0,null,0,null,null,null,"00:00:00",0,0,0,{"$f":"IF(AND(J2114=0,K2114=0),,IF(G2114=0,\"KUNDE/LEV NR ?\",VLOOKUP(G2114,Register!$K$1:$L$618,2)))","v":0},0,null,0,null,0,null,null,0,0,0,0,0,0]
[null,0,null,0,null,null,null,"00:00:00",0,0,0,{"$f":"IF(AND(J2115=0,K2115=0),,IF(G2115=0,\"KUNDE/LEV NR ?\",VLOOKUP(G2115,Register!$K$1:$L$618,2)))","v":0},0,null,0,null,0,null,null,0,0,0,0,0,0]
[null,0,null,0,null,null,null,"00:00:00",0,0,0,{"$f":"IF(AND(J2116=0,K2116=0),,IF(G2116=0,\"KUNDE/LEV NR ?\",VLOOKUP(G2116,Register!$K$1:$L$618,2)))","v":0},0,null,0,null,0,null,null,0,0,0,0,0,0]
[null,0,null,0,null,null,null,"00:00:00",{"$f":"IF(H2117>0,\"d\",)","v":0},0,0,{"$f":"IF(AND(J2117=0,K2117=0),,IF(G2117=0,\"KUNDE/LEV NR ?\",VLOOKUP(G2117,Register!$K$1:$L$618,2)))","v":0},0,null,0,null,0,null,null,0,0,{"$f":"IF(R2117=0,,R2117/(1+VLOOKUP(P2117,$AC$5:$AD$362,2)))","v":0},{"$f":"IF(S2117=0,,S2117/(1+VLOOKUP(P2117,$AC$5:$AD$362,2)))","v":0},{"$f":"IF(P2117=0,,IF(P2117=P2118,,VLOOKUP(P2117,$AC$5:$AE$364,3)))","v":0},{"$f":"IF(P2117=0,,IF(P2117=P2118,,VLOOKUP(P2117,$AC$5:$AF$362,4)))","v":0}]
[null,0,null,0,null,null,null,"00:00:00",0,0,0,{"$f":"IF(AND(J2118=0,K2118=0),,IF(G2118=0,\"KUNDE/LEV NR ?\",VLOOKUP(G2118,Register!$K$1:$L$618,2)))","v":0},0,null,0,null,0,null,null,0,0,0,0,0,0]
[null,0,null,0,null,null,null,"00:00:00",0,0,0,{"$f":"IF(AND(J2119=0,K2119=0),,IF(G2119=0,\"KUNDE/LEV NR ?\",VLOOKUP(G2119,Register!$K$1:$L$618,2)))","v":0},{"$f":"IF(ISNUMBER(A2119+B2119+E2119+F2119+G2119+H2119+J2119+K2119),A2119+B2119+E2119+F2119+G2119+H2119+J2119+K2119,\"FEIL\")","v":0},null,0,null,0,null,null,0,0,0,0,0,0]
[null,0,null,0,null,null,null,"00:00:00",0,0,0,{"$f":"IF(AND(J2120=0,K2120=0),,IF(G2120=0,\"KUNDE/LEV NR ?\",VLOOKUP(G2120,Register!$K$1:$L$618,2)))","v":0},0,null,0,null,0,null,null,0,0,0,0,0,0]
[null,0,null,0,null,null,null,"00:00:00",0,0,0,{"$f":"IF(AND(J2121=0,K2121=0),,IF(G2121=0,\"KUNDE/LEV NR ?\",VLOOKUP(G2121,Register!$K$1:$L$618,2)))","v":0},0,null,0,null,0,null,null,0,0,0,0,0,0]
[null,0,null,0,null,null,null,"00:00:00",0,0,0,{"$f":"IF(AND(J2122=0,K2122=0),,IF(G2122=0,\"KUNDE/LEV NR ?\",VLOOKUP(G2122,Register!$K$1:$L$618,2)))","v":0},0,null,0,null,0,null,null,0,0,0,0,0,0]
[null,{"$f":"IF(A2123>0,B2122+1,)","v":0},null,0,null,null,null,{"$f":"A2123","v":"00:00:00"},0,{"$f":"E2123*-1+F2123","v":0},0,{"$f":"IF(AND(J2123=0,K2123=0),,IF(G2123=0,\"KUNDE/LEV NR ?\",VLOOKUP(G2123,Register!$K$1:$L$618,2)))","v":0},0,null,0,null,0,null,null,0,0,0,0,0,0]
[null,0,null,0,null,null,null,"00:00:00",0,0,0,{"$f":"IF(AND(J2124=0,K2124=0),,IF(G2124=0,\"KUNDE/LEV NR ?\",VLOOKUP(G2124,Register!$K$1:$L$618,2)))","v":0},0,null,0,null,0,null,null,0,0,0,0,0,0]
[null,0,null,0,null,null,null,"00:00:00",0,0,0,{"$f":"IF(AND(J2125=0,K2125=0),,IF(G2125=0,\"KUNDE/LEV NR ?\",VLOOKUP(G2125,Register!$K$1:$L$618,2)))","v":0},0,null,0,null,0,null,null,0,0,0,0,0,0]
[null,0,null,0,null,null,null,"00:00:00",0,0,0,{"$f":"IF(AND(J2126=0,K2126=0),,IF(G2126=0,\"KUNDE/LEV NR ?\",VLOOKUP(G2126,Register!$K$1:$L$618,2)))","v":0},0,null,0,null,0,null,null,{"$f":"R2126-V2126","v":0},{"$f":"S2126-W2126","v":0},0,0,0,0]
[null,0,null,0,null,null,null,"00:00:00",0,0,0,{"$f":"IF(AND(J2127=0,K2127=0),,IF(G2127=0,\"KUNDE/LEV NR ?\",VLOOKUP(G2127,Register!$K$1:$L$618,2)))","v":0},0,null,0,null,0,null,null,0,0,0,0,0,0]
[null,0,null,0,null,null,null,"00:00:00",0,0,0,{"$f":"IF(AND(J2128=0,K2128=0),,IF(G2128=0,\"KUNDE/LEV NR ?\",VLOOKUP(G2128,Register!$K$1:$L$618,2)))","v":0},0,null,0,null,0,null,null,0,0,0,0,0,0]
[null,0,null,{"$f":"IF(C2129=0,,VLOOKUP(C2129,$AA$4:$AB$935,2))","v":0},null,null,null,"00:00:00",0,0,{"$f":"IF(AND(A2129>0,H2129>0),J2129*-1,)","v":0},{"$f":"IF(AND(J2129=0,K2129=0),,IF(G2129=0,\"KUNDE/LEV NR ?\",VLOOKUP(G2129,Register!$K$1:$L$618,2)))","v":0},0,null,0,null,0,null,null,0,0,0,0,0,0]
[null,0,null,0,null,null,null,"00:00:00",0,0,0,{"$f":"IF(AND(J2130=0,K2130=0),,IF(G2130=0,\"KUNDE/LEV NR ?\",VLOOKUP(G2130,Register!$K$1:$L$618,2)))","v":0},0,null,0,null,0,null,null,0,0,0,0,0,0]
[null,0,null,0,null,null,null,"00:00:00",0,0,0,{"$f":"IF(AND(J2131=0,K2131=0),,IF(G2131=0,\"KUNDE/LEV NR ?\",VLOOKUP(G2131,Register!$K$1:$L$618,2)))","v":0},0,null,0,null,0,null,null,0,0,0,0,0,0]
[null,0,null,0,null,null,null,"00:00:00",0,0,0,{"$f":"IF(AND(J2132=0,K2132=0),,IF(G2132=0,\"KUNDE/LEV NR ?\",VLOOKUP(G2132,Register!$K$1:$L$618,2)))","v":0},0,null,0,null,0,null,null,0,0,0,0,0,0]
[null,0,null,0,null,null,null,"00:00:00",0,0,0,{"$f":"IF(AND(J2133=0,K2133=0),,IF(G2133=0,\"KUNDE/LEV NR ?\",VLOOKUP(G2133,Register!$K$1:$L$618,2)))","v":0},0,null,0,null,0,null,null,0,0,0,0,0,0]
[null,0,null,0,null,null,null,"00:00:00",0,0,0,{"$f":"IF(AND(J2134=0,K2134=0),,IF(G2134=0,\"KUNDE/LEV NR ?\",VLOOKUP(G2134,Register!$K$1:$L$618,2)))","v":0},0,null,0,null,0,null,null,0,0,0,0,0,0]
[null,0,null,0,null,null,null,"00:00:00",0,0,0,{"$f":"IF(AND(J2135=0,K2135=0),,IF(G2135=0,\"KUNDE/LEV NR ?\",VLOOKUP(G2135,Register!$K$1:$L$618,2)))","v":0},0,null,0,null,0,null,null,0,0,0,0,0,0]
[null,0,null,0,null,null,null,"00:00:00",0,0,0,{"$f":"IF(AND(J2136=0,K2136=0),,IF(G2136=0,\"KUNDE/LEV NR ?\",VLOOKUP(G2136,Register!$K$1:$L$618,2)))","v":0},0,null,0,null,0,null,null,0,0,0,0,0,0]
[null,0,null,0,null,null,null,"00:00:00",0,0,0,{"$f":"IF(AND(J2137=0,K2137=0),,IF(G2137=0,\"KUNDE/LEV NR ?\",VLOOKUP(G2137,Register!$K$1:$L$618,2)))","v":0},0,null,0,null,0,null,null,0,0,0,0,0,0]
[null,0,null,0,null,null,null,"00:00:00",0,0,0,{"$f":"IF(AND(J2138=0,K2138=0),,IF(G2138=0,\"KUNDE/LEV NR ?\",VLOOKUP(G2138,Register!$K$1:$L$618,2)))","v":0},0,null,0,null,0,null,null,0,0,0,0,0,0]
[null,0,null,0,null,null,null,"00:00:00",0,0,0,{"$f":"IF(AND(J2139=0,K2139=0),,IF(G2139=0,\"KUNDE/LEV NR ?\",VLOOKUP(G2139,Register!$K$1:$L$618,2)))","v":0},0,null,0,null,0,null,null,0,0,0,0,0,0]
[null,0,null,0,null,null,null,"00:00:00",0,0,0,{"$f":"IF(AND(J2140=0,K2140=0),,IF(G2140=0,\"KUNDE/LEV NR ?\",VLOOKUP(G2140,Register!$K$1:$L$618,2)))","v":0},0,null,0,null,0,null,null,0,0,0,0,0,0]
[null,0,null,0,null,null,null,"00:00:00",0,0,0,{"$f":"IF(AND(J2141=0,K2141=0),,IF(G2141=0,\"KUNDE/LEV NR ?\",VLOOKUP(G2141,Register!$K$1:$L$618,2)))","v":0},0,null,0,null,0,null,null,0,0,0,0,0,0]
[null,0,null,0,null,null,null,"00:00:00",0,0,0,{"$f":"IF(AND(J2142=0,K2142=0),,IF(G2142=0,\"KUNDE/LEV NR ?\",VLOOKUP(G2142,Register!$K$1:$L$618,2)))","v":0},0,null,0,null,0,null,null,0,0,0,0,0,0]
[null,0,null,0,null,null,null,"00:00:00",0,0,0,{"$f":"IF(AND(J2143=0,K2143=0),,IF(G2143=0,\"KUNDE/LEV NR ?\",VLOOKUP(G2143,Register!$K$1:$L$618,2)))","v":0},0,null,0,null,0,null,null,0,0,0,0,0,0]
[null,0,null,0,null,null,null,"00:00:00",0,0,0,{"$f":"IF(AND(J2144=0,K2144=0),,IF(G2144=0,\"KUNDE/LEV NR ?\",VLOOKUP(G2144,Register!$K$1:$L$618,2)))","v":0},0,null,0,null,0,null,null,0,0,0,0,0,0]
[null,0,null,0,null,null,null,"00:00:00",0,0,0,{"$f":"IF(AND(J2145=0,K2145=0),,IF(G2145=0,\"KUNDE/LEV NR ?\",VLOOKUP(G2145,Register!$K$1:$L$618,2)))","v":0},0,null,0,null,0,null,null,0,0,0,0,0,0]
[null,0,null,0,null,null,null,"00:00:00",0,0,0,{"$f":"IF(AND(J2146=0,K2146=0),,IF(G2146=0,\"KUNDE/LEV NR ?\",VLOOKUP(G2146,Register!$K$1:$L$618,2)))","v":0},0,null,0,null,0,null,null,0,0,0,0,0,0]
[null,0,null,0,null,null,null,"00:00:00",0,0,0,{"$f":"IF(AND(J2147=0,K2147=0),,IF(G2147=0,\"KUNDE/LEV NR ?\",VLOOKUP(G2147,Register!$K$1:$L$618,2)))","v":0},0,null,0,null,0,null,null,0,0,0,0,0,0]
[null,0,null,0,null,null,null,"00:00:00",0,0,0,{"$f":"IF(AND(J2148=0,K2148=0),,IF(G2148=0,\"KUNDE/LEV NR ?\",VLOOKUP(G2148,Register!$K$1:$L$618,2)))","v":0},0,null,0,null,0,null,null,0,0,0,0,0,0]
[null,0,null,0,null,null,null,"00:00:00",0,0,0,{"$f":"IF(AND(J2149=0,K2149=0),,IF(G2149=0,\"KUNDE/LEV NR ?\",VLOOKUP(G2149,Register!$K$1:$L$618,2)))","v":0},0,null,0,null,0,null,null,0,0,0,0,0,0]
[null,0,null,0,null,null,null,"00:00:00",0,0,0,{"$f":"IF(AND(J2150=0,K2150=0),,IF(G2150=0,\"KUNDE/LEV NR ?\",VLOOKUP(G2150,Register!$K$1:$L$618,2)))","v":0},0,null,0,null,0,null,null,0,0,0,0,0,0]
[null,0,null,0,null,null,null,"00:00:00",0,0,0,{"$f":"IF(AND(J2151=0,K2151=0),,IF(G2151=0,\"KUNDE/LEV NR ?\",VLOOKUP(G2151,Register!$K$1:$L$618,2)))","v":0},0,null,0,null,0,null,null,0,0,0,0,0,0]
[null,0,null,0,null,null,null,"00:00:00",0,0,0,{"$f":"IF(AND(J2152=0,K2152=0),,IF(G2152=0,\"KUNDE/LEV NR ?\",VLOOKUP(G2152,Register!$K$1:$L$618,2)))","v":0},0,null,0,null,0,null,null,0,0,0,0,0,0]
[null,0,null,0,null,null,null,"00:00:00",0,0,0,{"$f":"IF(AND(J2153=0,K2153=0),,IF(G2153=0,\"KUNDE/LEV NR ?\",VLOOKUP(G2153,Register!$K$1:$L$618,2)))","v":0},0,null,0,null,0,null,null,0,0,0,0,0,0]
[null,0,null,0,null,null,null,"00:00:00",0,0,0,{"$f":"IF(AND(J2154=0,K2154=0),,IF(G2154=0,\"KUNDE/LEV NR ?\",VLOOKUP(G2154,Register!$K$1:$L$618,2)))","v":0},0,null,0,null,0,null,null,0,0,0,0,0,0]
[null,0,null,0,null,null,null,"00:00:00",0,0,0,{"$f":"IF(AND(J2155=0,K2155=0),,IF(G2155=0,\"KUNDE/LEV NR ?\",VLOOKUP(G2155,Register!$K$1:$L$618,2)))","v":0},0,null,0,null,0,null,null,0,0,0,0,0,0]
[null,0,null,0,null,null,null,"00:00:00",0,0,0,{"$f":"IF(AND(J2156=0,K2156=0),,IF(G2156=0,\"KUNDE/LEV NR ?\",VLOOKUP(G2156,Register!$K$1:$L$618,2)))","v":0},0,null,0,null,0,null,null,0,0,0,0,0,0]
[null,0,null,0,null,null,null,"00:00:00",0,0,0,{"$f":"IF(AND(J2157=0,K2157=0),,IF(G2157=0,\"KUNDE/LEV NR ?\",VLOOKUP(G2157,Register!$K$1:$L$618,2)))","v":0},0,null,0,null,0,null,null,0,0,0,0,0,0]
[null,0,null,0,null,null,null,"00:00:00",0,0,0,{"$f":"IF(AND(J2158=0,K2158=0),,IF(G2158=0,\"KUNDE/LEV NR ?\",VLOOKUP(G2158,Register!$K$1:$L$618,2)))","v":0},0,null,0,null,0,null,null,0,0,0,0,0,0]
[null,0,null,0,null,null,null,"00:00:00",0,0,0,{"$f":"IF(AND(J2159=0,K2159=0),,IF(G2159=0,\"KUNDE/LEV NR ?\",VLOOKUP(G2159,Register!$K$1:$L$618,2)))","v":0},0,null,0,null,0,null,null,0,0,0,0,0,0]
[null,0,null,0,null,null,null,"00:00:00",0,0,0,{"$f":"IF(AND(J2160=0,K2160=0),,IF(G2160=0,\"KUNDE/LEV NR ?\",VLOOKUP(G2160,Register!$K$1:$L$618,2)))","v":0},0,null,0,null,0,null,null,0,0,0,0,0,0]
[null,0,null,0,null,null,null,"00:00:00",0,0,0,{"$f":"IF(AND(J2161=0,K2161=0),,IF(G2161=0,\"KUNDE/LEV NR ?\",VLOOKUP(G2161,Register!$K$1:$L$618,2)))","v":0},0,null,0,null,0,null,null,0,0,0,0,0,0]
[null,0,null,0,null,null,null,"00:00:00",0,0,0,{"$f":"IF(AND(J2162=0,K2162=0),,IF(G2162=0,\"KUNDE/LEV NR ?\",VLOOKUP(G2162,Register!$K$1:$L$618,2)))","v":0},0,null,0,null,0,null,null,0,0,0,0,0,0]
[null,0,null,0,null,null,null,"00:00:00",0,0,0,{"$f":"IF(AND(J2163=0,K2163=0),,IF(G2163=0,\"KUNDE/LEV NR ?\",VLOOKUP(G2163,Register!$K$1:$L$618,2)))","v":0},0,null,0,null,0,null,null,0,0,0,0,0,0]
[null,0,null,0,null,null,null,"00:00:00",0,0,0,{"$f":"IF(AND(J2164=0,K2164=0),,IF(G2164=0,\"KUNDE/LEV NR ?\",VLOOKUP(G2164,Register!$K$1:$L$618,2)))","v":0},0,null,0,null,0,null,null,0,0,0,0,0,0]
[null,0,null,0,null,null,null,"00:00:00",0,0,0,{"$f":"IF(AND(J2165=0,K2165=0),,IF(G2165=0,\"KUNDE/LEV NR ?\",VLOOKUP(G2165,Register!$K$1:$L$618,2)))","v":0},0,null,0,null,0,null,null,0,0,0,0,0,0]
[null,0,null,0,null,null,null,"00:00:00",0,0,0,{"$f":"IF(AND(J2166=0,K2166=0),,IF(G2166=0,\"KUNDE/LEV NR ?\",VLOOKUP(G2166,Register!$K$1:$L$618,2)))","v":0},0,null,0,null,0,null,null,0,0,0,0,0,0]
[null,0,null,0,null,null,null,"00:00:00",0,0,0,{"$f":"IF(AND(J2167=0,K2167=0),,IF(G2167=0,\"KUNDE/LEV NR ?\",VLOOKUP(G2167,Register!$K$1:$L$618,2)))","v":0},0,null,0,null,0,null,null,0,0,0,0,0,0]
[null,0,null,0,null,null,null,"00:00:00",0,0,0,{"$f":"IF(AND(J2168=0,K2168=0),,IF(G2168=0,\"KUNDE/LEV NR ?\",VLOOKUP(G2168,Register!$K$1:$L$618,2)))","v":0},0,null,0,null,0,null,null,0,0,0,0,0,0]
[null,0,null,0,null,null,null,"00:00:00",0,0,0,{"$f":"IF(AND(J2169=0,K2169=0),,IF(G2169=0,\"KUNDE/LEV NR ?\",VLOOKUP(G2169,Register!$K$1:$L$618,2)))","v":0},0,null,0,null,0,null,null,0,0,0,0,0,0]
[null,0,null,0,null,null,null,"00:00:00",0,0,0,{"$f":"IF(AND(J2170=0,K2170=0),,IF(G2170=0,\"KUNDE/LEV NR ?\",VLOOKUP(G2170,Register!$K$1:$L$618,2)))","v":0},0,null,0,null,0,null,null,0,0,0,0,0,0]
[null,0,null,0,null,null,null,"00:00:00",0,0,0,{"$f":"IF(AND(J2171=0,K2171=0),,IF(G2171=0,\"KUNDE/LEV NR ?\",VLOOKUP(G2171,Register!$K$1:$L$618,2)))","v":0},0,null,0,null,0,null,null,0,0,0,0,0,0]
[null,0,null,0,null,null,null,"00:00:00",0,0,0,{"$f":"IF(AND(J2172=0,K2172=0),,IF(G2172=0,\"KUNDE/LEV NR ?\",VLOOKUP(G2172,Register!$K$1:$L$618,2)))","v":0},0,null,0,null,0,null,null,0,0,0,0,0,0]
[null,0,null,0,null,null,null,"00:00:00",0,0,0,{"$f":"IF(AND(J2173=0,K2173=0),,IF(G2173=0,\"KUNDE/LEV NR ?\",VLOOKUP(G2173,Register!$K$1:$L$618,2)))","v":0},0,null,0,null,0,null,null,0,0,0,0,0,0]
[null,0,null,0,null,null,null,"00:00:00",0,0,0,{"$f":"IF(AND(J2174=0,K2174=0),,IF(G2174=0,\"KUNDE/LEV NR ?\",VLOOKUP(G2174,Register!$K$1:$L$618,2)))","v":0},0,null,0,null,0,null,null,0,0,0,0,0,0]
[null,0,null,0,null,null,null,"00:00:00",0,0,0,{"$f":"IF(AND(J2175=0,K2175=0),,IF(G2175=0,\"KUNDE/LEV NR ?\",VLOOKUP(G2175,Register!$K$1:$L$618,2)))","v":0},0,null,0,null,0,null,null,0,0,0,0,0,0]
[null,0,null,0,null,null,null,"00:00:00",0,0,0,{"$f":"IF(AND(J2176=0,K2176=0),,IF(G2176=0,\"KUNDE/LEV NR ?\",VLOOKUP(G2176,Register!$K$1:$L$618,2)))","v":0},0,null,0,null,0,null,null,0,0,0,0,0,0]
[null,0,null,0,null,null,null,"00:00:00",0,0,0,{"$f":"IF(AND(J2177=0,K2177=0),,IF(G2177=0,\"KUNDE/LEV NR ?\",VLOOKUP(G2177,Register!$K$1:$L$618,2)))","v":0},0,null,0,null,0,null,null,0,0,0,0,0,0]
[null,0,null,0,null,null,null,"00:00:00",0,0,0,{"$f":"IF(AND(J2178=0,K2178=0),,IF(G2178=0,\"KUNDE/LEV NR ?\",VLOOKUP(G2178,Register!$K$1:$L$618,2)))","v":0},0,null,0,null,0,null,null,0,0,0,0,0,0]
[null,0,null,0,null,null,null,"00:00:00",0,0,0,{"$f":"IF(AND(J2179=0,K2179=0),,IF(G2179=0,\"KUNDE/LEV NR ?\",VLOOKUP(G2179,Register!$K$1:$L$618,2)))","v":0},0,null,0,null,0,null,null,0,0,0,0,0,0]
[null,0,null,0,null,null,null,"00:00:00",0,0,0,{"$f":"IF(AND(J2180=0,K2180=0),,IF(G2180=0,\"KUNDE/LEV NR ?\",VLOOKUP(G2180,Register!$K$1:$L$618,2)))","v":0},0,null,0,null,0,null,null,0,0,0,0,0,0]
[null,0,null,0,null,null,null,"00:00:00",{"$f":"IF(H2181>0,\"d\",)","v":0},0,0,{"$f":"IF(AND(J2181=0,K2181=0),,IF(G2181=0,\"KUNDE/LEV NR ?\",VLOOKUP(G2181,Register!$K$1:$L$618,2)))","v":0},0,null,0,null,0,null,null,0,0,{"$f":"IF(R2181=0,,R2181/(1+VLOOKUP(P2181,$AC$5:$AD$362,2)))","v":0},{"$f":"IF(S2181=0,,S2181/(1+VLOOKUP(P2181,$AC$5:$AD$362,2)))","v":0},{"$f":"IF(P2181=0,,IF(P2181=P2182,,VLOOKUP(P2181,$AC$5:$AE$364,3)))","v":0},{"$f":"IF(P2181=0,,IF(P2181=P2182,,VLOOKUP(P2181,$AC$5:$AF$362,4)))","v":0}]
[null,0,null,0,null,null,null,"00:00:00",0,0,0,{"$f":"IF(AND(J2182=0,K2182=0),,IF(G2182=0,\"KUNDE/LEV NR ?\",VLOOKUP(G2182,Register!$K$1:$L$618,2)))","v":0},0,null,0,null,0,null,null,0,0,0,0,0,0]
[null,0,null,0,null,null,null,"00:00:00",0,0,0,{"$f":"IF(AND(J2183=0,K2183=0),,IF(G2183=0,\"KUNDE/LEV NR ?\",VLOOKUP(G2183,Register!$K$1:$L$618,2)))","v":0},{"$f":"IF(ISNUMBER(A2183+B2183+E2183+F2183+G2183+H2183+J2183+K2183),A2183+B2183+E2183+F2183+G2183+H2183+J2183+K2183,\"FEIL\")","v":0},null,0,null,0,null,null,0,0,0,0,0,0]
[null,0,null,0,null,null,null,"00:00:00",0,0,0,{"$f":"IF(AND(J2184=0,K2184=0),,IF(G2184=0,\"KUNDE/LEV NR ?\",VLOOKUP(G2184,Register!$K$1:$L$618,2)))","v":0},0,null,0,null,0,null,null,0,0,0,0,0,0]
[null,0,null,0,null,null,null,"00:00:00",0,0,0,{"$f":"IF(AND(J2185=0,K2185=0),,IF(G2185=0,\"KUNDE/LEV NR ?\",VLOOKUP(G2185,Register!$K$1:$L$618,2)))","v":0},0,null,0,null,0,null,null,0,0,0,0,0,0]
[null,0,null,0,null,null,null,"00:00:00",0,0,0,{"$f":"IF(AND(J2186=0,K2186=0),,IF(G2186=0,\"KUNDE/LEV NR ?\",VLOOKUP(G2186,Register!$K$1:$L$618,2)))","v":0},0,null,0,null,0,null,null,0,0,0,0,0,0]
[null,{"$f":"IF(A2187>0,B2186+1,)","v":0},null,0,null,null,null,{"$f":"A2187","v":"00:00:00"},0,{"$f":"E2187*-1+F2187","v":0},0,{"$f":"IF(AND(J2187=0,K2187=0),,IF(G2187=0,\"KUNDE/LEV NR ?\",VLOOKUP(G2187,Register!$K$1:$L$618,2)))","v":0},0,null,0,null,0,null,null,0,0,0,0,0,0]
[null,0,null,0,null,null,null,"00:00:00",0,0,0,{"$f":"IF(AND(J2188=0,K2188=0),,IF(G2188=0,\"KUNDE/LEV NR ?\",VLOOKUP(G2188,Register!$K$1:$L$618,2)))","v":0},0,null,0,null,0,null,null,0,0,0,0,0,0]
[null,0,null,0,null,null,null,"00:00:00",0,0,0,{"$f":"IF(AND(J2189=0,K2189=0),,IF(G2189=0,\"KUNDE/LEV NR ?\",VLOOKUP(G2189,Register!$K$1:$L$618,2)))","v":0},0,null,0,null,0,null,null,0,0,0,0,0,0]
[null,0,null,0,null,null,null,"00:00:00",0,0,0,{"$f":"IF(AND(J2190=0,K2190=0),,IF(G2190=0,\"KUNDE/LEV NR ?\",VLOOKUP(G2190,Register!$K$1:$L$618,2)))","v":0},0,null,0,null,0,null,null,{"$f":"R2190-V2190","v":0},{"$f":"S2190-W2190","v":0},0,0,0,0]
[null,0,null,0,null,null,null,"00:00:00",0,0,0,{"$f":"IF(AND(J2191=0,K2191=0),,IF(G2191=0,\"KUNDE/LEV NR ?\",VLOOKUP(G2191,Register!$K$1:$L$618,2)))","v":0},0,null,0,null,0,null,null,0,0,0,0,0,0]
[null,0,null,0,null,null,null,"00:00:00",0,0,0,{"$f":"IF(AND(J2192=0,K2192=0),,IF(G2192=0,\"KUNDE/LEV NR ?\",VLOOKUP(G2192,Register!$K$1:$L$618,2)))","v":0},0,null,0,null,0,null,null,0,0,0,0,0,0]
[null,0,null,{"$f":"IF(C2193=0,,VLOOKUP(C2193,$AA$4:$AB$935,2))","v":0},null,null,null,"00:00:00",0,0,{"$f":"IF(AND(A2193>0,H2193>0),J2193*-1,)","v":0},{"$f":"IF(AND(J2193=0,K2193=0),,IF(G2193=0,\"KUNDE/LEV NR ?\",VLOOKUP(G2193,Register!$K$1:$L$618,2)))","v":0},0,null,0,null,0,null,null,0,0,0,0,0,0]
[null,0,null,0,null,null,null,"00:00:00",0,0,0,{"$f":"IF(AND(J2194=0,K2194=0),,IF(G2194=0,\"KUNDE/LEV NR ?\",VLOOKUP(G2194,Register!$K$1:$L$618,2)))","v":0},0,null,0,null,0,null,null,0,0,0,0,0,0]
[null,0,null,0,null,null,null,"00:00:00",0,0,0,{"$f":"IF(AND(J2195=0,K2195=0),,IF(G2195=0,\"KUNDE/LEV NR ?\",VLOOKUP(G2195,Register!$K$1:$L$618,2)))","v":0},0,null,0,null,0,null,null,0,0,0,0,0,0]
[null,0,null,0,null,null,null,"00:00:00",0,0,0,{"$f":"IF(AND(J2196=0,K2196=0),,IF(G2196=0,\"KUNDE/LEV NR ?\",VLOOKUP(G2196,Register!$K$1:$L$618,2)))","v":0},0,null,0,null,0,null,null,0,0,0,0,0,0]
[null,0,null,0,null,null,null,"00:00:00",0,0,0,{"$f":"IF(AND(J2197=0,K2197=0),,IF(G2197=0,\"KUNDE/LEV NR ?\",VLOOKUP(G2197,Register!$K$1:$L$618,2)))","v":0},0,null,0,null,0,null,null,0,0,0,0,0,0]
[null,0,null,0,null,null,null,"00:00:00",0,0,0,{"$f":"IF(AND(J2198=0,K2198=0),,IF(G2198=0,\"KUNDE/LEV NR ?\",VLOOKUP(G2198,Register!$K$1:$L$618,2)))","v":0},0,null,0,null,0,null,null,0,0,0,0,0,0]
[null,0,null,0,null,null,null,"00:00:00",0,0,0,{"$f":"IF(AND(J2199=0,K2199=0),,IF(G2199=0,\"KUNDE/LEV NR ?\",VLOOKUP(G2199,Register!$K$1:$L$618,2)))","v":0},0,null,0,null,0,null,null,0,0,0,0,0,0]
[null,0,null,0,null,null,null,"00:00:00",0,0,0,{"$f":"IF(AND(J2200=0,K2200=0),,IF(G2200=0,\"KUNDE/LEV NR ?\",VLOOKUP(G2200,Register!$K$1:$L$618,2)))","v":0},0,null,0,null,0,null,null,0,0,0,0,0,0]
[null,0,null,0,null,null,null,"00:00:00",0,0,0,{"$f":"IF(AND(J2201=0,K2201=0),,IF(G2201=0,\"KUNDE/LEV NR ?\",VLOOKUP(G2201,Register!$K$1:$L$618,2)))","v":0},0,null,0,null,0,null,null,0,0,0,0,0,0]
[null,0,null,0,null,null,null,"00:00:00",0,0,0,{"$f":"IF(AND(J2202=0,K2202=0),,IF(G2202=0,\"KUNDE/LEV NR ?\",VLOOKUP(G2202,Register!$K$1:$L$618,2)))","v":0},0,null,0,null,0,null,null,0,0,0,0,0,0]
[null,0,null,0,null,null,null,"00:00:00",0,0,0,{"$f":"IF(AND(J2203=0,K2203=0),,IF(G2203=0,\"KUNDE/LEV NR ?\",VLOOKUP(G2203,Register!$K$1:$L$618,2)))","v":0},0,null,0,null,0,null,null,0,0,0,0,0,0]
[null,0,null,0,null,null,null,"00:00:00",0,0,0,{"$f":"IF(AND(J2204=0,K2204=0),,IF(G2204=0,\"KUNDE/LEV NR ?\",VLOOKUP(G2204,Register!$K$1:$L$618,2)))","v":0},0,null,0,null,0,null,null,0,0,0,0,0,0]
[null,0,null,0,null,null,null,"00:00:00",0,0,0,{"$f":"IF(AND(J2205=0,K2205=0),,IF(G2205=0,\"KUNDE/LEV NR ?\",VLOOKUP(G2205,Register!$K$1:$L$618,2)))","v":0},0,null,0,null,0,null,null,0,0,0,0,0,0]
[null,0,null,0,null,null,null,"00:00:00",0,0,0,{"$f":"IF(AND(J2206=0,K2206=0),,IF(G2206=0,\"KUNDE/LEV NR ?\",VLOOKUP(G2206,Register!$K$1:$L$618,2)))","v":0},0,null,0,null,0,null,null,0,0,0,0,0,0]
[null,0,null,0,null,null,null,"00:00:00",0,0,0,{"$f":"IF(AND(J2207=0,K2207=0),,IF(G2207=0,\"KUNDE/LEV NR ?\",VLOOKUP(G2207,Register!$K$1:$L$618,2)))","v":0},0,null,0,null,0,null,null,0,0,0,0,0,0]
[null,0,null,0,null,null,null,"00:00:00",0,0,0,{"$f":"IF(AND(J2208=0,K2208=0),,IF(G2208=0,\"KUNDE/LEV NR ?\",VLOOKUP(G2208,Register!$K$1:$L$618,2)))","v":0},0,null,0,null,0,null,null,0,0,0,0,0,0]
[null,0,null,0,null,null,null,"00:00:00",0,0,0,{"$f":"IF(AND(J2209=0,K2209=0),,IF(G2209=0,\"KUNDE/LEV NR ?\",VLOOKUP(G2209,Register!$K$1:$L$618,2)))","v":0},0,null,0,null,0,null,null,0,0,0,0,0,0]
[null,0,null,0,null,null,null,"00:00:00",0,0,0,{"$f":"IF(AND(J2210=0,K2210=0),,IF(G2210=0,\"KUNDE/LEV NR ?\",VLOOKUP(G2210,Register!$K$1:$L$618,2)))","v":0},0,null,0,null,0,null,null,0,0,0,0,0,0]
[null,0,null,0,null,null,null,"00:00:00",0,0,0,{"$f":"IF(AND(J2211=0,K2211=0),,IF(G2211=0,\"KUNDE/LEV NR ?\",VLOOKUP(G2211,Register!$K$1:$L$618,2)))","v":0},0,null,0,null,0,null,null,0,0,0,0,0,0]
[null,0,null,0,null,null,null,"00:00:00",0,0,0,{"$f":"IF(AND(J2212=0,K2212=0),,IF(G2212=0,\"KUNDE/LEV NR ?\",VLOOKUP(G2212,Register!$K$1:$L$618,2)))","v":0},0,null,0,null,0,null,null,0,0,0,0,0,0]
[null,0,null,0,null,null,null,"00:00:00",0,0,0,{"$f":"IF(AND(J2213=0,K2213=0),,IF(G2213=0,\"KUNDE/LEV NR ?\",VLOOKUP(G2213,Register!$K$1:$L$618,2)))","v":0},0,null,0,null,0,null,null,0,0,0,0,0,0]
[null,0,null,0,null,null,null,"00:00:00",0,0,0,{"$f":"IF(AND(J2214=0,K2214=0),,IF(G2214=0,\"KUNDE/LEV NR ?\",VLOOKUP(G2214,Register!$K$1:$L$618,2)))","v":0},0,null,0,null,0,null,null,0,0,0,0,0,0]
[null,0,null,0,null,null,null,"00:00:00",0,0,0,{"$f":"IF(AND(J2215=0,K2215=0),,IF(G2215=0,\"KUNDE/LEV NR ?\",VLOOKUP(G2215,Register!$K$1:$L$618,2)))","v":0},0,null,0,null,0,null,null,0,0,0,0,0,0]
[null,0,null,0,null,null,null,"00:00:00",0,0,0,{"$f":"IF(AND(J2216=0,K2216=0),,IF(G2216=0,\"KUNDE/LEV NR ?\",VLOOKUP(G2216,Register!$K$1:$L$618,2)))","v":0},0,null,0,null,0,null,null,0,0,0,0,0,0]
[null,0,null,0,null,null,null,"00:00:00",0,0,0,{"$f":"IF(AND(J2217=0,K2217=0),,IF(G2217=0,\"KUNDE/LEV NR ?\",VLOOKUP(G2217,Register!$K$1:$L$618,2)))","v":0},0,null,0,null,0,null,null,0,0,0,0,0,0]
[null,0,null,0,null,null,null,"00:00:00",0,0,0,{"$f":"IF(AND(J2218=0,K2218=0),,IF(G2218=0,\"KUNDE/LEV NR ?\",VLOOKUP(G2218,Register!$K$1:$L$618,2)))","v":0},0,null,0,null,0,null,null,0,0,0,0,0,0]
[null,0,null,0,null,null,null,"00:00:00",0,0,0,{"$f":"IF(AND(J2219=0,K2219=0),,IF(G2219=0,\"KUNDE/LEV NR ?\",VLOOKUP(G2219,Register!$K$1:$L$618,2)))","v":0},0,null,0,null,0,null,null,0,0,0,0,0,0]
[null,0,null,0,null,null,null,"00:00:00",0,0,0,{"$f":"IF(AND(J2220=0,K2220=0),,IF(G2220=0,\"KUNDE/LEV NR ?\",VLOOKUP(G2220,Register!$K$1:$L$618,2)))","v":0},0,null,0,null,0,null,null,0,0,0,0,0,0]
[null,0,null,0,null,null,null,"00:00:00",0,0,0,{"$f":"IF(AND(J2221=0,K2221=0),,IF(G2221=0,\"KUNDE/LEV NR ?\",VLOOKUP(G2221,Register!$K$1:$L$618,2)))","v":0},0,null,0,null,0,null,null,0,0,0,0,0,0]
[null,0,null,0,null,null,null,"00:00:00",0,0,0,{"$f":"IF(AND(J2222=0,K2222=0),,IF(G2222=0,\"KUNDE/LEV NR ?\",VLOOKUP(G2222,Register!$K$1:$L$618,2)))","v":0},0,null,0,null,0,null,null,0,0,0,0,0,0]
[null,0,null,0,null,null,null,"00:00:00",0,0,0,{"$f":"IF(AND(J2223=0,K2223=0),,IF(G2223=0,\"KUNDE/LEV NR ?\",VLOOKUP(G2223,Register!$K$1:$L$618,2)))","v":0},0,null,0,null,0,null,null,0,0,0,0,0,0]
[null,0,null,0,null,null,null,"00:00:00",0,0,0,{"$f":"IF(AND(J2224=0,K2224=0),,IF(G2224=0,\"KUNDE/LEV NR ?\",VLOOKUP(G2224,Register!$K$1:$L$618,2)))","v":0},0,null,0,null,0,null,null,0,0,0,0,0,0]
[null,0,null,0,null,null,null,"00:00:00",0,0,0,{"$f":"IF(AND(J2225=0,K2225=0),,IF(G2225=0,\"KUNDE/LEV NR ?\",VLOOKUP(G2225,Register!$K$1:$L$618,2)))","v":0},0,null,0,null,0,null,null,0,0,0,0,0,0]
[null,0,null,0,null,null,null,"00:00:00",0,0,0,{"$f":"IF(AND(J2226=0,K2226=0),,IF(G2226=0,\"KUNDE/LEV NR ?\",VLOOKUP(G2226,Register!$K$1:$L$618,2)))","v":0},0,null,0,null,0,null,null,0,0,0,0,0,0]
[null,0,null,0,null,null,null,"00:00:00",0,0,0,{"$f":"IF(AND(J2227=0,K2227=0),,IF(G2227=0,\"KUNDE/LEV NR ?\",VLOOKUP(G2227,Register!$K$1:$L$618,2)))","v":0},0,null,0,null,0,null,null,0,0,0,0,0,0]
[null,0,null,0,null,null,null,"00:00:00",0,0,0,{"$f":"IF(AND(J2228=0,K2228=0),,IF(G2228=0,\"KUNDE/LEV NR ?\",VLOOKUP(G2228,Register!$K$1:$L$618,2)))","v":0},0,null,0,null,0,null,null,0,0,0,0,0,0]
[null,0,null,0,null,null,null,"00:00:00",0,0,0,{"$f":"IF(AND(J2229=0,K2229=0),,IF(G2229=0,\"KUNDE/LEV NR ?\",VLOOKUP(G2229,Register!$K$1:$L$618,2)))","v":0},0,null,0,null,0,null,null,0,0,0,0,0,0]
[null,0,null,0,null,null,null,"00:00:00",0,0,0,{"$f":"IF(AND(J2230=0,K2230=0),,IF(G2230=0,\"KUNDE/LEV NR ?\",VLOOKUP(G2230,Register!$K$1:$L$618,2)))","v":0},0,null,0,null,0,null,null,0,0,0,0,0,0]
[null,0,null,0,null,null,null,"00:00:00",0,0,0,{"$f":"IF(AND(J2231=0,K2231=0),,IF(G2231=0,\"KUNDE/LEV NR ?\",VLOOKUP(G2231,Register!$K$1:$L$618,2)))","v":0},0,null,0,null,0,null,null,0,0,0,0,0,0]
[null,0,null,0,null,null,null,"00:00:00",0,0,0,{"$f":"IF(AND(J2232=0,K2232=0),,IF(G2232=0,\"KUNDE/LEV NR ?\",VLOOKUP(G2232,Register!$K$1:$L$618,2)))","v":0},0,null,0,null,0,null,null,0,0,0,0,0,0]
[null,0,null,0,null,null,null,"00:00:00",0,0,0,{"$f":"IF(AND(J2233=0,K2233=0),,IF(G2233=0,\"KUNDE/LEV NR ?\",VLOOKUP(G2233,Register!$K$1:$L$618,2)))","v":0},0,null,0,null,0,null,null,0,0,0,0,0,0]
[null,0,null,0,null,null,null,"00:00:00",0,0,0,{"$f":"IF(AND(J2234=0,K2234=0),,IF(G2234=0,\"KUNDE/LEV NR ?\",VLOOKUP(G2234,Register!$K$1:$L$618,2)))","v":0},0,null,0,null,0,null,null,0,0,0,0,0,0]
[null,0,null,0,null,null,null,"00:00:00",0,0,0,{"$f":"IF(AND(J2235=0,K2235=0),,IF(G2235=0,\"KUNDE/LEV NR ?\",VLOOKUP(G2235,Register!$K$1:$L$618,2)))","v":0},0,null,0,null,0,null,null,0,0,0,0,0,0]
[null,0,null,0,null,null,null,"00:00:00",0,0,0,{"$f":"IF(AND(J2236=0,K2236=0),,IF(G2236=0,\"KUNDE/LEV NR ?\",VLOOKUP(G2236,Register!$K$1:$L$618,2)))","v":0},0,null,0,null,0,null,null,0,0,0,0,0,0]
[null,0,null,0,null,null,null,"00:00:00",0,0,0,{"$f":"IF(AND(J2237=0,K2237=0),,IF(G2237=0,\"KUNDE/LEV NR ?\",VLOOKUP(G2237,Register!$K$1:$L$618,2)))","v":0},0,null,0,null,0,null,null,0,0,0,0,0,0]
[null,0,null,0,null,null,null,"00:00:00",0,0,0,{"$f":"IF(AND(J2238=0,K2238=0),,IF(G2238=0,\"KUNDE/LEV NR ?\",VLOOKUP(G2238,Register!$K$1:$L$618,2)))","v":0},0,null,0,null,0,null,null,0,0,0,0,0,0]
[null,0,null,0,null,null,null,"00:00:00",0,0,0,{"$f":"IF(AND(J2239=0,K2239=0),,IF(G2239=0,\"KUNDE/LEV NR ?\",VLOOKUP(G2239,Register!$K$1:$L$618,2)))","v":0},0,null,0,null,0,null,null,0,0,0,0,0,0]
[null,0,null,0,null,null,null,"00:00:00",0,0,0,{"$f":"IF(AND(J2240=0,K2240=0),,IF(G2240=0,\"KUNDE/LEV NR ?\",VLOOKUP(G2240,Register!$K$1:$L$618,2)))","v":0},0,null,0,null,0,null,null,0,0,0,0,0,0]
[null,0,null,0,null,null,null,"00:00:00",0,0,0,{"$f":"IF(AND(J2241=0,K2241=0),,IF(G2241=0,\"KUNDE/LEV NR ?\",VLOOKUP(G2241,Register!$K$1:$L$618,2)))","v":0},0,null,0,null,0,null,null,0,0,0,0,0,0]
[null,0,null,0,null,null,null,"00:00:00",0,0,0,{"$f":"IF(AND(J2242=0,K2242=0),,IF(G2242=0,\"KUNDE/LEV NR ?\",VLOOKUP(G2242,Register!$K$1:$L$618,2)))","v":0},0,null,0,null,0,null,null,0,0,0,0,0,0]
[null,0,null,0,null,null,null,"00:00:00",0,0,0,{"$f":"IF(AND(J2243=0,K2243=0),,IF(G2243=0,\"KUNDE/LEV NR ?\",VLOOKUP(G2243,Register!$K$1:$L$618,2)))","v":0},0,null,0,null,0,null,null,0,0,0,0,0,0]
[null,0,null,0,null,null,null,"00:00:00",0,0,0,{"$f":"IF(AND(J2244=0,K2244=0),,IF(G2244=0,\"KUNDE/LEV NR ?\",VLOOKUP(G2244,Register!$K$1:$L$618,2)))","v":0},0,null,0,null,0,null,null,0,0,0,0,0,0]
[null,0,null,0,null,null,null,"00:00:00",{"$f":"IF(H2245>0,\"d\",)","v":0},0,0,{"$f":"IF(AND(J2245=0,K2245=0),,IF(G2245=0,\"KUNDE/LEV NR ?\",VLOOKUP(G2245,Register!$K$1:$L$618,2)))","v":0},0,null,0,null,0,null,null,0,0,{"$f":"IF(R2245=0,,R2245/(1+VLOOKUP(P2245,$AC$5:$AD$362,2)))","v":0},{"$f":"IF(S2245=0,,S2245/(1+VLOOKUP(P2245,$AC$5:$AD$362,2)))","v":0},{"$f":"IF(P2245=0,,IF(P2245=P2246,,VLOOKUP(P2245,$AC$5:$AE$364,3)))","v":0},{"$f":"IF(P2245=0,,IF(P2245=P2246,,VLOOKUP(P2245,$AC$5:$AF$362,4)))","v":0}]
[null,0,null,0,null,null,null,"00:00:00",0,0,0,{"$f":"IF(AND(J2246=0,K2246=0),,IF(G2246=0,\"KUNDE/LEV NR ?\",VLOOKUP(G2246,Register!$K$1:$L$618,2)))","v":0},0,null,0,null,0,null,null,0,0,0,0,0,0]
[null,0,null,0,null,null,null,"00:00:00",0,0,0,{"$f":"IF(AND(J2247=0,K2247=0),,IF(G2247=0,\"KUNDE/LEV NR ?\",VLOOKUP(G2247,Register!$K$1:$L$618,2)))","v":0},{"$f":"IF(ISNUMBER(A2247+B2247+E2247+F2247+G2247+H2247+J2247+K2247),A2247+B2247+E2247+F2247+G2247+H2247+J2247+K2247,\"FEIL\")","v":0},null,0,null,0,null,null,0,0,0,0,0,0]
[null,0,null,0,null,null,null,"00:00:00",0,0,0,{"$f":"IF(AND(J2248=0,K2248=0),,IF(G2248=0,\"KUNDE/LEV NR ?\",VLOOKUP(G2248,Register!$K$1:$L$618,2)))","v":0},0,null,0,null,0,null,null,0,0,0,0,0,0]
[null,0,null,0,null,null,null,"00:00:00",0,0,0,{"$f":"IF(AND(J2249=0,K2249=0),,IF(G2249=0,\"KUNDE/LEV NR ?\",VLOOKUP(G2249,Register!$K$1:$L$618,2)))","v":0},0,null,0,null,0,null,null,0,0,0,0,0,0]
[null,0,null,0,null,null,null,"00:00:00",0,0,0,{"$f":"IF(AND(J2250=0,K2250=0),,IF(G2250=0,\"KUNDE/LEV NR ?\",VLOOKUP(G2250,Register!$K$1:$L$618,2)))","v":0},0,null,0,null,0,null,null,0,0,0,0,0,0]
[null,{"$f":"IF(A2251>0,B2250+1,)","v":0},null,0,null,null,null,{"$f":"A2251","v":"00:00:00"},0,{"$f":"E2251*-1+F2251","v":0},0,{"$f":"IF(AND(J2251=0,K2251=0),,IF(G2251=0,\"KUNDE/LEV NR ?\",VLOOKUP(G2251,Register!$K$1:$L$618,2)))","v":0},0,null,0,null,0,null,null,0,0,0,0,0,0]
[null,0,null,0,null,null,null,"00:00:00",0,0,0,{"$f":"IF(AND(J2252=0,K2252=0),,IF(G2252=0,\"KUNDE/LEV NR ?\",VLOOKUP(G2252,Register!$K$1:$L$618,2)))","v":0},0,null,0,null,0,null,null,0,0,0,0,0,0]
[null,0,null,0,null,null,null,"00:00:00",0,0,0,{"$f":"IF(AND(J2253=0,K2253=0),,IF(G2253=0,\"KUNDE/LEV NR ?\",VLOOKUP(G2253,Register!$K$1:$L$618,2)))","v":0},0,null,0,null,0,null,null,0,0,0,0,0,0]
[null,0,null,0,null,null,null,"00:00:00",0,0,0,{"$f":"IF(AND(J2254=0,K2254=0),,IF(G2254=0,\"KUNDE/LEV NR ?\",VLOOKUP(G2254,Register!$K$1:$L$618,2)))","v":0},0,null,0,null,0,null,null,{"$f":"R2254-V2254","v":0},{"$f":"S2254-W2254","v":0},0,0,0,0]
[null,0,null,0,null,null,null,"00:00:00",0,0,0,{"$f":"IF(AND(J2255=0,K2255=0),,IF(G2255=0,\"KUNDE/LEV NR ?\",VLOOKUP(G2255,Register!$K$1:$L$618,2)))","v":0},0,null,0,null,0,null,null,0,0,0,0,0,0]
[null,0,null,0,null,null,null,"00:00:00",0,0,0,{"$f":"IF(AND(J2256=0,K2256=0),,IF(G2256=0,\"KUNDE/LEV NR ?\",VLOOKUP(G2256,Register!$K$1:$L$618,2)))","v":0},0,null,0,null,0,null,null,0,0,0,0,0,0]
[null,0,null,{"$f":"IF(C2257=0,,VLOOKUP(C2257,$AA$4:$AB$935,2))","v":0},null,null,null,"00:00:00",0,0,{"$f":"IF(AND(A2257>0,H2257>0),J2257*-1,)","v":0},{"$f":"IF(AND(J2257=0,K2257=0),,IF(G2257=0,\"KUNDE/LEV NR ?\",VLOOKUP(G2257,Register!$K$1:$L$618,2)))","v":0},0,null,0,null,0,null,null,0,0,0,0,0,0]
[null,0,null,0,null,null,null,"00:00:00",0,0,0,{"$f":"IF(AND(J2258=0,K2258=0),,IF(G2258=0,\"KUNDE/LEV NR ?\",VLOOKUP(G2258,Register!$K$1:$L$618,2)))","v":0},0,null,0,null,0,null,null,0,0,0,0,0,0]
[null,0,null,0,null,null,null,"00:00:00",0,0,0,{"$f":"IF(AND(J2259=0,K2259=0),,IF(G2259=0,\"KUNDE/LEV NR ?\",VLOOKUP(G2259,Register!$K$1:$L$618,2)))","v":0},0,null,0,null,0,null,null,0,0,0,0,0,0]
[null,0,null,0,null,null,null,"00:00:00",0,0,0,{"$f":"IF(AND(J2260=0,K2260=0),,IF(G2260=0,\"KUNDE/LEV NR ?\",VLOOKUP(G2260,Register!$K$1:$L$618,2)))","v":0},0,null,0,null,0,null,null,0,0,0,0,0,0]
[null,0,null,0,null,null,null,"00:00:00",0,0,0,{"$f":"IF(AND(J2261=0,K2261=0),,IF(G2261=0,\"KUNDE/LEV NR ?\",VLOOKUP(G2261,Register!$K$1:$L$618,2)))","v":0},0,null,0,null,0,null,null,0,0,0,0,0,0]
[null,0,null,0,null,null,null,"00:00:00",0,0,0,{"$f":"IF(AND(J2262=0,K2262=0),,IF(G2262=0,\"KUNDE/LEV NR ?\",VLOOKUP(G2262,Register!$K$1:$L$618,2)))","v":0},0,null,0,null,0,null,null,0,0,0,0,0,0]
[null,0,null,0,null,null,null,"00:00:00",0,0,0,{"$f":"IF(AND(J2263=0,K2263=0),,IF(G2263=0,\"KUNDE/LEV NR ?\",VLOOKUP(G2263,Register!$K$1:$L$618,2)))","v":0},0,null,0,null,0,null,null,0,0,0,0,0,0]
[null,0,null,0,null,null,null,"00:00:00",0,0,0,{"$f":"IF(AND(J2264=0,K2264=0),,IF(G2264=0,\"KUNDE/LEV NR ?\",VLOOKUP(G2264,Register!$K$1:$L$618,2)))","v":0},0,null,0,null,0,null,null,0,0,0,0,0,0]
[null,0,null,0,null,null,null,"00:00:00",0,0,0,{"$f":"IF(AND(J2265=0,K2265=0),,IF(G2265=0,\"KUNDE/LEV NR ?\",VLOOKUP(G2265,Register!$K$1:$L$618,2)))","v":0},0,null,0,null,0,null,null,0,0,0,0,0,0]
[null,0,null,0,null,null,null,"00:00:00",0,0,0,{"$f":"IF(AND(J2266=0,K2266=0),,IF(G2266=0,\"KUNDE/LEV NR ?\",VLOOKUP(G2266,Register!$K$1:$L$618,2)))","v":0},0,null,0,null,0,null,null,0,0,0,0,0,0]
[null,0,null,0,null,null,null,"00:00:00",0,0,0,{"$f":"IF(AND(J2267=0,K2267=0),,IF(G2267=0,\"KUNDE/LEV NR ?\",VLOOKUP(G2267,Register!$K$1:$L$618,2)))","v":0},0,null,0,null,0,null,null,0,0,0,0,0,0]
[null,0,null,0,null,null,null,"00:00:00",0,0,0,{"$f":"IF(AND(J2268=0,K2268=0),,IF(G2268=0,\"KUNDE/LEV NR ?\",VLOOKUP(G2268,Register!$K$1:$L$618,2)))","v":0},0,null,0,null,0,null,null,0,0,0,0,0,0]
[null,0,null,0,null,null,null,"00:00:00",0,0,0,{"$f":"IF(AND(J2269=0,K2269=0),,IF(G2269=0,\"KUNDE/LEV NR ?\",VLOOKUP(G2269,Register!$K$1:$L$618,2)))","v":0},0,null,0,null,0,null,null,0,0,0,0,0,0]
[null,0,null,0,null,null,null,"00:00:00",0,0,0,{"$f":"IF(AND(J2270=0,K2270=0),,IF(G2270=0,\"KUNDE/LEV NR ?\",VLOOKUP(G2270,Register!$K$1:$L$618,2)))","v":0},0,null,0,null,0,null,null,0,0,0,0,0,0]
[null,0,null,0,null,null,null,"00:00:00",0,0,0,{"$f":"IF(AND(J2271=0,K2271=0),,IF(G2271=0,\"KUNDE/LEV NR ?\",VLOOKUP(G2271,Register!$K$1:$L$618,2)))","v":0},0,null,0,null,0,null,null,0,0,0,0,0,0]
[null,0,null,0,null,null,null,"00:00:00",0,0,0,{"$f":"IF(AND(J2272=0,K2272=0),,IF(G2272=0,\"KUNDE/LEV NR ?\",VLOOKUP(G2272,Register!$K$1:$L$618,2)))","v":0},0,null,0,null,0,null,null,0,0,0,0,0,0]
[null,0,null,0,null,null,null,"00:00:00",0,0,0,{"$f":"IF(AND(J2273=0,K2273=0),,IF(G2273=0,\"KUNDE/LEV NR ?\",VLOOKUP(G2273,Register!$K$1:$L$618,2)))","v":0},0,null,0,null,0,null,null,0,0,0,0,0,0]
[null,0,null,0,null,null,null,"00:00:00",0,0,0,{"$f":"IF(AND(J2274=0,K2274=0),,IF(G2274=0,\"KUNDE/LEV NR ?\",VLOOKUP(G2274,Register!$K$1:$L$618,2)))","v":0},0,null,0,null,0,null,null,0,0,0,0,0,0]
[null,0,null,0,null,null,null,"00:00:00",0,0,0,{"$f":"IF(AND(J2275=0,K2275=0),,IF(G2275=0,\"KUNDE/LEV NR ?\",VLOOKUP(G2275,Register!$K$1:$L$618,2)))","v":0},0,null,0,null,0,null,null,0,0,0,0,0,0]
[null,0,null,0,null,null,null,"00:00:00",0,0,0,{"$f":"IF(AND(J2276=0,K2276=0),,IF(G2276=0,\"KUNDE/LEV NR ?\",VLOOKUP(G2276,Register!$K$1:$L$618,2)))","v":0},0,null,0,null,0,null,null,0,0,0,0,0,0]
[null,0,null,0,null,null,null,"00:00:00",0,0,0,{"$f":"IF(AND(J2277=0,K2277=0),,IF(G2277=0,\"KUNDE/LEV NR ?\",VLOOKUP(G2277,Register!$K$1:$L$618,2)))","v":0},0,null,0,null,0,null,null,0,0,0,0,0,0]
[null,0,null,0,null,null,null,"00:00:00",0,0,0,{"$f":"IF(AND(J2278=0,K2278=0),,IF(G2278=0,\"KUNDE/LEV NR ?\",VLOOKUP(G2278,Register!$K$1:$L$618,2)))","v":0},0,null,0,null,0,null,null,0,0,0,0,0,0]
[null,0,null,0,null,null,null,"00:00:00",0,0,0,{"$f":"IF(AND(J2279=0,K2279=0),,IF(G2279=0,\"KUNDE/LEV NR ?\",VLOOKUP(G2279,Register!$K$1:$L$618,2)))","v":0},0,null,0,null,0,null,null,0,0,0,0,0,0]
[null,0,null,0,null,null,null,"00:00:00",0,0,0,{"$f":"IF(AND(J2280=0,K2280=0),,IF(G2280=0,\"KUNDE/LEV NR ?\",VLOOKUP(G2280,Register!$K$1:$L$618,2)))","v":0},0,null,0,null,0,null,null,0,0,0,0,0,0]
[null,0,null,0,null,null,null,"00:00:00",0,0,0,{"$f":"IF(AND(J2281=0,K2281=0),,IF(G2281=0,\"KUNDE/LEV NR ?\",VLOOKUP(G2281,Register!$K$1:$L$618,2)))","v":0},0,null,0,null,0,null,null,0,0,0,0,0,0]
[null,0,null,0,null,null,null,"00:00:00",0,0,0,{"$f":"IF(AND(J2282=0,K2282=0),,IF(G2282=0,\"KUNDE/LEV NR ?\",VLOOKUP(G2282,Register!$K$1:$L$618,2)))","v":0},0,null,0,null,0,null,null,0,0,0,0,0,0]
[null,0,null,0,null,null,null,"00:00:00",0,0,0,{"$f":"IF(AND(J2283=0,K2283=0),,IF(G2283=0,\"KUNDE/LEV NR ?\",VLOOKUP(G2283,Register!$K$1:$L$618,2)))","v":0},0,null,0,null,0,null,null,0,0,0,0,0,0]
[null,0,null,0,null,null,null,"00:00:00",0,0,0,{"$f":"IF(AND(J2284=0,K2284=0),,IF(G2284=0,\"KUNDE/LEV NR ?\",VLOOKUP(G2284,Register!$K$1:$L$618,2)))","v":0},0,null,0,null,0,null,null,0,0,0,0,0,0]
[null,0,null,0,null,null,null,"00:00:00",0,0,0,{"$f":"IF(AND(J2285=0,K2285=0),,IF(G2285=0,\"KUNDE/LEV NR ?\",VLOOKUP(G2285,Register!$K$1:$L$618,2)))","v":0},0,null,0,null,0,null,null,0,0,0,0,0,0]
[null,0,null,0,null,null,null,"00:00:00",0,0,0,{"$f":"IF(AND(J2286=0,K2286=0),,IF(G2286=0,\"KUNDE/LEV NR ?\",VLOOKUP(G2286,Register!$K$1:$L$618,2)))","v":0},0,null,0,null,0,null,null,0,0,0,0,0,0]
[null,0,null,0,null,null,null,"00:00:00",0,0,0,{"$f":"IF(AND(J2287=0,K2287=0),,IF(G2287=0,\"KUNDE/LEV NR ?\",VLOOKUP(G2287,Register!$K$1:$L$618,2)))","v":0},0,null,0,null,0,null,null,0,0,0,0,0,0]
[null,0,null,0,null,null,null,"00:00:00",0,0,0,{"$f":"IF(AND(J2288=0,K2288=0),,IF(G2288=0,\"KUNDE/LEV NR ?\",VLOOKUP(G2288,Register!$K$1:$L$618,2)))","v":0},0,null,0,null,0,null,null,0,0,0,0,0,0]
[null,0,null,0,null,null,null,"00:00:00",0,0,0,{"$f":"IF(AND(J2289=0,K2289=0),,IF(G2289=0,\"KUNDE/LEV NR ?\",VLOOKUP(G2289,Register!$K$1:$L$618,2)))","v":0},0,null,0,null,0,null,null,0,0,0,0,0,0]
[null,0,null,0,null,null,null,"00:00:00",0,0,0,{"$f":"IF(AND(J2290=0,K2290=0),,IF(G2290=0,\"KUNDE/LEV NR ?\",VLOOKUP(G2290,Register!$K$1:$L$618,2)))","v":0},0,null,0,null,0,null,null,0,0,0,0,0,0]
[null,0,null,0,null,null,null,"00:00:00",0,0,0,{"$f":"IF(AND(J2291=0,K2291=0),,IF(G2291=0,\"KUNDE/LEV NR ?\",VLOOKUP(G2291,Register!$K$1:$L$618,2)))","v":0},0,null,0,null,0,null,null,0,0,0,0,0,0]
[null,0,null,0,null,null,null,"00:00:00",0,0,0,{"$f":"IF(AND(J2292=0,K2292=0),,IF(G2292=0,\"KUNDE/LEV NR ?\",VLOOKUP(G2292,Register!$K$1:$L$618,2)))","v":0},0,null,0,null,0,null,null,0,0,0,0,0,0]
[null,0,null,0,null,null,null,"00:00:00",0,0,0,{"$f":"IF(AND(J2293=0,K2293=0),,IF(G2293=0,\"KUNDE/LEV NR ?\",VLOOKUP(G2293,Register!$K$1:$L$618,2)))","v":0},0,null,0,null,0,null,null,0,0,0,0,0,0]
[null,0,null,0,null,null,null,"00:00:00",0,0,0,{"$f":"IF(AND(J2294=0,K2294=0),,IF(G2294=0,\"KUNDE/LEV NR ?\",VLOOKUP(G2294,Register!$K$1:$L$618,2)))","v":0},0,null,0,null,0,null,null,0,0,0,0,0,0]
[null,0,null,0,null,null,null,"00:00:00",0,0,0,{"$f":"IF(AND(J2295=0,K2295=0),,IF(G2295=0,\"KUNDE/LEV NR ?\",VLOOKUP(G2295,Register!$K$1:$L$618,2)))","v":0},0,null,0,null,0,null,null,0,0,0,0,0,0]
[null,0,null,0,null,null,null,"00:00:00",0,0,0,{"$f":"IF(AND(J2296=0,K2296=0),,IF(G2296=0,\"KUNDE/LEV NR ?\",VLOOKUP(G2296,Register!$K$1:$L$618,2)))","v":0},0,null,0,null,0,null,null,0,0,0,0,0,0]
[null,0,null,0,null,null,null,"00:00:00",0,0,0,{"$f":"IF(AND(J2297=0,K2297=0),,IF(G2297=0,\"KUNDE/LEV NR ?\",VLOOKUP(G2297,Register!$K$1:$L$618,2)))","v":0},0,null,0,null,0,null,null,0,0,0,0,0,0]
[null,0,null,0,null,null,null,"00:00:00",0,0,0,{"$f":"IF(AND(J2298=0,K2298=0),,IF(G2298=0,\"KUNDE/LEV NR ?\",VLOOKUP(G2298,Register!$K$1:$L$618,2)))","v":0},0,null,0,null,0,null,null,0,0,0,0,0,0]
[null,0,null,0,null,null,null,"00:00:00",0,0,0,{"$f":"IF(AND(J2299=0,K2299=0),,IF(G2299=0,\"KUNDE/LEV NR ?\",VLOOKUP(G2299,Register!$K$1:$L$618,2)))","v":0},0,null,0,null,0,null,null,0,0,0,0,0,0]
[null,0,null,0,null,null,null,"00:00:00",0,0,0,{"$f":"IF(AND(J2300=0,K2300=0),,IF(G2300=0,\"KUNDE/LEV NR ?\",VLOOKUP(G2300,Register!$K$1:$L$618,2)))","v":0},0,null,0,null,0,null,null,0,0,0,0,0,0]
[null,0,null,0,null,null,null,"00:00:00",0,0,0,{"$f":"IF(AND(J2301=0,K2301=0),,IF(G2301=0,\"KUNDE/LEV NR ?\",VLOOKUP(G2301,Register!$K$1:$L$618,2)))","v":0},0,null,0,null,0,null,null,0,0,0,0,0,0]
[null,0,null,0,null,null,null,"00:00:00",0,0,0,{"$f":"IF(AND(J2302=0,K2302=0),,IF(G2302=0,\"KUNDE/LEV NR ?\",VLOOKUP(G2302,Register!$K$1:$L$618,2)))","v":0},0,null,0,null,0,null,null,0,0,0,0,0,0]
[null,0,null,0,null,null,null,"00:00:00",0,0,0,{"$f":"IF(AND(J2303=0,K2303=0),,IF(G2303=0,\"KUNDE/LEV NR ?\",VLOOKUP(G2303,Register!$K$1:$L$618,2)))","v":0},0,null,0,null,0,null,null,0,0,0,0,0,0]
[null,0,null,0,null,null,null,"00:00:00",0,0,0,{"$f":"IF(AND(J2304=0,K2304=0),,IF(G2304=0,\"KUNDE/LEV NR ?\",VLOOKUP(G2304,Register!$K$1:$L$618,2)))","v":0},0,null,0,null,0,null,null,0,0,0,0,0,0]
[null,0,null,0,null,null,null,"00:00:00",0,0,0,{"$f":"IF(AND(J2305=0,K2305=0),,IF(G2305=0,\"KUNDE/LEV NR ?\",VLOOKUP(G2305,Register!$K$1:$L$618,2)))","v":0},0,null,0,null,0,null,null,0,0,0,0,0,0]
[null,0,null,0,null,null,null,"00:00:00",0,0,0,{"$f":"IF(AND(J2306=0,K2306=0),,IF(G2306=0,\"KUNDE/LEV NR ?\",VLOOKUP(G2306,Register!$K$1:$L$618,2)))","v":0},0,null,0,null,0,null,null,0,0,0,0,0,0]
[null,0,null,0,null,null,null,"00:00:00",0,0,0,{"$f":"IF(AND(J2307=0,K2307=0),,IF(G2307=0,\"KUNDE/LEV NR ?\",VLOOKUP(G2307,Register!$K$1:$L$618,2)))","v":0},0,null,0,null,0,null,null,0,0,0,0,0,0]
[null,0,null,0,null,null,null,"00:00:00",0,0,0,{"$f":"IF(AND(J2308=0,K2308=0),,IF(G2308=0,\"KUNDE/LEV NR ?\",VLOOKUP(G2308,Register!$K$1:$L$618,2)))","v":0},0,null,0,null,0,null,null,0,0,0,0,0,0]
[null,0,null,0,null,null,null,"00:00:00",{"$f":"IF(H2309>0,\"d\",)","v":0},0,0,{"$f":"IF(AND(J2309=0,K2309=0),,IF(G2309=0,\"KUNDE/LEV NR ?\",VLOOKUP(G2309,Register!$K$1:$L$618,2)))","v":0},0,null,0,null,0,null,null,0,0,{"$f":"IF(R2309=0,,R2309/(1+VLOOKUP(P2309,$AC$5:$AD$362,2)))","v":0},{"$f":"IF(S2309=0,,S2309/(1+VLOOKUP(P2309,$AC$5:$AD$362,2)))","v":0},{"$f":"IF(P2309=0,,IF(P2309=P2310,,VLOOKUP(P2309,$AC$5:$AE$364,3)))","v":0},{"$f":"IF(P2309=0,,IF(P2309=P2310,,VLOOKUP(P2309,$AC$5:$AF$362,4)))","v":0}]
[null,0,null,0,null,null,null,"00:00:00",0,0,0,{"$f":"IF(AND(J2310=0,K2310=0),,IF(G2310=0,\"KUNDE/LEV NR ?\",VLOOKUP(G2310,Register!$K$1:$L$618,2)))","v":0},0,null,0,null,0,null,null,0,0,0,0,0,0]
[null,0,null,0,null,null,null,"00:00:00",0,0,0,{"$f":"IF(AND(J2311=0,K2311=0),,IF(G2311=0,\"KUNDE/LEV NR ?\",VLOOKUP(G2311,Register!$K$1:$L$618,2)))","v":0},{"$f":"IF(ISNUMBER(A2311+B2311+E2311+F2311+G2311+H2311+J2311+K2311),A2311+B2311+E2311+F2311+G2311+H2311+J2311+K2311,\"FEIL\")","v":0},null,0,null,0,null,null,0,0,0,0,0,0]
[null,0,null,0,null,null,null,"00:00:00",0,0,0,{"$f":"IF(AND(J2312=0,K2312=0),,IF(G2312=0,\"KUNDE/LEV NR ?\",VLOOKUP(G2312,Register!$K$1:$L$618,2)))","v":0},0,null,0,null,0,null,null,0,0,0,0,0,0]
[null,0,null,0,null,null,null,"00:00:00",0,0,0,{"$f":"IF(AND(J2313=0,K2313=0),,IF(G2313=0,\"KUNDE/LEV NR ?\",VLOOKUP(G2313,Register!$K$1:$L$618,2)))","v":0},0,null,0,null,0,null,null,0,0,0,0,0,0]
[null,0,null,0,null,null,null,"00:00:00",0,0,0,{"$f":"IF(AND(J2314=0,K2314=0),,IF(G2314=0,\"KUNDE/LEV NR ?\",VLOOKUP(G2314,Register!$K$1:$L$618,2)))","v":0},0,null,0,null,0,null,null,0,0,0,0,0,0]
[null,{"$f":"IF(A2315>0,B2314+1,)","v":0},null,0,null,null,null,{"$f":"A2315","v":"00:00:00"},0,{"$f":"E2315*-1+F2315","v":0},0,{"$f":"IF(AND(J2315=0,K2315=0),,IF(G2315=0,\"KUNDE/LEV NR ?\",VLOOKUP(G2315,Register!$K$1:$L$618,2)))","v":0},0,null,0,null,0,null,null,0,0,0,0,0,0]
[null,0,null,0,null,null,null,"00:00:00",0,0,0,{"$f":"IF(AND(J2316=0,K2316=0),,IF(G2316=0,\"KUNDE/LEV NR ?\",VLOOKUP(G2316,Register!$K$1:$L$618,2)))","v":0},0,null,0,null,0,null,null,0,0,0,0,0,0]
[null,0,null,0,null,null,null,"00:00:00",0,0,0,{"$f":"IF(AND(J2317=0,K2317=0),,IF(G2317=0,\"KUNDE/LEV NR ?\",VLOOKUP(G2317,Register!$K$1:$L$618,2)))","v":0},0,null,0,null,0,null,null,0,0,0,0,0,0]
[null,0,null,0,null,null,null,"00:00:00",0,0,0,{"$f":"IF(AND(J2318=0,K2318=0),,IF(G2318=0,\"KUNDE/LEV NR ?\",VLOOKUP(G2318,Register!$K$1:$L$618,2)))","v":0},0,null,0,null,0,null,null,{"$f":"R2318-V2318","v":0},{"$f":"S2318-W2318","v":0},0,0,0,0]
[null,0,null,0,null,null,null,"00:00:00",0,0,0,{"$f":"IF(AND(J2319=0,K2319=0),,IF(G2319=0,\"KUNDE/LEV NR ?\",VLOOKUP(G2319,Register!$K$1:$L$618,2)))","v":0},0,null,0,null,0,null,null,0,0,0,0,0,0]
[null,0,null,0,null,null,null,"00:00:00",0,0,0,{"$f":"IF(AND(J2320=0,K2320=0),,IF(G2320=0,\"KUNDE/LEV NR ?\",VLOOKUP(G2320,Register!$K$1:$L$618,2)))","v":0},0,null,0,null,0,null,null,0,0,0,0,0,0]
[null,0,null,{"$f":"IF(C2321=0,,VLOOKUP(C2321,$AA$4:$AB$935,2))","v":0},null,null,null,"00:00:00",0,0,{"$f":"IF(AND(A2321>0,H2321>0),J2321*-1,)","v":0},{"$f":"IF(AND(J2321=0,K2321=0),,IF(G2321=0,\"KUNDE/LEV NR ?\",VLOOKUP(G2321,Register!$K$1:$L$618,2)))","v":0},0,null,0,null,0,null,null,0,0,0,0,0,0]
[null,0,null,0,null,null,null,"00:00:00",0,0,0,{"$f":"IF(AND(J2322=0,K2322=0),,IF(G2322=0,\"KUNDE/LEV NR ?\",VLOOKUP(G2322,Register!$K$1:$L$618,2)))","v":0},0,null,0,null,0,null,null,0,0,0,0,0,0]
[null,0,null,0,null,null,null,"00:00:00",0,0,0,{"$f":"IF(AND(J2323=0,K2323=0),,IF(G2323=0,\"KUNDE/LEV NR ?\",VLOOKUP(G2323,Register!$K$1:$L$618,2)))","v":0},0,null,0,null,0,null,null,0,0,0,0,0,0]
[null,0,null,0,null,null,null,"00:00:00",0,0,0,{"$f":"IF(AND(J2324=0,K2324=0),,IF(G2324=0,\"KUNDE/LEV NR ?\",VLOOKUP(G2324,Register!$K$1:$L$618,2)))","v":0},0,null,0,null,0,null,null,0,0,0,0,0,0]
[null,0,null,0,null,null,null,"00:00:00",0,0,0,{"$f":"IF(AND(J2325=0,K2325=0),,IF(G2325=0,\"KUNDE/LEV NR ?\",VLOOKUP(G2325,Register!$K$1:$L$618,2)))","v":0},0,null,0,null,0,null,null,0,0,0,0,0,0]
[null,0,null,0,null,null,null,"00:00:00",0,0,0,{"$f":"IF(AND(J2326=0,K2326=0),,IF(G2326=0,\"KUNDE/LEV NR ?\",VLOOKUP(G2326,Register!$K$1:$L$618,2)))","v":0},0,null,0,null,0,null,null,0,0,0,0,0,0]
[null,0,null,0,null,null,null,"00:00:00",0,0,0,{"$f":"IF(AND(J2327=0,K2327=0),,IF(G2327=0,\"KUNDE/LEV NR ?\",VLOOKUP(G2327,Register!$K$1:$L$618,2)))","v":0},0,null,0,null,0,null,null,0,0,0,0,0,0]
[null,0,null,0,null,null,null,"00:00:00",0,0,0,{"$f":"IF(AND(J2328=0,K2328=0),,IF(G2328=0,\"KUNDE/LEV NR ?\",VLOOKUP(G2328,Register!$K$1:$L$618,2)))","v":0},0,null,0,null,0,null,null,0,0,0,0,0,0]
[null,0,null,0,null,null,null,"00:00:00",0,0,0,{"$f":"IF(AND(J2329=0,K2329=0),,IF(G2329=0,\"KUNDE/LEV NR ?\",VLOOKUP(G2329,Register!$K$1:$L$618,2)))","v":0},0,null,0,null,0,null,null,0,0,0,0,0,0]
[null,0,null,0,null,null,null,"00:00:00",0,0,0,{"$f":"IF(AND(J2330=0,K2330=0),,IF(G2330=0,\"KUNDE/LEV NR ?\",VLOOKUP(G2330,Register!$K$1:$L$618,2)))","v":0},0,null,0,null,0,null,null,0,0,0,0,0,0]
[null,0,null,0,null,null,null,"00:00:00",0,0,0,{"$f":"IF(AND(J2331=0,K2331=0),,IF(G2331=0,\"KUNDE/LEV NR ?\",VLOOKUP(G2331,Register!$K$1:$L$618,2)))","v":0},0,null,0,null,0,null,null,0,0,0,0,0,0]
[null,0,null,0,null,null,null,"00:00:00",0,0,0,{"$f":"IF(AND(J2332=0,K2332=0),,IF(G2332=0,\"KUNDE/LEV NR ?\",VLOOKUP(G2332,Register!$K$1:$L$618,2)))","v":0},0,null,0,null,0,null,null,0,0,0,0,0,0]
[null,0,null,0,null,null,null,"00:00:00",0,0,0,{"$f":"IF(AND(J2333=0,K2333=0),,IF(G2333=0,\"KUNDE/LEV NR ?\",VLOOKUP(G2333,Register!$K$1:$L$618,2)))","v":0},0,null,0,null,0,null,null,0,0,0,0,0,0]
[null,0,null,0,null,null,null,"00:00:00",0,0,0,{"$f":"IF(AND(J2334=0,K2334=0),,IF(G2334=0,\"KUNDE/LEV NR ?\",VLOOKUP(G2334,Register!$K$1:$L$618,2)))","v":0},0,null,0,null,0,null,null,0,0,0,0,0,0]
[null,0,null,0,null,null,null,"00:00:00",0,0,0,{"$f":"IF(AND(J2335=0,K2335=0),,IF(G2335=0,\"KUNDE/LEV NR ?\",VLOOKUP(G2335,Register!$K$1:$L$618,2)))","v":0},0,null,0,null,0,null,null,0,0,0,0,0,0]
[null,0,null,0,null,null,null,"00:00:00",0,0,0,{"$f":"IF(AND(J2336=0,K2336=0),,IF(G2336=0,\"KUNDE/LEV NR ?\",VLOOKUP(G2336,Register!$K$1:$L$618,2)))","v":0},0,null,0,null,0,null,null,0,0,0,0,0,0]
[null,0,null,0,null,null,null,"00:00:00",0,0,0,{"$f":"IF(AND(J2337=0,K2337=0),,IF(G2337=0,\"KUNDE/LEV NR ?\",VLOOKUP(G2337,Register!$K$1:$L$618,2)))","v":0},0,null,0,null,0,null,null,0,0,0,0,0,0]
[null,0,null,0,null,null,null,"00:00:00",0,0,0,{"$f":"IF(AND(J2338=0,K2338=0),,IF(G2338=0,\"KUNDE/LEV NR ?\",VLOOKUP(G2338,Register!$K$1:$L$618,2)))","v":0},0,null,0,null,0,null,null,0,0,0,0,0,0]
[null,0,null,0,null,null,null,"00:00:00",0,0,0,{"$f":"IF(AND(J2339=0,K2339=0),,IF(G2339=0,\"KUNDE/LEV NR ?\",VLOOKUP(G2339,Register!$K$1:$L$618,2)))","v":0},0,null,0,null,0,null,null,0,0,0,0,0,0]
[null,0,null,0,null,null,null,"00:00:00",0,0,0,{"$f":"IF(AND(J2340=0,K2340=0),,IF(G2340=0,\"KUNDE/LEV NR ?\",VLOOKUP(G2340,Register!$K$1:$L$618,2)))","v":0},0,null,0,null,0,null,null,0,0,0,0,0,0]
[null,0,null,0,null,null,null,"00:00:00",0,0,0,{"$f":"IF(AND(J2341=0,K2341=0),,IF(G2341=0,\"KUNDE/LEV NR ?\",VLOOKUP(G2341,Register!$K$1:$L$618,2)))","v":0},0,null,0,null,0,null,null,0,0,0,0,0,0]
[null,0,null,0,null,null,null,"00:00:00",0,0,0,{"$f":"IF(AND(J2342=0,K2342=0),,IF(G2342=0,\"KUNDE/LEV NR ?\",VLOOKUP(G2342,Register!$K$1:$L$618,2)))","v":0},0,null,0,null,0,null,null,0,0,0,0,0,0]
[null,0,null,0,null,null,null,"00:00:00",0,0,0,{"$f":"IF(AND(J2343=0,K2343=0),,IF(G2343=0,\"KUNDE/LEV NR ?\",VLOOKUP(G2343,Register!$K$1:$L$618,2)))","v":0},0,null,0,null,0,null,null,0,0,0,0,0,0]
[null,0,null,0,null,null,null,"00:00:00",0,0,0,{"$f":"IF(AND(J2344=0,K2344=0),,IF(G2344=0,\"KUNDE/LEV NR ?\",VLOOKUP(G2344,Register!$K$1:$L$618,2)))","v":0},0,null,0,null,0,null,null,0,0,0,0,0,0]
[null,0,null,0,null,null,null,"00:00:00",0,0,0,{"$f":"IF(AND(J2345=0,K2345=0),,IF(G2345=0,\"KUNDE/LEV NR ?\",VLOOKUP(G2345,Register!$K$1:$L$618,2)))","v":0},0,null,0,null,0,null,null,0,0,0,0,0,0]
[null,0,null,0,null,null,null,"00:00:00",0,0,0,{"$f":"IF(AND(J2346=0,K2346=0),,IF(G2346=0,\"KUNDE/LEV NR ?\",VLOOKUP(G2346,Register!$K$1:$L$618,2)))","v":0},0,null,0,null,0,null,null,0,0,0,0,0,0]
[null,0,null,0,null,null,null,"00:00:00",0,0,0,{"$f":"IF(AND(J2347=0,K2347=0),,IF(G2347=0,\"KUNDE/LEV NR ?\",VLOOKUP(G2347,Register!$K$1:$L$618,2)))","v":0},0,null,0,null,0,null,null,0,0,0,0,0,0]
[null,0,null,0,null,null,null,"00:00:00",0,0,0,{"$f":"IF(AND(J2348=0,K2348=0),,IF(G2348=0,\"KUNDE/LEV NR ?\",VLOOKUP(G2348,Register!$K$1:$L$618,2)))","v":0},0,null,0,null,0,null,null,0,0,0,0,0,0]
[null,0,null,0,null,null,null,"00:00:00",0,0,0,{"$f":"IF(AND(J2349=0,K2349=0),,IF(G2349=0,\"KUNDE/LEV NR ?\",VLOOKUP(G2349,Register!$K$1:$L$618,2)))","v":0},0,null,0,null,0,null,null,0,0,0,0,0,0]
[null,0,null,0,null,null,null,"00:00:00",0,0,0,{"$f":"IF(AND(J2350=0,K2350=0),,IF(G2350=0,\"KUNDE/LEV NR ?\",VLOOKUP(G2350,Register!$K$1:$L$618,2)))","v":0},0,null,0,null,0,null,null,0,0,0,0,0,0]
[null,0,null,0,null,null,null,"00:00:00",0,0,0,{"$f":"IF(AND(J2351=0,K2351=0),,IF(G2351=0,\"KUNDE/LEV NR ?\",VLOOKUP(G2351,Register!$K$1:$L$618,2)))","v":0},0,null,0,null,0,null,null,0,0,0,0,0,0]
[null,0,null,0,null,null,null,"00:00:00",0,0,0,{"$f":"IF(AND(J2352=0,K2352=0),,IF(G2352=0,\"KUNDE/LEV NR ?\",VLOOKUP(G2352,Register!$K$1:$L$618,2)))","v":0},0,null,0,null,0,null,null,0,0,0,0,0,0]
[null,0,null,0,null,null,null,"00:00:00",0,0,0,{"$f":"IF(AND(J2353=0,K2353=0),,IF(G2353=0,\"KUNDE/LEV NR ?\",VLOOKUP(G2353,Register!$K$1:$L$618,2)))","v":0},0,null,0,null,0,null,null,0,0,0,0,0,0]
[null,0,null,0,null,null,null,"00:00:00",0,0,0,{"$f":"IF(AND(J2354=0,K2354=0),,IF(G2354=0,\"KUNDE/LEV NR ?\",VLOOKUP(G2354,Register!$K$1:$L$618,2)))","v":0},0,null,0,null,0,null,null,0,0,0,0,0,0]
[null,0,null,0,null,null,null,"00:00:00",0,0,0,{"$f":"IF(AND(J2355=0,K2355=0),,IF(G2355=0,\"KUNDE/LEV NR ?\",VLOOKUP(G2355,Register!$K$1:$L$618,2)))","v":0},0,null,0,null,0,null,null,0,0,0,0,0,0]
[null,0,null,0,null,null,null,"00:00:00",0,0,0,{"$f":"IF(AND(J2356=0,K2356=0),,IF(G2356=0,\"KUNDE/LEV NR ?\",VLOOKUP(G2356,Register!$K$1:$L$618,2)))","v":0},0,null,0,null,0,null,null,0,0,0,0,0,0]
[null,0,null,0,null,null,null,"00:00:00",0,0,0,{"$f":"IF(AND(J2357=0,K2357=0),,IF(G2357=0,\"KUNDE/LEV NR ?\",VLOOKUP(G2357,Register!$K$1:$L$618,2)))","v":0},0,null,0,null,0,null,null,0,0,0,0,0,0]
[null,0,null,0,null,null,null,"00:00:00",0,0,0,{"$f":"IF(AND(J2358=0,K2358=0),,IF(G2358=0,\"KUNDE/LEV NR ?\",VLOOKUP(G2358,Register!$K$1:$L$618,2)))","v":0},0,null,0,null,0,null,null,0,0,0,0,0,0]
[null,0,null,0,null,null,null,"00:00:00",0,0,0,{"$f":"IF(AND(J2359=0,K2359=0),,IF(G2359=0,\"KUNDE/LEV NR ?\",VLOOKUP(G2359,Register!$K$1:$L$618,2)))","v":0},0,null,0,null,0,null,null,0,0,0,0,0,0]
[null,0,null,0,null,null,null,"00:00:00",0,0,0,{"$f":"IF(AND(J2360=0,K2360=0),,IF(G2360=0,\"KUNDE/LEV NR ?\",VLOOKUP(G2360,Register!$K$1:$L$618,2)))","v":0},0,null,0,null,0,null,null,0,0,0,0,0,0]
[null,0,null,0,null,null,null,"00:00:00",0,0,0,{"$f":"IF(AND(J2361=0,K2361=0),,IF(G2361=0,\"KUNDE/LEV NR ?\",VLOOKUP(G2361,Register!$K$1:$L$618,2)))","v":0},0,null,0,null,0,null,null,0,0,0,0,0,0]
[null,0,null,0,null,null,null,"00:00:00",0,0,0,{"$f":"IF(AND(J2362=0,K2362=0),,IF(G2362=0,\"KUNDE/LEV NR ?\",VLOOKUP(G2362,Register!$K$1:$L$618,2)))","v":0},0,null,0,null,0,null,null,0,0,0,0,0,0]
[null,0,null,0,null,null,null,"00:00:00",0,0,0,{"$f":"IF(AND(J2363=0,K2363=0),,IF(G2363=0,\"KUNDE/LEV NR ?\",VLOOKUP(G2363,Register!$K$1:$L$618,2)))","v":0},0,null,0,null,0,null,null,0,0,0,0,0,0]
[null,0,null,0,null,null,null,"00:00:00",0,0,0,{"$f":"IF(AND(J2364=0,K2364=0),,IF(G2364=0,\"KUNDE/LEV NR ?\",VLOOKUP(G2364,Register!$K$1:$L$618,2)))","v":0},0,null,0,null,0,null,null,0,0,0,0,0,0]
[null,0,null,0,null,null,null,"00:00:00",0,0,0,{"$f":"IF(AND(J2365=0,K2365=0),,IF(G2365=0,\"KUNDE/LEV NR ?\",VLOOKUP(G2365,Register!$K$1:$L$618,2)))","v":0},0,null,0,null,0,null,null,0,0,0,0,0,0]
[null,0,null,0,null,null,null,"00:00:00",0,0,0,{"$f":"IF(AND(J2366=0,K2366=0),,IF(G2366=0,\"KUNDE/LEV NR ?\",VLOOKUP(G2366,Register!$K$1:$L$618,2)))","v":0},0,null,0,null,0,null,null,0,0,0,0,0,0]
[null,0,null,0,null,null,null,"00:00:00",0,0,0,{"$f":"IF(AND(J2367=0,K2367=0),,IF(G2367=0,\"KUNDE/LEV NR ?\",VLOOKUP(G2367,Register!$K$1:$L$618,2)))","v":0},0,null,0,null,0,null,null,0,0,0,0,0,0]
[null,0,null,0,null,null,null,"00:00:00",0,0,0,{"$f":"IF(AND(J2368=0,K2368=0),,IF(G2368=0,\"KUNDE/LEV NR ?\",VLOOKUP(G2368,Register!$K$1:$L$618,2)))","v":0},0,null,0,null,0,null,null,0,0,0,0,0,0]
[null,0,null,0,null,null,null,"00:00:00",0,0,0,{"$f":"IF(AND(J2369=0,K2369=0),,IF(G2369=0,\"KUNDE/LEV NR ?\",VLOOKUP(G2369,Register!$K$1:$L$618,2)))","v":0},0,null,0,null,0,null,null,0,0,0,0,0,0]
[null,0,null,0,null,null,null,"00:00:00",0,0,0,{"$f":"IF(AND(J2370=0,K2370=0),,IF(G2370=0,\"KUNDE/LEV NR ?\",VLOOKUP(G2370,Register!$K$1:$L$618,2)))","v":0},0,null,0,null,0,null,null,0,0,0,0,0,0]
[null,0,null,0,null,null,null,"00:00:00",0,0,0,{"$f":"IF(AND(J2371=0,K2371=0),,IF(G2371=0,\"KUNDE/LEV NR ?\",VLOOKUP(G2371,Register!$K$1:$L$618,2)))","v":0},0,null,0,null,0,null,null,0,0,0,0,0,0]
[null,0,null,0,null,null,null,"00:00:00",0,0,0,{"$f":"IF(AND(J2372=0,K2372=0),,IF(G2372=0,\"KUNDE/LEV NR ?\",VLOOKUP(G2372,Register!$K$1:$L$618,2)))","v":0},0,null,0,null,0,null,null,0,0,0,0,0,0]
[null,0,null,0,null,null,null,"00:00:00",{"$f":"IF(H2373>0,\"d\",)","v":0},0,0,{"$f":"IF(AND(J2373=0,K2373=0),,IF(G2373=0,\"KUNDE/LEV NR ?\",VLOOKUP(G2373,Register!$K$1:$L$618,2)))","v":0},0,null,0,null,0,null,null,0,0,{"$f":"IF(R2373=0,,R2373/(1+VLOOKUP(P2373,$AC$5:$AD$362,2)))","v":0},{"$f":"IF(S2373=0,,S2373/(1+VLOOKUP(P2373,$AC$5:$AD$362,2)))","v":0},{"$f":"IF(P2373=0,,IF(P2373=P2374,,VLOOKUP(P2373,$AC$5:$AE$364,3)))","v":0},{"$f":"IF(P2373=0,,IF(P2373=P2374,,VLOOKUP(P2373,$AC$5:$AF$362,4)))","v":0}]
[null,0,null,0,null,null,null,"00:00:00",0,0,0,{"$f":"IF(AND(J2374=0,K2374=0),,IF(G2374=0,\"KUNDE/LEV NR ?\",VLOOKUP(G2374,Register!$K$1:$L$618,2)))","v":0},0,null,0,null,0,null,null,0,0,0,0,0,0]
[null,0,null,0,null,null,null,"00:00:00",0,0,0,{"$f":"IF(AND(J2375=0,K2375=0),,IF(G2375=0,\"KUNDE/LEV NR ?\",VLOOKUP(G2375,Register!$K$1:$L$618,2)))","v":0},{"$f":"IF(ISNUMBER(A2375+B2375+E2375+F2375+G2375+H2375+J2375+K2375),A2375+B2375+E2375+F2375+G2375+H2375+J2375+K2375,\"FEIL\")","v":0},null,0,null,0,null,null,0,0,0,0,0,0]
[null,0,null,0,null,null,null,"00:00:00",0,0,0,{"$f":"IF(AND(J2376=0,K2376=0),,IF(G2376=0,\"KUNDE/LEV NR ?\",VLOOKUP(G2376,Register!$K$1:$L$618,2)))","v":0},0,null,0,null,0,null,null,0,0,0,0,0,0]
[null,0,null,0,null,null,null,"00:00:00",0,0,0,{"$f":"IF(AND(J2377=0,K2377=0),,IF(G2377=0,\"KUNDE/LEV NR ?\",VLOOKUP(G2377,Register!$K$1:$L$618,2)))","v":0},0,null,0,null,0,null,null,0,0,0,0,0,0]
[null,0,null,0,null,null,null,"00:00:00",0,0,0,{"$f":"IF(AND(J2378=0,K2378=0),,IF(G2378=0,\"KUNDE/LEV NR ?\",VLOOKUP(G2378,Register!$K$1:$L$618,2)))","v":0},0,null,0,null,0,null,null,0,0,0,0,0,0]
[null,{"$f":"IF(A2379>0,B2378+1,)","v":0},null,0,null,null,null,{"$f":"A2379","v":"00:00:00"},0,{"$f":"E2379*-1+F2379","v":0},0,{"$f":"IF(AND(J2379=0,K2379=0),,IF(G2379=0,\"KUNDE/LEV NR ?\",VLOOKUP(G2379,Register!$K$1:$L$618,2)))","v":0},0,null,0,null,0,null,null,0,0,0,0,0,0]
[null,0,null,0,null,null,null,"00:00:00",0,0,0,{"$f":"IF(AND(J2380=0,K2380=0),,IF(G2380=0,\"KUNDE/LEV NR ?\",VLOOKUP(G2380,Register!$K$1:$L$618,2)))","v":0},0,null,0,null,0,null,null,0,0,0,0,0,0]
[null,0,null,0,null,null,null,"00:00:00",0,0,0,{"$f":"IF(AND(J2381=0,K2381=0),,IF(G2381=0,\"KUNDE/LEV NR ?\",VLOOKUP(G2381,Register!$K$1:$L$618,2)))","v":0},0,null,0,null,0,null,null,0,0,0,0,0,0]
[null,0,null,0,null,null,null,"00:00:00",0,0,0,{"$f":"IF(AND(J2382=0,K2382=0),,IF(G2382=0,\"KUNDE/LEV NR ?\",VLOOKUP(G2382,Register!$K$1:$L$618,2)))","v":0},0,null,0,null,0,null,null,{"$f":"R2382-V2382","v":0},{"$f":"S2382-W2382","v":0},0,0,0,0]
[null,0,null,0,null,null,null,"00:00:00",0,0,0,{"$f":"IF(AND(J2383=0,K2383=0),,IF(G2383=0,\"KUNDE/LEV NR ?\",VLOOKUP(G2383,Register!$K$1:$L$618,2)))","v":0},0,null,0,null,0,null,null,0,0,0,0,0,0]
[null,0,null,0,null,null,null,"00:00:00",0,0,0,{"$f":"IF(AND(J2384=0,K2384=0),,IF(G2384=0,\"KUNDE/LEV NR ?\",VLOOKUP(G2384,Register!$K$1:$L$618,2)))","v":0},0,null,0,null,0,null,null,0,0,0,0,0,0]
[null,0,null,{"$f":"IF(C2385=0,,VLOOKUP(C2385,$AA$4:$AB$935,2))","v":0},null,null,null,"00:00:00",0,0,{"$f":"IF(AND(A2385>0,H2385>0),J2385*-1,)","v":0},{"$f":"IF(AND(J2385=0,K2385=0),,IF(G2385=0,\"KUNDE/LEV NR ?\",VLOOKUP(G2385,Register!$K$1:$L$618,2)))","v":0},0,null,0,null,0,null,null,0,0,0,0,0,0]
[null,0,null,0,null,null,null,"00:00:00",0,0,0,{"$f":"IF(AND(J2386=0,K2386=0),,IF(G2386=0,\"KUNDE/LEV NR ?\",VLOOKUP(G2386,Register!$K$1:$L$618,2)))","v":0},0,null,0,null,0,null,null,0,0,0,0,0,0]
[null,0,null,0,null,null,null,"00:00:00",0,0,0,{"$f":"IF(AND(J2387=0,K2387=0),,IF(G2387=0,\"KUNDE/LEV NR ?\",VLOOKUP(G2387,Register!$K$1:$L$618,2)))","v":0},0,null,0,null,0,null,null,0,0,0,0,0,0]
[null,0,null,0,null,null,null,"00:00:00",0,0,0,{"$f":"IF(AND(J2388=0,K2388=0),,IF(G2388=0,\"KUNDE/LEV NR ?\",VLOOKUP(G2388,Register!$K$1:$L$618,2)))","v":0},0,null,0,null,0,null,null,0,0,0,0,0,0]
[null,0,null,0,null,null,null,"00:00:00",0,0,0,{"$f":"IF(AND(J2389=0,K2389=0),,IF(G2389=0,\"KUNDE/LEV NR ?\",VLOOKUP(G2389,Register!$K$1:$L$618,2)))","v":0},0,null,0,null,0,null,null,0,0,0,0,0,0]
[null,0,null,0,null,null,null,"00:00:00",0,0,0,{"$f":"IF(AND(J2390=0,K2390=0),,IF(G2390=0,\"KUNDE/LEV NR ?\",VLOOKUP(G2390,Register!$K$1:$L$618,2)))","v":0},0,null,0,null,0,null,null,0,0,0,0,0,0]
[null,0,null,0,null,null,null,"00:00:00",0,0,0,{"$f":"IF(AND(J2391=0,K2391=0),,IF(G2391=0,\"KUNDE/LEV NR ?\",VLOOKUP(G2391,Register!$K$1:$L$618,2)))","v":0},0,null,0,null,0,null,null,0,0,0,0,0,0]
[null,0,null,0,null,null,null,"00:00:00",0,0,0,{"$f":"IF(AND(J2392=0,K2392=0),,IF(G2392=0,\"KUNDE/LEV NR ?\",VLOOKUP(G2392,Register!$K$1:$L$618,2)))","v":0},0,null,0,null,0,null,null,0,0,0,0,0,0]
[null,0,null,0,null,null,null,"00:00:00",0,0,0,{"$f":"IF(AND(J2393=0,K2393=0),,IF(G2393=0,\"KUNDE/LEV NR ?\",VLOOKUP(G2393,Register!$K$1:$L$618,2)))","v":0},0,null,0,null,0,null,null,0,0,0,0,0,0]
[null,0,null,0,null,null,null,"00:00:00",0,0,0,{"$f":"IF(AND(J2394=0,K2394=0),,IF(G2394=0,\"KUNDE/LEV NR ?\",VLOOKUP(G2394,Register!$K$1:$L$618,2)))","v":0},0,null,0,null,0,null,null,0,0,0,0,0,0]
[null,0,null,0,null,null,null,"00:00:00",0,0,0,{"$f":"IF(AND(J2395=0,K2395=0),,IF(G2395=0,\"KUNDE/LEV NR ?\",VLOOKUP(G2395,Register!$K$1:$L$618,2)))","v":0},0,null,0,null,0,null,null,0,0,0,0,0,0]
[null,0,null,0,null,null,null,"00:00:00",0,0,0,{"$f":"IF(AND(J2396=0,K2396=0),,IF(G2396=0,\"KUNDE/LEV NR ?\",VLOOKUP(G2396,Register!$K$1:$L$618,2)))","v":0},0,null,0,null,0,null,null,0,0,0,0,0,0]
[null,0,null,0,null,null,null,"00:00:00",0,0,0,{"$f":"IF(AND(J2397=0,K2397=0),,IF(G2397=0,\"KUNDE/LEV NR ?\",VLOOKUP(G2397,Register!$K$1:$L$618,2)))","v":0},0,null,0,null,0,null,null,0,0,0,0,0,0]
[null,0,null,0,null,null,null,"00:00:00",0,0,0,{"$f":"IF(AND(J2398=0,K2398=0),,IF(G2398=0,\"KUNDE/LEV NR ?\",VLOOKUP(G2398,Register!$K$1:$L$618,2)))","v":0},0,null,0,null,0,null,null,0,0,0,0,0,0]
[null,0,null,0,null,null,null,"00:00:00",0,0,0,{"$f":"IF(AND(J2399=0,K2399=0),,IF(G2399=0,\"KUNDE/LEV NR ?\",VLOOKUP(G2399,Register!$K$1:$L$618,2)))","v":0},0,null,0,null,0,null,null,0,0,0,0,0,0]
[null,0,null,0,null,null,null,"00:00:00",0,0,0,{"$f":"IF(AND(J2400=0,K2400=0),,IF(G2400=0,\"KUNDE/LEV NR ?\",VLOOKUP(G2400,Register!$K$1:$L$618,2)))","v":0},0,null,0,null,0,null,null,0,0,0,0,0,0]
[null,0,null,0,null,null,null,"00:00:00",0,0,0,{"$f":"IF(AND(J2401=0,K2401=0),,IF(G2401=0,\"KUNDE/LEV NR ?\",VLOOKUP(G2401,Register!$K$1:$L$618,2)))","v":0},0,null,0,null,0,null,null,0,0,0,0,0,0]
[null,0,null,0,null,null,null,"00:00:00",0,0,0,{"$f":"IF(AND(J2402=0,K2402=0),,IF(G2402=0,\"KUNDE/LEV NR ?\",VLOOKUP(G2402,Register!$K$1:$L$618,2)))","v":0},0,null,0,null,0,null,null,0,0,0,0,0,0]
[null,0,null,0,null,null,null,"00:00:00",0,0,0,{"$f":"IF(AND(J2403=0,K2403=0),,IF(G2403=0,\"KUNDE/LEV NR ?\",VLOOKUP(G2403,Register!$K$1:$L$618,2)))","v":0},0,null,0,null,0,null,null,0,0,0,0,0,0]
[null,0,null,0,null,null,null,"00:00:00",0,0,0,{"$f":"IF(AND(J2404=0,K2404=0),,IF(G2404=0,\"KUNDE/LEV NR ?\",VLOOKUP(G2404,Register!$K$1:$L$618,2)))","v":0},0,null,0,null,0,null,null,0,0,0,0,0,0]
[null,0,null,0,null,null,null,"00:00:00",0,0,0,{"$f":"IF(AND(J2405=0,K2405=0),,IF(G2405=0,\"KUNDE/LEV NR ?\",VLOOKUP(G2405,Register!$K$1:$L$618,2)))","v":0},0,null,0,null,0,null,null,0,0,0,0,0,0]
[null,0,null,0,null,null,null,"00:00:00",0,0,0,{"$f":"IF(AND(J2406=0,K2406=0),,IF(G2406=0,\"KUNDE/LEV NR ?\",VLOOKUP(G2406,Register!$K$1:$L$618,2)))","v":0},0,null,0,null,0,null,null,0,0,0,0,0,0]
[null,0,null,0,null,null,null,"00:00:00",0,0,0,{"$f":"IF(AND(J2407=0,K2407=0),,IF(G2407=0,\"KUNDE/LEV NR ?\",VLOOKUP(G2407,Register!$K$1:$L$618,2)))","v":0},0,null,0,null,0,null,null,0,0,0,0,0,0]
[null,0,null,0,null,null,null,"00:00:00",0,0,0,{"$f":"IF(AND(J2408=0,K2408=0),,IF(G2408=0,\"KUNDE/LEV NR ?\",VLOOKUP(G2408,Register!$K$1:$L$618,2)))","v":0},0,null,0,null,0,null,null,0,0,0,0,0,0]
[null,0,null,0,null,null,null,"00:00:00",0,0,0,{"$f":"IF(AND(J2409=0,K2409=0),,IF(G2409=0,\"KUNDE/LEV NR ?\",VLOOKUP(G2409,Register!$K$1:$L$618,2)))","v":0},0,null,0,null,0,null,null,0,0,0,0,0,0]
[null,0,null,0,null,null,null,"00:00:00",0,0,0,{"$f":"IF(AND(J2410=0,K2410=0),,IF(G2410=0,\"KUNDE/LEV NR ?\",VLOOKUP(G2410,Register!$K$1:$L$618,2)))","v":0},0,null,0,null,0,null,null,0,0,0,0,0,0]
[null,0,null,0,null,null,null,"00:00:00",0,0,0,{"$f":"IF(AND(J2411=0,K2411=0),,IF(G2411=0,\"KUNDE/LEV NR ?\",VLOOKUP(G2411,Register!$K$1:$L$618,2)))","v":0},0,null,0,null,0,null,null,0,0,0,0,0,0]
[null,0,null,0,null,null,null,"00:00:00",0,0,0,{"$f":"IF(AND(J2412=0,K2412=0),,IF(G2412=0,\"KUNDE/LEV NR ?\",VLOOKUP(G2412,Register!$K$1:$L$618,2)))","v":0},0,null,0,null,0,null,null,0,0,0,0,0,0]
[null,0,null,0,null,null,null,"00:00:00",0,0,0,{"$f":"IF(AND(J2413=0,K2413=0),,IF(G2413=0,\"KUNDE/LEV NR ?\",VLOOKUP(G2413,Register!$K$1:$L$618,2)))","v":0},0,null,0,null,0,null,null,0,0,0,0,0,0]
[null,0,null,0,null,null,null,"00:00:00",0,0,0,{"$f":"IF(AND(J2414=0,K2414=0),,IF(G2414=0,\"KUNDE/LEV NR ?\",VLOOKUP(G2414,Register!$K$1:$L$618,2)))","v":0},0,null,0,null,0,null,null,0,0,0,0,0,0]
[null,0,null,0,null,null,null,"00:00:00",0,0,0,{"$f":"IF(AND(J2415=0,K2415=0),,IF(G2415=0,\"KUNDE/LEV NR ?\",VLOOKUP(G2415,Register!$K$1:$L$618,2)))","v":0},0,null,0,null,0,null,null,0,0,0,0,0,0]
[null,0,null,0,null,null,null,"00:00:00",0,0,0,{"$f":"IF(AND(J2416=0,K2416=0),,IF(G2416=0,\"KUNDE/LEV NR ?\",VLOOKUP(G2416,Register!$K$1:$L$618,2)))","v":0},0,null,0,null,0,null,null,0,0,0,0,0,0]
[null,0,null,0,null,null,null,"00:00:00",0,0,0,{"$f":"IF(AND(J2417=0,K2417=0),,IF(G2417=0,\"KUNDE/LEV NR ?\",VLOOKUP(G2417,Register!$K$1:$L$618,2)))","v":0},0,null,0,null,0,null,null,0,0,0,0,0,0]
[null,0,null,0,null,null,null,"00:00:00",0,0,0,{"$f":"IF(AND(J2418=0,K2418=0),,IF(G2418=0,\"KUNDE/LEV NR ?\",VLOOKUP(G2418,Register!$K$1:$L$618,2)))","v":0},0,null,0,null,0,null,null,0,0,0,0,0,0]
[null,0,null,0,null,null,null,"00:00:00",0,0,0,{"$f":"IF(AND(J2419=0,K2419=0),,IF(G2419=0,\"KUNDE/LEV NR ?\",VLOOKUP(G2419,Register!$K$1:$L$618,2)))","v":0},0,null,0,null,0,null,null,0,0,0,0,0,0]
[null,0,null,0,null,null,null,"00:00:00",0,0,0,{"$f":"IF(AND(J2420=0,K2420=0),,IF(G2420=0,\"KUNDE/LEV NR ?\",VLOOKUP(G2420,Register!$K$1:$L$618,2)))","v":0},0,null,0,null,0,null,null,0,0,0,0,0,0]
[null,0,null,0,null,null,null,"00:00:00",0,0,0,{"$f":"IF(AND(J2421=0,K2421=0),,IF(G2421=0,\"KUNDE/LEV NR ?\",VLOOKUP(G2421,Register!$K$1:$L$618,2)))","v":0},0,null,0,null,0,null,null,0,0,0,0,0,0]
[null,0,null,0,null,null,null,"00:00:00",0,0,0,{"$f":"IF(AND(J2422=0,K2422=0),,IF(G2422=0,\"KUNDE/LEV NR ?\",VLOOKUP(G2422,Register!$K$1:$L$618,2)))","v":0},0,null,0,null,0,null,null,0,0,0,0,0,0]
[null,0,null,0,null,null,null,"00:00:00",0,0,0,{"$f":"IF(AND(J2423=0,K2423=0),,IF(G2423=0,\"KUNDE/LEV NR ?\",VLOOKUP(G2423,Register!$K$1:$L$618,2)))","v":0},0,null,0,null,0,null,null,0,0,0,0,0,0]
[null,0,null,0,null,null,null,"00:00:00",0,0,0,{"$f":"IF(AND(J2424=0,K2424=0),,IF(G2424=0,\"KUNDE/LEV NR ?\",VLOOKUP(G2424,Register!$K$1:$L$618,2)))","v":0},0,null,0,null,0,null,null,0,0,0,0,0,0]
[null,0,null,0,null,null,null,"00:00:00",0,0,0,{"$f":"IF(AND(J2425=0,K2425=0),,IF(G2425=0,\"KUNDE/LEV NR ?\",VLOOKUP(G2425,Register!$K$1:$L$618,2)))","v":0},0,null,0,null,0,null,null,0,0,0,0,0,0]
[null,0,null,0,null,null,null,"00:00:00",0,0,0,{"$f":"IF(AND(J2426=0,K2426=0),,IF(G2426=0,\"KUNDE/LEV NR ?\",VLOOKUP(G2426,Register!$K$1:$L$618,2)))","v":0},0,null,0,null,0,null,null,0,0,0,0,0,0]
[null,0,null,0,null,null,null,"00:00:00",0,0,0,{"$f":"IF(AND(J2427=0,K2427=0),,IF(G2427=0,\"KUNDE/LEV NR ?\",VLOOKUP(G2427,Register!$K$1:$L$618,2)))","v":0},0,null,0,null,0,null,null,0,0,0,0,0,0]
[null,0,null,0,null,null,null,"00:00:00",0,0,0,{"$f":"IF(AND(J2428=0,K2428=0),,IF(G2428=0,\"KUNDE/LEV NR ?\",VLOOKUP(G2428,Register!$K$1:$L$618,2)))","v":0},0,null,0,null,0,null,null,0,0,0,0,0,0]
[null,0,null,0,null,null,null,"00:00:00",0,0,0,{"$f":"IF(AND(J2429=0,K2429=0),,IF(G2429=0,\"KUNDE/LEV NR ?\",VLOOKUP(G2429,Register!$K$1:$L$618,2)))","v":0},0,null,0,null,0,null,null,0,0,0,0,0,0]
[null,0,null,0,null,null,null,"00:00:00",0,0,0,{"$f":"IF(AND(J2430=0,K2430=0),,IF(G2430=0,\"KUNDE/LEV NR ?\",VLOOKUP(G2430,Register!$K$1:$L$618,2)))","v":0},0,null,0,null,0,null,null,0,0,0,0,0,0]
[null,0,null,0,null,null,null,"00:00:00",0,0,0,{"$f":"IF(AND(J2431=0,K2431=0),,IF(G2431=0,\"KUNDE/LEV NR ?\",VLOOKUP(G2431,Register!$K$1:$L$618,2)))","v":0},0,null,0,null,0,null,null,0,0,0,0,0,0]
[null,0,null,0,null,null,null,"00:00:00",0,0,0,{"$f":"IF(AND(J2432=0,K2432=0),,IF(G2432=0,\"KUNDE/LEV NR ?\",VLOOKUP(G2432,Register!$K$1:$L$618,2)))","v":0},0,null,0,null,0,null,null,0,0,0,0,0,0]
[null,0,null,0,null,null,null,"00:00:00",0,0,0,{"$f":"IF(AND(J2433=0,K2433=0),,IF(G2433=0,\"KUNDE/LEV NR ?\",VLOOKUP(G2433,Register!$K$1:$L$618,2)))","v":0},0,null,0,null,0,null,null,0,0,0,0,0,0]
[null,0,null,0,null,null,null,"00:00:00",0,0,0,{"$f":"IF(AND(J2434=0,K2434=0),,IF(G2434=0,\"KUNDE/LEV NR ?\",VLOOKUP(G2434,Register!$K$1:$L$618,2)))","v":0},0,null,0,null,0,null,null,0,0,0,0,0,0]
[null,0,null,0,null,null,null,"00:00:00",0,0,0,{"$f":"IF(AND(J2435=0,K2435=0),,IF(G2435=0,\"KUNDE/LEV NR ?\",VLOOKUP(G2435,Register!$K$1:$L$618,2)))","v":0},0,null,0,null,0,null,null,0,0,0,0,0,0]
[null,0,null,0,null,null,null,"00:00:00",0,0,0,{"$f":"IF(AND(J2436=0,K2436=0),,IF(G2436=0,\"KUNDE/LEV NR ?\",VLOOKUP(G2436,Register!$K$1:$L$618,2)))","v":0},0,null,0,null,0,null,null,0,0,0,0,0,0]
[null,0,null,0,null,null,null,"00:00:00",{"$f":"IF(H2437>0,\"d\",)","v":0},0,0,{"$f":"IF(AND(J2437=0,K2437=0),,IF(G2437=0,\"KUNDE/LEV NR ?\",VLOOKUP(G2437,Register!$K$1:$L$618,2)))","v":0},0,null,0,null,0,null,null,0,0,{"$f":"IF(R2437=0,,R2437/(1+VLOOKUP(P2437,$AC$5:$AD$362,2)))","v":0},{"$f":"IF(S2437=0,,S2437/(1+VLOOKUP(P2437,$AC$5:$AD$362,2)))","v":0},{"$f":"IF(P2437=0,,IF(P2437=P2438,,VLOOKUP(P2437,$AC$5:$AE$364,3)))","v":0},{"$f":"IF(P2437=0,,IF(P2437=P2438,,VLOOKUP(P2437,$AC$5:$AF$362,4)))","v":0}]
[null,0,null,0,null,null,null,"00:00:00",0,0,0,{"$f":"IF(AND(J2438=0,K2438=0),,IF(G2438=0,\"KUNDE/LEV NR ?\",VLOOKUP(G2438,Register!$K$1:$L$618,2)))","v":0},0,null,0,null,0,null,null,0,0,0,0,0,0]
[null,0,null,0,null,null,null,"00:00:00",0,0,0,{"$f":"IF(AND(J2439=0,K2439=0),,IF(G2439=0,\"KUNDE/LEV NR ?\",VLOOKUP(G2439,Register!$K$1:$L$618,2)))","v":0},{"$f":"IF(ISNUMBER(A2439+B2439+E2439+F2439+G2439+H2439+J2439+K2439),A2439+B2439+E2439+F2439+G2439+H2439+J2439+K2439,\"FEIL\")","v":0},null,0,null,0,null,null,0,0,0,0,0,0]
[null,0,null,0,null,null,null,"00:00:00",0,0,0,{"$f":"IF(AND(J2440=0,K2440=0),,IF(G2440=0,\"KUNDE/LEV NR ?\",VLOOKUP(G2440,Register!$K$1:$L$618,2)))","v":0},0,null,0,null,0,null,null,0,0,0,0,0,0]
[null,0,null,0,null,null,null,"00:00:00",0,0,0,{"$f":"IF(AND(J2441=0,K2441=0),,IF(G2441=0,\"KUNDE/LEV NR ?\",VLOOKUP(G2441,Register!$K$1:$L$618,2)))","v":0},0,null,0,null,0,null,null,0,0,0,0,0,0]
[null,0,null,0,null,null,null,"00:00:00",0,0,0,{"$f":"IF(AND(J2442=0,K2442=0),,IF(G2442=0,\"KUNDE/LEV NR ?\",VLOOKUP(G2442,Register!$K$1:$L$618,2)))","v":0},0,null,0,null,0,null,null,0,0,0,0,0,0]
[null,{"$f":"IF(A2443>0,B2442+1,)","v":0},null,0,null,null,null,{"$f":"A2443","v":"00:00:00"},0,{"$f":"E2443*-1+F2443","v":0},0,{"$f":"IF(AND(J2443=0,K2443=0),,IF(G2443=0,\"KUNDE/LEV NR ?\",VLOOKUP(G2443,Register!$K$1:$L$618,2)))","v":0},0,null,0,null,0,null,null,0,0,0,0,0,0]
[null,0,null,0,null,null,null,"00:00:00",0,0,0,{"$f":"IF(AND(J2444=0,K2444=0),,IF(G2444=0,\"KUNDE/LEV NR ?\",VLOOKUP(G2444,Register!$K$1:$L$618,2)))","v":0},0,null,0,null,0,null,null,0,0,0,0,0,0]
[null,0,null,0,null,null,null,"00:00:00",0,0,0,{"$f":"IF(AND(J2445=0,K2445=0),,IF(G2445=0,\"KUNDE/LEV NR ?\",VLOOKUP(G2445,Register!$K$1:$L$618,2)))","v":0},0,null,0,null,0,null,null,0,0,0,0,0,0]
[null,0,null,0,null,null,null,"00:00:00",0,0,0,{"$f":"IF(AND(J2446=0,K2446=0),,IF(G2446=0,\"KUNDE/LEV NR ?\",VLOOKUP(G2446,Register!$K$1:$L$618,2)))","v":0},0,null,0,null,0,null,null,{"$f":"R2446-V2446","v":0},{"$f":"S2446-W2446","v":0},0,0,0,0]
[null,0,null,0,null,null,null,"00:00:00",0,0,0,{"$f":"IF(AND(J2447=0,K2447=0),,IF(G2447=0,\"KUNDE/LEV NR ?\",VLOOKUP(G2447,Register!$K$1:$L$618,2)))","v":0},0,null,0,null,0,null,null,0,0,0,0,0,0]
[null,0,null,0,null,null,null,"00:00:00",0,0,0,{"$f":"IF(AND(J2448=0,K2448=0),,IF(G2448=0,\"KUNDE/LEV NR ?\",VLOOKUP(G2448,Register!$K$1:$L$618,2)))","v":0},0,null,0,null,0,null,null,0,0,0,0,0,0]
[null,0,null,{"$f":"IF(C2449=0,,VLOOKUP(C2449,$AA$4:$AB$935,2))","v":0},null,null,null,"00:00:00",0,0,{"$f":"IF(AND(A2449>0,H2449>0),J2449*-1,)","v":0},{"$f":"IF(AND(J2449=0,K2449=0),,IF(G2449=0,\"KUNDE/LEV NR ?\",VLOOKUP(G2449,Register!$K$1:$L$618,2)))","v":0},0,null,0,null,0,null,null,0,0,0,0,0,0]
[null,0,null,0,null,null,null,"00:00:00",0,0,0,{"$f":"IF(AND(J2450=0,K2450=0),,IF(G2450=0,\"KUNDE/LEV NR ?\",VLOOKUP(G2450,Register!$K$1:$L$618,2)))","v":0},0,null,0,null,0,null,null,0,0,0,0,0,0]
[null,0,null,0,null,null,null,"00:00:00",0,0,0,{"$f":"IF(AND(J2451=0,K2451=0),,IF(G2451=0,\"KUNDE/LEV NR ?\",VLOOKUP(G2451,Register!$K$1:$L$618,2)))","v":0},0,null,0,null,0,null,null,0,0,0,0,0,0]
[null,0,null,0,null,null,null,"00:00:00",0,0,0,{"$f":"IF(AND(J2452=0,K2452=0),,IF(G2452=0,\"KUNDE/LEV NR ?\",VLOOKUP(G2452,Register!$K$1:$L$618,2)))","v":0},0,null,0,null,0,null,null,0,0,0,0,0,0]
[null,0,null,0,null,null,null,"00:00:00",0,0,0,{"$f":"IF(AND(J2453=0,K2453=0),,IF(G2453=0,\"KUNDE/LEV NR ?\",VLOOKUP(G2453,Register!$K$1:$L$618,2)))","v":0},0,null,0,null,0,null,null,0,0,0,0,0,0]
[null,0,null,0,null,null,null,"00:00:00",0,0,0,{"$f":"IF(AND(J2454=0,K2454=0),,IF(G2454=0,\"KUNDE/LEV NR ?\",VLOOKUP(G2454,Register!$K$1:$L$618,2)))","v":0},0,null,0,null,0,null,null,0,0,0,0,0,0]
[null,0,null,0,null,null,null,"00:00:00",0,0,0,{"$f":"IF(AND(J2455=0,K2455=0),,IF(G2455=0,\"KUNDE/LEV NR ?\",VLOOKUP(G2455,Register!$K$1:$L$618,2)))","v":0},0,null,0,null,0,null,null,0,0,0,0,0,0]
[null,0,null,0,null,null,null,"00:00:00",0,0,0,{"$f":"IF(AND(J2456=0,K2456=0),,IF(G2456=0,\"KUNDE/LEV NR ?\",VLOOKUP(G2456,Register!$K$1:$L$618,2)))","v":0},0,null,0,null,0,null,null,0,0,0,0,0,0]
[null,0,null,0,null,null,null,"00:00:00",0,0,0,{"$f":"IF(AND(J2457=0,K2457=0),,IF(G2457=0,\"KUNDE/LEV NR ?\",VLOOKUP(G2457,Register!$K$1:$L$618,2)))","v":0},0,null,0,null,0,null,null,0,0,0,0,0,0]
[null,0,null,0,null,null,null,"00:00:00",0,0,0,{"$f":"IF(AND(J2458=0,K2458=0),,IF(G2458=0,\"KUNDE/LEV NR ?\",VLOOKUP(G2458,Register!$K$1:$L$618,2)))","v":0},0,null,0,null,0,null,null,0,0,0,0,0,0]
[null,0,null,0,null,null,null,"00:00:00",0,0,0,{"$f":"IF(AND(J2459=0,K2459=0),,IF(G2459=0,\"KUNDE/LEV NR ?\",VLOOKUP(G2459,Register!$K$1:$L$618,2)))","v":0},0,null,0,null,0,null,null,0,0,0,0,0,0]
[null,0,null,0,null,null,null,"00:00:00",0,0,0,{"$f":"IF(AND(J2460=0,K2460=0),,IF(G2460=0,\"KUNDE/LEV NR ?\",VLOOKUP(G2460,Register!$K$1:$L$618,2)))","v":0},0,null,0,null,0,null,null,0,0,0,0,0,0]
[null,0,null,0,null,null,null,"00:00:00",0,0,0,{"$f":"IF(AND(J2461=0,K2461=0),,IF(G2461=0,\"KUNDE/LEV NR ?\",VLOOKUP(G2461,Register!$K$1:$L$618,2)))","v":0},0,null,0,null,0,null,null,0,0,0,0,0,0]
[null,0,null,0,null,null,null,"00:00:00",0,0,0,{"$f":"IF(AND(J2462=0,K2462=0),,IF(G2462=0,\"KUNDE/LEV NR ?\",VLOOKUP(G2462,Register!$K$1:$L$618,2)))","v":0},0,null,0,null,0,null,null,0,0,0,0,0,0]
[null,0,null,0,null,null,null,"00:00:00",0,0,0,{"$f":"IF(AND(J2463=0,K2463=0),,IF(G2463=0,\"KUNDE/LEV NR ?\",VLOOKUP(G2463,Register!$K$1:$L$618,2)))","v":0},0,null,0,null,0,null,null,0,0,0,0,0,0]
[null,0,null,0,null,null,null,"00:00:00",0,0,0,{"$f":"IF(AND(J2464=0,K2464=0),,IF(G2464=0,\"KUNDE/LEV NR ?\",VLOOKUP(G2464,Register!$K$1:$L$618,2)))","v":0},0,null,0,null,0,null,null,0,0,0,0,0,0]
[null,0,null,0,null,null,null,"00:00:00",0,0,0,{"$f":"IF(AND(J2465=0,K2465=0),,IF(G2465=0,\"KUNDE/LEV NR ?\",VLOOKUP(G2465,Register!$K$1:$L$618,2)))","v":0},0,null,0,null,0,null,null,0,0,0,0,0,0]
[null,0,null,0,null,null,null,"00:00:00",0,0,0,{"$f":"IF(AND(J2466=0,K2466=0),,IF(G2466=0,\"KUNDE/LEV NR ?\",VLOOKUP(G2466,Register!$K$1:$L$618,2)))","v":0},0,null,0,null,0,null,null,0,0,0,0,0,0]
[null,0,null,0,null,null,null,"00:00:00",0,0,0,{"$f":"IF(AND(J2467=0,K2467=0),,IF(G2467=0,\"KUNDE/LEV NR ?\",VLOOKUP(G2467,Register!$K$1:$L$618,2)))","v":0},0,null,0,null,0,null,null,0,0,0,0,0,0]
[null,0,null,0,null,null,null,"00:00:00",0,0,0,{"$f":"IF(AND(J2468=0,K2468=0),,IF(G2468=0,\"KUNDE/LEV NR ?\",VLOOKUP(G2468,Register!$K$1:$L$618,2)))","v":0},0,null,0,null,0,null,null,0,0,0,0,0,0]
[null,0,null,0,null,null,null,"00:00:00",0,0,0,{"$f":"IF(AND(J2469=0,K2469=0),,IF(G2469=0,\"KUNDE/LEV NR ?\",VLOOKUP(G2469,Register!$K$1:$L$618,2)))","v":0},0,null,0,null,0,null,null,0,0,0,0,0,0]
[null,0,null,0,null,null,null,"00:00:00",0,0,0,{"$f":"IF(AND(J2470=0,K2470=0),,IF(G2470=0,\"KUNDE/LEV NR ?\",VLOOKUP(G2470,Register!$K$1:$L$618,2)))","v":0},0,null,0,null,0,null,null,0,0,0,0,0,0]
[null,0,null,0,null,null,null,"00:00:00",0,0,0,{"$f":"IF(AND(J2471=0,K2471=0),,IF(G2471=0,\"KUNDE/LEV NR ?\",VLOOKUP(G2471,Register!$K$1:$L$618,2)))","v":0},0,null,0,null,0,null,null,0,0,0,0,0,0]
[null,0,null,0,null,null,null,"00:00:00",0,0,0,{"$f":"IF(AND(J2472=0,K2472=0),,IF(G2472=0,\"KUNDE/LEV NR ?\",VLOOKUP(G2472,Register!$K$1:$L$618,2)))","v":0},0,null,0,null,0,null,null,0,0,0,0,0,0]
[null,0,null,0,null,null,null,"00:00:00",0,0,0,{"$f":"IF(AND(J2473=0,K2473=0),,IF(G2473=0,\"KUNDE/LEV NR ?\",VLOOKUP(G2473,Register!$K$1:$L$618,2)))","v":0},0,null,0,null,0,null,null,0,0,0,0,0,0]
[null,0,null,0,null,null,null,"00:00:00",0,0,0,{"$f":"IF(AND(J2474=0,K2474=0),,IF(G2474=0,\"KUNDE/LEV NR ?\",VLOOKUP(G2474,Register!$K$1:$L$618,2)))","v":0},0,null,0,null,0,null,null,0,0,0,0,0,0]
[null,0,null,0,null,null,null,"00:00:00",0,0,0,{"$f":"IF(AND(J2475=0,K2475=0),,IF(G2475=0,\"KUNDE/LEV NR ?\",VLOOKUP(G2475,Register!$K$1:$L$618,2)))","v":0},0,null,0,null,0,null,null,0,0,0,0,0,0]
[null,0,null,0,null,null,null,"00:00:00",0,0,0,{"$f":"IF(AND(J2476=0,K2476=0),,IF(G2476=0,\"KUNDE/LEV NR ?\",VLOOKUP(G2476,Register!$K$1:$L$618,2)))","v":0},0,null,0,null,0,null,null,0,0,0,0,0,0]
[null,0,null,0,null,null,null,"00:00:00",0,0,0,{"$f":"IF(AND(J2477=0,K2477=0),,IF(G2477=0,\"KUNDE/LEV NR ?\",VLOOKUP(G2477,Register!$K$1:$L$618,2)))","v":0},0,null,0,null,0,null,null,0,0,0,0,0,0]
[null,0,null,0,null,null,null,"00:00:00",0,0,0,{"$f":"IF(AND(J2478=0,K2478=0),,IF(G2478=0,\"KUNDE/LEV NR ?\",VLOOKUP(G2478,Register!$K$1:$L$618,2)))","v":0},0,null,0,null,0,null,null,0,0,0,0,0,0]
[null,0,null,0,null,null,null,"00:00:00",0,0,0,{"$f":"IF(AND(J2479=0,K2479=0),,IF(G2479=0,\"KUNDE/LEV NR ?\",VLOOKUP(G2479,Register!$K$1:$L$618,2)))","v":0},0,null,0,null,0,null,null,0,0,0,0,0,0]
[null,0,null,0,null,null,null,"00:00:00",0,0,0,{"$f":"IF(AND(J2480=0,K2480=0),,IF(G2480=0,\"KUNDE/LEV NR ?\",VLOOKUP(G2480,Register!$K$1:$L$618,2)))","v":0},0,null,0,null,0,null,null,0,0,0,0,0,0]
[null,0,null,0,null,null,null,"00:00:00",0,0,0,{"$f":"IF(AND(J2481=0,K2481=0),,IF(G2481=0,\"KUNDE/LEV NR ?\",VLOOKUP(G2481,Register!$K$1:$L$618,2)))","v":0},0,null,0,null,0,null,null,0,0,0,0,0,0]
[null,0,null,0,null,null,null,"00:00:00",0,0,0,{"$f":"IF(AND(J2482=0,K2482=0),,IF(G2482=0,\"KUNDE/LEV NR ?\",VLOOKUP(G2482,Register!$K$1:$L$618,2)))","v":0},0,null,0,null,0,null,null,0,0,0,0,0,0]
[null,0,null,0,null,null,null,"00:00:00",0,0,0,{"$f":"IF(AND(J2483=0,K2483=0),,IF(G2483=0,\"KUNDE/LEV NR ?\",VLOOKUP(G2483,Register!$K$1:$L$618,2)))","v":0},0,null,0,null,0,null,null,0,0,0,0,0,0]
[null,0,null,0,null,null,null,"00:00:00",0,0,0,{"$f":"IF(AND(J2484=0,K2484=0),,IF(G2484=0,\"KUNDE/LEV NR ?\",VLOOKUP(G2484,Register!$K$1:$L$618,2)))","v":0},0,null,0,null,0,null,null,0,0,0,0,0,0]
[null,0,null,0,null,null,null,"00:00:00",0,0,0,{"$f":"IF(AND(J2485=0,K2485=0),,IF(G2485=0,\"KUNDE/LEV NR ?\",VLOOKUP(G2485,Register!$K$1:$L$618,2)))","v":0},0,null,0,null,0,null,null,0,0,0,0,0,0]
[null,0,null,0,null,null,null,"00:00:00",0,0,0,{"$f":"IF(AND(J2486=0,K2486=0),,IF(G2486=0,\"KUNDE/LEV NR ?\",VLOOKUP(G2486,Register!$K$1:$L$618,2)))","v":0},0,null,0,null,0,null,null,0,0,0,0,0,0]
[null,0,null,0,null,null,null,"00:00:00",0,0,0,{"$f":"IF(AND(J2487=0,K2487=0),,IF(G2487=0,\"KUNDE/LEV NR ?\",VLOOKUP(G2487,Register!$K$1:$L$618,2)))","v":0},0,null,0,null,0,null,null,0,0,0,0,0,0]
[null,0,null,0,null,null,null,"00:00:00",0,0,0,{"$f":"IF(AND(J2488=0,K2488=0),,IF(G2488=0,\"KUNDE/LEV NR ?\",VLOOKUP(G2488,Register!$K$1:$L$618,2)))","v":0},0,null,0,null,0,null,null,0,0,0,0,0,0]
[null,0,null,0,null,null,null,"00:00:00",0,0,0,{"$f":"IF(AND(J2489=0,K2489=0),,IF(G2489=0,\"KUNDE/LEV NR ?\",VLOOKUP(G2489,Register!$K$1:$L$618,2)))","v":0},0,null,0,null,0,null,null,0,0,0,0,0,0]
[null,0,null,0,null,null,null,"00:00:00",0,0,0,{"$f":"IF(AND(J2490=0,K2490=0),,IF(G2490=0,\"KUNDE/LEV NR ?\",VLOOKUP(G2490,Register!$K$1:$L$618,2)))","v":0},0,null,0,null,0,null,null,0,0,0,0,0,0]
[null,0,null,0,null,null,null,"00:00:00",0,0,0,{"$f":"IF(AND(J2491=0,K2491=0),,IF(G2491=0,\"KUNDE/LEV NR ?\",VLOOKUP(G2491,Register!$K$1:$L$618,2)))","v":0},0,null,0,null,0,null,null,0,0,0,0,0,0]
[null,0,null,0,null,null,null,"00:00:00",0,0,0,{"$f":"IF(AND(J2492=0,K2492=0),,IF(G2492=0,\"KUNDE/LEV NR ?\",VLOOKUP(G2492,Register!$K$1:$L$618,2)))","v":0},0,null,0,null,0,null,null,0,0,0,0,0,0]
[null,0,null,0,null,null,null,"00:00:00",0,0,0,{"$f":"IF(AND(J2493=0,K2493=0),,IF(G2493=0,\"KUNDE/LEV NR ?\",VLOOKUP(G2493,Register!$K$1:$L$618,2)))","v":0},0,null,0,null,0,null,null,0,0,0,0,0,0]
[null,0,null,0,null,null,null,"00:00:00",0,0,0,{"$f":"IF(AND(J2494=0,K2494=0),,IF(G2494=0,\"KUNDE/LEV NR ?\",VLOOKUP(G2494,Register!$K$1:$L$618,2)))","v":0},0,null,0,null,0,null,null,0,0,0,0,0,0]
[null,0,null,0,null,null,null,"00:00:00",0,0,0,{"$f":"IF(AND(J2495=0,K2495=0),,IF(G2495=0,\"KUNDE/LEV NR ?\",VLOOKUP(G2495,Register!$K$1:$L$618,2)))","v":0},0,null,0,null,0,null,null,0,0,0,0,0,0]
[null,0,null,0,null,null,null,"00:00:00",0,0,0,{"$f":"IF(AND(J2496=0,K2496=0),,IF(G2496=0,\"KUNDE/LEV NR ?\",VLOOKUP(G2496,Register!$K$1:$L$618,2)))","v":0},0,null,0,null,0,null,null,0,0,0,0,0,0]
[null,0,null,0,null,null,null,"00:00:00",0,0,0,{"$f":"IF(AND(J2497=0,K2497=0),,IF(G2497=0,\"KUNDE/LEV NR ?\",VLOOKUP(G2497,Register!$K$1:$L$618,2)))","v":0},0,null,0,null,0,null,null,0,0,0,0,0,0]
[null,{"$f":"IF(A2498>0,B2497+1,)","v":0},null,0,null,null,null,"00:00:00",0,0,0,{"$f":"IF(AND(J2498=0,K2498=0),,IF(G2498=0,\"KUNDE/LEV NR ?\",VLOOKUP(G2498,Register!$K$1:$L$618,2)))","v":0},0,null,0,null,0,null,null,0,0,0,0,0,0]
[null,{"$f":"IF(A2499>0,B2498+1,)","v":0},null,0,null,null,null,"00:00:00",0,0,0,{"$f":"IF(AND(J2499=0,K2499=0),,IF(G2499=0,\"KUNDE/LEV NR ?\",VLOOKUP(G2499,Register!$K$1:$L$618,2)))","v":0},0,null,0,null,0,null,null,0,0,0,0,0,0]
[null,{"$f":"IF(A2500>0,B2499+1,)","v":0},null,0,null,null,null,"00:00:00",0,0,0,{"$f":"IF(AND(J2500=0,K2500=0),,IF(G2500=0,\"KUNDE/LEV NR ?\",VLOOKUP(G2500,Register!$K$1:$L$618,2)))","v":0},0,null,0,null,0]

{"sheet":"Kontoplan","index":1,"n_rows":147,"n_cols":6,"rows_kept":147,"cut":false,"hidden":false,"merged":[]}
[null,null,"Kontoplan - anna næring",null,null,{"$f":"NOW()","v":"2023-02-14T14:30:01.240"}]
[null,"Kapitalkonti:",null,null,"Mva-sats","Post i nær.oppg"]
[null,1080,"Goodwill (saldogruppe b)",null,0,1080]
[null,1105,"Forretningsbygg (saldogr i)",null,0.25,1105]
[null,1106,"Forretningsbygg (s.gr i), avg.fritt",null,0,1105]
[null,1107,"Sal av forretningsbygg (s.gr i)",null,0,1105]
[null,1115,"Bygg og anlegg,(saldogr h)",null,0.25,1115]
[null,1116,"Bygg og anlegg,(s.gr h), avg.fritt",null,0,1115]
[null,1117,"Sal av bygg og anl,(saldogr h)",null,0,1115]
[null,1118,"Nedskrivingstilskot, bygg/anlegg",null,0,1115]
[null,1120,"Fast teknisk install i bygn.(sgr j)",null,0.25,1120]
[null,1121,"Fast teknisk install avgiftsfri (sgr j)",null,0,1120]
[null,1122,"Sal av fast tekn. Install (sgr j)",null,0,1120]
[null,1130,"Bygg og anl under arbeid",null,0.25,1130]
[null,1131,"Bygg og anl under arb, avg.fritt",null,0,1130]
[null,1132,"Nedskrivingstilskot, bygg/anl.u.arb",null,0,1130]
[null,1150,"Tomter og andre grunnareal",null,0,1150]
[null,1151,"Sal av grunnareal",null,0,1150]
[null,1160,"Bustad inkl tomter, hytter",null,0,1160]
[null,1161,"Sal av bustad o.l.",null,0,1160]
[null,1205,"Maskiner, (saldogruppe d)",null,0.25,1205]
[null,1206,"Maskiner,(saldogruppe d), avgfri",null,0,1205]
[null,1207,"Sal av maskiner (saldogr d)",null,0.25,1205]
[null,1208,"Avg.fritt sal av maskiner (s.gruppe d)",null,0,1205]
[null,1239,"Vare-, lastebilar, bussar mv  (saldogr c)",null,0.25,1238]
[null,1240,"Vare-, lastebilar, (s.gr c), avg.fritt",null,0,1238]
[null,1241,"Sal av varebilar mv (saldogr c)",null,0,1238]
[null,1242,"Varebilar med nullutslepp (sgr c)",null,0.25,1239]
[null,1243,"Varebilar med nullutsl (sgr c) avg.fritt",null,0,1239]
[null,1244,"Sal av vareb.m.nullutslepp (sgr c)",null,0,1239]
[null,1280,"Kontormaskiner (saldogr a)",null,0.25,1280]
[null,1281,"Kontormaskiner (s.gr a), avg.fritt",null,0,1280]
[null,1282,"Sal av kontormask. (s.gr a)",null,0.25,1280]
[null,1295,"Forskotsleige leasing",null,0.25,1390]
[null,1299,"Negativ vinst- og tapskonto",null,0,1296]
[null,2096,"Positiv vinst- og tapskonto",null,0,2096]
[null,2710,"Inngåande mva  25%",null,null,"direkte til skattemelding mva"]
[null,2711,"Inngåande mva  15%",null,null,"direkte til skattemelding mva"]
[null,2712,"Inngåande mva  10%",null,null,"direkte til skattemelding mva"]
[null,4380,"Grunnlag for importmva 25%",null,null,"direkte til skattemelding mva"]
[null,4382,"Grunnlag for importmva 15%",null,null,"direkte til skattemelding mva"]
[null,"Inntekter:",null,"Eigen tekst","Mva-sats","Post i nær.oppg"]
[null,3000,"Salsinntekt og uttak, avg.pliktig",null,0.25,3000]
[null,3001,"Salsinntekt og uttak, avg.pliktig",null,0.25,3000]
[null,3002,"Salsinntekt og uttak, avg.pliktig",null,0.25,3000]
[null,3003,"Salsinntekt og uttak, avg.pliktig",null,0.25,3000]
[null,3004,"Salsinntekt og uttak, avg.pliktig",null,0.25,3000]
[null,3005,"Salsinntekt og uttak, matmoms",null,0.15,3000]
[null,3050,"Persontransport",null,0.12,3000]
[null,3100,"Salsinntekt og uttak, avg.fri",null,0,3100]
[null,3200,"Salsinntekt og uttak, utanf.avg.omr.",null,0,3200]
[null,3400,"Offentlege tilskot/refusjon",null,0,3400]
[null,3410,"Tilskot kompensasjonsordning",null,0,3410]
[null,3600,"Utleige av fast eigedom,avg.pliktig",null,0.25,3600]
[null,3601,"Utleige av hytter, låg mva-sats",null,0.12,3600]
[null,3602,"Utleige av fast eigedom, avgiftsfri",null,0,3600]
[null,3695,"Andre leigeinntekter",null,0,3695]
[null,3700,"Provisjonsinntekt",null,0.25,3700]
[null,3900,"Andre driftsrelaterte inntekter",null,0.25,3900]
[null,3901,"Andre driftsrel. inntekter, avg.fritt",null,0,3900]
[null,8099,"Anna kapitalinntekt",null,0,8079]
[null,8285,"Inntektsf. frå pos. vinst-/tapskonto",null,0,3890]
[null,"Utgifter:",null,"Eigen tekst","Mva-sats","Post i nær.oppg"]
[null,4005,"Varekostnad",null,0.25,4005]
[null,4006,"Varekostnad",null,0.25,4005]
[null,4007,"Varekostnad",null,0.25,4005]
[null,4008,"Varekostnad",null,0.25,4005]
[null,4009,"Varekostnad",null,0.25,4005]
[null,4010,"Varekostnad avgiftsfritt",null,0,4005]
[null,4011,"Varekostnad matmoms",null,0.15,4005]
[null,4500,"Framandyting",null,0.25,4500]
[null,4501,"Framandyting",null,0.25,4500]
[null,4502,"Framandyting",null,0.25,4500]
[null,4503,"Framandyting",null,0.25,4500]
[null,4504,"Framandyting",null,0.25,4500]
[null,4510,"Framandyting avgiftsfritt",null,0,4500]
[null,5000,"Løn",null,0,5000]
[null,5001,"Løn",null,0,5000]
[null,5002,"Løn",null,0,5000]
[null,5003,"Feriepengar",null,0,5000]
[null,5300,"Andre oppg.pliktige godtgjeringar",null,0,5300]
[null,5400,"Arbeidsgjevaravgift",null,0,5400]
[null,5401,"Arbeidsgjevaravgift, feriepengar",null,0,5400]
[null,5900,"Andre personalkostnader",null,0,5900]
[null,5950,"Eiga pensjonsordning",null,0,5950]
[null,6100,"Frakt og transportkostn. ved sal",null,0.25,6100]
[null,6101,"Frakt og transportkostn, avg.fritt",null,0,6100]
[null,6200,"Energi oa i samb med produksjon",null,0.25,6200]
[null,6201,"Energi oa avgiftsfritt",null,0,6200]
[null,6300,"Leige av lokale",null,0.25,6300]
[null,6301,"Leige av lokale, avg.fritt",null,0,6300]
[null,6310,"Leasingleige av bil",null,0.25,6440]
[null,6340,"Lys, varme",null,0.25,6340]
[null,6341,"Lys, varme, avg.fritt",null,0,6340]
[null,6395,"Renovasjon, vatn, avløp, reinhald",null,0.25,6395]
[null,6396,"Renovasjon mm, avg.fritt",null,0,6395]
[null,6400,"Andre leigekostnader",null,0.25,6400]
[null,6401,"Andre leigekostnader, avg.fritt",null,0,6400]
[null,6500,"Verktøy,inventar (ikkje aktiverast)",null,0.25,6500]
[null,6501,"Verktøy,inventar (ikkje aktiverast)",null,0.25,6500]
[null,6502,"Verktøy,inventar (ikkje aktiverast)",null,0.25,6500]
[null,6503,"Verktøy,inventar (ikkje aktiverast)",null,0.25,6500]
[null,6504,"Verktøy,inventar avgiftsfritt",null,0,6500]
[null,6600,"Rep. og vedl.h. av bygningar",null,0.25,6600]
[null,6601,"Rep. og vedl.h. av bygningar",null,0.25,6600]
[null,6602,"Rep. og vedl.h. av bygningar",null,0.25,6600]
[null,6603,"Rep. og vedl.h. av bygn, avg.fritt",null,0,6600]
[null,6695,"Rep. og vedl.h. av maskiner",null,0.25,6695]
[null,6700,"Tenester (rekneskap,rådgj)",null,0.25,6700]
[null,6701,"Tenester (rekneskap,rådgj)",null,0.25,6700]
[null,6702,"Framand teneste, avg.fritt",null,0,6700]
[null,6995,"Kontorkostnad, telefon, porto",null,0.25,6995]
[null,6996,"Kontorkostnad, telefon, porto",null,0.25,6995]
[null,6997,"Kontorkostnad, telefon, porto",null,0.25,6995]
[null,6998,"Kontorkostnad, telefon, porto",null,0.25,6995]
[null,6999,"Kontorkostnad, avgiftsfritt",null,0,6995]
[null,7000,"Drivstoff transportmiddel",null,0.25,7000]
[null,7001,"Drivstoff transportmiddel, avg.fritt",null,0,7000]
[null,7020,"Vedlikehald mm transportmiddel",null,0.25,7020]
[null,7021,"Vedlikehald transp.mid, avg.fritt",null,0,7020]
[null,7040,"Forsikring og avg. på transp.mid.",null,0,7040]
[null,7041,"Forsikring og avg. på transp.mid.",null,0,7040]
[null,7080,"Bruk av privat bil i næring",null,0,7080]
[null,7099,"Privat bruk av næringsbil  (minusført utgift)",null,0,7099]
[null,7155,"Reise-/diett og bilgodtgj, oppg.pl.",null,0,7155]
[null,7164,"Reise og diettkostn, ikkje oppg.pl",null,0.25,7165]
[null,7165,"Reise og diett ikkje oppg.pl,avgfri",null,0,7165]
[null,7166,"Persontransport, reiseutgifter",null,0.12,7165]
[null,7295,"Provisjonskostnad",null,0.25,7295]
[null,7296,"Provisjonskostnad, avg.fritt",null,0,7295]
[null,7330,"Sals og reklamekostnad",null,0.25,7330]
[null,7331,"Sals og reklamekostnad",null,0.25,7330]
[null,7332,"Sals og reklamekostnad, avg.fritt",null,0,7330]
[null,7350,"Representasjonskostnader",null,0,7350]
[null,7495,"Kontingent og gåve",null,0,7400]
[null,7500,"Forsikringspremie",null,0,7500]
[null,7501,"Forsikringspremie",null,0,7500]
[null,7502,"Forsikringspremie",null,0,7500]
[null,7600,"Lisens, patentkostnad royalty o.l.",null,0,7600]
[null,7700,"Andre kostnader med frådragsrett",null,0,7700]
[null,7895,"Konstaterte tap på krav",null,0,7830]
[null,7896,"Konstaterte tap på krav, med avgift",null,0.25,7830]
[null,8199,"Anna kapitalkostnad (ekskl. rente)",null,0,8179]
[null,8286,"Frådragsf. frå neg.vinst-/tapskonto",null,0,7890]
[]
[null,null,"NB: Alle telefonutgifter må førast på konto 6995-6999, fordeling til privat skjer"]
[null,null,"i arket Årsoppgjer"]

{"sheet":"Register","index":2,"n_rows":618,"n_cols":17,"rows_kept":618,"cut":false,"hidden":false,"merged":[[0,12,0,14],[0,1,0,5]]}
[null,"   Register - (nr til bruk i kolonna \"kunde lev nr\" i dagbok)",null,null,null,null,{"$f":"\"2022  \"&Årsoppgjer!F3","v":"2022  test"},null,null,null,1,{"$f":"IF(B10=\"\",\"UDEFINERT\",B10)","v":"Diverse kundar"},null,null,null,null,{"$f":"ROUND(D2-MVA!E23,)","v":0}]
[2740,"Oppgjerskonto mva",{"$f":"Årsoppgjer!M44-Årsoppgjer!H38","v":36000},{"$f":"ROUND(regformel!F604,)","v":28800},null,null,null,null,null,null,2,{"$f":"IF(B11=\"\",\"UDEFINERT\",B11)","v":"Arne Arnesen"}]
[2949,"Lønn, feriepengar",{"$f":"Årsoppgjer!M49","v":0},{"$f":"regformel!F605","v":0},null,null,null,null,null,null,3,"UDEFINERT"]
[2600,"Skattetrekk",{"$f":"Årsoppgjer!M43","v":0},{"$f":"regformel!F606","v":0},null,null,null,null,null,null,4,"UDEFINERT"]
[2770,"Arbeidsgj.avg",{"$f":"Årsoppgjer!M45","v":0},{"$f":"regformel!F607","v":0},null,null,null,null,null,null,5,"UDEFINERT"]
[2220,"Bankgjeld drifta (lån)",{"$f":"Årsoppgjer!M38","v":0},{"$f":"regformel!F608","v":0},null,null,null,null,null,null,6,"UDEFINERT"]
[2050,"Privatkonto",{"$f":"IF(SUM(C10:C308)=C8,,\"Differanse!\")","v":0},null,null,null,null,{"$f":"IF(SUM(H10:H309)=H8,,\"Differanse!\")","v":0},null,null,7,"UDEFINERT","Alfabetisk kunde/leverandørliste:"]
["Kundar:         frå fjoråret:",null,{"$f":"Årsoppgjer!C58","v":0},{"$f":"SUM(D10:D308)","v":0},"Leverandørar:",null,null,{"$f":"Årsoppgjer!M42","v":0},{"$f":"SUM(I10:I309)","v":0},null,8,"UDEFINERT","Kundar:",null,"Leverandørar:"]
["Nr","Namn","Saldo 1/1","ny saldo","Nr","Namn","Org.nr.","Saldo 1/1","ny saldo",null,9,"UDEFINERT","Nr","Namn","Nr","Namn"]
[1,"Diverse kundar",0,{"$f":"regformel!F2","v":0},300,"Diverse leverandørar",null,0,{"$f":"regformel!F303","v":0},{"$f":"IF(F10=\"\",IF(B10=\"\",,1),1)","v":1},10,"UDEFINERT",1,"Diverse kundar",300,"Diverse leverandørar"]
[2,"Arne Arnesen",0,{"$f":"regformel!F3","v":0},301,"Jernia",null,0,{"$f":"regformel!F304","v":0},{"$f":"IF(F11=\"\",IF(B11=\"\",,1),1)","v":1},11,"UDEFINERT",2,null,301]
[3,null,0,{"$f":"regformel!F4","v":0},302,null,null,0,{"$f":"regformel!F305","v":0},{"$f":"IF(F12=\"\",IF(B12=\"\",,1),1)","v":0},12,"UDEFINERT",3,null,302]
[4,null,0,{"$f":"regformel!F5","v":0},303,null,null,0,{"$f":"regformel!F306","v":0},0,13,"UDEFINERT",4,null,303]
[5,null,0,{"$f":"regformel!F6","v":0},304,null,null,0,{"$f":"regformel!F307","v":0},0,14,"UDEFINERT",5,null,304]
[6,null,0,{"$f":"regformel!F7","v":0},305,null,null,0,{"$f":"regformel!F308","v":0},0,15,"UDEFINERT",6,null,305]
[7,null,0,{"$f":"regformel!F8","v":0},306,null,null,0,{"$f":"regformel!F309","v":0},0,16,"UDEFINERT",7,null,306]
[8,null,0,{"$f":"regformel!F9","v":0},307,null,null,0,{"$f":"regformel!F310","v":0},0,17,"UDEFINERT",8,null,307]
[9,null,0,{"$f":"regformel!F10","v":0},308,null,null,0,{"$f":"regformel!F311","v":0},0,18,"UDEFINERT",9,null,308]
[10,null,0,{"$f":"regformel!F11","v":0},309,null,null,0,{"$f":"regformel!F312","v":0},0,19,"UDEFINERT",10,null,309]
[11,null,0,{"$f":"regformel!F12","v":0},310,null,null,0,{"$f":"regformel!F313","v":0},0,20,"UDEFINERT",11,null,310]
[12,null,0,{"$f":"regformel!F13","v":0},311,null,null,0,{"$f":"regformel!F314","v":0},0,21,"UDEFINERT",12,null,311]
[13,null,0,{"$f":"regformel!F14","v":0},312,null,null,0,{"$f":"regformel!F315","v":0},0,22,"UDEFINERT",13,null,312]
[14,null,0,{"$f":"regformel!F15","v":0},313,null,null,0,{"$f":"regformel!F316","v":0},0,23,"UDEFINERT",14,null,313]
[15,null,0,{"$f":"regformel!F16","v":0},314,null,null,0,{"$f":"regformel!F317","v":0},0,24,"UDEFINERT",15,null,314]
[16,null,0,{"$f":"regformel!F17","v":0},315,null,null,0,{"$f":"regformel!F318","v":0},0,25,"UDEFINERT",16,null,315]
[17,null,0,{"$f":"regformel!F18","v":0},316,null,null,0,{"$f":"regformel!F319","v":0},0,26,"UDEFINERT",17,null,316]
[18,null,0,{"$f":"regformel!F19","v":0},317,null,null,0,{"$f":"regformel!F320","v":0},0,27,"UDEFINERT",18,null,317]
[19,null,0,{"$f":"regformel!F20","v":0},318,null,null,0,{"$f":"regformel!F321","v":0},0,28,"UDEFINERT",19,null,318]
[20,null,0,{"$f":"regformel!F21","v":0},319,null,null,0,{"$f":"regformel!F322","v":0},0,29,"UDEFINERT",20,null,319]
[21,null,0,{"$f":"regformel!F22","v":0},320,null,null,0,{"$f":"regformel!F323","v":0},0,30,"UDEFINERT",21,null,320]
[22,null,0,{"$f":"regformel!F23","v":0},321,null,null,0,{"$f":"regformel!F324","v":0},0,31,"UDEFINERT",22,null,321]
[23,null,0,{"$f":"regformel!F24","v":0},322,null,null,0,{"$f":"regformel!F325","v":0},0,32,"UDEFINERT",23,null,322]
[24,null,0,{"$f":"regformel!F25","v":0},323,null,null,0,{"$f":"regformel!F326","v":0},0,33,"UDEFINERT",24,null,323]
[25,null,0,{"$f":"regformel!F26","v":0},324,null,null,0,{"$f":"regformel!F327","v":0},0,34,"UDEFINERT",25,null,324]
[26,null,0,{"$f":"regformel!F27","v":0},325,null,null,0,{"$f":"regformel!F328","v":0},0,35,"UDEFINERT",26,null,325]
[27,null,0,{"$f":"regformel!F28","v":0},326,null,null,0,{"$f":"regformel!F329","v":0},0,36,"UDEFINERT",27,null,326]
[28,null,0,{"$f":"regformel!F29","v":0},327,null,null,0,{"$f":"regformel!F330","v":0},0,37,"UDEFINERT",28,null,327]
[29,null,0,{"$f":"regformel!F30","v":0},328,null,null,0,{"$f":"regformel!F331","v":0},0,38,"UDEFINERT",29,null,328]
[30,null,0,{"$f":"regformel!F31","v":0},329,null,null,0,{"$f":"regformel!F332","v":0},0,39,"UDEFINERT",30,null,329]
[31,null,0,{"$f":"regformel!F32","v":0},330,null,null,0,{"$f":"regformel!F333","v":0},0,40,"UDEFINERT",31,null,330]
[32,null,0,{"$f":"regformel!F33","v":0},331,null,null,0,{"$f":"regformel!F334","v":0},0,41,"UDEFINERT",32,null,331]
[33,null,0,{"$f":"regformel!F34","v":0},332,null,null,0,{"$f":"regformel!F335","v":0},0,42,"UDEFINERT",33,null,332]
[34,null,0,{"$f":"regformel!F35","v":0},333,null,null,0,{"$f":"regformel!F336","v":0},0,43,"UDEFINERT",34,null,333]
[35,null,0,{"$f":"regformel!F36","v":0},334,null,null,0,{"$f":"regformel!F337","v":0},0,44,"UDEFINERT",35,null,334]
[36,null,0,{"$f":"regformel!F37","v":0},335,null,null,0,{"$f":"regformel!F338","v":0},0,45,"UDEFINERT",36,null,335]
[37,null,0,{"$f":"regformel!F38","v":0},336,null,null,0,{"$f":"regformel!F339","v":0},0,46,"UDEFINERT",37,null,336]
[38,null,0,{"$f":"regformel!F39","v":0},337,null,null,0,{"$f":"regformel!F340","v":0},0,47,"UDEFINERT",38,null,337]
[39,null,0,{"$f":"regformel!F40","v":0},338,null,null,0,{"$f":"regformel!F341","v":0},0,48,"UDEFINERT",39,null,338]
[40,null,0,{"$f":"regformel!F41","v":0},339,null,null,0,{"$f":"regformel!F342","v":0},0,49,"UDEFINERT",40,null,339]
[41,null,0,{"$f":"regformel!F42","v":0},340,null,null,0,{"$f":"regformel!F343","v":0},0,50,"UDEFINERT",41,null,340]
[42,null,0,{"$f":"regformel!F43","v":0},341,null,null,0,{"$f":"regformel!F344","v":0},0,51,"UDEFINERT",42,null,341]
[43,null,0,{"$f":"regformel!F44","v":0},342,null,null,0,{"$f":"regformel!F345","v":0},0,52,"UDEFINERT",43,null,342]
[44,null,0,{"$f":"regformel!F45","v":0},343,null,null,0,{"$f":"regformel!F346","v":0},0,53,"UDEFINERT",44,null,343]
[45,null,0,{"$f":"regformel!F46","v":0},344,null,null,0,{"$f":"regformel!F347","v":0},0,54,"UDEFINERT",45,null,344]
[46,null,0,{"$f":"regformel!F47","v":0},345,null,null,0,{"$f":"regformel!F348","v":0},0,55,"UDEFINERT",46,null,345]
[47,null,0,{"$f":"regformel!F48","v":0},346,null,null,0,{"$f":"regformel!F349","v":0},0,56,"UDEFINERT",47,null,346]
[48,null,0,{"$f":"regformel!F49","v":0},347,null,null,0,{"$f":"regformel!F350","v":0},0,57,"UDEFINERT",48,null,347]
[49,null,0,{"$f":"regformel!F50","v":0},348,null,null,0,{"$f":"regformel!F351","v":0},0,58,"UDEFINERT",49,null,348]
[50,null,0,{"$f":"regformel!F51","v":0},349,null,null,0,{"$f":"regformel!F352","v":0},0,59,"UDEFINERT",50,null,349]
[51,null,0,{"$f":"regformel!F52","v":0},350,null,null,0,{"$f":"regformel!F353","v":0},0,60,"UDEFINERT",51,null,350]
[52,null,0,{"$f":"regformel!F53","v":0},351,null,null,0,{"$f":"regformel!F354","v":0},0,61,"UDEFINERT",52,null,351]
[53,null,0,{"$f":"regformel!F54","v":0},352,null,null,0,{"$f":"regformel!F355","v":0},0,62,"UDEFINERT",53,null,352]
[54,null,0,{"$f":"regformel!F55","v":0},353,null,null,0,{"$f":"regformel!F356","v":0},0,63,"UDEFINERT",54,null,353]
[55,null,0,{"$f":"regformel!F56","v":0},354,null,null,0,{"$f":"regformel!F357","v":0},0,64,"UDEFINERT",55,null,354]
[56,null,0,{"$f":"regformel!F57","v":0},355,null,null,0,{"$f":"regformel!F358","v":0},0,65,"UDEFINERT",56,null,355]
[57,null,0,{"$f":"regformel!F58","v":0},356,null,null,0,{"$f":"regformel!F359","v":0},0,66,{"$f":"IF(B75=\"\",\"UDEFINERT\",B75)","v":"UDEFINERT"},57,null,356]
[58,null,0,{"$f":"regformel!F59","v":0},357,null,null,0,{"$f":"regformel!F360","v":0},0,67,"UDEFINERT",58,null,357]
[59,null,0,{"$f":"regformel!F60","v":0},358,null,null,0,{"$f":"regformel!F361","v":0},0,68,"UDEFINERT",59,null,358]
[60,null,0,{"$f":"regformel!F61","v":0},359,null,null,0,{"$f":"regformel!F362","v":0},0,69,"UDEFINERT",60,null,359]
[61,null,0,{"$f":"regformel!F62","v":0},360,null,null,0,{"$f":"regformel!F363","v":0},0,70,"UDEFINERT",61,null,360]
[62,null,0,{"$f":"regformel!F63","v":0},361,null,null,0,{"$f":"regformel!F364","v":0},0,71,"UDEFINERT",62,null,361]
[63,null,0,{"$f":"regformel!F64","v":0},362,null,null,0,{"$f":"regformel!F365","v":0},0,72,"UDEFINERT",63,null,362]
[64,null,0,{"$f":"regformel!F65","v":0},363,null,null,0,{"$f":"regformel!F366","v":0},0,73,"UDEFINERT",64,null,363]
[65,null,0,{"$f":"regformel!F66","v":0},364,null,null,0,{"$f":"regformel!F367","v":0},0,74,"UDEFINERT",65,null,364]
[66,null,0,{"$f":"regformel!F67","v":0},365,null,null,0,{"$f":"regformel!F368","v":0},0,75,"UDEFINERT",66,null,365]
[67,null,0,{"$f":"regformel!F68","v":0},366,null,null,0,{"$f":"regformel!F369","v":0},{"$f":"IF(F76=\"\",IF(B76=\"\",,1),1)","v":0},76,"UDEFINERT",67,null,366]
[68,null,0,{"$f":"regformel!F69","v":0},367,null,null,0,{"$f":"regformel!F370","v":0},0,77,"UDEFINERT",68,null,367]
[69,null,0,{"$f":"regformel!F70","v":0},368,null,null,0,{"$f":"regformel!F371","v":0},0,78,"UDEFINERT",69,null,368]
[70,null,0,{"$f":"regformel!F71","v":0},369,null,null,0,{"$f":"regformel!F372","v":0},0,79,"UDEFINERT",70,null,369]
[71,null,0,{"$f":"regformel!F72","v":0},370,null,null,0,{"$f":"regformel!F373","v":0},0,80,"UDEFINERT",71,null,370]
[72,null,0,{"$f":"regformel!F73","v":0},371,null,null,0,{"$f":"regformel!F374","v":0},0,81,"UDEFINERT",72,null,371]
[73,null,0,{"$f":"regformel!F74","v":0},372,null,null,0,{"$f":"regformel!F375","v":0},0,82,"UDEFINERT",73,null,372]
[74,null,0,{"$f":"regformel!F75","v":0},373,null,null,0,{"$f":"regformel!F376","v":0},0,83,"UDEFINERT",74,null,373]
[75,null,0,{"$f":"regformel!F76","v":0},374,null,null,0,{"$f":"regformel!F377","v":0},0,84,"UDEFINERT",75,null,374]
[76,null,0,{"$f":"regformel!F77","v":0},375,null,null,0,{"$f":"regformel!F378","v":0},0,85,"UDEFINERT",76,null,375]
[77,null,0,{"$f":"regformel!F78","v":0},376,null,null,0,{"$f":"regformel!F379","v":0},0,86,"UDEFINERT",77,null,376]
[78,null,0,{"$f":"regformel!F79","v":0},377,null,null,0,{"$f":"regformel!F380","v":0},0,87,"UDEFINERT",78,null,377]
[79,null,0,{"$f":"regformel!F80","v":0},378,null,null,0,{"$f":"regformel!F381","v":0},0,88,"UDEFINERT",79,null,378]
[80,null,0,{"$f":"regformel!F81","v":0},379,null,null,0,{"$f":"regformel!F382","v":0},0,89,"UDEFINERT",80,null,379]
[81,null,0,{"$f":"regformel!F82","v":0},380,null,null,0,{"$f":"regformel!F383","v":0},0,90,"UDEFINERT",81,null,380]
[82,null,0,{"$f":"regformel!F83","v":0},381,null,null,0,{"$f":"regformel!F384","v":0},0,91,"UDEFINERT",82,null,381]
[83,null,0,{"$f":"regformel!F84","v":0},382,null,null,0,{"$f":"regformel!F385","v":0},0,92,"UDEFINERT",83,null,382]
[84,null,0,{"$f":"regformel!F85","v":0},383,null,null,0,{"$f":"regformel!F386","v":0},0,93,"UDEFINERT",84,null,383]
[85,null,0,{"$f":"regformel!F86","v":0},384,null,null,0,{"$f":"regformel!F387","v":0},0,94,"UDEFINERT",85,null,384]
[86,null,0,{"$f":"regformel!F87","v":0},385,null,null,0,{"$f":"regformel!F388","v":0},0,95,"UDEFINERT",86,null,385]
[87,null,0,{"$f":"regformel!F88","v":0},386,null,null,0,{"$f":"regformel!F389","v":0},0,96,"UDEFINERT",87,null,386]
[88,null,0,{"$f":"regformel!F89","v":0},387,null,null,0,{"$f":"regformel!F390","v":0},0,97,"UDEFINERT",88,null,387]
[89,null,0,{"$f":"regformel!F90","v":0},388,null,null,0,{"$f":"regformel!F391","v":0},0,98,"UDEFINERT",89,null,388]
[90,null,0,{"$f":"regformel!F91","v":0},389,null,null,0,{"$f":"regformel!F392","v":0},0,99,{"$f":"IF(B108=\"\",\"UDEFINERT\",B108)","v":"UDEFINERT"},90,null,389]
[91,null,0,{"$f":"regformel!F92","v":0},390,null,null,0,{"$f":"regformel!F393","v":0},0,100,"UDEFINERT",91,null,390]
[92,null,0,{"$f":"regformel!F93","v":0},391,null,null,0,{"$f":"regformel!F394","v":0},0,101,"UDEFINERT",92,null,391]
[93,null,0,{"$f":"regformel!F94","v":0},392,null,null,0,{"$f":"regformel!F395","v":0},0,102,"UDEFINERT",93,null,392]
[94,null,0,{"$f":"regformel!F95","v":0},393,null,null,0,{"$f":"regformel!F396","v":0},0,103,"UDEFINERT",94,null,393]
[95,null,0,{"$f":"regformel!F96","v":0},394,null,null,0,{"$f":"regformel!F397","v":0},0,104,"UDEFINERT",95,null,394]
[96,null,0,{"$f":"regformel!F97","v":0},395,null,null,0,{"$f":"regformel!F398","v":0},0,105,"UDEFINERT",96,null,395]
[97,null,0,{"$f":"regformel!F98","v":0},396,null,null,0,{"$f":"regformel!F399","v":0},0,106,"UDEFINERT",97,null,396]
[98,null,0,{"$f":"regformel!F99","v":0},397,null,null,0,{"$f":"regformel!F400","v":0},0,107,"UDEFINERT",98,null,397]
[99,null,0,{"$f":"regformel!F100","v":0},398,null,null,0,{"$f":"regformel!F401","v":0},0,108,"UDEFINERT",99,null,398]
[100,null,0,{"$f":"regformel!F101","v":0},399,null,null,0,{"$f":"regformel!F402","v":0},0,109,"UDEFINERT",100,null,399]
[101,null,0,{"$f":"regformel!F102","v":0},400,null,null,0,{"$f":"regformel!F403","v":0},0,110,"UDEFINERT",101,null,400]
[102,null,0,{"$f":"regformel!F103","v":0},401,null,null,0,{"$f":"regformel!F404","v":0},0,111,"UDEFINERT",102,null,401]
[103,null,0,{"$f":"regformel!F104","v":0},402,null,null,0,{"$f":"regformel!F405","v":0},0,112,"UDEFINERT",103,null,402]
[104,null,0,{"$f":"regformel!F105","v":0},403,null,null,0,{"$f":"regformel!F406","v":0},0,113,"UDEFINERT",104,null,403]
[105,null,0,{"$f":"regformel!F106","v":0},404,null,null,0,{"$f":"regformel!F407","v":0},0,114,"UDEFINERT",105,null,404]
[106,null,0,{"$f":"regformel!F107","v":0},405,null,null,0,{"$f":"regformel!F408","v":0},0,115,"UDEFINERT",106,null,405]
[107,null,0,{"$f":"regformel!F108","v":0},406,null,null,0,{"$f":"regformel!F409","v":0},0,116,"UDEFINERT",107,null,406]
[108,null,0,{"$f":"regformel!F109","v":0},407,null,null,0,{"$f":"regformel!F410","v":0},0,117,"UDEFINERT",108,null,407]
[109,null,0,{"$f":"regformel!F110","v":0},408,null,null,0,{"$f":"regformel!F411","v":0},0,118,"UDEFINERT",109,null,408]
[110,null,0,{"$f":"regformel!F111","v":0},409,null,null,0,{"$f":"regformel!F412","v":0},0,119,"UDEFINERT",110,null,409]
[111,null,0,{"$f":"regformel!F112","v":0},410,null,null,0,{"$f":"regformel!F413","v":0},0,120,"UDEFINERT",111,null,410]
[112,null,0,{"$f":"regformel!F113","v":0},411,null,null,0,{"$f":"regformel!F414","v":0},0,121,"UDEFINERT",112,null,411]
[113,null,0,{"$f":"regformel!F114","v":0},412,null,null,0,{"$f":"regformel!F415","v":0},0,122,"UDEFINERT",113,null,412]
[114,null,0,{"$f":"regformel!F115","v":0},413,null,null,0,{"$f":"regformel!F416","v":0},0,123,"UDEFINERT",114,null,413]
[115,null,0,{"$f":"regformel!F116","v":0},414,null,null,0,{"$f":"regformel!F417","v":0},0,124,"UDEFINERT",115,null,414]
[116,null,0,{"$f":"regformel!F117","v":0},415,null,null,0,{"$f":"regformel!F418","v":0},0,125,"UDEFINERT",116,null,415]
[117,null,0,{"$f":"regformel!F118","v":0},416,null,null,0,{"$f":"regformel!F419","v":0},0,126,"UDEFINERT",117,null,416]
[118,null,0,{"$f":"regformel!F119","v":0},417,null,null,0,{"$f":"regformel!F420","v":0},0,127,"UDEFINERT",118,null,417]
[119,null,0,{"$f":"regformel!F120","v":0},418,null,null,0,{"$f":"regformel!F421","v":0},0,128,"UDEFINERT",119,null,418]
[120,null,0,{"$f":"regformel!F121","v":0},419,null,null,0,{"$f":"regformel!F422","v":0},0,129,"UDEFINERT",120,null,419]
[121,null,0,{"$f":"regformel!F122","v":0},420,null,null,0,{"$f":"regformel!F423","v":0},0,130,"UDEFINERT",121,null,420]
[122,null,0,{"$f":"regformel!F123","v":0},421,null,null,0,{"$f":"regformel!F424","v":0},0,131,"UDEFINERT",122,null,421]
[123,null,0,{"$f":"regformel!F124","v":0},422,null,null,0,{"$f":"regformel!F425","v":0},0,132,"UDEFINERT",123,null,422]
[124,null,0,{"$f":"regformel!F125","v":0},423,null,null,0,{"$f":"regformel!F426","v":0},0,133,"UDEFINERT",124,null,423]
[125,null,0,{"$f":"regformel!F126","v":0},424,null,null,0,{"$f":"regformel!F427","v":0},0,134,"UDEFINERT",125,null,424]
[126,null,0,{"$f":"regformel!F127","v":0},425,null,null,0,{"$f":"regformel!F428","v":0},0,135,"UDEFINERT",126,null,425]
[127,null,0,{"$f":"regformel!F128","v":0},426,null,null,0,{"$f":"regformel!F429","v":0},0,136,"UDEFINERT",127,null,426]
[128,null,0,{"$f":"regformel!F129","v":0},427,null,null,0,{"$f":"regformel!F430","v":0},0,137,"UDEFINERT",128,null,427]
[129,null,0,{"$f":"regformel!F130","v":0},428,null,null,0,{"$f":"regformel!F431","v":0},0,138,"UDEFINERT",129,null,428]
[130,null,0,{"$f":"regformel!F131","v":0},429,null,null,0,{"$f":"regformel!F432","v":0},0,139,"UDEFINERT",130,null,429]
[131,null,0,{"$f":"regformel!F132","v":0},430,null,null,0,{"$f":"regformel!F433","v":0},{"$f":"IF(F140=\"\",IF(B140=\"\",,1),1)","v":0},140,"UDEFINERT",131,null,430]
[132,null,0,{"$f":"regformel!F133","v":0},431,null,null,0,{"$f":"regformel!F434","v":0},0,141,"UDEFINERT",132,null,431]
[133,null,0,{"$f":"regformel!F134","v":0},432,null,null,0,{"$f":"regformel!F435","v":0},0,142,"UDEFINERT",133,null,432]
[134,null,0,{"$f":"regformel!F135","v":0},433,null,null,0,{"$f":"regformel!F436","v":0},0,143,"UDEFINERT",134,null,433]
[135,null,0,{"$f":"regformel!F136","v":0},434,null,null,0,{"$f":"regformel!F437","v":0},0,144,"UDEFINERT",135,null,434]
[136,null,0,{"$f":"regformel!F137","v":0},435,null,null,0,{"$f":"regformel!F438","v":0},0,145,"UDEFINERT",136,null,435]
[137,null,0,{"$f":"regformel!F138","v":0},436,null,null,0,{"$f":"regformel!F439","v":0},0,146,"UDEFINERT",137,null,436]
[138,null,0,{"$f":"regformel!F139","v":0},437,null,null,0,{"$f":"regformel!F440","v":0},0,147,"UDEFINERT",138,null,437]
[139,null,0,{"$f":"regformel!F140","v":0},438,null,null,0,{"$f":"regformel!F441","v":0},0,148,"UDEFINERT",139,null,438]
[140,null,0,{"$f":"regformel!F141","v":0},439,null,null,0,{"$f":"regformel!F442","v":0},0,149,"UDEFINERT",140,null,439]
[141,null,0,{"$f":"regformel!F142","v":0},440,null,null,0,{"$f":"regformel!F443","v":0},0,150,"UDEFINERT",141,null,440]
[142,null,0,{"$f":"regformel!F143","v":0},441,null,null,0,{"$f":"regformel!F444","v":0},0,151,"UDEFINERT",142,null,441]
[143,null,0,{"$f":"regformel!F144","v":0},442,null,null,0,{"$f":"regformel!F445","v":0},0,152,"UDEFINERT",143,null,442]
[144,null,0,{"$f":"regformel!F145","v":0},443,null,null,0,{"$f":"regformel!F446","v":0},0,153,"UDEFINERT",144,null,443]
[145,null,0,{"$f":"regformel!F146","v":0},444,null,null,0,{"$f":"regformel!F447","v":0},0,154,"UDEFINERT",145,null,444]
[146,null,0,{"$f":"regformel!F147","v":0},445,null,null,0,{"$f":"regformel!F448","v":0},0,155,"UDEFINERT",146,null,445]
[147,null,0,{"$f":"regformel!F148","v":0},446,null,null,0,{"$f":"regformel!F449","v":0},0,156,"UDEFINERT",147,null,446]
[148,null,0,{"$f":"regformel!F149","v":0},447,null,null,0,{"$f":"regformel!F450","v":0},0,157,"UDEFINERT",148,null,447]
[149,null,0,{"$f":"regformel!F150","v":0},448,null,null,0,{"$f":"regformel!F451","v":0},0,158,"UDEFINERT",149,null,448]
[150,null,0,{"$f":"regformel!F151","v":0},449,null,null,0,{"$f":"regformel!F452","v":0},0,159,"UDEFINERT",150,null,449]
[151,null,0,{"$f":"regformel!F152","v":0},450,null,null,0,{"$f":"regformel!F453","v":0},0,160,"UDEFINERT",151,null,450]
[152,null,0,{"$f":"regformel!F153","v":0},451,null,null,0,{"$f":"regformel!F454","v":0},0,161,"UDEFINERT",152,null,451]
[153,null,0,{"$f":"regformel!F154","v":0},452,null,null,0,{"$f":"regformel!F455","v":0},0,162,"UDEFINERT",153,null,452]
[154,null,0,{"$f":"regformel!F155","v":0},453,null,null,0,{"$f":"regformel!F456","v":0},0,163,{"$f":"IF(B172=\"\",\"UDEFINERT\",B172)","v":"UDEFINERT"},154,null,453]
[155,null,0,{"$f":"regformel!F156","v":0},454,null,null,0,{"$f":"regformel!F457","v":0},0,164,"UDEFINERT",155,null,454]
[156,null,0,{"$f":"regformel!F157","v":0},455,null,null,0,{"$f":"regformel!F458","v":0},0,165,"UDEFINERT",156,null,455]
[157,null,0,{"$f":"regformel!F158","v":0},456,null,null,0,{"$f":"regformel!F459","v":0},0,166,"UDEFINERT",157,null,456]
[158,null,0,{"$f":"regformel!F159","v":0},457,null,null,0,{"$f":"regformel!F460","v":0},0,167,"UDEFINERT",158,null,457]
[159,null,0,{"$f":"regformel!F160","v":0},458,null,null,0,{"$f":"regformel!F461","v":0},0,168,"UDEFINERT",159,null,458]
[160,null,0,{"$f":"regformel!F161","v":0},459,null,null,0,{"$f":"regformel!F462","v":0},0,169,"UDEFINERT",160,null,459]
[161,null,0,{"$f":"regformel!F162","v":0},460,null,null,0,{"$f":"regformel!F463","v":0},0,170,"UDEFINERT",161,null,460]
[162,null,0,{"$f":"regformel!F163","v":0},461,null,null,0,{"$f":"regformel!F464","v":0},0,171,"UDEFINERT",162,null,461]
[163,null,0,{"$f":"regformel!F164","v":0},462,null,null,0,{"$f":"regformel!F465","v":0},0,172,"UDEFINERT",163,null,462]
[164,null,0,{"$f":"regformel!F165","v":0},463,null,null,0,{"$f":"regformel!F466","v":0},0,173,"UDEFINERT",164,null,463]
[165,null,0,{"$f":"regformel!F166","v":0},464,null,null,0,{"$f":"regformel!F467","v":0},0,174,"UDEFINERT",165,null,464]
[166,null,0,{"$f":"regformel!F167","v":0},465,null,null,0,{"$f":"regformel!F468","v":0},0,175,"UDEFINERT",166,null,465]
[167,null,0,{"$f":"regformel!F168","v":0},466,null,null,0,{"$f":"regformel!F469","v":0},0,176,"UDEFINERT",167,null,466]
[168,null,0,{"$f":"regformel!F169","v":0},467,null,null,0,{"$f":"regformel!F470","v":0},0,177,"UDEFINERT",168,null,467]
[169,null,0,{"$f":"regformel!F170","v":0},468,null,null,0,{"$f":"regformel!F471","v":0},0,178,"UDEFINERT",169,null,468]
[170,null,0,{"$f":"regformel!F171","v":0},469,null,null,0,{"$f":"regformel!F472","v":0},0,179,"UDEFINERT",170,null,469]
[171,null,0,{"$f":"regformel!F172","v":0},470,null,null,0,{"$f":"regformel!F473","v":0},0,180,"UDEFINERT",171,null,470]
[172,null,0,{"$f":"regformel!F173","v":0},471,null,null,0,{"$f":"regformel!F474","v":0},0,181,"UDEFINERT",172,null,471]
[173,null,0,{"$f":"regformel!F174","v":0},472,null,null,0,{"$f":"regformel!F475","v":0},0,182,"UDEFINERT",173,null,472]
[174,null,0,{"$f":"regformel!F175","v":0},473,null,null,0,{"$f":"regformel!F476","v":0},0,183,"UDEFINERT",174,null,473]
[175,null,0,{"$f":"regformel!F176","v":0},474,null,null,0,{"$f":"regformel!F477","v":0},0,184,"UDEFINERT",175,null,474]
[176,null,0,{"$f":"regformel!F177","v":0},475,null,null,0,{"$f":"regformel!F478","v":0},0,185,"UDEFINERT",176,null,475]
[177,null,0,{"$f":"regformel!F178","v":0},476,null,null,0,{"$f":"regformel!F479","v":0},0,186,"UDEFINERT",177,null,476]
[178,null,0,{"$f":"regformel!F179","v":0},477,null,null,0,{"$f":"regformel!F480","v":0},0,187,"UDEFINERT",178,null,477]
[179,null,0,{"$f":"regformel!F180","v":0},478,null,null,0,{"$f":"regformel!F481","v":0},0,188,"UDEFINERT",179,null,478]
[180,null,0,{"$f":"regformel!F181","v":0},479,null,null,0,{"$f":"regformel!F482","v":0},0,189,"UDEFINERT",180,null,479]
[181,null,0,{"$f":"regformel!F182","v":0},480,null,null,0,{"$f":"regformel!F483","v":0},0,190,"UDEFINERT",181,null,480]
[182,null,0,{"$f":"regformel!F183","v":0},481,null,null,0,{"$f":"regformel!F484","v":0},0,191,"UDEFINERT",182,null,481]
[183,null,0,{"$f":"regformel!F184","v":0},482,null,null,0,{"$f":"regformel!F485","v":0},0,192,"UDEFINERT",183,null,482]
[184,null,0,{"$f":"regformel!F185","v":0},483,null,null,0,{"$f":"regformel!F486","v":0},0,193,"UDEFINERT",184,null,483]
[185,null,0,{"$f":"regformel!F186","v":0},484,null,null,0,{"$f":"regformel!F487","v":0},0,194,"UDEFINERT",185,null,484]
[186,null,0,{"$f":"regformel!F187","v":0},485,null,null,0,{"$f":"regformel!F488","v":0},0,195,"UDEFINERT",186,null,485]
[187,null,0,{"$f":"regformel!F188","v":0},486,null,null,0,{"$f":"regformel!F489","v":0},0,196,{"$f":"IF(B205=\"\",\"UDEFINERT\",B205)","v":"UDEFINERT"},187,null,486]
[188,null,0,{"$f":"regformel!F189","v":0},487,null,null,0,{"$f":"regformel!F490","v":0},0,197,"UDEFINERT",188,null,487]
[189,null,0,{"$f":"regformel!F190","v":0},488,null,null,0,{"$f":"regformel!F491","v":0},0,198,"UDEFINERT",189,null,488]
[190,null,0,{"$f":"regformel!F191","v":0},489,null,null,0,{"$f":"regformel!F492","v":0},0,199,"UDEFINERT",190,null,489]
[191,null,0,{"$f":"regformel!F192","v":0},490,null,null,0,{"$f":"regformel!F493","v":0},0,200,"UDEFINERT",191,null,490]
[192,null,0,{"$f":"regformel!F193","v":0},491,null,null,0,{"$f":"regformel!F494","v":0},0,201,"UDEFINERT",192,null,491]
[193,null,0,{"$f":"regformel!F194","v":0},492,null,null,0,{"$f":"regformel!F495","v":0},0,202,"UDEFINERT",193,null,492]
[194,null,0,{"$f":"regformel!F195","v":0},493,null,null,0,{"$f":"regformel!F496","v":0},0,203,"UDEFINERT",194,null,493]
[195,null,0,{"$f":"regformel!F196","v":0},494,null,null,0,{"$f":"regformel!F497","v":0},{"$f":"IF(F204=\"\",IF(B204=\"\",,1),1)","v":0},204,"UDEFINERT",195,null,494]
[196,null,0,{"$f":"regformel!F197","v":0},495,null,null,0,{"$f":"regformel!F498","v":0},0,205,"UDEFINERT",196,null,495]
[197,null,0,{"$f":"regformel!F198","v":0},496,null,null,0,{"$f":"regformel!F499","v":0},0,206,"UDEFINERT",197,null,496]
[198,null,0,{"$f":"regformel!F199","v":0},497,null,null,0,{"$f":"regformel!F500","v":0},0,207,{"$f":"IF(B216=\"\",\"UDEFINERT\",B216)","v":"UDEFINERT"},198,null,497]
[199,null,0,{"$f":"regformel!F200","v":0},498,null,null,0,{"$f":"regformel!F501","v":0},0,208,"UDEFINERT",199,null,498]
[200,null,0,{"$f":"regformel!F201","v":0},499,null,null,0,{"$f":"regformel!F502","v":0},0,209,"UDEFINERT",200,null,499]
[201,null,0,{"$f":"regformel!F202","v":0},500,null,null,0,{"$f":"regformel!F503","v":0},0,210,"UDEFINERT",201,null,500]
[202,null,0,{"$f":"regformel!F203","v":0},501,null,null,0,{"$f":"regformel!F504","v":0},0,211,"UDEFINERT",202,null,501]
[203,null,0,{"$f":"regformel!F204","v":0},502,null,null,0,{"$f":"regformel!F505","v":0},0,212,"UDEFINERT",203,null,502]
[204,null,0,{"$f":"regformel!F205","v":0},503,null,null,0,{"$f":"regformel!F506","v":0},0,213,"UDEFINERT",204,null,503]
[205,null,0,{"$f":"regformel!F206","v":0},504,null,null,0,{"$f":"regformel!F507","v":0},0,214,"UDEFINERT",205,null,504]
[206,null,0,{"$f":"regformel!F207","v":0},505,null,null,0,{"$f":"regformel!F508","v":0},0,215,"UDEFINERT",206,null,505]
[207,null,0,{"$f":"regformel!F208","v":0},506,null,null,0,{"$f":"regformel!F509","v":0},0,216,"UDEFINERT",207,null,506]
[208,null,0,{"$f":"regformel!F209","v":0},507,null,null,0,{"$f":"regformel!F510","v":0},0,217,"UDEFINERT",208,null,507]
[209,null,0,{"$f":"regformel!F210","v":0},508,null,null,0,{"$f":"regformel!F511","v":0},0,218,"UDEFINERT",209,null,508]
[210,null,0,{"$f":"regformel!F211","v":0},509,null,null,0,{"$f":"regformel!F512","v":0},0,219,"UDEFINERT",210,null,509]
[211,null,0,{"$f":"regformel!F212","v":0},510,null,null,0,{"$f":"regformel!F513","v":0},0,220,"UDEFINERT",211,null,510]
[212,null,0,{"$f":"regformel!F213","v":0},511,null,null,0,{"$f":"regformel!F514","v":0},0,221,"UDEFINERT",212,null,511]
[213,null,0,{"$f":"regformel!F214","v":0},512,null,null,0,{"$f":"regformel!F515","v":0},0,222,"UDEFINERT",213,null,512]
[214,null,0,{"$f":"regformel!F215","v":0},513,null,null,0,{"$f":"regformel!F516","v":0},0,223,"UDEFINERT",214,null,513]
[215,null,0,{"$f":"regformel!F216","v":0},514,null,null,0,{"$f":"regformel!F517","v":0},0,224,"UDEFINERT",215,null,514]
[216,null,0,{"$f":"regformel!F217","v":0},515,null,null,0,{"$f":"regformel!F518","v":0},0,225,"UDEFINERT",216,null,515]
[217,null,0,{"$f":"regformel!F218","v":0},516,null,null,0,{"$f":"regformel!F519","v":0},0,226,"UDEFINERT",217,null,516]
[218,null,0,{"$f":"regformel!F219","v":0},517,null,null,0,{"$f":"regformel!F520","v":0},0,227,"UDEFINERT",218,null,517]
[219,null,0,{"$f":"regformel!F220","v":0},518,null,null,0,{"$f":"regformel!F521","v":0},0,228,"UDEFINERT",219,null,518]
[220,null,0,{"$f":"regformel!F221","v":0},519,null,null,0,{"$f":"regformel!F522","v":0},0,229,"UDEFINERT",220,null,519]
[221,null,0,{"$f":"regformel!F222","v":0},520,null,null,0,{"$f":"regformel!F523","v":0},0,230,"UDEFINERT",221,null,520]
[222,null,0,{"$f":"regformel!F223","v":0},521,null,null,0,{"$f":"regformel!F524","v":0},0,231,"UDEFINERT",222,null,521]
[223,null,0,{"$f":"regformel!F224","v":0},522,null,null,0,{"$f":"regformel!F525","v":0},0,232,"UDEFINERT",223,null,522]
[224,null,0,{"$f":"regformel!F225","v":0},523,null,null,0,{"$f":"regformel!F526","v":0},0,233,"UDEFINERT",224,null,523]
[225,null,0,{"$f":"regformel!F226","v":0},524,null,null,0,{"$f":"regformel!F527","v":0},0,234,"UDEFINERT",225,null,524]
[226,null,0,{"$f":"regformel!F227","v":0},525,null,null,0,{"$f":"regformel!F528","v":0},0,235,"UDEFINERT",226,null,525]
[227,null,0,{"$f":"regformel!F228","v":0},526,null,null,0,{"$f":"regformel!F529","v":0},0,236,"UDEFINERT",227,null,526]
[228,null,0,{"$f":"regformel!F229","v":0},527,null,null,0,{"$f":"regformel!F530","v":0},0,237,"UDEFINERT",228,null,527]
[229,null,0,{"$f":"regformel!F230","v":0},528,null,null,0,{"$f":"regformel!F531","v":0},0,238,"UDEFINERT",229,null,528]
[230,null,0,{"$f":"regformel!F231","v":0},529,null,null,0,{"$f":"regformel!F532","v":0},0,239,"UDEFINERT",230,null,529]
[231,null,0,{"$f":"regformel!F232","v":0},530,null,null,0,{"$f":"regformel!F533","v":0},0,240,"UDEFINERT",231,null,530]
[232,null,0,{"$f":"regformel!F233","v":0},531,null,null,0,{"$f":"regformel!F534","v":0},0,241,"UDEFINERT",232,null,531]
[233,null,0,{"$f":"regformel!F234","v":0},532,null,null,0,{"$f":"regformel!F535","v":0},0,242,"UDEFINERT",233,null,532]
[234,null,0,{"$f":"regformel!F235","v":0},533,null,null,0,{"$f":"regformel!F536","v":0},0,243,"UDEFINERT",234,null,533]
[235,null,0,{"$f":"regformel!F236","v":0},534,null,null,0,{"$f":"regformel!F537","v":0},0,244,"UDEFINERT",235,null,534]
[236,null,0,{"$f":"regformel!F237","v":0},535,null,null,0,{"$f":"regformel!F538","v":0},0,245,"UDEFINERT",236,null,535]
[237,null,0,{"$f":"regformel!F238","v":0},536,null,null,0,{"$f":"regformel!F539","v":0},0,246,"UDEFINERT",237,null,536]
[238,null,0,{"$f":"regformel!F239","v":0},537,null,null,0,{"$f":"regformel!F540","v":0},0,247,"UDEFINERT",238,null,537]
[239,null,0,{"$f":"regformel!F240","v":0},538,null,null,0,{"$f":"regformel!F541","v":0},0,248,"UDEFINERT",239,null,538]
[240,null,0,{"$f":"regformel!F241","v":0},539,null,null,0,{"$f":"regformel!F542","v":0},0,249,"UDEFINERT",240,null,539]
[241,null,0,{"$f":"regformel!F242","v":0},540,null,null,0,{"$f":"regformel!F543","v":0},0,250,"UDEFINERT",241,null,540]
[242,null,0,{"$f":"regformel!F243","v":0},541,null,null,0,{"$f":"regformel!F544","v":0},0,251,"UDEFINERT",242,null,541]
[243,null,0,{"$f":"regformel!F244","v":0},542,null,null,0,{"$f":"regformel!F545","v":0},0,252,"UDEFINERT",243,null,542]
[244,null,0,{"$f":"regformel!F245","v":0},543,null,null,0,{"$f":"regformel!F546","v":0},0,253,"UDEFINERT",244,null,543]
[245,null,0,{"$f":"regformel!F246","v":0},544,null,null,0,{"$f":"regformel!F547","v":0},0,254,"UDEFINERT",245,null,544]
[246,null,0,{"$f":"regformel!F247","v":0},545,null,null,0,{"$f":"regformel!F548","v":0},0,255,"UDEFINERT",246,null,545]
[247,null,0,{"$f":"regformel!F248","v":0},546,null,null,0,{"$f":"regformel!F549","v":0},0,256,"UDEFINERT",247,null,546]
[248,null,0,{"$f":"regformel!F249","v":0},547,null,null,0,{"$f":"regformel!F550","v":0},0,257,"UDEFINERT",248,null,547]
[249,null,0,{"$f":"regformel!F250","v":0},548,null,null,0,{"$f":"regformel!F551","v":0},0,258,"UDEFINERT",249,null,548]
[250,null,0,{"$f":"regformel!F251","v":0},549,null,null,0,{"$f":"regformel!F552","v":0},0,259,"UDEFINERT",250,null,549]
[251,null,0,{"$f":"regformel!F252","v":0},550,null,null,0,{"$f":"regformel!F553","v":0},0,260,"UDEFINERT",251,null,550]
[252,null,0,{"$f":"regformel!F253","v":0},551,null,null,0,{"$f":"regformel!F554","v":0},0,261,"UDEFINERT",252,null,551]
[253,null,0,{"$f":"regformel!F254","v":0},552,null,null,0,{"$f":"regformel!F555","v":0},0,262,"UDEFINERT",253,null,552]
[254,null,0,{"$f":"regformel!F255","v":0},553,null,null,0,{"$f":"regformel!F556","v":0},0,263,"UDEFINERT",254,null,553]
[255,null,0,{"$f":"regformel!F256","v":0},554,null,null,0,{"$f":"regformel!F557","v":0},0,264,"UDEFINERT",255,null,554]
[256,null,0,{"$f":"regformel!F257","v":0},555,null,null,0,{"$f":"regformel!F558","v":0},0,265,"UDEFINERT",256,null,555]
[257,null,0,{"$f":"regformel!F258","v":0},556,null,null,0,{"$f":"regformel!F559","v":0},0,266,"UDEFINERT",257,null,556]
[258,null,0,{"$f":"regformel!F259","v":0},557,null,null,0,{"$f":"regformel!F560","v":0},0,267,"UDEFINERT",258,null,557]
[259,null,0,{"$f":"regformel!F260","v":0},558,null,null,0,{"$f":"regformel!F561","v":0},{"$f":"IF(F268=\"\",IF(B268=\"\",,1),1)","v":0},268,"UDEFINERT",259,null,558]
[260,null,0,{"$f":"regformel!F261","v":0},559,null,null,0,{"$f":"regformel!F562","v":0},0,269,"UDEFINERT",260,null,559]
[261,null,0,{"$f":"regformel!F262","v":0},560,null,null,0,{"$f":"regformel!F563","v":0},0,270,"UDEFINERT",261,null,560]
[262,null,0,{"$f":"regformel!F263","v":0},561,null,null,0,{"$f":"regformel!F564","v":0},0,271,{"$f":"IF(B280=\"\",\"UDEFINERT\",B280)","v":"UDEFINERT"},262,null,561]
[263,null,0,{"$f":"regformel!F264","v":0},562,null,null,0,{"$f":"regformel!F565","v":0},0,272,"UDEFINERT",263,null,562]
[264,null,0,{"$f":"regformel!F265","v":0},563,null,null,0,{"$f":"regformel!F566","v":0},0,273,"UDEFINERT",264,null,563]
[265,null,0,{"$f":"regformel!F266","v":0},564,null,null,0,{"$f":"regformel!F567","v":0},0,274,"UDEFINERT",265,null,564]
[266,null,0,{"$f":"regformel!F267","v":0},565,null,null,0,{"$f":"regformel!F568","v":0},0,275,"UDEFINERT",266,null,565]
[267,null,0,{"$f":"regformel!F268","v":0},566,null,null,0,{"$f":"regformel!F569","v":0},0,276,"UDEFINERT",267,null,566]
[268,null,0,{"$f":"regformel!F269","v":0},567,null,null,0,{"$f":"regformel!F570","v":0},0,277,"UDEFINERT",268,null,567]
[269,null,0,{"$f":"regformel!F270","v":0},568,null,null,0,{"$f":"regformel!F571","v":0},0,278,"UDEFINERT",269,null,568]
[270,null,0,{"$f":"regformel!F271","v":0},569,null,null,0,{"$f":"regformel!F572","v":0},0,279,"UDEFINERT",270,null,569]
[271,null,0,{"$f":"regformel!F272","v":0},570,null,null,0,{"$f":"regformel!F573","v":0},0,280,"UDEFINERT",271,null,570]
[272,null,0,{"$f":"regformel!F273","v":0},571,null,null,0,{"$f":"regformel!F574","v":0},0,281,"UDEFINERT",272,null,571]
[273,null,0,{"$f":"regformel!F274","v":0},572,null,null,0,{"$f":"regformel!F575","v":0},0,282,"UDEFINERT",273,null,572]
[274,null,0,{"$f":"regformel!F275","v":0},573,null,null,0,{"$f":"regformel!F576","v":0},0,283,"UDEFINERT",274,null,573]
[275,null,0,{"$f":"regformel!F276","v":0},574,null,null,0,{"$f":"regformel!F577","v":0},0,284,"UDEFINERT",275,null,574]
[276,null,0,{"$f":"regformel!F277","v":0},575,null,null,0,{"$f":"regformel!F578","v":0},0,285,"UDEFINERT",276,null,575]
[277,null,0,{"$f":"regformel!F278","v":0},576,null,null,0,{"$f":"regformel!F579","v":0},0,286,"UDEFINERT",277,null,576]
[278,null,0,{"$f":"regformel!F279","v":0},577,null,null,0,{"$f":"regformel!F580","v":0},0,287,"UDEFINERT",278,null,577]
[279,null,0,{"$f":"regformel!F280","v":0},578,null,null,0,{"$f":"regformel!F581","v":0},0,288,"UDEFINERT",279,null,578]
[280,null,0,{"$f":"regformel!F281","v":0},579,null,null,0,{"$f":"regformel!F582","v":0},0,289,"UDEFINERT",280,null,579]
[281,null,0,{"$f":"regformel!F282","v":0},580,null,null,0,{"$f":"regformel!F583","v":0},0,290,"UDEFINERT",281,null,580]
[282,null,0,{"$f":"regformel!F283","v":0},581,null,null,0,{"$f":"regformel!F584","v":0},0,291,"UDEFINERT",282,null,581]
[283,null,0,{"$f":"regformel!F284","v":0},582,null,null,0,{"$f":"regformel!F585","v":0},0,292,"UDEFINERT",283,null,582]
[284,null,0,{"$f":"regformel!F285","v":0},583,null,null,0,{"$f":"regformel!F586","v":0},0,293,"UDEFINERT",284,null,583]
[285,null,0,{"$f":"regformel!F286","v":0},584,null,null,0,{"$f":"regformel!F587","v":0},0,294,"UDEFINERT",285,null,584]
[286,null,0,{"$f":"regformel!F287","v":0},585,null,null,0,{"$f":"regformel!F588","v":0},0,295,"UDEFINERT",286,null,585]
[287,null,0,{"$f":"regformel!F288","v":0},586,null,null,0,{"$f":"regformel!F589","v":0},0,296,"UDEFINERT",287,null,586]
[288,null,0,{"$f":"regformel!F289","v":0},587,null,null,0,{"$f":"regformel!F590","v":0},0,297,"UDEFINERT",288,null,587]
[289,null,0,{"$f":"regformel!F290","v":0},588,null,null,0,{"$f":"regformel!F591","v":0},0,298,"UDEFINERT",289,null,588]
[290,null,0,{"$f":"regformel!F291","v":0},589,null,null,0,{"$f":"regformel!F592","v":0},0,299,"UDEFINERT",290,null,589]
[291,null,0,{"$f":"regformel!F292","v":0},590,null,null,0,{"$f":"regformel!F593","v":0},0,300,{"$f":"IF(F10=\"\",\"UDEFINERT\",F10)","v":"Diverse leverandørar"},291,null,590]
[292,null,0,{"$f":"regformel!F293","v":0},591,null,null,0,{"$f":"regformel!F594","v":0},0,301,{"$f":"IF(F11=\"\",\"UDEFINERT\",F11)","v":"Jernia"},292,null,591]
[293,null,0,{"$f":"regformel!F294","v":0},592,null,null,0,{"$f":"regformel!F595","v":0},0,302,{"$f":"IF(F12=\"\",\"UDEFINERT\",F12)","v":"UDEFINERT"},293,null,592]
[294,null,0,{"$f":"regformel!F295","v":0},593,null,null,0,{"$f":"regformel!F596","v":0},0,303,"UDEFINERT",294,null,593]
[295,null,0,{"$f":"regformel!F296","v":0},594,null,null,0,{"$f":"regformel!F597","v":0},0,304,"UDEFINERT",295,null,594]
[296,null,0,{"$f":"regformel!F297","v":0},595,null,null,0,{"$f":"regformel!F598","v":0},0,305,"UDEFINERT",296,null,595]
[297,null,0,{"$f":"regformel!F298","v":0},596,null,null,0,{"$f":"regformel!F599","v":0},0,306,"UDEFINERT",297,null,596]
[298,null,0,{"$f":"regformel!F299","v":0},597,null,null,0,{"$f":"regformel!F600","v":0},0,307,"UDEFINERT",298,null,597]
[299,null,0,{"$f":"regformel!F300","v":0},598,null,null,0,{"$f":"regformel!F601","v":0},0,308,"UDEFINERT",299,null,598]
[null,null,null,null,599,null,null,0,{"$f":"regformel!F602","v":0},0,309,{"$f":"IF(F19=\"\",\"UDEFINERT\",F19)","v":"UDEFINERT"},null,null,599]
[null,null,null,null,null,null,null,null,null,null,310,"UDEFINERT"]
[null,null,null,null,null,null,null,null,null,null,311,"UDEFINERT"]
[null,null,null,null,null,null,null,null,null,null,312,"UDEFINERT"]
[null,null,null,null,null,null,null,null,null,null,313,"UDEFINERT"]
[null,null,null,null,null,null,null,null,null,null,314,"UDEFINERT"]
[null,null,null,null,null,null,null,null,null,null,315,"UDEFINERT"]
[null,null,null,null,null,null,null,null,null,null,316,"UDEFINERT"]
[null,null,null,null,null,null,null,null,null,null,317,"UDEFINERT"]
[null,null,null,null,null,null,null,null,null,null,318,"UDEFINERT"]
[null,null,null,null,null,null,null,null,null,null,319,"UDEFINERT"]
[null,null,null,null,null,null,null,null,null,null,320,"UDEFINERT"]
[null,null,null,null,null,null,null,null,null,null,321,"UDEFINERT"]
[null,null,null,null,null,null,null,null,null,null,322,"UDEFINERT"]
[null,null,null,null,null,null,null,null,null,null,323,"UDEFINERT"]
[null,null,null,null,null,null,null,null,null,null,324,"UDEFINERT"]
[null,null,null,null,null,null,null,null,null,null,325,"UDEFINERT"]
[null,null,null,null,null,null,null,null,null,null,326,"UDEFINERT"]
[null,null,null,null,null,null,null,null,null,null,327,"UDEFINERT"]
[null,null,null,null,null,null,null,null,null,null,328,"UDEFINERT"]
[null,null,null,null,null,null,null,null,null,null,329,"UDEFINERT"]
[null,null,null,null,null,null,null,null,null,null,330,"UDEFINERT"]
[null,null,null,null,null,null,null,null,null,null,331,"UDEFINERT"]
[null,null,null,null,null,null,null,null,null,null,332,"UDEFINERT"]
[null,null,null,null,null,null,null,null,null,null,333,"UDEFINERT"]
[null,null,null,null,null,null,null,null,null,null,334,"UDEFINERT"]
[null,null,null,null,null,null,null,null,null,null,335,"UDEFINERT"]
[null,null,null,null,null,null,null,null,null,null,336,"UDEFINERT"]
[null,null,null,null,null,null,null,null,null,null,337,"UDEFINERT"]
[null,null,null,null,null,null,null,null,null,null,338,"UDEFINERT"]
[null,null,null,null,null,null,null,null,null,null,339,"UDEFINERT"]
[null,null,null,null,null,null,null,null,null,null,340,"UDEFINERT"]
[null,null,null,null,null,null,null,null,null,null,341,"UDEFINERT"]
[null,null,null,null,null,null,null,null,null,null,342,"UDEFINERT"]
[null,null,null,null,null,null,null,null,null,null,343,"UDEFINERT"]
[null,null,null,null,null,null,null,null,null,null,344,"UDEFINERT"]
[null,null,null,null,null,null,null,null,null,null,345,"UDEFINERT"]
[null,null,null,null,null,null,null,null,null,null,346,"UDEFINERT"]
[null,null,null,null,null,null,null,null,null,null,347,"UDEFINERT"]
[null,null,null,null,null,null,null,null,null,null,348,"UDEFINERT"]
[null,null,null,null,null,null,null,null,null,null,349,"UDEFINERT"]
[null,null,null,null,null,null,null,null,null,null,350,"UDEFINERT"]
[null,null,null,null,null,null,null,null,null,null,351,"UDEFINERT"]
[null,null,null,null,null,null,null,null,null,null,352,"UDEFINERT"]
[null,null,null,null,null,null,null,null,null,null,353,"UDEFINERT"]
[null,null,null,null,null,null,null,null,null,null,354,"UDEFINERT"]
[null,null,null,null,null,null,null,null,null,null,355,"UDEFINERT"]
[null,null,null,null,null,null,null,null,null,null,356,"UDEFINERT"]
[null,null,null,null,null,null,null,null,null,null,357,"UDEFINERT"]
[null,null,null,null,null,null,null,null,null,null,358,"UDEFINERT"]
[null,null,null,null,null,null,null,null,null,null,359,"UDEFINERT"]
[null,null,null,null,null,null,null,null,null,null,360,"UDEFINERT"]
[null,null,null,null,null,null,null,null,null,null,361,"UDEFINERT"]
[null,null,null,null,null,null,null,null,null,null,362,"UDEFINERT"]
[null,null,null,null,null,null,null,null,null,null,363,"UDEFINERT"]
[null,null,null,null,null,null,null,null,null,null,364,"UDEFINERT"]
[null,null,null,null,null,null,null,null,null,null,365,"UDEFINERT"]
[null,null,null,null,null,null,null,null,null,null,366,"UDEFINERT"]
[null,null,null,null,null,null,null,null,null,null,367,"UDEFINERT"]
[null,null,null,null,null,null,null,null,null,null,368,"UDEFINERT"]
[null,null,null,null,null,null,null,null,null,null,369,"UDEFINERT"]
[null,null,null,null,null,null,null,null,null,null,370,"UDEFINERT"]
[null,null,null,null,null,null,null,null,null,null,371,"UDEFINERT"]
[null,null,null,null,null,null,null,null,null,null,372,"UDEFINERT"]
[null,null,null,null,null,null,null,null,null,null,373,{"$f":"IF(F83=\"\",\"UDEFINERT\",F83)","v":"UDEFINERT"}]
[null,null,null,null,null,null,null,null,null,null,374,"UDEFINERT"]
[null,null,null,null,null,null,null,null,null,null,375,"UDEFINERT"]
[null,null,null,null,null,null,null,null,null,null,376,"UDEFINERT"]
[null,null,null,null,null,null,null,null,null,null,377,"UDEFINERT"]
[null,null,null,null,null,null,null,null,null,null,378,"UDEFINERT"]
[null,null,null,null,null,null,null,null,null,null,379,"UDEFINERT"]
[null,null,null,null,null,null,null,null,null,null,380,"UDEFINERT"]
[null,null,null,null,null,null,null,null,null,null,381,"UDEFINERT"]
[null,null,null,null,null,null,null,null,null,null,382,"UDEFINERT"]
[null,null,null,null,null,null,null,null,null,null,383,"UDEFINERT"]
[null,null,null,null,null,null,null,null,null,null,384,"UDEFINERT"]
[null,null,null,null,null,null,null,null,null,null,385,"UDEFINERT"]
[null,null,null,null,null,null,null,null,null,null,386,"UDEFINERT"]
[null,null,null,null,null,null,null,null,null,null,387,"UDEFINERT"]
[null,null,null,null,null,null,null,null,null,null,388,"UDEFINERT"]
[null,null,null,null,null,null,null,null,null,null,389,"UDEFINERT"]
[null,null,null,null,null,null,null,null,null,null,390,"UDEFINERT"]
[null,null,null,null,null,null,null,null,null,null,391,"UDEFINERT"]
[null,null,null,null,null,null,null,null,null,null,392,"UDEFINERT"]
[null,null,null,null,null,null,null,null,null,null,393,"UDEFINERT"]
[null,null,null,null,null,null,null,null,null,null,394,"UDEFINERT"]
[null,null,null,null,null,null,null,null,null,null,395,"UDEFINERT"]
[null,null,null,null,null,null,null,null,null,null,396,"UDEFINERT"]
[null,null,null,null,null,null,null,null,null,null,397,"UDEFINERT"]
[null,null,null,null,null,null,null,null,null,null,398,"UDEFINERT"]
[null,null,null,null,null,null,null,null,null,null,399,"UDEFINERT"]
[null,null,null,null,null,null,null,null,null,null,400,"UDEFINERT"]
[null,null,null,null,null,null,null,null,null,null,401,"UDEFINERT"]
[null,null,null,null,null,null,null,null,null,null,402,"UDEFINERT"]
[null,null,null,null,null,null,null,null,null,null,403,"UDEFINERT"]
[null,null,null,null,null,null,null,null,null,null,404,"UDEFINERT"]
[null,null,null,null,null,null,null,null,null,null,405,"UDEFINERT"]
[null,null,null,null,null,null,null,null,null,null,406,"UDEFINERT"]
[null,null,null,null,null,null,null,null,null,null,407,"UDEFINERT"]
[null,null,null,null,null,null,null,null,null,null,408,"UDEFINERT"]
[null,null,null,null,null,null,null,null,null,null,409,"UDEFINERT"]
[null,null,null,null,null,null,null,null,null,null,410,"UDEFINERT"]
[null,null,null,null,null,null,null,null,null,null,411,"UDEFINERT"]
[null,null,null,null,null,null,null,null,null,null,412,"UDEFINERT"]
[null,null,null,null,null,null,null,null,null,null,413,"UDEFINERT"]
[null,null,null,null,null,null,null,null,null,null,414,"UDEFINERT"]
[null,null,null,null,null,null,null,null,null,null,415,"UDEFINERT"]
[null,null,null,null,null,null,null,null,null,null,416,"UDEFINERT"]
[null,null,null,null,null,null,null,null,null,null,417,"UDEFINERT"]
[null,null,null,null,null,null,null,null,null,null,418,"UDEFINERT"]
[null,null,null,null,null,null,null,null,null,null,419,"UDEFINERT"]
[null,null,null,null,null,null,null,null,null,null,420,"UDEFINERT"]
[null,null,null,null,null,null,null,null,null,null,421,"UDEFINERT"]
[null,null,null,null,null,null,null,null,null,null,422,"UDEFINERT"]
[null,null,null,null,null,null,null,null,null,null,423,"UDEFINERT"]
[null,null,null,null,null,null,null,null,null,null,424,"UDEFINERT"]
[null,null,null,null,null,null,null,null,null,null,425,"UDEFINERT"]
[null,null,null,null,null,null,null,null,null,null,426,"UDEFINERT"]
[null,null,null,null,null,null,null,null,null,null,427,"UDEFINERT"]
[null,null,null,null,null,null,null,null,null,null,428,"UDEFINERT"]
[null,null,null,null,null,null,null,null,null,null,429,"UDEFINERT"]
[null,null,null,null,null,null,null,null,null,null,430,"UDEFINERT"]
[null,null,null,null,null,null,null,null,null,null,431,"UDEFINERT"]
[null,null,null,null,null,null,null,null,null,null,432,"UDEFINERT"]
[null,null,null,null,null,null,null,null,null,null,433,"UDEFINERT"]
[null,null,null,null,null,null,null,null,null,null,434,"UDEFINERT"]
[null,null,null,null,null,null,null,null,null,null,435,"UDEFINERT"]
[null,null,null,null,null,null,null,null,null,null,436,"UDEFINERT"]
[null,null,null,null,null,null,null,null,null,null,437,{"$f":"IF(F147=\"\",\"UDEFINERT\",F147)","v":"UDEFINERT"}]
[null,null,null,null,null,null,null,null,null,null,438,"UDEFINERT"]
[null,null,null,null,null,null,null,null,null,null,439,"UDEFINERT"]
[null,null,null,null,null,null,null,null,null,null,440,"UDEFINERT"]
[null,null,null,null,null,null,null,null,null,null,441,"UDEFINERT"]
[null,null,null,null,null,null,null,null,null,null,442,"UDEFINERT"]
[null,null,null,null,null,null,null,null,null,null,443,"UDEFINERT"]
[null,null,null,null,null,null,null,null,null,null,444,"UDEFINERT"]
[null,null,null,null,null,null,null,null,null,null,445,"UDEFINERT"]
[null,null,null,null,null,null,null,null,null,null,446,"UDEFINERT"]
[null,null,null,null,null,null,null,null,null,null,447,"UDEFINERT"]
[null,null,null,null,null,null,null,null,null,null,448,"UDEFINERT"]
[null,null,null,null,null,null,null,null,null,null,449,"UDEFINERT"]
[null,null,null,null,null,null,null,null,null,null,450,"UDEFINERT"]
[null,null,null,null,null,null,null,null,null,null,451,"UDEFINERT"]
[null,null,null,null,null,null,null,null,null,null,452,"UDEFINERT"]
[null,null,null,null,null,null,null,null,null,null,453,"UDEFINERT"]
[null,null,null,null,null,null,null,null,null,null,454,"UDEFINERT"]
[null,null,null,null,null,null,null,null,null,null,455,"UDEFINERT"]
[null,null,null,null,null,null,null,null,null,null,456,"UDEFINERT"]
[null,null,null,null,null,null,null,null,null,null,457,"UDEFINERT"]
[null,null,null,null,null,null,null,null,null,null,458,"UDEFINERT"]
[null,null,null,null,null,null,null,null,null,null,459,"UDEFINERT"]
[null,null,null,null,null,null,null,null,null,null,460,"UDEFINERT"]
[null,null,null,null,null,null,null,null,null,null,461,"UDEFINERT"]
[null,null,null,null,null,null,null,null,null,null,462,"UDEFINERT"]
[null,null,null,null,null,null,null,null,null,null,463,"UDEFINERT"]
[null,null,null,null,null,null,null,null,null,null,464,"UDEFINERT"]
[null,null,null,null,null,null,null,null,null,null,465,"UDEFINERT"]
[null,null,null,null,null,null,null,null,null,null,466,"UDEFINERT"]
[null,null,null,null,null,null,null,null,null,null,467,"UDEFINERT"]
[null,null,null,null,null,null,null,null,null,null,468,"UDEFINERT"]
[null,null,null,null,null,null,null,null,null,null,469,"UDEFINERT"]
[null,null,null,null,null,null,null,null,null,null,470,"UDEFINERT"]
[null,null,null,null,null,null,null,null,null,null,471,"UDEFINERT"]
[null,null,null,null,null,null,null,null,null,null,472,"UDEFINERT"]
[null,null,null,null,null,null,null,null,null,null,473,"UDEFINERT"]
[null,null,null,null,null,null,null,null,null,null,474,"UDEFINERT"]
[null,null,null,null,null,null,null,null,null,null,475,"UDEFINERT"]
[null,null,null,null,null,null,null,null,null,null,476,"UDEFINERT"]
[null,null,null,null,null,null,null,null,null,null,477,"UDEFINERT"]
[null,null,null,null,null,null,null,null,null,null,478,"UDEFINERT"]
[null,null,null,null,null,null,null,null,null,null,479,"UDEFINERT"]
[null,null,null,null,null,null,null,null,null,null,480,"UDEFINERT"]
[null,null,null,null,null,null,null,null,null,null,481,"UDEFINERT"]
[null,null,null,null,null,null,null,null,null,null,482,"UDEFINERT"]
[null,null,null,null,null,null,null,null,null,null,483,"UDEFINERT"]
[null,null,null,null,null,null,null,null,null,null,484,"UDEFINERT"]
[null,null,null,null,null,null,null,null,null,null,485,"UDEFINERT"]
[null,null,null,null,null,null,null,null,null,null,486,"UDEFINERT"]
[null,null,null,null,null,null,null,null,null,null,487,"UDEFINERT"]
[null,null,null,null,null,null,null,null,null,null,488,"UDEFINERT"]
[null,null,null,null,null,null,null,null,null,null,489,"UDEFINERT"]
[null,null,null,null,null,null,null,null,null,null,490,"UDEFINERT"]
[null,null,null,null,null,null,null,null,null,null,491,"UDEFINERT"]
[null,null,null,null,null,null,null,null,null,null,492,"UDEFINERT"]
[null,null,null,null,null,null,null,null,null,null,493,"UDEFINERT"]
[null,null,null,null,null,null,null,null,null,null,494,"UDEFINERT"]
[null,null,null,null,null,null,null,null,null,null,495,"UDEFINERT"]
[null,null,null,null,null,null,null,null,null,null,496,"UDEFINERT"]
[null,null,null,null,null,null,null,null,null,null,497,"UDEFINERT"]
[null,null,null,null,null,null,null,null,null,null,498,"UDEFINERT"]
[null,null,null,null,null,null,null,null,null,null,499,"UDEFINERT"]
[null,null,null,null,null,null,null,null,null,null,500,"UDEFINERT"]
[null,null,null,null,null,null,null,null,null,null,501,{"$f":"IF(F211=\"\",\"UDEFINERT\",F211)","v":"UDEFINERT"}]
[null,null,null,null,null,null,null,null,null,null,502,"UDEFINERT"]
[null,null,null,null,null,null,null,null,null,null,503,"UDEFINERT"]
[null,null,null,null,null,null,null,null,null,null,504,"UDEFINERT"]
[null,null,null,null,null,null,null,null,null,null,505,"UDEFINERT"]
[null,null,null,null,null,null,null,null,null,null,506,"UDEFINERT"]
[null,null,null,null,null,null,null,null,null,null,507,"UDEFINERT"]
[null,null,null,null,null,null,null,null,null,null,508,"UDEFINERT"]
[null,null,null,null,null,null,null,null,null,null,509,"UDEFINERT"]
[null,null,null,null,null,null,null,null,null,null,510,"UDEFINERT"]
[null,null,null,null,null,null,null,null,null,null,511,"UDEFINERT"]
[null,null,null,null,null,null,null,null,null,null,512,"UDEFINERT"]
[null,null,null,null,null,null,null,null,null,null,513,"UDEFINERT"]
[null,null,null,null,null,null,null,null,null,null,514,"UDEFINERT"]
[null,null,null,null,null,null,null,null,null,null,515,"UDEFINERT"]
[null,null,null,null,null,null,null,null,null,null,516,"UDEFINERT"]
[null,null,null,null,null,null,null,null,null,null,517,"UDEFINERT"]
[null,null,null,null,null,null,null,null,null,null,518,"UDEFINERT"]
[null,null,null,null,null,null,null,null,null,null,519,"UDEFINERT"]
[null,null,null,null,null,null,null,null,null,null,520,"UDEFINERT"]
[null,null,null,null,null,null,null,null,null,null,521,"UDEFINERT"]
[null,null,null,null,null,null,null,null,null,null,522,"UDEFINERT"]
[null,null,null,null,null,null,null,null,null,null,523,"UDEFINERT"]
[null,null,null,null,null,null,null,null,null,null,524,"UDEFINERT"]
[null,null,null,null,null,null,null,null,null,null,525,"UDEFINERT"]
[null,null,null,null,null,null,null,null,null,null,526,"UDEFINERT"]
[null,null,null,null,null,null,null,null,null,null,527,"UDEFINERT"]
[null,null,null,null,null,null,null,null,null,null,528,"UDEFINERT"]
[null,null,null,null,null,null,null,null,null,null,529,"UDEFINERT"]
[null,null,null,null,null,null,null,null,null,null,530,"UDEFINERT"]
[null,null,null,null,null,null,null,null,null,null,531,"UDEFINERT"]
[null,null,null,null,null,null,null,null,null,null,532,"UDEFINERT"]
[null,null,null,null,null,null,null,null,null,null,533,"UDEFINERT"]
[null,null,null,null,null,null,null,null,null,null,534,"UDEFINERT"]
[null,null,null,null,null,null,null,null,null,null,535,"UDEFINERT"]
[null,null,null,null,null,null,null,null,null,null,536,"UDEFINERT"]
[null,null,null,null,null,null,null,null,null,null,537,"UDEFINERT"]
[null,null,null,null,null,null,null,null,null,null,538,"UDEFINERT"]
[null,null,null,null,null,null,null,null,null,null,539,"UDEFINERT"]
[null,null,null,null,null,null,null,null,null,null,540,"UDEFINERT"]
[null,null,null,null,null,null,null,null,null,null,541,"UDEFINERT"]
[null,null,null,null,null,null,null,null,null,null,542,"UDEFINERT"]
[null,null,null,null,null,null,null,null,null,null,543,"UDEFINERT"]
[null,null,null,null,null,null,null,null,null,null,544,"UDEFINERT"]
[null,null,null,null,null,null,null,null,null,null,545,"UDEFINERT"]
[null,null,null,null,null,null,null,null,null,null,546,"UDEFINERT"]
[null,null,null,null,null,null,null,null,null,null,547,"UDEFINERT"]
[null,null,null,null,null,null,null,null,null,null,548,"UDEFINERT"]
[null,null,null,null,null,null,null,null,null,null,549,"UDEFINERT"]
[null,null,null,null,null,null,null,null,null,null,550,"UDEFINERT"]
[null,null,null,null,null,null,null,null,null,null,551,"UDEFINERT"]
[null,null,null,null,null,null,null,null,null,null,552,"UDEFINERT"]
[null,null,null,null,null,null,null,null,null,null,553,"UDEFINERT"]
[null,null,null,null,null,null,null,null,null,null,554,"UDEFINERT"]
[null,null,null,null,null,null,null,null,null,null,555,"UDEFINERT"]
[null,null,null,null,null,null,null,null,null,null,556,"UDEFINERT"]
[null,null,null,null,null,null,null,null,null,null,557,"UDEFINERT"]
[null,null,null,null,null,null,null,null,null,null,558,"UDEFINERT"]
[null,null,null,null,null,null,null,null,null,null,559,"UDEFINERT"]
[null,null,null,null,null,null,null,null,null,null,560,"UDEFINERT"]
[null,null,null,null,null,null,null,null,null,null,561,"UDEFINERT"]
[null,null,null,null,null,null,null,null,null,null,562,"UDEFINERT"]
[null,null,null,null,null,null,null,null,null,null,563,"UDEFINERT"]
[null,null,null,null,null,null,null,null,null,null,564,"UDEFINERT"]
[null,null,null,null,null,null,null,null,null,null,565,{"$f":"IF(F275=\"\",\"UDEFINERT\",F275)","v":"UDEFINERT"}]
[null,null,null,null,null,null,null,null,null,null,566,"UDEFINERT"]
[null,null,null,null,null,null,null,null,null,null,567,"UDEFINERT"]
[null,null,null,null,null,null,null,null,null,null,568,"UDEFINERT"]
[null,null,null,null,null,null,null,null,null,null,569,"UDEFINERT"]
[null,null,null,null,null,null,null,null,null,null,570,"UDEFINERT"]
[null,null,null,null,null,null,null,null,null,null,571,"UDEFINERT"]
[null,null,null,null,null,null,null,null,null,null,572,"UDEFINERT"]
[null,null,null,null,null,null,null,null,null,null,573,"UDEFINERT"]
[null,null,null,null,null,null,null,null,null,null,574,"UDEFINERT"]
[null,null,null,null,null,null,null,null,null,null,575,"UDEFINERT"]
[null,null,null,null,null,null,null,null,null,null,576,"UDEFINERT"]
[null,null,null,null,null,null,null,null,null,null,577,"UDEFINERT"]
[null,null,null,null,null,null,null,null,null,null,578,"UDEFINERT"]
[null,null,null,null,null,null,null,null,null,null,579,"UDEFINERT"]
[null,null,null,null,null,null,null,null,null,null,580,"UDEFINERT"]
[null,null,null,null,null,null,null,null,null,null,581,"UDEFINERT"]
[null,null,null,null,null,null,null,null,null,null,582,"UDEFINERT"]
[null,null,null,null,null,null,null,null,null,null,583,"UDEFINERT"]
[null,null,null,null,null,null,null,null,null,null,584,"UDEFINERT"]
[null,null,null,null,null,null,null,null,null,null,585,"UDEFINERT"]
[null,null,null,null,null,null,null,null,null,null,586,"UDEFINERT"]
[null,null,null,null,null,null,null,null,null,null,587,"UDEFINERT"]
[null,null,null,null,null,null,null,null,null,null,588,"UDEFINERT"]
[null,null,null,null,null,null,null,null,null,null,589,"UDEFINERT"]
[null,null,null,null,null,null,null,null,null,null,590,"UDEFINERT"]
[null,null,null,null,null,null,null,null,null,null,591,"UDEFINERT"]
[null,null,null,null,null,null,null,null,null,null,592,"UDEFINERT"]
[null,null,null,null,null,null,null,null,null,null,593,"UDEFINERT"]
[null,null,null,null,null,null,null,null,null,null,594,"UDEFINERT"]
[null,null,null,null,null,null,null,null,null,null,595,"UDEFINERT"]
[null,null,null,null,null,null,null,null,null,null,596,"UDEFINERT"]
[null,null,null,null,null,null,null,null,null,null,597,"UDEFINERT"]
[null,null,null,null,null,null,null,null,null,null,598,"UDEFINERT"]
[null,null,null,null,null,null,null,null,null,null,599,"UDEFINERT"]
[null,null,null,null,null,null,null,null,null,null,600,"FEIL K/LEV NR !"]
[null,null,null,null,null,null,null,null,null,null,2049,"FEIL K/LEV NR !"]
[null,null,null,null,null,null,null,null,null,null,2050,"Privatkonto"]
[null,null,null,null,null,null,null,null,null,null,2051,"FEIL K/LEV NR !"]
[null,null,null,null,null,null,null,null,null,null,2219,"FEIL K/LEV NR !"]
[null,null,null,null,null,null,null,null,null,null,2220,"Bankgjeld drifta"]
[null,null,null,null,null,null,null,null,null,null,2221,"FEIL K/LEV NR !"]
[null,null,null,null,null,null,null,null,null,null,2599,"FEIL K/LEV NR !"]
[null,null,null,null,null,null,null,null,null,null,2600,"Skattetrekk"]
[null,null,null,null,null,null,null,null,null,null,2601,"FEIL K/LEV NR !"]
[null,null,null,null,null,null,null,null,null,null,2739,"FEIL K/LEV NR !"]
[null,null,null,null,null,null,null,null,null,null,2740,"Oppgjerskonto mva"]
[null,null,null,null,null,null,null,null,null,null,2741,"FEIL K/LEV NR !"]
[null,null,null,null,null,null,null,null,null,null,2769,"FEIL K/LEV NR !"]
[null,null,null,null,null,null,null,null,null,null,2770,"Arbeidsgj.avg"]
[null,null,null,null,null,null,null,null,null,null,2771,"FEIL K/LEV NR !"]
[null,null,null,null,null,null,null,null,null,null,2948,"FEIL K/LEV NR !"]
[null,null,null,null,null,null,null,null,null,null,2949,"Lønn, feriepengar"]
[null,null,null,null,null,null,null,null,null,null,2950,"FEIL K/LEV NR !"]

{"sheet":"VRFORMEL.XLS","index":3,"n_rows":171,"n_cols":16,"rows_kept":171,"cut":false,"hidden":true,"merged":[]}
["Kontrollsum ",null,"innt",{"$f":"Dagbok!F4","v":180000},"nær oppg",{"$f":"#REF!+#REF!","v":{"$error":"#REF!"}},"mva",{"$f":"#REF!","v":{"$error":"#REF!"}},{"$f":"F1+H1","v":{"$error":"#REF!"}},{"$f":"D1-I1","v":{"$error":"#REF!"}}]
[null,"frå dagb","utg",{"$f":"Dagbok!E4","v":36000},null,{"$f":"#REF!+#REF!","v":{"$error":"#REF!"}},null,{"$error":"#REF!"},{"$f":"F2+H2","v":{"$error":"#REF!"}},{"$f":"D2-I2","v":{"$error":"#REF!"}}]
[]
[null,null,null,null,"2002-01-01","2002-12-31"]
["d",{"$f":"SUMIF(Dagbok!$I$5:$I$2500,A5,Dagbok!$K$5:$K$2500)*-1","v":108000},null,"Bank",{"$f":"Årsoppgjer!H45-Årsoppgjer!M41","v":0},{"$f":"E5+B5","v":108000},null,null,0.25,0.15,0.12,0.06,0.25,0.15,0.12,0.06]
["p",{"$f":"SUMIF(Dagbok!$I$5:$I$2500,A6,Dagbok!$K$5:$K$2500)*-1","v":0},null,"Kontant"]
["Jordbruk",null,null,null,"Mva-sats","post nærspes","netto utgift","netto innt","utgift grunnl 0,25","utgift grunnl 0,15","utgift grunnl 0,120","utgift grunnl 0,06","inntekt grunnl 0,25","inntekt grunnl 0,15","inntekt grunnl 0,120","inntekt grunnl 0,06"]
[null,{"$f":"SUM(B9:B193)","v":36000},{"$f":"SUM(C9:C193)","v":180000},"kapitalkonti",null,null,null,null,{"$f":"SUM(I9:I193)","v":28800},0,0,0,144000,0,0,0]
[1080,{"$f":"SUMIF(Dagbok!$C$5:$C$2500,A9,Dagbok!$E$5:$E$2500)","v":0},null,"Goodwill (saldogruppe b)",0,1080,{"$f":"ROUND(B9/(1+E9),)","v":0},null,{"$f":"IF(E9=$I$5,G9,)","v":0},{"$f":"IF(E9=$J$5,G9,)","v":0},null,null,{"$f":"IF(E9=$M$5,H9,)","v":0}]
[1105,{"$f":"SUMIF(Dagbok!$C$5:$C$2500,A10,Dagbok!$E$5:$E$2500)","v":0},null,"Forretningsbygg (saldogr i)",0.25,1105,{"$f":"ROUND(B10/(1+E10),)","v":0},null,{"$f":"IF(E10=$I$5,G10,)","v":0},{"$f":"IF(E10=$J$5,G10,)","v":0},null,null,{"$f":"IF(E10=$M$5,H10,)","v":0}]
[1106,{"$f":"SUMIF(Dagbok!$C$5:$C$2500,A11,Dagbok!$E$5:$E$2500)","v":0},null,"Forretningsbygg (s.gr i), avg.fritt",0,1105,{"$f":"ROUND(B11/(1+E11),)","v":0},null,0,0,null,null,0]
[1107,null,{"$f":"SUMIF(Dagbok!$C$5:$C$2500,A12,Dagbok!$F$5:$F$2500)","v":0},"Sal av forretningsbygg (s.gr i)",0,1105,null,{"$f":"ROUND(C12/(1+E12),)","v":0},0,0,null,null,0]
[1115,{"$f":"SUMIF(Dagbok!$C$5:$C$2500,A13,Dagbok!$E$5:$E$2500)","v":0},null,"Bygg og anlegg,(saldogr h)",0.25,1115,{"$f":"ROUND(B13/(1+E13),)","v":0},null,0,0,null,null,0]
[1116,{"$f":"SUMIF(Dagbok!$C$5:$C$2500,A14,Dagbok!$E$5:$E$2500)","v":0},null,"Bygg og anlegg,(s.gr h), avg.fritt",0,1115,0,null,0,0,null,null,0]
[1117,null,{"$f":"SUMIF(Dagbok!$C$5:$C$2500,A15,Dagbok!$F$5:$F$2500)","v":0},"Sal av bygg og anl,(saldogr h)",0,1115,null,{"$f":"ROUND(C15/(1+E15),)","v":0},0,0,null,null,0]
[1118,null,{"$f":"SUMIF(Dagbok!$C$5:$C$2500,A16,Dagbok!$F$5:$F$2500)","v":0},"Nedskrivingstilskot, bygg/anlegg",0,1115,null,{"$f":"ROUND(C16/(1+E16),)","v":0},0,0,null,null,0]
[1120,{"$f":"SUMIF(Dagbok!$C$5:$C$2500,A17,Dagbok!$E$5:$E$2500)","v":0},null,"Fast teknisk install i bygn.(sgr j)",0.25,1120,0,null,0,0,null,null,0]
[1121,{"$f":"SUMIF(Dagbok!$C$5:$C$2500,A18,Dagbok!$E$5:$E$2500)","v":0},null,"Fast teknisk install avgiftsfri (sgr j)",0,1120,0,null,0,0,null,null,0]
[1122,null,{"$f":"SUMIF(Dagbok!$C$5:$C$2500,A19,Dagbok!$F$5:$F$2500)","v":0},"Sal av fast tekn. Install (sgr j)",0,1120,null,{"$f":"ROUND(C19/(1+E19),)","v":0},0,0,null,null,0]
[1130,{"$f":"SUMIF(Dagbok!$C$5:$C$2500,A20,Dagbok!$E$5:$E$2500)","v":0},null,"Bygg og anl under arbeid",0.25,1130,0,null,0,0,null,null,0]
[1131,{"$f":"SUMIF(Dagbok!$C$5:$C$2500,A21,Dagbok!$E$5:$E$2500)","v":0},null,"Bygg og anl under arb, avg.fritt",0,1130,0,null,0,0,null,null,0]
[1132,null,{"$f":"SUMIF(Dagbok!$C$5:$C$2500,A22,Dagbok!$F$5:$F$2500)","v":0},"Nedskrivingstilskot, bygg/anl.u.arb",0,1130,null,{"$f":"ROUND(C22/(1+E22),)","v":0},0,0,null,null,0]
[1150,{"$f":"SUMIF(Dagbok!$C$5:$C$2500,A23,Dagbok!$E$5:$E$2500)","v":0},null,"Tomter og andre grunnareal",0,1150,0,null,0,0,null,null,0]
[1151,null,{"$f":"SUMIF(Dagbok!$C$5:$C$2500,A24,Dagbok!$F$5:$F$2500)","v":0},"Sal av grunnareal",0,1150,null,{"$f":"ROUND(C24/(1+E24),)","v":0},0,0,null,null,0]
[1160,{"$f":"SUMIF(Dagbok!$C$5:$C$2500,A25,Dagbok!$E$5:$E$2500)","v":0},null,"Bustad inkl tomter, hytter",0,1160,0,null,0,0,null,null,0]
[1161,null,{"$f":"SUMIF(Dagbok!$C$5:$C$2500,A26,Dagbok!$F$5:$F$2500)","v":0},"Sal av bustad o.l.",0,1160,null,{"$f":"ROUND(C26/(1+E26),)","v":0},0,0,null,null,0]
[1205,{"$f":"SUMIF(Dagbok!$C$5:$C$2500,A27,Dagbok!$E$5:$E$2500)","v":0},null,"Maskiner, (saldogruppe d)",0.25,1205,0,null,0,0,null,null,0]
[1206,{"$f":"SUMIF(Dagbok!$C$5:$C$2500,A28,Dagbok!$E$5:$E$2500)","v":0},null,"Maskiner,(saldogruppe d), avgfri",0,1205,0,null,0,0,null,null,0]
[1207,null,{"$f":"SUMIF(Dagbok!$C$5:$C$2500,A29,Dagbok!$F$5:$F$2500)","v":0},"Sal av maskiner (saldogr d)",0.25,1205,null,{"$f":"ROUND(C29/(1+E29),)","v":0},0,0,null,null,0]
[1208,null,{"$f":"SUMIF(Dagbok!$C$5:$C$2500,A30,Dagbok!$F$5:$F$2500)","v":0},"Avg.fritt sal av maskiner (s.gruppe d)",0,1205,null,{"$f":"ROUND(C30/(1+E30),)","v":0},0,0,null,null,0]
[1239,{"$f":"SUMIF(Dagbok!$C$5:$C$2500,A31,Dagbok!$E$5:$E$2500)","v":0},null,"Vare-, drosjebilar, (saldogr c1)",0.25,1238,0,null,0,0,null,null,0]
[1240,{"$f":"SUMIF(Dagbok!$C$5:$C$2500,A32,Dagbok!$E$5:$E$2500)","v":0},null,"Vare-, drosjebilar, (s.gr c1), avg.fritt",0,1238,0,null,0,0,null,null,0]
[1241,{"$f":"SUMIF(Dagbok!$C$5:$C$2500,A33,Dagbok!$E$5:$E$2500)","v":0},{"$f":"SUMIF(Dagbok!$C$5:$C$2500,A33,Dagbok!$F$5:$F$2500)","v":0},"Sal av varebilar mv (saldogr c1)",0,1238,null,{"$f":"ROUND(C33/(1+E33),)","v":0},0,0,null,null,0]
[1242,{"$f":"SUMIF(Dagbok!$C$5:$C$2500,A34,Dagbok!$E$5:$E$2500)","v":0},null,"Vogntog,lastebil,bussar (saldogr c2)",0.25,1239,0,null,0,0,null,null,0]
[1243,{"$f":"SUMIF(Dagbok!$C$5:$C$2500,A35,Dagbok!$E$5:$E$2500)","v":0},null,"Vogntog,lastebil,mv (sgr c2) avg.fritt",0,1239,0,null,0,0,null,null,0]
[1244,null,{"$f":"SUMIF(Dagbok!$C$5:$C$2500,A36,Dagbok!$F$5:$F$2500)","v":0},"Sal av vogntog,lastebil,mv (sgr c2)",0,1239,null,{"$f":"ROUND(C36/(1+E36),)","v":0},0,0,null,null,0]
[1280,{"$f":"SUMIF(Dagbok!$C$5:$C$2500,A37,Dagbok!$E$5:$E$2500)","v":0},null,"Kontormaskiner (saldogr a)",0.25,1280,0,null,0,0,null,null,0]
[1281,{"$f":"SUMIF(Dagbok!$C$5:$C$2500,A38,Dagbok!$E$5:$E$2500)","v":0},null,"Kontormaskiner (s.gr a), avg.fritt",0,1280,0,null,0,0,null,null,0]
[1282,null,{"$f":"SUMIF(Dagbok!$C$5:$C$2500,A39,Dagbok!$F$5:$F$2500)","v":0},"Sal av kontormask. (s.gr a)",0.25,1280,null,{"$f":"ROUND(C39/(1+E39),)","v":0},0,0,null,null,0]
[1295,{"$f":"SUMIF(Dagbok!$C$5:$C$2500,A40,Dagbok!$E$5:$E$2500)","v":0},null,"Utanom saldosyst. (td leasing)",0.25,1295,0,null,0,0,null,null,0]
[1299,{"$f":"SUMIF(Dagbok!$C$5:$C$2500,A41,Dagbok!$E$5:$E$2500)","v":0},null,"Negativ vinst- og tapskonto",0,1299,0,null,0,0,null,null,0]
[2096,null,{"$f":"SUMIF(Dagbok!$C$5:$C$2500,A42,Dagbok!$F$5:$F$2500)","v":0},"Positiv vinst- og tapskonto",0,2096,null,{"$f":"ROUND(C42/(1+E42),)","v":0},null,null,null,null,0]
[2710,{"$f":"SUMIF(Dagbok!$C$5:$C$2500,A43,Dagbok!$E$5:$E$2500)","v":0},null,"Inngåande mva (f.eks.import mva)",0,1239]
[2711,{"$f":"SUMIF(Dagbok!$C$5:$C$2500,A44,Dagbok!$E$5:$E$2500)","v":0},null,"Inngåande mva (f.eks.import mva)",0,1239]
[2712,{"$f":"SUMIF(Dagbok!$C$5:$C$2500,A45,Dagbok!$E$5:$E$2500)","v":0},null,"Inngåande mva (f.eks.import mva)",0,1239]
[4380,{"$f":"SUMIF(Dagbok!$C$5:$C$2500,A46,Dagbok!$E$5:$E$2500)","v":0},null,"Grunnlag for importmva høg sats",0,null,{"$f":"ROUND(B46/(1+E46),)","v":0}]
[4382,{"$f":"SUMIF(Dagbok!$C$5:$C$2500,A47,Dagbok!$E$5:$E$2500)","v":0},null,"Grunnlag for importmva mid sats",0,null,{"$f":"ROUND(B47/(1+E47),)","v":0}]
[null,null,null,"inntekter",null,null,{"$f":"SUM(G9:G41)","v":0},{"$f":"SUM(H9:H43)","v":0}]
[3000,null,{"$f":"SUMIF(Dagbok!$C$5:$C$2500,A49,Dagbok!$F$5:$F$2500)","v":180000},"Salsinntekt og uttak, avg.pliktig",0.25,3000,null,{"$f":"C49/(1+E49)","v":144000},null,null,null,null,{"$f":"IF(E49=$M$5,H49,)","v":144000},{"$f":"IF(E49=$N$5,H49,)","v":0}]
[3001,null,{"$f":"SUMIF(Dagbok!$C$5:$C$2500,A50,Dagbok!$F$5:$F$2500)","v":0},"Salsinntekt og uttak, avg.pliktig",0.25,3000,null,{"$f":"C50/(1+E50)","v":0},null,null,null,null,{"$f":"IF(E50=$M$5,H50,)","v":0},{"$f":"IF(E50=$N$5,H50,)","v":0}]
[3002,null,{"$f":"SUMIF(Dagbok!$C$5:$C$2500,A51,Dagbok!$F$5:$F$2500)","v":0},"Salsinntekt og uttak, avg.pliktig",0.25,3000,null,0,null,null,null,null,{"$f":"IF(E51=$M$5,H51,)","v":0},{"$f":"IF(E51=$N$5,H51,)","v":0}]
[3003,null,{"$f":"SUMIF(Dagbok!$C$5:$C$2500,A52,Dagbok!$F$5:$F$2500)","v":0},"Salsinntekt og uttak, avg.pliktig",0.25,3000,null,0,null,null,null,null,0,0]
[3004,null,{"$f":"SUMIF(Dagbok!$C$5:$C$2500,A53,Dagbok!$F$5:$F$2500)","v":0},"Salsinntekt og uttak, avg.pliktig",0.25,3000,null,0,null,null,null,null,0,0]
[3005,null,{"$f":"SUMIF(Dagbok!$C$5:$C$2500,A54,Dagbok!$F$5:$F$2500)","v":0},"Salsinntekt og uttak, 13% mva",0.15,3000,null,0,null,null,null,null,0,0]
[3050,null,{"$f":"SUMIF(Dagbok!$C$5:$C$2500,A55,Dagbok!$F$5:$F$2500)","v":0},"Persontransport",0.12,3000,null,0,null,null,null,null,0,0,{"$f":"IF(E55=$O$5,H55,)","v":0}]
[3100,null,{"$f":"SUMIF(Dagbok!$C$5:$C$2500,A56,Dagbok!$F$5:$F$2500)","v":0},"Salsinntekt og uttak, avg.fri",0,3100,null,0,null,null,null,null,0,0]
[3200,null,{"$f":"SUMIF(Dagbok!$C$5:$C$2500,A57,Dagbok!$F$5:$F$2500)","v":0},"Salsinntekt og uttak, utanfor avg.området",0,3200,null,0,null,null,null,null,0,0]
[3400,null,{"$f":"SUMIF(Dagbok!$C$5:$C$2500,A58,Dagbok!$F$5:$F$2500)","v":0},"Offentlege tilskot/refusjon",0,3400,null,0,null,null,null,null,0,0]
[3410,null,{"$f":"SUMIF(Dagbok!$C$5:$C$2500,A59,Dagbok!$F$5:$F$2500)","v":0},"Tilskot kompensasjonsordning",0,3410,null,0,null,null,null,null,0,0]
[3600,null,{"$f":"SUMIF(Dagbok!$C$5:$C$2500,A60,Dagbok!$F$5:$F$2500)","v":0},"Utleige av fast eigedom,avgpl",0.25,3605,null,0,null,null,null,null,0,0]
[3601,null,{"$f":"SUMIF(Dagbok!$C$5:$C$2500,A61,Dagbok!$F$5:$F$2500)","v":0},"Utleige av hytter låg sats",0.12,3605,null,0,null,null,null,null,0,0,{"$f":"IF(E61=$O$5,H61,)","v":0}]
[3602,null,{"$f":"SUMIF(Dagbok!$C$5:$C$2500,A62,Dagbok!$F$5:$F$2500)","v":0},"Utleige av hytter avgfri",0,3600,null,0,null,null,null,null,0,0]
[3695,null,{"$f":"SUMIF(Dagbok!$C$5:$C$2500,A63,Dagbok!$F$5:$F$2500)","v":0},"Andre leigeinntekter",0,3695,null,0,null,null,null,null,0,0]
[3700,null,{"$f":"SUMIF(Dagbok!$C$5:$C$2500,A64,Dagbok!$F$5:$F$2500)","v":0},"Provisjonsinntekt",0.25,3700,null,0,null,null,null,null,0,0]
[3900,null,{"$f":"SUMIF(Dagbok!$C$5:$C$2500,A65,Dagbok!$F$5:$F$2500)","v":0},"Andre driftsrelaterte inntekter",0.25,3900,null,0,null,null,null,null,0,0]
[3901,null,{"$f":"SUMIF(Dagbok!$C$5:$C$2500,A66,Dagbok!$F$5:$F$2500)","v":0},"Andre driftsrel. inntekter, avg.fritt",0,3900,null,0,null,null,null,null,0,0]
[8099,null,{"$f":"SUMIF(Dagbok!$C$5:$C$2500,A67,Dagbok!$F$5:$F$2500)","v":0},"Anna kapitalinntekt (ekskl.renteinntekt, utbyte)",0,8079,null,0,null,null,null,null,0,0]
[8050,null,{"$f":"SUMIF(Dagbok!$C$5:$C$2500,A68,Dagbok!$F$5:$F$2500)","v":0},null,0,null,null,0]
[8071,null,{"$f":"SUMIF(Dagbok!$C$5:$C$2500,A69,Dagbok!$F$5:$F$2500)","v":0},null,0,null,null,0]
[8285,null,{"$f":"SUMIF(Dagbok!$C$5:$C$2500,A70,Dagbok!$F$5:$F$2500)","v":0},"Inntektsføring frå positiv vinst-/tapskonto",0,3890,null,0,null,null,null,null,0,0]
[null,null,null,null,null,null,null,{"$f":"SUM(H49:H70)","v":144000}]
[null,null,null,"Utgifter"]
[4005,{"$f":"SUMIF(Dagbok!$C$5:$C$2500,A73,Dagbok!$E$5:$E$2500)","v":36000},null,"Varekostnad",0.25,4005,{"$f":"B73/(1+E73)","v":28800},null,{"$f":"IF(E73=$I$5,G73,)","v":28800},{"$f":"IF(E73=$J$5,G73,)","v":0}]
[4006,{"$f":"SUMIF(Dagbok!$C$5:$C$2500,A74,Dagbok!$E$5:$E$2500)","v":0},null,"Varekostnad",0.25,4005,{"$f":"B74/(1+E74)","v":0},null,{"$f":"IF(E74=$I$5,G74,)","v":0},{"$f":"IF(E74=$J$5,G74,)","v":0}]
[4007,{"$f":"SUMIF(Dagbok!$C$5:$C$2500,A75,Dagbok!$E$5:$E$2500)","v":0},null,"Varekostnad",0.25,4005,0,null,0,0]
[4008,{"$f":"SUMIF(Dagbok!$C$5:$C$2500,A76,Dagbok!$E$5:$E$2500)","v":0},null,"Varekostnad",0.25,4005,0,null,0,0]
[4009,{"$f":"SUMIF(Dagbok!$C$5:$C$2500,A77,Dagbok!$E$5:$E$2500)","v":0},null,"Varekostnad",0.25,4005,0,null,0,0]
[4010,{"$f":"SUMIF(Dagbok!$C$5:$C$2500,A78,Dagbok!$E$5:$E$2500)","v":0},null,"Varekostnad avgiftsfritt",0,4005,0,null,0,0]
[4011,{"$f":"SUMIF(Dagbok!$C$5:$C$2500,A79,Dagbok!$E$5:$E$2500)","v":0},null,"Varekostnad 13% mva",0.15,4005,0,null,0,0]
[4500,{"$f":"SUMIF(Dagbok!$C$5:$C$2500,A80,Dagbok!$E$5:$E$2500)","v":0},null,"Framandyting",0.25,4500,0,null,0,0]
[4501,{"$f":"SUMIF(Dagbok!$C$5:$C$2500,A81,Dagbok!$E$5:$E$2500)","v":0},null,"Framandyting",0.25,4500,0,null,0,0]
[4502,{"$f":"SUMIF(Dagbok!$C$5:$C$2500,A82,Dagbok!$E$5:$E$2500)","v":0},null,"Framandyting",0.25,4500,0,null,0,0]
[4503,{"$f":"SUMIF(Dagbok!$C$5:$C$2500,A83,Dagbok!$E$5:$E$2500)","v":0},null,"Framandyting",0.25,4500,0,null,0,0]
[4504,{"$f":"SUMIF(Dagbok!$C$5:$C$2500,A84,Dagbok!$E$5:$E$2500)","v":0},null,"Framandyting",0.25,4500,0,null,0,0]
[4510,{"$f":"SUMIF(Dagbok!$C$5:$C$2500,A85,Dagbok!$E$5:$E$2500)","v":0},null,"Framandyting avgiftsfritt",0,4500,0,null,0,0]
[5000,{"$f":"SUMIF(Dagbok!$C$5:$C$2500,A86,Dagbok!$E$5:$E$2500)","v":0},null,"Løn",0,5000,0,null,0,0]
[5001,{"$f":"SUMIF(Dagbok!$C$5:$C$2500,A87,Dagbok!$E$5:$E$2500)","v":0},null,"Løn",0,5000,0,null,0,0]
[5002,{"$f":"SUMIF(Dagbok!$C$5:$C$2500,A88,Dagbok!$E$5:$E$2500)","v":0},null,"Løn",0,5000,0,null,0,0]
[5003,{"$f":"SUMIF(Dagbok!$C$5:$C$2500,A89,Dagbok!$E$5:$E$2500)","v":0},null,"Feriepengar",0,5000,0,null,0,0]
[5300,{"$f":"SUMIF(Dagbok!$C$5:$C$2500,A90,Dagbok!$E$5:$E$2500)","v":0},null,"Andre oppg.pliktige godtgjeringar",0,5300,0,null,0,0]
[5400,{"$f":"SUMIF(Dagbok!$C$5:$C$2500,A91,Dagbok!$E$5:$E$2500)","v":0},null,"Arbeidsgjevaravgift",0,5400,0,null,0,0]
[5401,{"$f":"SUMIF(Dagbok!$C$5:$C$2500,A92,Dagbok!$E$5:$E$2500)","v":0},null,"Arbeidsgjevaravgift, feriepengar",0,5400,0,null,0,0]
[5900,{"$f":"SUMIF(Dagbok!$C$5:$C$2500,A93,Dagbok!$E$5:$E$2500)","v":0},null,"Andre personalkostnader",0,5900,0,null,0,0]
[5950,{"$f":"SUMIF(Dagbok!$C$5:$C$2500,A94,Dagbok!$E$5:$E$2500)","v":0},null,"Eiga pensjonsordning",0,5950,0,null,0,0]
[6100,{"$f":"SUMIF(Dagbok!$C$5:$C$2500,A95,Dagbok!$E$5:$E$2500)","v":0},null,"Frakt og transportkostn. ved sal",0.25,6100,0,null,0,0]
[6101,{"$f":"SUMIF(Dagbok!$C$5:$C$2500,A96,Dagbok!$E$5:$E$2500)","v":0},null,"Frakt og transportkostn, avg.fritt",0,6100,0,null,0,0]
[6200,{"$f":"SUMIF(Dagbok!$C$5:$C$2500,A97,Dagbok!$E$5:$E$2500)","v":0},null,"Energi oa i samb med produksjon",0.25,6200,0,null,0,0]
[6201,{"$f":"SUMIF(Dagbok!$C$5:$C$2500,A98,Dagbok!$E$5:$E$2500)","v":0},null,"Energi oa avgiftsfritt",0,6200,0,null,0,0]
[6300,{"$f":"SUMIF(Dagbok!$C$5:$C$2500,A99,Dagbok!$E$5:$E$2500)","v":0},null,"Leige av lokale",0.25,6300,0,null,0,0]
[6301,{"$f":"SUMIF(Dagbok!$C$5:$C$2500,A100,Dagbok!$E$5:$E$2500)","v":0},null,"Leige av lokale, avg.fritt",0,6300,0,null,0,0]
[6310,{"$f":"SUMIF(Dagbok!$C$5:$C$2500,A101,Dagbok!$E$5:$E$2500)","v":0},null,"Leasingleige av bil",0.25,6440,0,null,0,0]
[6340,{"$f":"SUMIF(Dagbok!$C$5:$C$2500,A102,Dagbok!$E$5:$E$2500)","v":0},null,"Lys, varme",0.25,6340,0,null,0,0]
[6341,{"$f":"SUMIF(Dagbok!$C$5:$C$2500,A103,Dagbok!$E$5:$E$2500)","v":0},null,"Lys, varme, avg.fritt",0,6340,0,null,0,0]
[6395,{"$f":"SUMIF(Dagbok!$C$5:$C$2500,A104,Dagbok!$E$5:$E$2500)","v":0},null,"Renovasjon, vatn, avløp, reinhald",0.25,6395,0,null,0,0]
[6396,{"$f":"SUMIF(Dagbok!$C$5:$C$2500,A105,Dagbok!$E$5:$E$2500)","v":0},null,"Renovasjon mm, avg.fritt",0,6395,0,null,0,0]
[6400,{"$f":"SUMIF(Dagbok!$C$5:$C$2500,A106,Dagbok!$E$5:$E$2500)","v":0},null,"Andre leigekostnader",0.25,6400,0,null,0,0]
[6401,{"$f":"SUMIF(Dagbok!$C$5:$C$2500,A107,Dagbok!$E$5:$E$2500)","v":0},null,"Andre leigekostnader, avg.fritt",0,6400,0,null,0,0]
[6500,{"$f":"SUMIF(Dagbok!$C$5:$C$2500,A108,Dagbok!$E$5:$E$2500)","v":0},null,"Verktøy,inventar (ikkje aktiverast)",0.25,6500,0,null,0,0]
[6501,{"$f":"SUMIF(Dagbok!$C$5:$C$2500,A109,Dagbok!$E$5:$E$2500)","v":0},null,"Verktøy,inventar (ikkje aktiverast)",0.25,6500,0,null,0,0]
[6502,{"$f":"SUMIF(Dagbok!$C$5:$C$2500,A110,Dagbok!$E$5:$E$2500)","v":0},null,"Verktøy,inventar (ikkje aktiverast)",0.25,6500,0,null,0,0]
[6503,{"$f":"SUMIF(Dagbok!$C$5:$C$2500,A111,Dagbok!$E$5:$E$2500)","v":0},null,"Verktøy,inventar (ikkje aktiverast)",0.25,6500,0,null,0,0]
[6504,{"$f":"SUMIF(Dagbok!$C$5:$C$2500,A112,Dagbok!$E$5:$E$2500)","v":0},null,"Verktøy,inventar avgiftsfritt",0,6500,0,null,0,0]
[6600,{"$f":"SUMIF(Dagbok!$C$5:$C$2500,A113,Dagbok!$E$5:$E$2500)","v":0},null,"Rep. og vedl.h. av bygningar",0.25,6600,0,null,0,0]
[6601,{"$f":"SUMIF(Dagbok!$C$5:$C$2500,A114,Dagbok!$E$5:$E$2500)","v":0},null,"Rep. og vedl.h. av bygningar",0.25,6600,0,null,0,0]
[6602,{"$f":"SUMIF(Dagbok!$C$5:$C$2500,A115,Dagbok!$E$5:$E$2500)","v":0},null,"Rep. og vedl.h. av bygningar",0.25,6600,0,null,0,0]
[6603,{"$f":"SUMIF(Dagbok!$C$5:$C$2500,A116,Dagbok!$E$5:$E$2500)","v":0},null,"Rep. og vedl.h. av bygn, avg.fritt",0,6600,0,null,0,0]
[6695,{"$f":"SUMIF(Dagbok!$C$5:$C$2500,A117,Dagbok!$E$5:$E$2500)","v":0},null,"Rep. og vedl.h. av maskiner",0.25,6695,0,null,0,0]
[6700,{"$f":"SUMIF(Dagbok!$C$5:$C$2500,A118,Dagbok!$E$5:$E$2500)","v":0},null,"Framand teneste (rekneskap,rådgj)",0.25,6700,0,null,0,0]
[6701,{"$f":"SUMIF(Dagbok!$C$5:$C$2500,A119,Dagbok!$E$5:$E$2500)","v":0},null,"Framand teneste (rekneskap,rådgj)",0.25,6700,0,null,0,0]
[6702,{"$f":"SUMIF(Dagbok!$C$5:$C$2500,A120,Dagbok!$E$5:$E$2500)","v":0},null,"Framand teneste, avg.fritt",0,6700,0,null,0,0]
[6994,{"$f":"SUMIF(Dagbok!$C$5:$C$2500,A121,Dagbok!$E$5:$E$2500)","v":0},null,"Tillegg for mva privat del",0,6995,0,null,0,0]
[6995,{"$f":"SUMIF(Dagbok!$C$5:$C$2500,A122,Dagbok!$E$5:$E$2500)","v":0},null,"Kontorkostnad, telefon, porto",0.25,6995,0,null,0,0]
[6996,{"$f":"SUMIF(Dagbok!$C$5:$C$2500,A123,Dagbok!$E$5:$E$2500)","v":0},null,"Kontorkostnad, telefon, porto",0.25,6995,0,null,0,0]
[6997,{"$f":"SUMIF(Dagbok!$C$5:$C$2500,A124,Dagbok!$E$5:$E$2500)","v":0},null,"Kontorkostnad, telefon, porto",0.25,6995,0,null,0,0]
[6998,{"$f":"SUMIF(Dagbok!$C$5:$C$2500,A125,Dagbok!$E$5:$E$2500)","v":0},null,"Kontorkostnad, telefon, porto",0.25,6995,0,null,0,0]
[6999,{"$f":"SUMIF(Dagbok!$C$5:$C$2500,A126,Dagbok!$E$5:$E$2500)","v":0},null,"Kontorkostnad, avgiftsfritt",0,6995,0,null,0,0]
[7000,{"$f":"SUMIF(Dagbok!$C$5:$C$2500,A127,Dagbok!$E$5:$E$2500)","v":0},null,"Drivstoff transportmiddel",0.25,7000,0,null,0,0]
[7001,{"$f":"SUMIF(Dagbok!$C$5:$C$2500,A128,Dagbok!$E$5:$E$2500)","v":0},null,"Drivstoff transportmiddel, avg.fritt",0,7000,0,null,0,0]
[7020,{"$f":"SUMIF(Dagbok!$C$5:$C$2500,A129,Dagbok!$E$5:$E$2500)","v":0},null,"Vedlikehald mm transportmiddel",0.25,7020,0,null,0,0]
[7021,{"$f":"SUMIF(Dagbok!$C$5:$C$2500,A130,Dagbok!$E$5:$E$2500)","v":0},null,"Vedlikehald transp.mid, avg.fritt",0,7020,0,null,0,0]
[7040,{"$f":"SUMIF(Dagbok!$C$5:$C$2500,A131,Dagbok!$E$5:$E$2500)","v":0},null,"Forsikring og avg. på transp.mid.",0,7040,0,null,0,0]
[7041,{"$f":"SUMIF(Dagbok!$C$5:$C$2500,A132,Dagbok!$E$5:$E$2500)","v":0},null,"Forsikring og avg. på transp.mid.",0,7040,0,null,0,0]
[7080,{"$f":"SUMIF(Dagbok!$C$5:$C$2500,A133,Dagbok!$E$5:$E$2500)","v":0},null,"Bruk av privat bil i næring",0,7080,0,null,0,0]
[7098,{"$f":"SUMIF(Dagbok!$C$5:$C$2500,A134,Dagbok!$E$5:$E$2500)","v":0},null,"Privat bruk av el.kommunikasjon",0,7098,0,null,0,0]
[7099,{"$f":"SUMIF(Dagbok!$C$5:$C$2500,A135,Dagbok!$E$5:$E$2500)","v":0},null,"Privat bruk av næringsbil",0,7099,0,null,0,0]
[7155,{"$f":"SUMIF(Dagbok!$C$5:$C$2500,A136,Dagbok!$E$5:$E$2500)","v":0},null,"Reise-/diett og bilgodtgj, oppg.pl.",0,7155,0,null,0,0]
[7164,{"$f":"SUMIF(Dagbok!$C$5:$C$2500,A137,Dagbok!$E$5:$E$2500)","v":0},null,"Reise og diettkostn, ikkje oppg.pl",0.25,7165,0,null,0,0]
[7165,{"$f":"SUMIF(Dagbok!$C$5:$C$2500,A138,Dagbok!$E$5:$E$2500)","v":0},null,"Reise og diettkostn, ikkje oppg.pl avgfri",0,7165,0,null,0,0]
[7166,{"$f":"SUMIF(Dagbok!$C$5:$C$2500,A139,Dagbok!$E$5:$E$2500)","v":0},null,"Persontransport, reiseutgifter",0.12,7165,0,null,0,0,{"$f":"IF(E139=$K$5,G139,)","v":0}]
[7295,{"$f":"SUMIF(Dagbok!$C$5:$C$2500,A140,Dagbok!$E$5:$E$2500)","v":0},null,"Provisjonskostnad",0.25,7295,0,null,0,0]
[7296,{"$f":"SUMIF(Dagbok!$C$5:$C$2500,A141,Dagbok!$E$5:$E$2500)","v":0},null,"Provisjonskostnad, avg.fritt",0,7295,0,null,0,0]
[7330,{"$f":"SUMIF(Dagbok!$C$5:$C$2500,A142,Dagbok!$E$5:$E$2500)","v":0},null,"Sals og reklamekostnad",0.25,7330,0,null,0,0]
[7331,{"$f":"SUMIF(Dagbok!$C$5:$C$2500,A143,Dagbok!$E$5:$E$2500)","v":0},null,"Sals og reklamekostnad",0.25,7330,0,null,{"$f":"IF(E143=$I$5,G143,)","v":0},{"$f":"IF(E143=$J$5,G143,)","v":0}]
[7332,{"$f":"SUMIF(Dagbok!$C$5:$C$2500,A144,Dagbok!$E$5:$E$2500)","v":0},null,"Sals og reklamekostnad, avg.fritt",0,7330,0,null,0,0]
[7350,{"$f":"SUMIF(Dagbok!$C$5:$C$2500,A145,Dagbok!$E$5:$E$2500)","v":0},null,"Representasjonskostnader",0,7350,0,null,0,0]
[7495,{"$f":"SUMIF(Dagbok!$C$5:$C$2500,A146,Dagbok!$E$5:$E$2500)","v":0},null,"Kontingent og gåve",0,7495,0,null,0,0]
[7500,{"$f":"SUMIF(Dagbok!$C$5:$C$2500,A147,Dagbok!$E$5:$E$2500)","v":0},null,"Forsikringspremie",0,7500,0,null,0,0]
[7501,{"$f":"SUMIF(Dagbok!$C$5:$C$2500,A148,Dagbok!$E$5:$E$2500)","v":0},null,"Forsikringspremie",0,7500,{"$f":"B148/(1+E148)","v":0},null,0,0]
[7502,{"$f":"SUMIF(Dagbok!$C$5:$C$2500,A149,Dagbok!$E$5:$E$2500)","v":0},null,"Forsikringspremie",0,7500,0,null,0,0]
[7600,{"$f":"SUMIF(Dagbok!$C$5:$C$2500,A150,Dagbok!$E$5:$E$2500)","v":0},null,"Lisens, patentkostnad royalty o.l.",0,7600,0,null,0,0]
[7700,{"$f":"SUMIF(Dagbok!$C$5:$C$2500,A151,Dagbok!$E$5:$E$2500)","v":0},null,"Andre kostnader med frådragsrett",0,7700,0,null,0,0]
[7895,{"$f":"SUMIF(Dagbok!$C$5:$C$2500,A152,Dagbok!$E$5:$E$2500)","v":0},null,"Konstaterte tap på krav",0,7895,0,null,0,0]
[7896,{"$f":"SUMIF(Dagbok!$C$5:$C$2500,A153,Dagbok!$E$5:$E$2500)","v":0},null,"Konstaterte tap på krav, med avg",0.25,7895,0,null,0,0]
[8150,{"$f":"SUMIF(Dagbok!$C$5:$C$2500,A154,Dagbok!$E$5:$E$2500)","v":0},null,null,null,null,0]
[8199,{"$f":"SUMIF(Dagbok!$C$5:$C$2500,A155,Dagbok!$E$5:$E$2500)","v":0},null,"Anna kapitalkostnad (ekskl. rente)",0,8199,0,null,0,0]
[8286,{"$f":"SUMIF(Dagbok!$C$5:$C$2500,A156,Dagbok!$E$5:$E$2500)","v":0},null,"Frådragsføring frå neg.vinst-/tapskonto",0,8286,0,null,0,0]
[null,null,null,null,null,null,{"$f":"SUM(G73:G156)","v":28800}]
[]
[2051,{"$f":"SUMIF(Dagbok!$C$5:$C$2500,A159,Dagbok!$E$5:$E$2500)","v":0},null,"Ikkje frådragsberettiga representasjonskostnader"]
[2052,{"$f":"SUMIF(Dagbok!$C$5:$C$2500,A160,Dagbok!$E$5:$E$2500)","v":0},null,"Ikkje frådragsberettiga kontingentar/gåver"]
[2054,null,{"$f":"SUMIF(Dagbok!$C$5:$C$2500,A161,Dagbok!$F$5:$F$2500)","v":0},"Skattefrie inntekter"]
[2056,{"$f":"SUMIF(Dagbok!$C$5:$C$2500,A162,Dagbok!$E$5:$E$2500)","v":0},null,"Frådragsført bruk av heimekontor - etter sats/sjablonregel"]
[2058,{"$f":"SUMIF(Dagbok!$C$5:$C$2500,A163,Dagbok!$E$5:$E$2500)","v":0},null,"Positive eigenkapitalkorreksjonar"]
[2059,{"$f":"SUMIF(Dagbok!$C$5:$C$2500,A164,Dagbok!$E$5:$E$2500)","v":0},null,"Negative eigenkapitalkorreksjonar"]
[2063,{"$f":"SUMIF(Dagbok!$C$5:$C$2500,A165,Dagbok!$E$5:$E$2500)","v":0},null,"Uttak av driftsmidlar"]
[2064,{"$f":"SUMIF(Dagbok!$C$5:$C$2500,A166,Dagbok!$E$5:$E$2500)","v":0},null,"Uttak av varer og tenester"]
[2067,{"$f":"SUMIF(Dagbok!$C$5:$C$2500,A167,Dagbok!$E$5:$E$2500)","v":0},null,"Lys og varme privat"]
[2068,{"$f":"SUMIF(Dagbok!$C$5:$C$2500,A168,Dagbok!$E$5:$E$2500)","v":0},null,"Private telefonkostnader"]
[2072,{"$f":"SUMIF(Dagbok!$C$5:$C$2500,A169,Dagbok!$E$5:$E$2500)","v":0},null,"Skattar"]
[2077,{"$f":"SUMIF(Dagbok!$C$5:$C$2500,A170,Dagbok!$E$5:$E$2500)","v":0},null,"Premie til eiga sjuke og ulukkesforsikring"]
[2078,{"$f":"SUMIF(Dagbok!$C$5:$C$2500,A171,Dagbok!$E$5:$E$2500)","v":0},null,"Premie til tilleggstrygd for sjukepengar"]

{"sheet":"regformel","index":4,"n_rows":611,"n_cols":6,"rows_kept":611,"cut":false,"hidden":true,"merged":[]}
[null,null,"faktura","betal","opning","slutt"]
[1,{"$f":"Register!B10","v":"Diverse kundar"},{"$f":"SUMIF(Dagbok!$G$5:$G$2500,A2,Dagbok!$J$5:$J$2500)","v":0},{"$f":"SUMIF(Dagbok!$G$5:$G$2500,A2,Dagbok!$K$5:$K$2500)","v":0},{"$f":"Register!C10","v":0},{"$f":"E2+C2+D2","v":0}]
[2,{"$f":"Register!B11","v":"Arne Arnesen"},{"$f":"SUMIF(Dagbok!$G$5:$G$2500,A3,Dagbok!$J$5:$J$2500)","v":180000},{"$f":"SUMIF(Dagbok!$G$5:$G$2500,A3,Dagbok!$K$5:$K$2500)","v":-180000},{"$f":"Register!C11","v":0},{"$f":"E3+C3+D3","v":0}]
[3,{"$f":"Register!B12","v":0},{"$f":"SUMIF(Dagbok!$G$5:$G$2500,A4,Dagbok!$J$5:$J$2500)","v":0},{"$f":"SUMIF(Dagbok!$G$5:$G$2500,A4,Dagbok!$K$5:$K$2500)","v":0},{"$f":"Register!C12","v":0},0]
[4,{"$f":"Register!B13","v":0},{"$f":"SUMIF(Dagbok!$G$5:$G$2500,A5,Dagbok!$J$5:$J$2500)","v":0},{"$f":"SUMIF(Dagbok!$G$5:$G$2500,A5,Dagbok!$K$5:$K$2500)","v":0},{"$f":"Register!C13","v":0},0]
[5,{"$f":"Register!B14","v":0},{"$f":"SUMIF(Dagbok!$G$5:$G$2500,A6,Dagbok!$J$5:$J$2500)","v":0},{"$f":"SUMIF(Dagbok!$G$5:$G$2500,A6,Dagbok!$K$5:$K$2500)","v":0},{"$f":"Register!C14","v":0},0]
[6,{"$f":"Register!B15","v":0},{"$f":"SUMIF(Dagbok!$G$5:$G$2500,A7,Dagbok!$J$5:$J$2500)","v":0},{"$f":"SUMIF(Dagbok!$G$5:$G$2500,A7,Dagbok!$K$5:$K$2500)","v":0},{"$f":"Register!C15","v":0},0]
[7,{"$f":"Register!B16","v":0},{"$f":"SUMIF(Dagbok!$G$5:$G$2500,A8,Dagbok!$J$5:$J$2500)","v":0},{"$f":"SUMIF(Dagbok!$G$5:$G$2500,A8,Dagbok!$K$5:$K$2500)","v":0},{"$f":"Register!C16","v":0},0]
[8,{"$f":"Register!B17","v":0},{"$f":"SUMIF(Dagbok!$G$5:$G$2500,A9,Dagbok!$J$5:$J$2500)","v":0},{"$f":"SUMIF(Dagbok!$G$5:$G$2500,A9,Dagbok!$K$5:$K$2500)","v":0},{"$f":"Register!C17","v":0},0]
[9,{"$f":"Register!B18","v":0},{"$f":"SUMIF(Dagbok!$G$5:$G$2500,A10,Dagbok!$J$5:$J$2500)","v":0},{"$f":"SUMIF(Dagbok!$G$5:$G$2500,A10,Dagbok!$K$5:$K$2500)","v":0},{"$f":"Register!C18","v":0},0]
[10,{"$f":"Register!B19","v":0},{"$f":"SUMIF(Dagbok!$G$5:$G$2500,A11,Dagbok!$J$5:$J$2500)","v":0},{"$f":"SUMIF(Dagbok!$G$5:$G$2500,A11,Dagbok!$K$5:$K$2500)","v":0},{"$f":"Register!C19","v":0},0]
[11,{"$f":"Register!B20","v":0},{"$f":"SUMIF(Dagbok!$G$5:$G$2500,A12,Dagbok!$J$5:$J$2500)","v":0},{"$f":"SUMIF(Dagbok!$G$5:$G$2500,A12,Dagbok!$K$5:$K$2500)","v":0},{"$f":"Register!C20","v":0},0]
[12,{"$f":"Register!B21","v":0},{"$f":"SUMIF(Dagbok!$G$5:$G$2500,A13,Dagbok!$J$5:$J$2500)","v":0},{"$f":"SUMIF(Dagbok!$G$5:$G$2500,A13,Dagbok!$K$5:$K$2500)","v":0},{"$f":"Register!C21","v":0},0]
[13,{"$f":"Register!B22","v":0},{"$f":"SUMIF(Dagbok!$G$5:$G$2500,A14,Dagbok!$J$5:$J$2500)","v":0},{"$f":"SUMIF(Dagbok!$G$5:$G$2500,A14,Dagbok!$K$5:$K$2500)","v":0},{"$f":"Register!C22","v":0},0]
[14,{"$f":"Register!B23","v":0},{"$f":"SUMIF(Dagbok!$G$5:$G$2500,A15,Dagbok!$J$5:$J$2500)","v":0},{"$f":"SUMIF(Dagbok!$G$5:$G$2500,A15,Dagbok!$K$5:$K$2500)","v":0},{"$f":"Register!C23","v":0},0]
[15,{"$f":"Register!B24","v":0},{"$f":"SUMIF(Dagbok!$G$5:$G$2500,A16,Dagbok!$J$5:$J$2500)","v":0},{"$f":"SUMIF(Dagbok!$G$5:$G$2500,A16,Dagbok!$K$5:$K$2500)","v":0},{"$f":"Register!C24","v":0},0]
[16,{"$f":"Register!B25","v":0},{"$f":"SUMIF(Dagbok!$G$5:$G$2500,A17,Dagbok!$J$5:$J$2500)","v":0},{"$f":"SUMIF(Dagbok!$G$5:$G$2500,A17,Dagbok!$K$5:$K$2500)","v":0},{"$f":"Register!C25","v":0},0]
[17,{"$f":"Register!B26","v":0},{"$f":"SUMIF(Dagbok!$G$5:$G$2500,A18,Dagbok!$J$5:$J$2500)","v":0},{"$f":"SUMIF(Dagbok!$G$5:$G$2500,A18,Dagbok!$K$5:$K$2500)","v":0},{"$f":"Register!C26","v":0},0]
[18,{"$f":"Register!B27","v":0},{"$f":"SUMIF(Dagbok!$G$5:$G$2500,A19,Dagbok!$J$5:$J$2500)","v":0},{"$f":"SUMIF(Dagbok!$G$5:$G$2500,A19,Dagbok!$K$5:$K$2500)","v":0},{"$f":"Register!C27","v":0},0]
[19,{"$f":"Register!B28","v":0},{"$f":"SUMIF(Dagbok!$G$5:$G$2500,A20,Dagbok!$J$5:$J$2500)","v":0},{"$f":"SUMIF(Dagbok!$G$5:$G$2500,A20,Dagbok!$K$5:$K$2500)","v":0},{"$f":"Register!C28","v":0},0]
[20,{"$f":"Register!B29","v":0},{"$f":"SUMIF(Dagbok!$G$5:$G$2500,A21,Dagbok!$J$5:$J$2500)","v":0},{"$f":"SUMIF(Dagbok!$G$5:$G$2500,A21,Dagbok!$K$5:$K$2500)","v":0},{"$f":"Register!C29","v":0},0]
[21,{"$f":"Register!B30","v":0},{"$f":"SUMIF(Dagbok!$G$5:$G$2500,A22,Dagbok!$J$5:$J$2500)","v":0},{"$f":"SUMIF(Dagbok!$G$5:$G$2500,A22,Dagbok!$K$5:$K$2500)","v":0},{"$f":"Register!C30","v":0},0]
[22,{"$f":"Register!B31","v":0},{"$f":"SUMIF(Dagbok!$G$5:$G$2500,A23,Dagbok!$J$5:$J$2500)","v":0},{"$f":"SUMIF(Dagbok!$G$5:$G$2500,A23,Dagbok!$K$5:$K$2500)","v":0},{"$f":"Register!C31","v":0},0]
[23,{"$f":"Register!B32","v":0},{"$f":"SUMIF(Dagbok!$G$5:$G$2500,A24,Dagbok!$J$5:$J$2500)","v":0},{"$f":"SUMIF(Dagbok!$G$5:$G$2500,A24,Dagbok!$K$5:$K$2500)","v":0},{"$f":"Register!C32","v":0},0]
[24,{"$f":"Register!B33","v":0},{"$f":"SUMIF(Dagbok!$G$5:$G$2500,A25,Dagbok!$J$5:$J$2500)","v":0},{"$f":"SUMIF(Dagbok!$G$5:$G$2500,A25,Dagbok!$K$5:$K$2500)","v":0},{"$f":"Register!C33","v":0},0]
[25,{"$f":"Register!B34","v":0},{"$f":"SUMIF(Dagbok!$G$5:$G$2500,A26,Dagbok!$J$5:$J$2500)","v":0},{"$f":"SUMIF(Dagbok!$G$5:$G$2500,A26,Dagbok!$K$5:$K$2500)","v":0},{"$f":"Register!C34","v":0},0]
[26,{"$f":"Register!B35","v":0},{"$f":"SUMIF(Dagbok!$G$5:$G$2500,A27,Dagbok!$J$5:$J$2500)","v":0},{"$f":"SUMIF(Dagbok!$G$5:$G$2500,A27,Dagbok!$K$5:$K$2500)","v":0},{"$f":"Register!C35","v":0},0]
[27,{"$f":"Register!B36","v":0},{"$f":"SUMIF(Dagbok!$G$5:$G$2500,A28,Dagbok!$J$5:$J$2500)","v":0},{"$f":"SUMIF(Dagbok!$G$5:$G$2500,A28,Dagbok!$K$5:$K$2500)","v":0},{"$f":"Register!C36","v":0},0]
[28,{"$f":"Register!B37","v":0},{"$f":"SUMIF(Dagbok!$G$5:$G$2500,A29,Dagbok!$J$5:$J$2500)","v":0},{"$f":"SUMIF(Dagbok!$G$5:$G$2500,A29,Dagbok!$K$5:$K$2500)","v":0},{"$f":"Register!C37","v":0},0]
[29,{"$f":"Register!B38","v":0},{"$f":"SUMIF(Dagbok!$G$5:$G$2500,A30,Dagbok!$J$5:$J$2500)","v":0},{"$f":"SUMIF(Dagbok!$G$5:$G$2500,A30,Dagbok!$K$5:$K$2500)","v":0},{"$f":"Register!C38","v":0},0]
[30,{"$f":"Register!B39","v":0},{"$f":"SUMIF(Dagbok!$G$5:$G$2500,A31,Dagbok!$J$5:$J$2500)","v":0},{"$f":"SUMIF(Dagbok!$G$5:$G$2500,A31,Dagbok!$K$5:$K$2500)","v":0},{"$f":"Register!C39","v":0},0]
[31,{"$f":"Register!B40","v":0},{"$f":"SUMIF(Dagbok!$G$5:$G$2500,A32,Dagbok!$J$5:$J$2500)","v":0},{"$f":"SUMIF(Dagbok!$G$5:$G$2500,A32,Dagbok!$K$5:$K$2500)","v":0},{"$f":"Register!C40","v":0},0]
[32,{"$f":"Register!B41","v":0},{"$f":"SUMIF(Dagbok!$G$5:$G$2500,A33,Dagbok!$J$5:$J$2500)","v":0},{"$f":"SUMIF(Dagbok!$G$5:$G$2500,A33,Dagbok!$K$5:$K$2500)","v":0},{"$f":"Register!C41","v":0},0]
[33,{"$f":"Register!B42","v":0},{"$f":"SUMIF(Dagbok!$G$5:$G$2500,A34,Dagbok!$J$5:$J$2500)","v":0},{"$f":"SUMIF(Dagbok!$G$5:$G$2500,A34,Dagbok!$K$5:$K$2500)","v":0},{"$f":"Register!C42","v":0},0]
[34,{"$f":"Register!B43","v":0},{"$f":"SUMIF(Dagbok!$G$5:$G$2500,A35,Dagbok!$J$5:$J$2500)","v":0},{"$f":"SUMIF(Dagbok!$G$5:$G$2500,A35,Dagbok!$K$5:$K$2500)","v":0},{"$f":"Register!C43","v":0},0]
[35,{"$f":"Register!B44","v":0},{"$f":"SUMIF(Dagbok!$G$5:$G$2500,A36,Dagbok!$J$5:$J$2500)","v":0},{"$f":"SUMIF(Dagbok!$G$5:$G$2500,A36,Dagbok!$K$5:$K$2500)","v":0},{"$f":"Register!C44","v":0},0]
[36,{"$f":"Register!B45","v":0},{"$f":"SUMIF(Dagbok!$G$5:$G$2500,A37,Dagbok!$J$5:$J$2500)","v":0},{"$f":"SUMIF(Dagbok!$G$5:$G$2500,A37,Dagbok!$K$5:$K$2500)","v":0},{"$f":"Register!C45","v":0},0]
[37,{"$f":"Register!B46","v":0},{"$f":"SUMIF(Dagbok!$G$5:$G$2500,A38,Dagbok!$J$5:$J$2500)","v":0},{"$f":"SUMIF(Dagbok!$G$5:$G$2500,A38,Dagbok!$K$5:$K$2500)","v":0},{"$f":"Register!C46","v":0},0]
[38,{"$f":"Register!B47","v":0},{"$f":"SUMIF(Dagbok!$G$5:$G$2500,A39,Dagbok!$J$5:$J$2500)","v":0},{"$f":"SUMIF(Dagbok!$G$5:$G$2500,A39,Dagbok!$K$5:$K$2500)","v":0},{"$f":"Register!C47","v":0},0]
[39,{"$f":"Register!B48","v":0},{"$f":"SUMIF(Dagbok!$G$5:$G$2500,A40,Dagbok!$J$5:$J$2500)","v":0},{"$f":"SUMIF(Dagbok!$G$5:$G$2500,A40,Dagbok!$K$5:$K$2500)","v":0},{"$f":"Register!C48","v":0},0]
[40,{"$f":"Register!B49","v":0},{"$f":"SUMIF(Dagbok!$G$5:$G$2500,A41,Dagbok!$J$5:$J$2500)","v":0},{"$f":"SUMIF(Dagbok!$G$5:$G$2500,A41,Dagbok!$K$5:$K$2500)","v":0},{"$f":"Register!C49","v":0},0]
[41,{"$f":"Register!B50","v":0},{"$f":"SUMIF(Dagbok!$G$5:$G$2500,A42,Dagbok!$J$5:$J$2500)","v":0},{"$f":"SUMIF(Dagbok!$G$5:$G$2500,A42,Dagbok!$K$5:$K$2500)","v":0},{"$f":"Register!C50","v":0},0]
[42,{"$f":"Register!B51","v":0},{"$f":"SUMIF(Dagbok!$G$5:$G$2500,A43,Dagbok!$J$5:$J$2500)","v":0},{"$f":"SUMIF(Dagbok!$G$5:$G$2500,A43,Dagbok!$K$5:$K$2500)","v":0},{"$f":"Register!C51","v":0},0]
[43,{"$f":"Register!B52","v":0},{"$f":"SUMIF(Dagbok!$G$5:$G$2500,A44,Dagbok!$J$5:$J$2500)","v":0},{"$f":"SUMIF(Dagbok!$G$5:$G$2500,A44,Dagbok!$K$5:$K$2500)","v":0},{"$f":"Register!C52","v":0},0]
[44,{"$f":"Register!B53","v":0},{"$f":"SUMIF(Dagbok!$G$5:$G$2500,A45,Dagbok!$J$5:$J$2500)","v":0},{"$f":"SUMIF(Dagbok!$G$5:$G$2500,A45,Dagbok!$K$5:$K$2500)","v":0},{"$f":"Register!C53","v":0},0]
[45,{"$f":"Register!B54","v":0},{"$f":"SUMIF(Dagbok!$G$5:$G$2500,A46,Dagbok!$J$5:$J$2500)","v":0},{"$f":"SUMIF(Dagbok!$G$5:$G$2500,A46,Dagbok!$K$5:$K$2500)","v":0},{"$f":"Register!C54","v":0},0]
[46,{"$f":"Register!B55","v":0},{"$f":"SUMIF(Dagbok!$G$5:$G$2500,A47,Dagbok!$J$5:$J$2500)","v":0},{"$f":"SUMIF(Dagbok!$G$5:$G$2500,A47,Dagbok!$K$5:$K$2500)","v":0},{"$f":"Register!C55","v":0},0]
[47,{"$f":"Register!B56","v":0},{"$f":"SUMIF(Dagbok!$G$5:$G$2500,A48,Dagbok!$J$5:$J$2500)","v":0},{"$f":"SUMIF(Dagbok!$G$5:$G$2500,A48,Dagbok!$K$5:$K$2500)","v":0},{"$f":"Register!C56","v":0},0]
[48,{"$f":"Register!B57","v":0},{"$f":"SUMIF(Dagbok!$G$5:$G$2500,A49,Dagbok!$J$5:$J$2500)","v":0},{"$f":"SUMIF(Dagbok!$G$5:$G$2500,A49,Dagbok!$K$5:$K$2500)","v":0},{"$f":"Register!C57","v":0},0]
[49,{"$f":"Register!B58","v":0},{"$f":"SUMIF(Dagbok!$G$5:$G$2500,A50,Dagbok!$J$5:$J$2500)","v":0},{"$f":"SUMIF(Dagbok!$G$5:$G$2500,A50,Dagbok!$K$5:$K$2500)","v":0},{"$f":"Register!C58","v":0},0]
[50,{"$f":"Register!B59","v":0},{"$f":"SUMIF(Dagbok!$G$5:$G$2500,A51,Dagbok!$J$5:$J$2500)","v":0},{"$f":"SUMIF(Dagbok!$G$5:$G$2500,A51,Dagbok!$K$5:$K$2500)","v":0},{"$f":"Register!C59","v":0},0]
[51,{"$f":"Register!B60","v":0},{"$f":"SUMIF(Dagbok!$G$5:$G$2500,A52,Dagbok!$J$5:$J$2500)","v":0},{"$f":"SUMIF(Dagbok!$G$5:$G$2500,A52,Dagbok!$K$5:$K$2500)","v":0},{"$f":"Register!C60","v":0},0]
[52,{"$f":"Register!B61","v":0},{"$f":"SUMIF(Dagbok!$G$5:$G$2500,A53,Dagbok!$J$5:$J$2500)","v":0},{"$f":"SUMIF(Dagbok!$G$5:$G$2500,A53,Dagbok!$K$5:$K$2500)","v":0},{"$f":"Register!C61","v":0},0]
[53,{"$f":"Register!B62","v":0},{"$f":"SUMIF(Dagbok!$G$5:$G$2500,A54,Dagbok!$J$5:$J$2500)","v":0},{"$f":"SUMIF(Dagbok!$G$5:$G$2500,A54,Dagbok!$K$5:$K$2500)","v":0},{"$f":"Register!C62","v":0},0]
[54,{"$f":"Register!B63","v":0},{"$f":"SUMIF(Dagbok!$G$5:$G$2500,A55,Dagbok!$J$5:$J$2500)","v":0},{"$f":"SUMIF(Dagbok!$G$5:$G$2500,A55,Dagbok!$K$5:$K$2500)","v":0},{"$f":"Register!C63","v":0},0]
[55,{"$f":"Register!B64","v":0},{"$f":"SUMIF(Dagbok!$G$5:$G$2500,A56,Dagbok!$J$5:$J$2500)","v":0},{"$f":"SUMIF(Dagbok!$G$5:$G$2500,A56,Dagbok!$K$5:$K$2500)","v":0},{"$f":"Register!C64","v":0},0]
[56,{"$f":"Register!B65","v":0},{"$f":"SUMIF(Dagbok!$G$5:$G$2500,A57,Dagbok!$J$5:$J$2500)","v":0},{"$f":"SUMIF(Dagbok!$G$5:$G$2500,A57,Dagbok!$K$5:$K$2500)","v":0},{"$f":"Register!C65","v":0},0]
[57,{"$f":"Register!B66","v":0},{"$f":"SUMIF(Dagbok!$G$5:$G$2500,A58,Dagbok!$J$5:$J$2500)","v":0},{"$f":"SUMIF(Dagbok!$G$5:$G$2500,A58,Dagbok!$K$5:$K$2500)","v":0},{"$f":"Register!C66","v":0},0]
[58,{"$f":"Register!B67","v":0},{"$f":"SUMIF(Dagbok!$G$5:$G$2500,A59,Dagbok!$J$5:$J$2500)","v":0},{"$f":"SUMIF(Dagbok!$G$5:$G$2500,A59,Dagbok!$K$5:$K$2500)","v":0},{"$f":"Register!C67","v":0},0]
[59,{"$f":"Register!B68","v":0},{"$f":"SUMIF(Dagbok!$G$5:$G$2500,A60,Dagbok!$J$5:$J$2500)","v":0},{"$f":"SUMIF(Dagbok!$G$5:$G$2500,A60,Dagbok!$K$5:$K$2500)","v":0},{"$f":"Register!C68","v":0},0]
[60,{"$f":"Register!B69","v":0},{"$f":"SUMIF(Dagbok!$G$5:$G$2500,A61,Dagbok!$J$5:$J$2500)","v":0},{"$f":"SUMIF(Dagbok!$G$5:$G$2500,A61,Dagbok!$K$5:$K$2500)","v":0},{"$f":"Register!C69","v":0},0]
[61,{"$f":"Register!B70","v":0},{"$f":"SUMIF(Dagbok!$G$5:$G$2500,A62,Dagbok!$J$5:$J$2500)","v":0},{"$f":"SUMIF(Dagbok!$G$5:$G$2500,A62,Dagbok!$K$5:$K$2500)","v":0},{"$f":"Register!C70","v":0},0]
[62,{"$f":"Register!B71","v":0},{"$f":"SUMIF(Dagbok!$G$5:$G$2500,A63,Dagbok!$J$5:$J$2500)","v":0},{"$f":"SUMIF(Dagbok!$G$5:$G$2500,A63,Dagbok!$K$5:$K$2500)","v":0},{"$f":"Register!C71","v":0},0]
[63,{"$f":"Register!B72","v":0},{"$f":"SUMIF(Dagbok!$G$5:$G$2500,A64,Dagbok!$J$5:$J$2500)","v":0},{"$f":"SUMIF(Dagbok!$G$5:$G$2500,A64,Dagbok!$K$5:$K$2500)","v":0},{"$f":"Register!C72","v":0},0]
[64,{"$f":"Register!B73","v":0},{"$f":"SUMIF(Dagbok!$G$5:$G$2500,A65,Dagbok!$J$5:$J$2500)","v":0},{"$f":"SUMIF(Dagbok!$G$5:$G$2500,A65,Dagbok!$K$5:$K$2500)","v":0},{"$f":"Register!C73","v":0},0]
[65,{"$f":"Register!B74","v":0},{"$f":"SUMIF(Dagbok!$G$5:$G$2500,A66,Dagbok!$J$5:$J$2500)","v":0},{"$f":"SUMIF(Dagbok!$G$5:$G$2500,A66,Dagbok!$K$5:$K$2500)","v":0},{"$f":"Register!C74","v":0},0]
[66,{"$f":"Register!B75","v":0},{"$f":"SUMIF(Dagbok!$G$5:$G$2500,A67,Dagbok!$J$5:$J$2500)","v":0},{"$f":"SUMIF(Dagbok!$G$5:$G$2500,A67,Dagbok!$K$5:$K$2500)","v":0},{"$f":"Register!C75","v":0},{"$f":"E67+C67+D67","v":0}]
[67,{"$f":"Register!B76","v":0},{"$f":"SUMIF(Dagbok!$G$5:$G$2500,A68,Dagbok!$J$5:$J$2500)","v":0},{"$f":"SUMIF(Dagbok!$G$5:$G$2500,A68,Dagbok!$K$5:$K$2500)","v":0},{"$f":"Register!C76","v":0},0]
[68,{"$f":"Register!B77","v":0},{"$f":"SUMIF(Dagbok!$G$5:$G$2500,A69,Dagbok!$J$5:$J$2500)","v":0},{"$f":"SUMIF(Dagbok!$G$5:$G$2500,A69,Dagbok!$K$5:$K$2500)","v":0},{"$f":"Register!C77","v":0},0]
[69,{"$f":"Register!B78","v":0},{"$f":"SUMIF(Dagbok!$G$5:$G$2500,A70,Dagbok!$J$5:$J$2500)","v":0},{"$f":"SUMIF(Dagbok!$G$5:$G$2500,A70,Dagbok!$K$5:$K$2500)","v":0},{"$f":"Register!C78","v":0},0]
[70,{"$f":"Register!B79","v":0},{"$f":"SUMIF(Dagbok!$G$5:$G$2500,A71,Dagbok!$J$5:$J$2500)","v":0},{"$f":"SUMIF(Dagbok!$G$5:$G$2500,A71,Dagbok!$K$5:$K$2500)","v":0},{"$f":"Register!C79","v":0},0]
[71,{"$f":"Register!B80","v":0},{"$f":"SUMIF(Dagbok!$G$5:$G$2500,A72,Dagbok!$J$5:$J$2500)","v":0},{"$f":"SUMIF(Dagbok!$G$5:$G$2500,A72,Dagbok!$K$5:$K$2500)","v":0},{"$f":"Register!C80","v":0},0]
[72,{"$f":"Register!B81","v":0},{"$f":"SUMIF(Dagbok!$G$5:$G$2500,A73,Dagbok!$J$5:$J$2500)","v":0},{"$f":"SUMIF(Dagbok!$G$5:$G$2500,A73,Dagbok!$K$5:$K$2500)","v":0},{"$f":"Register!C81","v":0},0]
[73,{"$f":"Register!B82","v":0},{"$f":"SUMIF(Dagbok!$G$5:$G$2500,A74,Dagbok!$J$5:$J$2500)","v":0},{"$f":"SUMIF(Dagbok!$G$5:$G$2500,A74,Dagbok!$K$5:$K$2500)","v":0},{"$f":"Register!C82","v":0},0]
[74,{"$f":"Register!B83","v":0},{"$f":"SUMIF(Dagbok!$G$5:$G$2500,A75,Dagbok!$J$5:$J$2500)","v":0},{"$f":"SUMIF(Dagbok!$G$5:$G$2500,A75,Dagbok!$K$5:$K$2500)","v":0},{"$f":"Register!C83","v":0},0]
[75,{"$f":"Register!B84","v":0},{"$f":"SUMIF(Dagbok!$G$5:$G$2500,A76,Dagbok!$J$5:$J$2500)","v":0},{"$f":"SUMIF(Dagbok!$G$5:$G$2500,A76,Dagbok!$K$5:$K$2500)","v":0},{"$f":"Register!C84","v":0},0]
[76,{"$f":"Register!B85","v":0},{"$f":"SUMIF(Dagbok!$G$5:$G$2500,A77,Dagbok!$J$5:$J$2500)","v":0},{"$f":"SUMIF(Dagbok!$G$5:$G$2500,A77,Dagbok!$K$5:$K$2500)","v":0},{"$f":"Register!C85","v":0},0]
[77,{"$f":"Register!B86","v":0},{"$f":"SUMIF(Dagbok!$G$5:$G$2500,A78,Dagbok!$J$5:$J$2500)","v":0},{"$f":"SUMIF(Dagbok!$G$5:$G$2500,A78,Dagbok!$K$5:$K$2500)","v":0},{"$f":"Register!C86","v":0},0]
[78,{"$f":"Register!B87","v":0},{"$f":"SUMIF(Dagbok!$G$5:$G$2500,A79,Dagbok!$J$5:$J$2500)","v":0},{"$f":"SUMIF(Dagbok!$G$5:$G$2500,A79,Dagbok!$K$5:$K$2500)","v":0},{"$f":"Register!C87","v":0},0]
[79,{"$f":"Register!B88","v":0},{"$f":"SUMIF(Dagbok!$G$5:$G$2500,A80,Dagbok!$J$5:$J$2500)","v":0},{"$f":"SUMIF(Dagbok!$G$5:$G$2500,A80,Dagbok!$K$5:$K$2500)","v":0},{"$f":"Register!C88","v":0},0]
[80,{"$f":"Register!B89","v":0},{"$f":"SUMIF(Dagbok!$G$5:$G$2500,A81,Dagbok!$J$5:$J$2500)","v":0},{"$f":"SUMIF(Dagbok!$G$5:$G$2500,A81,Dagbok!$K$5:$K$2500)","v":0},{"$f":"Register!C89","v":0},0]
[81,{"$f":"Register!B90","v":0},{"$f":"SUMIF(Dagbok!$G$5:$G$2500,A82,Dagbok!$J$5:$J$2500)","v":0},{"$f":"SUMIF(Dagbok!$G$5:$G$2500,A82,Dagbok!$K$5:$K$2500)","v":0},{"$f":"Register!C90","v":0},0]
[82,{"$f":"Register!B91","v":0},{"$f":"SUMIF(Dagbok!$G$5:$G$2500,A83,Dagbok!$J$5:$J$2500)","v":0},{"$f":"SUMIF(Dagbok!$G$5:$G$2500,A83,Dagbok!$K$5:$K$2500)","v":0},{"$f":"Register!C91","v":0},0]
[83,{"$f":"Register!B92","v":0},{"$f":"SUMIF(Dagbok!$G$5:$G$2500,A84,Dagbok!$J$5:$J$2500)","v":0},{"$f":"SUMIF(Dagbok!$G$5:$G$2500,A84,Dagbok!$K$5:$K$2500)","v":0},{"$f":"Register!C92","v":0},0]
[84,{"$f":"Register!B93","v":0},{"$f":"SUMIF(Dagbok!$G$5:$G$2500,A85,Dagbok!$J$5:$J$2500)","v":0},{"$f":"SUMIF(Dagbok!$G$5:$G$2500,A85,Dagbok!$K$5:$K$2500)","v":0},{"$f":"Register!C93","v":0},0]
[85,{"$f":"Register!B94","v":0},{"$f":"SUMIF(Dagbok!$G$5:$G$2500,A86,Dagbok!$J$5:$J$2500)","v":0},{"$f":"SUMIF(Dagbok!$G$5:$G$2500,A86,Dagbok!$K$5:$K$2500)","v":0},{"$f":"Register!C94","v":0},0]
[86,{"$f":"Register!B95","v":0},{"$f":"SUMIF(Dagbok!$G$5:$G$2500,A87,Dagbok!$J$5:$J$2500)","v":0},{"$f":"SUMIF(Dagbok!$G$5:$G$2500,A87,Dagbok!$K$5:$K$2500)","v":0},{"$f":"Register!C95","v":0},0]
[87,{"$f":"Register!B96","v":0},{"$f":"SUMIF(Dagbok!$G$5:$G$2500,A88,Dagbok!$J$5:$J$2500)","v":0},{"$f":"SUMIF(Dagbok!$G$5:$G$2500,A88,Dagbok!$K$5:$K$2500)","v":0},{"$f":"Register!C96","v":0},0]
[88,{"$f":"Register!B97","v":0},{"$f":"SUMIF(Dagbok!$G$5:$G$2500,A89,Dagbok!$J$5:$J$2500)","v":0},{"$f":"SUMIF(Dagbok!$G$5:$G$2500,A89,Dagbok!$K$5:$K$2500)","v":0},{"$f":"Register!C97","v":0},0]
[89,{"$f":"Register!B98","v":0},{"$f":"SUMIF(Dagbok!$G$5:$G$2500,A90,Dagbok!$J$5:$J$2500)","v":0},{"$f":"SUMIF(Dagbok!$G$5:$G$2500,A90,Dagbok!$K$5:$K$2500)","v":0},{"$f":"Register!C98","v":0},0]
[90,{"$f":"Register!B99","v":0},{"$f":"SUMIF(Dagbok!$G$5:$G$2500,A91,Dagbok!$J$5:$J$2500)","v":0},{"$f":"SUMIF(Dagbok!$G$5:$G$2500,A91,Dagbok!$K$5:$K$2500)","v":0},{"$f":"Register!C99","v":0},0]
[91,{"$f":"Register!B100","v":0},{"$f":"SUMIF(Dagbok!$G$5:$G$2500,A92,Dagbok!$J$5:$J$2500)","v":0},{"$f":"SUMIF(Dagbok!$G$5:$G$2500,A92,Dagbok!$K$5:$K$2500)","v":0},{"$f":"Register!C100","v":0},0]
[92,{"$f":"Register!B101","v":0},{"$f":"SUMIF(Dagbok!$G$5:$G$2500,A93,Dagbok!$J$5:$J$2500)","v":0},{"$f":"SUMIF(Dagbok!$G$5:$G$2500,A93,Dagbok!$K$5:$K$2500)","v":0},{"$f":"Register!C101","v":0},0]
[93,{"$f":"Register!B102","v":0},{"$f":"SUMIF(Dagbok!$G$5:$G$2500,A94,Dagbok!$J$5:$J$2500)","v":0},{"$f":"SUMIF(Dagbok!$G$5:$G$2500,A94,Dagbok!$K$5:$K$2500)","v":0},{"$f":"Register!C102","v":0},0]
[94,{"$f":"Register!B103","v":0},{"$f":"SUMIF(Dagbok!$G$5:$G$2500,A95,Dagbok!$J$5:$J$2500)","v":0},{"$f":"SUMIF(Dagbok!$G$5:$G$2500,A95,Dagbok!$K$5:$K$2500)","v":0},{"$f":"Register!C103","v":0},0]
[95,{"$f":"Register!B104","v":0},{"$f":"SUMIF(Dagbok!$G$5:$G$2500,A96,Dagbok!$J$5:$J$2500)","v":0},{"$f":"SUMIF(Dagbok!$G$5:$G$2500,A96,Dagbok!$K$5:$K$2500)","v":0},{"$f":"Register!C104","v":0},0]
[96,{"$f":"Register!B105","v":0},{"$f":"SUMIF(Dagbok!$G$5:$G$2500,A97,Dagbok!$J$5:$J$2500)","v":0},{"$f":"SUMIF(Dagbok!$G$5:$G$2500,A97,Dagbok!$K$5:$K$2500)","v":0},{"$f":"Register!C105","v":0},0]
[97,{"$f":"Register!B106","v":0},{"$f":"SUMIF(Dagbok!$G$5:$G$2500,A98,Dagbok!$J$5:$J$2500)","v":0},{"$f":"SUMIF(Dagbok!$G$5:$G$2500,A98,Dagbok!$K$5:$K$2500)","v":0},{"$f":"Register!C106","v":0},0]
[98,{"$f":"Register!B107","v":0},{"$f":"SUMIF(Dagbok!$G$5:$G$2500,A99,Dagbok!$J$5:$J$2500)","v":0},{"$f":"SUMIF(Dagbok!$G$5:$G$2500,A99,Dagbok!$K$5:$K$2500)","v":0},{"$f":"Register!C107","v":0},0]
[99,{"$f":"Register!B108","v":0},{"$f":"SUMIF(Dagbok!$G$5:$G$2500,A100,Dagbok!$J$5:$J$2500)","v":0},{"$f":"SUMIF(Dagbok!$G$5:$G$2500,A100,Dagbok!$K$5:$K$2500)","v":0},{"$f":"Register!C108","v":0},0]
[100,{"$f":"Register!B109","v":0},{"$f":"SUMIF(Dagbok!$G$5:$G$2500,A101,Dagbok!$J$5:$J$2500)","v":0},{"$f":"SUMIF(Dagbok!$G$5:$G$2500,A101,Dagbok!$K$5:$K$2500)","v":0},{"$f":"Register!C109","v":0},{"$f":"E101+C101+D101","v":0}]
[101,{"$f":"Register!B110","v":0},{"$f":"SUMIF(Dagbok!$G$5:$G$2500,A102,Dagbok!$J$5:$J$2500)","v":0},{"$f":"SUMIF(Dagbok!$G$5:$G$2500,A102,Dagbok!$K$5:$K$2500)","v":0},{"$f":"Register!C110","v":0},0]
[102,{"$f":"Register!B111","v":0},{"$f":"SUMIF(Dagbok!$G$5:$G$2500,A103,Dagbok!$J$5:$J$2500)","v":0},{"$f":"SUMIF(Dagbok!$G$5:$G$2500,A103,Dagbok!$K$5:$K$2500)","v":0},{"$f":"Register!C111","v":0},0]
[103,{"$f":"Register!B112","v":0},{"$f":"SUMIF(Dagbok!$G$5:$G$2500,A104,Dagbok!$J$5:$J$2500)","v":0},{"$f":"SUMIF(Dagbok!$G$5:$G$2500,A104,Dagbok!$K$5:$K$2500)","v":0},{"$f":"Register!C112","v":0},0]
[104,{"$f":"Register!B113","v":0},{"$f":"SUMIF(Dagbok!$G$5:$G$2500,A105,Dagbok!$J$5:$J$2500)","v":0},{"$f":"SUMIF(Dagbok!$G$5:$G$2500,A105,Dagbok!$K$5:$K$2500)","v":0},{"$f":"Register!C113","v":0},0]
[105,{"$f":"Register!B114","v":0},{"$f":"SUMIF(Dagbok!$G$5:$G$2500,A106,Dagbok!$J$5:$J$2500)","v":0},{"$f":"SUMIF(Dagbok!$G$5:$G$2500,A106,Dagbok!$K$5:$K$2500)","v":0},{"$f":"Register!C114","v":0},0]
[106,{"$f":"Register!B115","v":0},{"$f":"SUMIF(Dagbok!$G$5:$G$2500,A107,Dagbok!$J$5:$J$2500)","v":0},{"$f":"SUMIF(Dagbok!$G$5:$G$2500,A107,Dagbok!$K$5:$K$2500)","v":0},{"$f":"Register!C115","v":0},0]
[107,{"$f":"Register!B116","v":0},{"$f":"SUMIF(Dagbok!$G$5:$G$2500,A108,Dagbok!$J$5:$J$2500)","v":0},{"$f":"SUMIF(Dagbok!$G$5:$G$2500,A108,Dagbok!$K$5:$K$2500)","v":0},{"$f":"Register!C116","v":0},0]
[108,{"$f":"Register!B117","v":0},{"$f":"SUMIF(Dagbok!$G$5:$G$2500,A109,Dagbok!$J$5:$J$2500)","v":0},{"$f":"SUMIF(Dagbok!$G$5:$G$2500,A109,Dagbok!$K$5:$K$2500)","v":0},{"$f":"Register!C117","v":0},0]
[109,{"$f":"Register!B118","v":0},{"$f":"SUMIF(Dagbok!$G$5:$G$2500,A110,Dagbok!$J$5:$J$2500)","v":0},{"$f":"SUMIF(Dagbok!$G$5:$G$2500,A110,Dagbok!$K$5:$K$2500)","v":0},{"$f":"Register!C118","v":0},0]
[110,{"$f":"Register!B119","v":0},{"$f":"SUMIF(Dagbok!$G$5:$G$2500,A111,Dagbok!$J$5:$J$2500)","v":0},{"$f":"SUMIF(Dagbok!$G$5:$G$2500,A111,Dagbok!$K$5:$K$2500)","v":0},{"$f":"Register!C119","v":0},0]
[111,{"$f":"Register!B120","v":0},{"$f":"SUMIF(Dagbok!$G$5:$G$2500,A112,Dagbok!$J$5:$J$2500)","v":0},{"$f":"SUMIF(Dagbok!$G$5:$G$2500,A112,Dagbok!$K$5:$K$2500)","v":0},{"$f":"Register!C120","v":0},0]
[112,{"$f":"Register!B121","v":0},{"$f":"SUMIF(Dagbok!$G$5:$G$2500,A113,Dagbok!$J$5:$J$2500)","v":0},{"$f":"SUMIF(Dagbok!$G$5:$G$2500,A113,Dagbok!$K$5:$K$2500)","v":0},{"$f":"Register!C121","v":0},0]
[113,{"$f":"Register!B122","v":0},{"$f":"SUMIF(Dagbok!$G$5:$G$2500,A114,Dagbok!$J$5:$J$2500)","v":0},{"$f":"SUMIF(Dagbok!$G$5:$G$2500,A114,Dagbok!$K$5:$K$2500)","v":0},{"$f":"Register!C122","v":0},0]
[114,{"$f":"Register!B123","v":0},{"$f":"SUMIF(Dagbok!$G$5:$G$2500,A115,Dagbok!$J$5:$J$2500)","v":0},{"$f":"SUMIF(Dagbok!$G$5:$G$2500,A115,Dagbok!$K$5:$K$2500)","v":0},{"$f":"Register!C123","v":0},0]
[115,{"$f":"Register!B124","v":0},{"$f":"SUMIF(Dagbok!$G$5:$G$2500,A116,Dagbok!$J$5:$J$2500)","v":0},{"$f":"SUMIF(Dagbok!$G$5:$G$2500,A116,Dagbok!$K$5:$K$2500)","v":0},{"$f":"Register!C124","v":0},0]
[116,{"$f":"Register!B125","v":0},{"$f":"SUMIF(Dagbok!$G$5:$G$2500,A117,Dagbok!$J$5:$J$2500)","v":0},{"$f":"SUMIF(Dagbok!$G$5:$G$2500,A117,Dagbok!$K$5:$K$2500)","v":0},{"$f":"Register!C125","v":0},0]
[117,{"$f":"Register!B126","v":0},{"$f":"SUMIF(Dagbok!$G$5:$G$2500,A118,Dagbok!$J$5:$J$2500)","v":0},{"$f":"SUMIF(Dagbok!$G$5:$G$2500,A118,Dagbok!$K$5:$K$2500)","v":0},{"$f":"Register!C126","v":0},0]
[118,{"$f":"Register!B127","v":0},{"$f":"SUMIF(Dagbok!$G$5:$G$2500,A119,Dagbok!$J$5:$J$2500)","v":0},{"$f":"SUMIF(Dagbok!$G$5:$G$2500,A119,Dagbok!$K$5:$K$2500)","v":0},{"$f":"Register!C127","v":0},0]
[119,{"$f":"Register!B128","v":0},{"$f":"SUMIF(Dagbok!$G$5:$G$2500,A120,Dagbok!$J$5:$J$2500)","v":0},{"$f":"SUMIF(Dagbok!$G$5:$G$2500,A120,Dagbok!$K$5:$K$2500)","v":0},{"$f":"Register!C128","v":0},0]
[120,{"$f":"Register!B129","v":0},{"$f":"SUMIF(Dagbok!$G$5:$G$2500,A121,Dagbok!$J$5:$J$2500)","v":0},{"$f":"SUMIF(Dagbok!$G$5:$G$2500,A121,Dagbok!$K$5:$K$2500)","v":0},{"$f":"Register!C129","v":0},0]
[121,{"$f":"Register!B130","v":0},{"$f":"SUMIF(Dagbok!$G$5:$G$2500,A122,Dagbok!$J$5:$J$2500)","v":0},{"$f":"SUMIF(Dagbok!$G$5:$G$2500,A122,Dagbok!$K$5:$K$2500)","v":0},{"$f":"Register!C130","v":0},0]
[122,{"$f":"Register!B131","v":0},{"$f":"SUMIF(Dagbok!$G$5:$G$2500,A123,Dagbok!$J$5:$J$2500)","v":0},{"$f":"SUMIF(Dagbok!$G$5:$G$2500,A123,Dagbok!$K$5:$K$2500)","v":0},{"$f":"Register!C131","v":0},0]
[123,{"$f":"Register!B132","v":0},{"$f":"SUMIF(Dagbok!$G$5:$G$2500,A124,Dagbok!$J$5:$J$2500)","v":0},{"$f":"SUMIF(Dagbok!$G$5:$G$2500,A124,Dagbok!$K$5:$K$2500)","v":0},{"$f":"Register!C132","v":0},0]
[124,{"$f":"Register!B133","v":0},{"$f":"SUMIF(Dagbok!$G$5:$G$2500,A125,Dagbok!$J$5:$J$2500)","v":0},{"$f":"SUMIF(Dagbok!$G$5:$G$2500,A125,Dagbok!$K$5:$K$2500)","v":0},{"$f":"Register!C133","v":0},0]
[125,{"$f":"Register!B134","v":0},{"$f":"SUMIF(Dagbok!$G$5:$G$2500,A126,Dagbok!$J$5:$J$2500)","v":0},{"$f":"SUMIF(Dagbok!$G$5:$G$2500,A126,Dagbok!$K$5:$K$2500)","v":0},{"$f":"Register!C134","v":0},0]
[126,{"$f":"Register!B135","v":0},{"$f":"SUMIF(Dagbok!$G$5:$G$2500,A127,Dagbok!$J$5:$J$2500)","v":0},{"$f":"SUMIF(Dagbok!$G$5:$G$2500,A127,Dagbok!$K$5:$K$2500)","v":0},{"$f":"Register!C135","v":0},0]
[127,{"$f":"Register!B136","v":0},{"$f":"SUMIF(Dagbok!$G$5:$G$2500,A128,Dagbok!$J$5:$J$2500)","v":0},{"$f":"SUMIF(Dagbok!$G$5:$G$2500,A128,Dagbok!$K$5:$K$2500)","v":0},{"$f":"Register!C136","v":0},0]
[128,{"$f":"Register!B137","v":0},{"$f":"SUMIF(Dagbok!$G$5:$G$2500,A129,Dagbok!$J$5:$J$2500)","v":0},{"$f":"SUMIF(Dagbok!$G$5:$G$2500,A129,Dagbok!$K$5:$K$2500)","v":0},{"$f":"Register!C137","v":0},0]
[129,{"$f":"Register!B138","v":0},{"$f":"SUMIF(Dagbok!$G$5:$G$2500,A130,Dagbok!$J$5:$J$2500)","v":0},{"$f":"SUMIF(Dagbok!$G$5:$G$2500,A130,Dagbok!$K$5:$K$2500)","v":0},{"$f":"Register!C138","v":0},0]
[130,{"$f":"Register!B139","v":0},{"$f":"SUMIF(Dagbok!$G$5:$G$2500,A131,Dagbok!$J$5:$J$2500)","v":0},{"$f":"SUMIF(Dagbok!$G$5:$G$2500,A131,Dagbok!$K$5:$K$2500)","v":0},{"$f":"Register!C139","v":0},0]
[131,{"$f":"Register!B140","v":0},{"$f":"SUMIF(Dagbok!$G$5:$G$2500,A132,Dagbok!$J$5:$J$2500)","v":0},{"$f":"SUMIF(Dagbok!$G$5:$G$2500,A132,Dagbok!$K$5:$K$2500)","v":0},{"$f":"Register!C140","v":0},0]
[132,{"$f":"Register!B141","v":0},{"$f":"SUMIF(Dagbok!$G$5:$G$2500,A133,Dagbok!$J$5:$J$2500)","v":0},{"$f":"SUMIF(Dagbok!$G$5:$G$2500,A133,Dagbok!$K$5:$K$2500)","v":0},{"$f":"Register!C141","v":0},0]
[133,{"$f":"Register!B142","v":0},{"$f":"SUMIF(Dagbok!$G$5:$G$2500,A134,Dagbok!$J$5:$J$2500)","v":0},{"$f":"SUMIF(Dagbok!$G$5:$G$2500,A134,Dagbok!$K$5:$K$2500)","v":0},{"$f":"Register!C142","v":0},0]
[134,{"$f":"Register!B143","v":0},{"$f":"SUMIF(Dagbok!$G$5:$G$2500,A135,Dagbok!$J$5:$J$2500)","v":0},{"$f":"SUMIF(Dagbok!$G$5:$G$2500,A135,Dagbok!$K$5:$K$2500)","v":0},{"$f":"Register!C143","v":0},0]
[135,{"$f":"Register!B144","v":0},{"$f":"SUMIF(Dagbok!$G$5:$G$2500,A136,Dagbok!$J$5:$J$2500)","v":0},{"$f":"SUMIF(Dagbok!$G$5:$G$2500,A136,Dagbok!$K$5:$K$2500)","v":0},{"$f":"Register!C144","v":0},0]
[136,{"$f":"Register!B145","v":0},{"$f":"SUMIF(Dagbok!$G$5:$G$2500,A137,Dagbok!$J$5:$J$2500)","v":0},{"$f":"SUMIF(Dagbok!$G$5:$G$2500,A137,Dagbok!$K$5:$K$2500)","v":0},{"$f":"Register!C145","v":0},0]
[137,{"$f":"Register!B146","v":0},{"$f":"SUMIF(Dagbok!$G$5:$G$2500,A138,Dagbok!$J$5:$J$2500)","v":0},{"$f":"SUMIF(Dagbok!$G$5:$G$2500,A138,Dagbok!$K$5:$K$2500)","v":0},{"$f":"Register!C146","v":0},0]
[138,{"$f":"Register!B147","v":0},{"$f":"SUMIF(Dagbok!$G$5:$G$2500,A139,Dagbok!$J$5:$J$2500)","v":0},{"$f":"SUMIF(Dagbok!$G$5:$G$2500,A139,Dagbok!$K$5:$K$2500)","v":0},{"$f":"Register!C147","v":0},0]
[139,{"$f":"Register!B148","v":0},{"$f":"SUMIF(Dagbok!$G$5:$G$2500,A140,Dagbok!$J$5:$J$2500)","v":0},{"$f":"SUMIF(Dagbok!$G$5:$G$2500,A140,Dagbok!$K$5:$K$2500)","v":0},{"$f":"Register!C148","v":0},0]
[140,{"$f":"Register!B149","v":0},{"$f":"SUMIF(Dagbok!$G$5:$G$2500,A141,Dagbok!$J$5:$J$2500)","v":0},{"$f":"SUMIF(Dagbok!$G$5:$G$2500,A141,Dagbok!$K$5:$K$2500)","v":0},{"$f":"Register!C149","v":0},0]
[141,{"$f":"Register!B150","v":0},{"$f":"SUMIF(Dagbok!$G$5:$G$2500,A142,Dagbok!$J$5:$J$2500)","v":0},{"$f":"SUMIF(Dagbok!$G$5:$G$2500,A142,Dagbok!$K$5:$K$2500)","v":0},{"$f":"Register!C150","v":0},0]
[142,{"$f":"Register!B151","v":0},{"$f":"SUMIF(Dagbok!$G$5:$G$2500,A143,Dagbok!$J$5:$J$2500)","v":0},{"$f":"SUMIF(Dagbok!$G$5:$G$2500,A143,Dagbok!$K$5:$K$2500)","v":0},{"$f":"Register!C151","v":0},0]
[143,{"$f":"Register!B152","v":0},{"$f":"SUMIF(Dagbok!$G$5:$G$2500,A144,Dagbok!$J$5:$J$2500)","v":0},{"$f":"SUMIF(Dagbok!$G$5:$G$2500,A144,Dagbok!$K$5:$K$2500)","v":0},{"$f":"Register!C152","v":0},0]
[144,{"$f":"Register!B153","v":0},{"$f":"SUMIF(Dagbok!$G$5:$G$2500,A145,Dagbok!$J$5:$J$2500)","v":0},{"$f":"SUMIF(Dagbok!$G$5:$G$2500,A145,Dagbok!$K$5:$K$2500)","v":0},{"$f":"Register!C153","v":0},0]
[145,{"$f":"Register!B154","v":0},{"$f":"SUMIF(Dagbok!$G$5:$G$2500,A146,Dagbok!$J$5:$J$2500)","v":0},{"$f":"SUMIF(Dagbok!$G$5:$G$2500,A146,Dagbok!$K$5:$K$2500)","v":0},{"$f":"Register!C154","v":0},0]
[146,{"$f":"Register!B155","v":0},{"$f":"SUMIF(Dagbok!$G$5:$G$2500,A147,Dagbok!$J$5:$J$2500)","v":0},{"$f":"SUMIF(Dagbok!$G$5:$G$2500,A147,Dagbok!$K$5:$K$2500)","v":0},{"$f":"Register!C155","v":0},0]
[147,{"$f":"Register!B156","v":0},{"$f":"SUMIF(Dagbok!$G$5:$G$2500,A148,Dagbok!$J$5:$J$2500)","v":0},{"$f":"SUMIF(Dagbok!$G$5:$G$2500,A148,Dagbok!$K$5:$K$2500)","v":0},{"$f":"Register!C156","v":0},0]
[148,{"$f":"Register!B157","v":0},{"$f":"SUMIF(Dagbok!$G$5:$G$2500,A149,Dagbok!$J$5:$J$2500)","v":0},{"$f":"SUMIF(Dagbok!$G$5:$G$2500,A149,Dagbok!$K$5:$K$2500)","v":0},{"$f":"Register!C157","v":0},0]
[149,{"$f":"Register!B158","v":0},{"$f":"SUMIF(Dagbok!$G$5:$G$2500,A150,Dagbok!$J$5:$J$2500)","v":0},{"$f":"SUMIF(Dagbok!$G$5:$G$2500,A150,Dagbok!$K$5:$K$2500)","v":0},{"$f":"Register!C158","v":0},0]
[150,{"$f":"Register!B159","v":0},{"$f":"SUMIF(Dagbok!$G$5:$G$2500,A151,Dagbok!$J$5:$J$2500)","v":0},{"$f":"SUMIF(Dagbok!$G$5:$G$2500,A151,Dagbok!$K$5:$K$2500)","v":0},{"$f":"Register!C159","v":0},0]
[151,{"$f":"Register!B160","v":0},{"$f":"SUMIF(Dagbok!$G$5:$G$2500,A152,Dagbok!$J$5:$J$2500)","v":0},{"$f":"SUMIF(Dagbok!$G$5:$G$2500,A152,Dagbok!$K$5:$K$2500)","v":0},{"$f":"Register!C160","v":0},0]
[152,{"$f":"Register!B161","v":0},{"$f":"SUMIF(Dagbok!$G$5:$G$2500,A153,Dagbok!$J$5:$J$2500)","v":0},{"$f":"SUMIF(Dagbok!$G$5:$G$2500,A153,Dagbok!$K$5:$K$2500)","v":0},{"$f":"Register!C161","v":0},0]
[153,{"$f":"Register!B162","v":0},{"$f":"SUMIF(Dagbok!$G$5:$G$2500,A154,Dagbok!$J$5:$J$2500)","v":0},{"$f":"SUMIF(Dagbok!$G$5:$G$2500,A154,Dagbok!$K$5:$K$2500)","v":0},{"$f":"Register!C162","v":0},0]
[154,{"$f":"Register!B163","v":0},{"$f":"SUMIF(Dagbok!$G$5:$G$2500,A155,Dagbok!$J$5:$J$2500)","v":0},{"$f":"SUMIF(Dagbok!$G$5:$G$2500,A155,Dagbok!$K$5:$K$2500)","v":0},{"$f":"Register!C163","v":0},0]
[155,{"$f":"Register!B164","v":0},{"$f":"SUMIF(Dagbok!$G$5:$G$2500,A156,Dagbok!$J$5:$J$2500)","v":0},{"$f":"SUMIF(Dagbok!$G$5:$G$2500,A156,Dagbok!$K$5:$K$2500)","v":0},{"$f":"Register!C164","v":0},0]
[156,{"$f":"Register!B165","v":0},{"$f":"SUMIF(Dagbok!$G$5:$G$2500,A157,Dagbok!$J$5:$J$2500)","v":0},{"$f":"SUMIF(Dagbok!$G$5:$G$2500,A157,Dagbok!$K$5:$K$2500)","v":0},{"$f":"Register!C165","v":0},0]
[157,{"$f":"Register!B166","v":0},{"$f":"SUMIF(Dagbok!$G$5:$G$2500,A158,Dagbok!$J$5:$J$2500)","v":0},{"$f":"SUMIF(Dagbok!$G$5:$G$2500,A158,Dagbok!$K$5:$K$2500)","v":0},{"$f":"Register!C166","v":0},0]
[158,{"$f":"Register!B167","v":0},{"$f":"SUMIF(Dagbok!$G$5:$G$2500,A159,Dagbok!$J$5:$J$2500)","v":0},{"$f":"SUMIF(Dagbok!$G$5:$G$2500,A159,Dagbok!$K$5:$K$2500)","v":0},{"$f":"Register!C167","v":0},0]
[159,{"$f":"Register!B168","v":0},{"$f":"SUMIF(Dagbok!$G$5:$G$2500,A160,Dagbok!$J$5:$J$2500)","v":0},{"$f":"SUMIF(Dagbok!$G$5:$G$2500,A160,Dagbok!$K$5:$K$2500)","v":0},{"$f":"Register!C168","v":0},0]
[160,{"$f":"Register!B169","v":0},{"$f":"SUMIF(Dagbok!$G$5:$G$2500,A161,Dagbok!$J$5:$J$2500)","v":0},{"$f":"SUMIF(Dagbok!$G$5:$G$2500,A161,Dagbok!$K$5:$K$2500)","v":0},{"$f":"Register!C169","v":0},0]
[161,{"$f":"Register!B170","v":0},{"$f":"SUMIF(Dagbok!$G$5:$G$2500,A162,Dagbok!$J$5:$J$2500)","v":0},{"$f":"SUMIF(Dagbok!$G$5:$G$2500,A162,Dagbok!$K$5:$K$2500)","v":0},{"$f":"Register!C170","v":0},0]
[162,{"$f":"Register!B171","v":0},{"$f":"SUMIF(Dagbok!$G$5:$G$2500,A163,Dagbok!$J$5:$J$2500)","v":0},{"$f":"SUMIF(Dagbok!$G$5:$G$2500,A163,Dagbok!$K$5:$K$2500)","v":0},{"$f":"Register!C171","v":0},0]
[163,{"$f":"Register!B172","v":0},{"$f":"SUMIF(Dagbok!$G$5:$G$2500,A164,Dagbok!$J$5:$J$2500)","v":0},{"$f":"SUMIF(Dagbok!$G$5:$G$2500,A164,Dagbok!$K$5:$K$2500)","v":0},{"$f":"Register!C172","v":0},0]
[164,{"$f":"Register!B173","v":0},{"$f":"SUMIF(Dagbok!$G$5:$G$2500,A165,Dagbok!$J$5:$J$2500)","v":0},{"$f":"SUMIF(Dagbok!$G$5:$G$2500,A165,Dagbok!$K$5:$K$2500)","v":0},{"$f":"Register!C173","v":0},{"$f":"E165+C165+D165","v":0}]
[165,{"$f":"Register!B174","v":0},{"$f":"SUMIF(Dagbok!$G$5:$G$2500,A166,Dagbok!$J$5:$J$2500)","v":0},{"$f":"SUMIF(Dagbok!$G$5:$G$2500,A166,Dagbok!$K$5:$K$2500)","v":0},{"$f":"Register!C174","v":0},0]
[166,{"$f":"Register!B175","v":0},{"$f":"SUMIF(Dagbok!$G$5:$G$2500,A167,Dagbok!$J$5:$J$2500)","v":0},{"$f":"SUMIF(Dagbok!$G$5:$G$2500,A167,Dagbok!$K$5:$K$2500)","v":0},{"$f":"Register!C175","v":0},0]
[167,{"$f":"Register!B176","v":0},{"$f":"SUMIF(Dagbok!$G$5:$G$2500,A168,Dagbok!$J$5:$J$2500)","v":0},{"$f":"SUMIF(Dagbok!$G$5:$G$2500,A168,Dagbok!$K$5:$K$2500)","v":0},{"$f":"Register!C176","v":0},0]
[168,{"$f":"Register!B177","v":0},{"$f":"SUMIF(Dagbok!$G$5:$G$2500,A169,Dagbok!$J$5:$J$2500)","v":0},{"$f":"SUMIF(Dagbok!$G$5:$G$2500,A169,Dagbok!$K$5:$K$2500)","v":0},{"$f":"Register!C177","v":0},0]
[169,{"$f":"Register!B178","v":0},{"$f":"SUMIF(Dagbok!$G$5:$G$2500,A170,Dagbok!$J$5:$J$2500)","v":0},{"$f":"SUMIF(Dagbok!$G$5:$G$2500,A170,Dagbok!$K$5:$K$2500)","v":0},{"$f":"Register!C178","v":0},0]
[170,{"$f":"Register!B179","v":0},{"$f":"SUMIF(Dagbok!$G$5:$G$2500,A171,Dagbok!$J$5:$J$2500)","v":0},{"$f":"SUMIF(Dagbok!$G$5:$G$2500,A171,Dagbok!$K$5:$K$2500)","v":0},{"$f":"Register!C179","v":0},0]
[171,{"$f":"Register!B180","v":0},{"$f":"SUMIF(Dagbok!$G$5:$G$2500,A172,Dagbok!$J$5:$J$2500)","v":0},{"$f":"SUMIF(Dagbok!$G$5:$G$2500,A172,Dagbok!$K$5:$K$2500)","v":0},{"$f":"Register!C180","v":0},0]
[172,{"$f":"Register!B181","v":0},{"$f":"SUMIF(Dagbok!$G$5:$G$2500,A173,Dagbok!$J$5:$J$2500)","v":0},{"$f":"SUMIF(Dagbok!$G$5:$G$2500,A173,Dagbok!$K$5:$K$2500)","v":0},{"$f":"Register!C181","v":0},0]
[173,{"$f":"Register!B182","v":0},{"$f":"SUMIF(Dagbok!$G$5:$G$2500,A174,Dagbok!$J$5:$J$2500)","v":0},{"$f":"SUMIF(Dagbok!$G$5:$G$2500,A174,Dagbok!$K$5:$K$2500)","v":0},{"$f":"Register!C182","v":0},0]
[174,{"$f":"Register!B183","v":0},{"$f":"SUMIF(Dagbok!$G$5:$G$2500,A175,Dagbok!$J$5:$J$2500)","v":0},{"$f":"SUMIF(Dagbok!$G$5:$G$2500,A175,Dagbok!$K$5:$K$2500)","v":0},{"$f":"Register!C183","v":0},0]
[175,{"$f":"Register!B184","v":0},{"$f":"SUMIF(Dagbok!$G$5:$G$2500,A176,Dagbok!$J$5:$J$2500)","v":0},{"$f":"SUMIF(Dagbok!$G$5:$G$2500,A176,Dagbok!$K$5:$K$2500)","v":0},{"$f":"Register!C184","v":0},0]
[176,{"$f":"Register!B185","v":0},{"$f":"SUMIF(Dagbok!$G$5:$G$2500,A177,Dagbok!$J$5:$J$2500)","v":0},{"$f":"SUMIF(Dagbok!$G$5:$G$2500,A177,Dagbok!$K$5:$K$2500)","v":0},{"$f":"Register!C185","v":0},0]
[177,{"$f":"Register!B186","v":0},{"$f":"SUMIF(Dagbok!$G$5:$G$2500,A178,Dagbok!$J$5:$J$2500)","v":0},{"$f":"SUMIF(Dagbok!$G$5:$G$2500,A178,Dagbok!$K$5:$K$2500)","v":0},{"$f":"Register!C186","v":0},0]
[178,{"$f":"Register!B187","v":0},{"$f":"SUMIF(Dagbok!$G$5:$G$2500,A179,Dagbok!$J$5:$J$2500)","v":0},{"$f":"SUMIF(Dagbok!$G$5:$G$2500,A179,Dagbok!$K$5:$K$2500)","v":0},{"$f":"Register!C187","v":0},0]
[179,{"$f":"Register!B188","v":0},{"$f":"SUMIF(Dagbok!$G$5:$G$2500,A180,Dagbok!$J$5:$J$2500)","v":0},{"$f":"SUMIF(Dagbok!$G$5:$G$2500,A180,Dagbok!$K$5:$K$2500)","v":0},{"$f":"Register!C188","v":0},0]
[180,{"$f":"Register!B189","v":0},{"$f":"SUMIF(Dagbok!$G$5:$G$2500,A181,Dagbok!$J$5:$J$2500)","v":0},{"$f":"SUMIF(Dagbok!$G$5:$G$2500,A181,Dagbok!$K$5:$K$2500)","v":0},{"$f":"Register!C189","v":0},0]
[181,{"$f":"Register!B190","v":0},{"$f":"SUMIF(Dagbok!$G$5:$G$2500,A182,Dagbok!$J$5:$J$2500)","v":0},{"$f":"SUMIF(Dagbok!$G$5:$G$2500,A182,Dagbok!$K$5:$K$2500)","v":0},{"$f":"Register!C190","v":0},0]
[182,{"$f":"Register!B191","v":0},{"$f":"SUMIF(Dagbok!$G$5:$G$2500,A183,Dagbok!$J$5:$J$2500)","v":0},{"$f":"SUMIF(Dagbok!$G$5:$G$2500,A183,Dagbok!$K$5:$K$2500)","v":0},{"$f":"Register!C191","v":0},0]
[183,{"$f":"Register!B192","v":0},{"$f":"SUMIF(Dagbok!$G$5:$G$2500,A184,Dagbok!$J$5:$J$2500)","v":0},{"$f":"SUMIF(Dagbok!$G$5:$G$2500,A184,Dagbok!$K$5:$K$2500)","v":0},{"$f":"Register!C192","v":0},0]
[184,{"$f":"Register!B193","v":0},{"$f":"SUMIF(Dagbok!$G$5:$G$2500,A185,Dagbok!$J$5:$J$2500)","v":0},{"$f":"SUMIF(Dagbok!$G$5:$G$2500,A185,Dagbok!$K$5:$K$2500)","v":0},{"$f":"Register!C193","v":0},0]
[185,{"$f":"Register!B194","v":0},{"$f":"SUMIF(Dagbok!$G$5:$G$2500,A186,Dagbok!$J$5:$J$2500)","v":0},{"$f":"SUMIF(Dagbok!$G$5:$G$2500,A186,Dagbok!$K$5:$K$2500)","v":0},{"$f":"Register!C194","v":0},0]
[186,{"$f":"Register!B195","v":0},{"$f":"SUMIF(Dagbok!$G$5:$G$2500,A187,Dagbok!$J$5:$J$2500)","v":0},{"$f":"SUMIF(Dagbok!$G$5:$G$2500,A187,Dagbok!$K$5:$K$2500)","v":0},{"$f":"Register!C195","v":0},0]
[187,{"$f":"Register!B196","v":0},{"$f":"SUMIF(Dagbok!$G$5:$G$2500,A188,Dagbok!$J$5:$J$2500)","v":0},{"$f":"SUMIF(Dagbok!$G$5:$G$2500,A188,Dagbok!$K$5:$K$2500)","v":0},{"$f":"Register!C196","v":0},0]
[188,{"$f":"Register!B197","v":0},{"$f":"SUMIF(Dagbok!$G$5:$G$2500,A189,Dagbok!$J$5:$J$2500)","v":0},{"$f":"SUMIF(Dagbok!$G$5:$G$2500,A189,Dagbok!$K$5:$K$2500)","v":0},{"$f":"Register!C197","v":0},0]
[189,{"$f":"Register!B198","v":0},{"$f":"SUMIF(Dagbok!$G$5:$G$2500,A190,Dagbok!$J$5:$J$2500)","v":0},{"$f":"SUMIF(Dagbok!$G$5:$G$2500,A190,Dagbok!$K$5:$K$2500)","v":0},{"$f":"Register!C198","v":0},0]
[190,{"$f":"Register!B199","v":0},{"$f":"SUMIF(Dagbok!$G$5:$G$2500,A191,Dagbok!$J$5:$J$2500)","v":0},{"$f":"SUMIF(Dagbok!$G$5:$G$2500,A191,Dagbok!$K$5:$K$2500)","v":0},{"$f":"Register!C199","v":0},0]
[191,{"$f":"Register!B200","v":0},{"$f":"SUMIF(Dagbok!$G$5:$G$2500,A192,Dagbok!$J$5:$J$2500)","v":0},{"$f":"SUMIF(Dagbok!$G$5:$G$2500,A192,Dagbok!$K$5:$K$2500)","v":0},{"$f":"Register!C200","v":0},0]
[192,{"$f":"Register!B201","v":0},{"$f":"SUMIF(Dagbok!$G$5:$G$2500,A193,Dagbok!$J$5:$J$2500)","v":0},{"$f":"SUMIF(Dagbok!$G$5:$G$2500,A193,Dagbok!$K$5:$K$2500)","v":0},{"$f":"Register!C201","v":0},0]
[193,{"$f":"Register!B202","v":0},{"$f":"SUMIF(Dagbok!$G$5:$G$2500,A194,Dagbok!$J$5:$J$2500)","v":0},{"$f":"SUMIF(Dagbok!$G$5:$G$2500,A194,Dagbok!$K$5:$K$2500)","v":0},{"$f":"Register!C202","v":0},0]
[194,{"$f":"Register!B203","v":0},{"$f":"SUMIF(Dagbok!$G$5:$G$2500,A195,Dagbok!$J$5:$J$2500)","v":0},{"$f":"SUMIF(Dagbok!$G$5:$G$2500,A195,Dagbok!$K$5:$K$2500)","v":0},{"$f":"Register!C203","v":0},0]
[195,{"$f":"Register!B204","v":0},{"$f":"SUMIF(Dagbok!$G$5:$G$2500,A196,Dagbok!$J$5:$J$2500)","v":0},{"$f":"SUMIF(Dagbok!$G$5:$G$2500,A196,Dagbok!$K$5:$K$2500)","v":0},{"$f":"Register!C204","v":0},0]
[196,{"$f":"Register!B205","v":0},{"$f":"SUMIF(Dagbok!$G$5:$G$2500,A197,Dagbok!$J$5:$J$2500)","v":0},{"$f":"SUMIF(Dagbok!$G$5:$G$2500,A197,Dagbok!$K$5:$K$2500)","v":0},{"$f":"Register!C205","v":0},0]
[197,{"$f":"Register!B206","v":0},{"$f":"SUMIF(Dagbok!$G$5:$G$2500,A198,Dagbok!$J$5:$J$2500)","v":0},{"$f":"SUMIF(Dagbok!$G$5:$G$2500,A198,Dagbok!$K$5:$K$2500)","v":0},{"$f":"Register!C206","v":0},0]
[198,{"$f":"Register!B207","v":0},{"$f":"SUMIF(Dagbok!$G$5:$G$2500,A199,Dagbok!$J$5:$J$2500)","v":0},{"$f":"SUMIF(Dagbok!$G$5:$G$2500,A199,Dagbok!$K$5:$K$2500)","v":0},{"$f":"Register!C207","v":0},0]
[199,{"$f":"Register!B208","v":0},{"$f":"SUMIF(Dagbok!$G$5:$G$2500,A200,Dagbok!$J$5:$J$2500)","v":0},{"$f":"SUMIF(Dagbok!$G$5:$G$2500,A200,Dagbok!$K$5:$K$2500)","v":0},{"$f":"Register!C208","v":0},0]
[200,{"$f":"Register!B209","v":0},{"$f":"SUMIF(Dagbok!$G$5:$G$2500,A201,Dagbok!$J$5:$J$2500)","v":0},{"$f":"SUMIF(Dagbok!$G$5:$G$2500,A201,Dagbok!$K$5:$K$2500)","v":0},{"$f":"Register!C209","v":0},0]
[201,{"$f":"Register!B210","v":0},{"$f":"SUMIF(Dagbok!$G$5:$G$2500,A202,Dagbok!$J$5:$J$2500)","v":0},{"$f":"SUMIF(Dagbok!$G$5:$G$2500,A202,Dagbok!$K$5:$K$2500)","v":0},{"$f":"Register!C210","v":0},0]
[202,{"$f":"Register!B211","v":0},{"$f":"SUMIF(Dagbok!$G$5:$G$2500,A203,Dagbok!$J$5:$J$2500)","v":0},{"$f":"SUMIF(Dagbok!$G$5:$G$2500,A203,Dagbok!$K$5:$K$2500)","v":0},{"$f":"Register!C211","v":0},0]
[203,{"$f":"Register!B212","v":0},{"$f":"SUMIF(Dagbok!$G$5:$G$2500,A204,Dagbok!$J$5:$J$2500)","v":0},{"$f":"SUMIF(Dagbok!$G$5:$G$2500,A204,Dagbok!$K$5:$K$2500)","v":0},{"$f":"Register!C212","v":0},0]
[204,{"$f":"Register!B213","v":0},{"$f":"SUMIF(Dagbok!$G$5:$G$2500,A205,Dagbok!$J$5:$J$2500)","v":0},{"$f":"SUMIF(Dagbok!$G$5:$G$2500,A205,Dagbok!$K$5:$K$2500)","v":0},{"$f":"Register!C213","v":0},0]
[205,{"$f":"Register!B214","v":0},{"$f":"SUMIF(Dagbok!$G$5:$G$2500,A206,Dagbok!$J$5:$J$2500)","v":0},{"$f":"SUMIF(Dagbok!$G$5:$G$2500,A206,Dagbok!$K$5:$K$2500)","v":0},{"$f":"Register!C214","v":0},0]
[206,{"$f":"Register!B215","v":0},{"$f":"SUMIF(Dagbok!$G$5:$G$2500,A207,Dagbok!$J$5:$J$2500)","v":0},{"$f":"SUMIF(Dagbok!$G$5:$G$2500,A207,Dagbok!$K$5:$K$2500)","v":0},{"$f":"Register!C215","v":0},0]
[207,{"$f":"Register!B216","v":0},{"$f":"SUMIF(Dagbok!$G$5:$G$2500,A208,Dagbok!$J$5:$J$2500)","v":0},{"$f":"SUMIF(Dagbok!$G$5:$G$2500,A208,Dagbok!$K$5:$K$2500)","v":0},{"$f":"Register!C216","v":0},0]
[208,{"$f":"Register!B217","v":0},{"$f":"SUMIF(Dagbok!$G$5:$G$2500,A209,Dagbok!$J$5:$J$2500)","v":0},{"$f":"SUMIF(Dagbok!$G$5:$G$2500,A209,Dagbok!$K$5:$K$2500)","v":0},{"$f":"Register!C217","v":0},0]
[209,{"$f":"Register!B218","v":0},{"$f":"SUMIF(Dagbok!$G$5:$G$2500,A210,Dagbok!$J$5:$J$2500)","v":0},{"$f":"SUMIF(Dagbok!$G$5:$G$2500,A210,Dagbok!$K$5:$K$2500)","v":0},{"$f":"Register!C218","v":0},0]
[210,{"$f":"Register!B219","v":0},{"$f":"SUMIF(Dagbok!$G$5:$G$2500,A211,Dagbok!$J$5:$J$2500)","v":0},{"$f":"SUMIF(Dagbok!$G$5:$G$2500,A211,Dagbok!$K$5:$K$2500)","v":0},{"$f":"Register!C219","v":0},0]
[211,{"$f":"Register!B220","v":0},{"$f":"SUMIF(Dagbok!$G$5:$G$2500,A212,Dagbok!$J$5:$J$2500)","v":0},{"$f":"SUMIF(Dagbok!$G$5:$G$2500,A212,Dagbok!$K$5:$K$2500)","v":0},{"$f":"Register!C220","v":0},0]
[212,{"$f":"Register!B221","v":0},{"$f":"SUMIF(Dagbok!$G$5:$G$2500,A213,Dagbok!$J$5:$J$2500)","v":0},{"$f":"SUMIF(Dagbok!$G$5:$G$2500,A213,Dagbok!$K$5:$K$2500)","v":0},{"$f":"Register!C221","v":0},0]
[213,{"$f":"Register!B222","v":0},{"$f":"SUMIF(Dagbok!$G$5:$G$2500,A214,Dagbok!$J$5:$J$2500)","v":0},{"$f":"SUMIF(Dagbok!$G$5:$G$2500,A214,Dagbok!$K$5:$K$2500)","v":0},{"$f":"Register!C222","v":0},0]
[214,{"$f":"Register!B223","v":0},{"$f":"SUMIF(Dagbok!$G$5:$G$2500,A215,Dagbok!$J$5:$J$2500)","v":0},{"$f":"SUMIF(Dagbok!$G$5:$G$2500,A215,Dagbok!$K$5:$K$2500)","v":0},{"$f":"Register!C223","v":0},0]
[215,{"$f":"Register!B224","v":0},{"$f":"SUMIF(Dagbok!$G$5:$G$2500,A216,Dagbok!$J$5:$J$2500)","v":0},{"$f":"SUMIF(Dagbok!$G$5:$G$2500,A216,Dagbok!$K$5:$K$2500)","v":0},{"$f":"Register!C224","v":0},0]
[216,{"$f":"Register!B225","v":0},{"$f":"SUMIF(Dagbok!$G$5:$G$2500,A217,Dagbok!$J$5:$J$2500)","v":0},{"$f":"SUMIF(Dagbok!$G$5:$G$2500,A217,Dagbok!$K$5:$K$2500)","v":0},{"$f":"Register!C225","v":0},0]
[217,{"$f":"Register!B226","v":0},{"$f":"SUMIF(Dagbok!$G$5:$G$2500,A218,Dagbok!$J$5:$J$2500)","v":0},{"$f":"SUMIF(Dagbok!$G$5:$G$2500,A218,Dagbok!$K$5:$K$2500)","v":0},{"$f":"Register!C226","v":0},0]
[218,{"$f":"Register!B227","v":0},{"$f":"SUMIF(Dagbok!$G$5:$G$2500,A219,Dagbok!$J$5:$J$2500)","v":0},{"$f":"SUMIF(Dagbok!$G$5:$G$2500,A219,Dagbok!$K$5:$K$2500)","v":0},{"$f":"Register!C227","v":0},0]
[219,{"$f":"Register!B228","v":0},{"$f":"SUMIF(Dagbok!$G$5:$G$2500,A220,Dagbok!$J$5:$J$2500)","v":0},{"$f":"SUMIF(Dagbok!$G$5:$G$2500,A220,Dagbok!$K$5:$K$2500)","v":0},{"$f":"Register!C228","v":0},0]
[220,{"$f":"Register!B229","v":0},{"$f":"SUMIF(Dagbok!$G$5:$G$2500,A221,Dagbok!$J$5:$J$2500)","v":0},{"$f":"SUMIF(Dagbok!$G$5:$G$2500,A221,Dagbok!$K$5:$K$2500)","v":0},{"$f":"Register!C229","v":0},0]
[221,{"$f":"Register!B230","v":0},{"$f":"SUMIF(Dagbok!$G$5:$G$2500,A222,Dagbok!$J$5:$J$2500)","v":0},{"$f":"SUMIF(Dagbok!$G$5:$G$2500,A222,Dagbok!$K$5:$K$2500)","v":0},{"$f":"Register!C230","v":0},0]
[222,{"$f":"Register!B231","v":0},{"$f":"SUMIF(Dagbok!$G$5:$G$2500,A223,Dagbok!$J$5:$J$2500)","v":0},{"$f":"SUMIF(Dagbok!$G$5:$G$2500,A223,Dagbok!$K$5:$K$2500)","v":0},{"$f":"Register!C231","v":0},0]
[223,{"$f":"Register!B232","v":0},{"$f":"SUMIF(Dagbok!$G$5:$G$2500,A224,Dagbok!$J$5:$J$2500)","v":0},{"$f":"SUMIF(Dagbok!$G$5:$G$2500,A224,Dagbok!$K$5:$K$2500)","v":0},{"$f":"Register!C232","v":0},0]
[224,{"$f":"Register!B233","v":0},{"$f":"SUMIF(Dagbok!$G$5:$G$2500,A225,Dagbok!$J$5:$J$2500)","v":0},{"$f":"SUMIF(Dagbok!$G$5:$G$2500,A225,Dagbok!$K$5:$K$2500)","v":0},{"$f":"Register!C233","v":0},0]
[225,{"$f":"Register!B234","v":0},{"$f":"SUMIF(Dagbok!$G$5:$G$2500,A226,Dagbok!$J$5:$J$2500)","v":0},{"$f":"SUMIF(Dagbok!$G$5:$G$2500,A226,Dagbok!$K$5:$K$2500)","v":0},{"$f":"Register!C234","v":0},0]
[226,{"$f":"Register!B235","v":0},{"$f":"SUMIF(Dagbok!$G$5:$G$2500,A227,Dagbok!$J$5:$J$2500)","v":0},{"$f":"SUMIF(Dagbok!$G$5:$G$2500,A227,Dagbok!$K$5:$K$2500)","v":0},{"$f":"Register!C235","v":0},0]
[227,{"$f":"Register!B236","v":0},{"$f":"SUMIF(Dagbok!$G$5:$G$2500,A228,Dagbok!$J$5:$J$2500)","v":0},{"$f":"SUMIF(Dagbok!$G$5:$G$2500,A228,Dagbok!$K$5:$K$2500)","v":0},{"$f":"Register!C236","v":0},0]
[228,{"$f":"Register!B237","v":0},{"$f":"SUMIF(Dagbok!$G$5:$G$2500,A229,Dagbok!$J$5:$J$2500)","v":0},{"$f":"SUMIF(Dagbok!$G$5:$G$2500,A229,Dagbok!$K$5:$K$2500)","v":0},{"$f":"Register!C237","v":0},{"$f":"E229+C229+D229","v":0}]
[229,{"$f":"Register!B238","v":0},{"$f":"SUMIF(Dagbok!$G$5:$G$2500,A230,Dagbok!$J$5:$J$2500)","v":0},{"$f":"SUMIF(Dagbok!$G$5:$G$2500,A230,Dagbok!$K$5:$K$2500)","v":0},{"$f":"Register!C238","v":0},0]
[230,{"$f":"Register!B239","v":0},{"$f":"SUMIF(Dagbok!$G$5:$G$2500,A231,Dagbok!$J$5:$J$2500)","v":0},{"$f":"SUMIF(Dagbok!$G$5:$G$2500,A231,Dagbok!$K$5:$K$2500)","v":0},{"$f":"Register!C239","v":0},0]
[231,{"$f":"Register!B240","v":0},{"$f":"SUMIF(Dagbok!$G$5:$G$2500,A232,Dagbok!$J$5:$J$2500)","v":0},{"$f":"SUMIF(Dagbok!$G$5:$G$2500,A232,Dagbok!$K$5:$K$2500)","v":0},{"$f":"Register!C240","v":0},0]
[232,{"$f":"Register!B241","v":0},{"$f":"SUMIF(Dagbok!$G$5:$G$2500,A233,Dagbok!$J$5:$J$2500)","v":0},{"$f":"SUMIF(Dagbok!$G$5:$G$2500,A233,Dagbok!$K$5:$K$2500)","v":0},{"$f":"Register!C241","v":0},0]
[233,{"$f":"Register!B242","v":0},{"$f":"SUMIF(Dagbok!$G$5:$G$2500,A234,Dagbok!$J$5:$J$2500)","v":0},{"$f":"SUMIF(Dagbok!$G$5:$G$2500,A234,Dagbok!$K$5:$K$2500)","v":0},{"$f":"Register!C242","v":0},0]
[234,{"$f":"Register!B243","v":0},{"$f":"SUMIF(Dagbok!$G$5:$G$2500,A235,Dagbok!$J$5:$J$2500)","v":0},{"$f":"SUMIF(Dagbok!$G$5:$G$2500,A235,Dagbok!$K$5:$K$2500)","v":0},{"$f":"Register!C243","v":0},0]
[235,{"$f":"Register!B244","v":0},{"$f":"SUMIF(Dagbok!$G$5:$G$2500,A236,Dagbok!$J$5:$J$2500)","v":0},{"$f":"SUMIF(Dagbok!$G$5:$G$2500,A236,Dagbok!$K$5:$K$2500)","v":0},{"$f":"Register!C244","v":0},0]
[236,{"$f":"Register!B245","v":0},{"$f":"SUMIF(Dagbok!$G$5:$G$2500,A237,Dagbok!$J$5:$J$2500)","v":0},{"$f":"SUMIF(Dagbok!$G$5:$G$2500,A237,Dagbok!$K$5:$K$2500)","v":0},{"$f":"Register!C245","v":0},0]
[237,{"$f":"Register!B246","v":0},{"$f":"SUMIF(Dagbok!$G$5:$G$2500,A238,Dagbok!$J$5:$J$2500)","v":0},{"$f":"SUMIF(Dagbok!$G$5:$G$2500,A238,Dagbok!$K$5:$K$2500)","v":0},{"$f":"Register!C246","v":0},0]
[238,{"$f":"Register!B247","v":0},{"$f":"SUMIF(Dagbok!$G$5:$G$2500,A239,Dagbok!$J$5:$J$2500)","v":0},{"$f":"SUMIF(Dagbok!$G$5:$G$2500,A239,Dagbok!$K$5:$K$2500)","v":0},{"$f":"Register!C247","v":0},0]
[239,{"$f":"Register!B248","v":0},{"$f":"SUMIF(Dagbok!$G$5:$G$2500,A240,Dagbok!$J$5:$J$2500)","v":0},{"$f":"SUMIF(Dagbok!$G$5:$G$2500,A240,Dagbok!$K$5:$K$2500)","v":0},{"$f":"Register!C248","v":0},0]
[240,{"$f":"Register!B249","v":0},{"$f":"SUMIF(Dagbok!$G$5:$G$2500,A241,Dagbok!$J$5:$J$2500)","v":0},{"$f":"SUMIF(Dagbok!$G$5:$G$2500,A241,Dagbok!$K$5:$K$2500)","v":0},{"$f":"Register!C249","v":0},0]
[241,{"$f":"Register!B250","v":0},{"$f":"SUMIF(Dagbok!$G$5:$G$2500,A242,Dagbok!$J$5:$J$2500)","v":0},{"$f":"SUMIF(Dagbok!$G$5:$G$2500,A242,Dagbok!$K$5:$K$2500)","v":0},{"$f":"Register!C250","v":0},0]
[242,{"$f":"Register!B251","v":0},{"$f":"SUMIF(Dagbok!$G$5:$G$2500,A243,Dagbok!$J$5:$J$2500)","v":0},{"$f":"SUMIF(Dagbok!$G$5:$G$2500,A243,Dagbok!$K$5:$K$2500)","v":0},{"$f":"Register!C251","v":0},0]
[243,{"$f":"Register!B252","v":0},{"$f":"SUMIF(Dagbok!$G$5:$G$2500,A244,Dagbok!$J$5:$J$2500)","v":0},{"$f":"SUMIF(Dagbok!$G$5:$G$2500,A244,Dagbok!$K$5:$K$2500)","v":0},{"$f":"Register!C252","v":0},0]
[244,{"$f":"Register!B253","v":0},{"$f":"SUMIF(Dagbok!$G$5:$G$2500,A245,Dagbok!$J$5:$J$2500)","v":0},{"$f":"SUMIF(Dagbok!$G$5:$G$2500,A245,Dagbok!$K$5:$K$2500)","v":0},{"$f":"Register!C253","v":0},0]
[245,{"$f":"Register!B254","v":0},{"$f":"SUMIF(Dagbok!$G$5:$G$2500,A246,Dagbok!$J$5:$J$2500)","v":0},{"$f":"SUMIF(Dagbok!$G$5:$G$2500,A246,Dagbok!$K$5:$K$2500)","v":0},{"$f":"Register!C254","v":0},0]
[246,{"$f":"Register!B255","v":0},{"$f":"SUMIF(Dagbok!$G$5:$G$2500,A247,Dagbok!$J$5:$J$2500)","v":0},{"$f":"SUMIF(Dagbok!$G$5:$G$2500,A247,Dagbok!$K$5:$K$2500)","v":0},{"$f":"Register!C255","v":0},0]
[247,{"$f":"Register!B256","v":0},{"$f":"SUMIF(Dagbok!$G$5:$G$2500,A248,Dagbok!$J$5:$J$2500)","v":0},{"$f":"SUMIF(Dagbok!$G$5:$G$2500,A248,Dagbok!$K$5:$K$2500)","v":0},{"$f":"Register!C256","v":0},0]
[248,{"$f":"Register!B257","v":0},{"$f":"SUMIF(Dagbok!$G$5:$G$2500,A249,Dagbok!$J$5:$J$2500)","v":0},{"$f":"SUMIF(Dagbok!$G$5:$G$2500,A249,Dagbok!$K$5:$K$2500)","v":0},{"$f":"Register!C257","v":0},0]
[249,{"$f":"Register!B258","v":0},{"$f":"SUMIF(Dagbok!$G$5:$G$2500,A250,Dagbok!$J$5:$J$2500)","v":0},{"$f":"SUMIF(Dagbok!$G$5:$G$2500,A250,Dagbok!$K$5:$K$2500)","v":0},{"$f":"Register!C258","v":0},0]
[250,{"$f":"Register!B259","v":0},{"$f":"SUMIF(Dagbok!$G$5:$G$2500,A251,Dagbok!$J$5:$J$2500)","v":0},{"$f":"SUMIF(Dagbok!$G$5:$G$2500,A251,Dagbok!$K$5:$K$2500)","v":0},{"$f":"Register!C259","v":0},0]
[251,{"$f":"Register!B260","v":0},{"$f":"SUMIF(Dagbok!$G$5:$G$2500,A252,Dagbok!$J$5:$J$2500)","v":0},{"$f":"SUMIF(Dagbok!$G$5:$G$2500,A252,Dagbok!$K$5:$K$2500)","v":0},{"$f":"Register!C260","v":0},0]
[252,{"$f":"Register!B261","v":0},{"$f":"SUMIF(Dagbok!$G$5:$G$2500,A253,Dagbok!$J$5:$J$2500)","v":0},{"$f":"SUMIF(Dagbok!$G$5:$G$2500,A253,Dagbok!$K$5:$K$2500)","v":0},{"$f":"Register!C261","v":0},0]
[253,{"$f":"Register!B262","v":0},{"$f":"SUMIF(Dagbok!$G$5:$G$2500,A254,Dagbok!$J$5:$J$2500)","v":0},{"$f":"SUMIF(Dagbok!$G$5:$G$2500,A254,Dagbok!$K$5:$K$2500)","v":0},{"$f":"Register!C262","v":0},0]
[254,{"$f":"Register!B263","v":0},{"$f":"SUMIF(Dagbok!$G$5:$G$2500,A255,Dagbok!$J$5:$J$2500)","v":0},{"$f":"SUMIF(Dagbok!$G$5:$G$2500,A255,Dagbok!$K$5:$K$2500)","v":0},{"$f":"Register!C263","v":0},0]
[255,{"$f":"Register!B264","v":0},{"$f":"SUMIF(Dagbok!$G$5:$G$2500,A256,Dagbok!$J$5:$J$2500)","v":0},{"$f":"SUMIF(Dagbok!$G$5:$G$2500,A256,Dagbok!$K$5:$K$2500)","v":0},{"$f":"Register!C264","v":0},0]
[256,{"$f":"Register!B265","v":0},{"$f":"SUMIF(Dagbok!$G$5:$G$2500,A257,Dagbok!$J$5:$J$2500)","v":0},{"$f":"SUMIF(Dagbok!$G$5:$G$2500,A257,Dagbok!$K$5:$K$2500)","v":0},{"$f":"Register!C265","v":0},0]
[257,{"$f":"Register!B266","v":0},{"$f":"SUMIF(Dagbok!$G$5:$G$2500,A258,Dagbok!$J$5:$J$2500)","v":0},{"$f":"SUMIF(Dagbok!$G$5:$G$2500,A258,Dagbok!$K$5:$K$2500)","v":0},{"$f":"Register!C266","v":0},0]
[258,{"$f":"Register!B267","v":0},{"$f":"SUMIF(Dagbok!$G$5:$G$2500,A259,Dagbok!$J$5:$J$2500)","v":0},{"$f":"SUMIF(Dagbok!$G$5:$G$2500,A259,Dagbok!$K$5:$K$2500)","v":0},{"$f":"Register!C267","v":0},0]
[259,{"$f":"Register!B268","v":0},{"$f":"SUMIF(Dagbok!$G$5:$G$2500,A260,Dagbok!$J$5:$J$2500)","v":0},{"$f":"SUMIF(Dagbok!$G$5:$G$2500,A260,Dagbok!$K$5:$K$2500)","v":0},{"$f":"Register!C268","v":0},0]
[260,{"$f":"Register!B269","v":0},{"$f":"SUMIF(Dagbok!$G$5:$G$2500,A261,Dagbok!$J$5:$J$2500)","v":0},{"$f":"SUMIF(Dagbok!$G$5:$G$2500,A261,Dagbok!$K$5:$K$2500)","v":0},{"$f":"Register!C269","v":0},0]
[261,{"$f":"Register!B270","v":0},{"$f":"SUMIF(Dagbok!$G$5:$G$2500,A262,Dagbok!$J$5:$J$2500)","v":0},{"$f":"SUMIF(Dagbok!$G$5:$G$2500,A262,Dagbok!$K$5:$K$2500)","v":0},{"$f":"Register!C270","v":0},0]
[262,{"$f":"Register!B271","v":0},{"$f":"SUMIF(Dagbok!$G$5:$G$2500,A263,Dagbok!$J$5:$J$2500)","v":0},{"$f":"SUMIF(Dagbok!$G$5:$G$2500,A263,Dagbok!$K$5:$K$2500)","v":0},{"$f":"Register!C271","v":0},0]
[263,{"$f":"Register!B272","v":0},{"$f":"SUMIF(Dagbok!$G$5:$G$2500,A264,Dagbok!$J$5:$J$2500)","v":0},{"$f":"SUMIF(Dagbok!$G$5:$G$2500,A264,Dagbok!$K$5:$K$2500)","v":0},{"$f":"Register!C272","v":0},0]
[264,{"$f":"Register!B273","v":0},{"$f":"SUMIF(Dagbok!$G$5:$G$2500,A265,Dagbok!$J$5:$J$2500)","v":0},{"$f":"SUMIF(Dagbok!$G$5:$G$2500,A265,Dagbok!$K$5:$K$2500)","v":0},{"$f":"Register!C273","v":0},0]
[265,{"$f":"Register!B274","v":0},{"$f":"SUMIF(Dagbok!$G$5:$G$2500,A266,Dagbok!$J$5:$J$2500)","v":0},{"$f":"SUMIF(Dagbok!$G$5:$G$2500,A266,Dagbok!$K$5:$K$2500)","v":0},{"$f":"Register!C274","v":0},0]
[266,{"$f":"Register!B275","v":0},{"$f":"SUMIF(Dagbok!$G$5:$G$2500,A267,Dagbok!$J$5:$J$2500)","v":0},{"$f":"SUMIF(Dagbok!$G$5:$G$2500,A267,Dagbok!$K$5:$K$2500)","v":0},{"$f":"Register!C275","v":0},0]
[267,{"$f":"Register!B276","v":0},{"$f":"SUMIF(Dagbok!$G$5:$G$2500,A268,Dagbok!$J$5:$J$2500)","v":0},{"$f":"SUMIF(Dagbok!$G$5:$G$2500,A268,Dagbok!$K$5:$K$2500)","v":0},{"$f":"Register!C276","v":0},0]
[268,{"$f":"Register!B277","v":0},{"$f":"SUMIF(Dagbok!$G$5:$G$2500,A269,Dagbok!$J$5:$J$2500)","v":0},{"$f":"SUMIF(Dagbok!$G$5:$G$2500,A269,Dagbok!$K$5:$K$2500)","v":0},{"$f":"Register!C277","v":0},0]
[269,{"$f":"Register!B278","v":0},{"$f":"SUMIF(Dagbok!$G$5:$G$2500,A270,Dagbok!$J$5:$J$2500)","v":0},{"$f":"SUMIF(Dagbok!$G$5:$G$2500,A270,Dagbok!$K$5:$K$2500)","v":0},{"$f":"Register!C278","v":0},0]
[270,{"$f":"Register!B279","v":0},{"$f":"SUMIF(Dagbok!$G$5:$G$2500,A271,Dagbok!$J$5:$J$2500)","v":0},{"$f":"SUMIF(Dagbok!$G$5:$G$2500,A271,Dagbok!$K$5:$K$2500)","v":0},{"$f":"Register!C279","v":0},0]
[271,{"$f":"Register!B280","v":0},{"$f":"SUMIF(Dagbok!$G$5:$G$2500,A272,Dagbok!$J$5:$J$2500)","v":0},{"$f":"SUMIF(Dagbok!$G$5:$G$2500,A272,Dagbok!$K$5:$K$2500)","v":0},{"$f":"Register!C280","v":0},0]
[272,{"$f":"Register!B281","v":0},{"$f":"SUMIF(Dagbok!$G$5:$G$2500,A273,Dagbok!$J$5:$J$2500)","v":0},{"$f":"SUMIF(Dagbok!$G$5:$G$2500,A273,Dagbok!$K$5:$K$2500)","v":0},{"$f":"Register!C281","v":0},0]
[273,{"$f":"Register!B282","v":0},{"$f":"SUMIF(Dagbok!$G$5:$G$2500,A274,Dagbok!$J$5:$J$2500)","v":0},{"$f":"SUMIF(Dagbok!$G$5:$G$2500,A274,Dagbok!$K$5:$K$2500)","v":0},{"$f":"Register!C282","v":0},0]
[274,{"$f":"Register!B283","v":0},{"$f":"SUMIF(Dagbok!$G$5:$G$2500,A275,Dagbok!$J$5:$J$2500)","v":0},{"$f":"SUMIF(Dagbok!$G$5:$G$2500,A275,Dagbok!$K$5:$K$2500)","v":0},{"$f":"Register!C283","v":0},0]
[275,{"$f":"Register!B284","v":0},{"$f":"SUMIF(Dagbok!$G$5:$G$2500,A276,Dagbok!$J$5:$J$2500)","v":0},{"$f":"SUMIF(Dagbok!$G$5:$G$2500,A276,Dagbok!$K$5:$K$2500)","v":0},{"$f":"Register!C284","v":0},0]
[276,{"$f":"Register!B285","v":0},{"$f":"SUMIF(Dagbok!$G$5:$G$2500,A277,Dagbok!$J$5:$J$2500)","v":0},{"$f":"SUMIF(Dagbok!$G$5:$G$2500,A277,Dagbok!$K$5:$K$2500)","v":0},{"$f":"Register!C285","v":0},0]
[277,{"$f":"Register!B286","v":0},{"$f":"SUMIF(Dagbok!$G$5:$G$2500,A278,Dagbok!$J$5:$J$2500)","v":0},{"$f":"SUMIF(Dagbok!$G$5:$G$2500,A278,Dagbok!$K$5:$K$2500)","v":0},{"$f":"Register!C286","v":0},0]
[278,{"$f":"Register!B287","v":0},{"$f":"SUMIF(Dagbok!$G$5:$G$2500,A279,Dagbok!$J$5:$J$2500)","v":0},{"$f":"SUMIF(Dagbok!$G$5:$G$2500,A279,Dagbok!$K$5:$K$2500)","v":0},{"$f":"Register!C287","v":0},0]
[279,{"$f":"Register!B288","v":0},{"$f":"SUMIF(Dagbok!$G$5:$G$2500,A280,Dagbok!$J$5:$J$2500)","v":0},{"$f":"SUMIF(Dagbok!$G$5:$G$2500,A280,Dagbok!$K$5:$K$2500)","v":0},{"$f":"Register!C288","v":0},0]
[280,{"$f":"Register!B289","v":0},{"$f":"SUMIF(Dagbok!$G$5:$G$2500,A281,Dagbok!$J$5:$J$2500)","v":0},{"$f":"SUMIF(Dagbok!$G$5:$G$2500,A281,Dagbok!$K$5:$K$2500)","v":0},{"$f":"Register!C289","v":0},0]
[281,{"$f":"Register!B290","v":0},{"$f":"SUMIF(Dagbok!$G$5:$G$2500,A282,Dagbok!$J$5:$J$2500)","v":0},{"$f":"SUMIF(Dagbok!$G$5:$G$2500,A282,Dagbok!$K$5:$K$2500)","v":0},{"$f":"Register!C290","v":0},0]
[282,{"$f":"Register!B291","v":0},{"$f":"SUMIF(Dagbok!$G$5:$G$2500,A283,Dagbok!$J$5:$J$2500)","v":0},{"$f":"SUMIF(Dagbok!$G$5:$G$2500,A283,Dagbok!$K$5:$K$2500)","v":0},{"$f":"Register!C291","v":0},0]
[283,{"$f":"Register!B292","v":0},{"$f":"SUMIF(Dagbok!$G$5:$G$2500,A284,Dagbok!$J$5:$J$2500)","v":0},{"$f":"SUMIF(Dagbok!$G$5:$G$2500,A284,Dagbok!$K$5:$K$2500)","v":0},{"$f":"Register!C292","v":0},0]
[284,{"$f":"Register!B293","v":0},{"$f":"SUMIF(Dagbok!$G$5:$G$2500,A285,Dagbok!$J$5:$J$2500)","v":0},{"$f":"SUMIF(Dagbok!$G$5:$G$2500,A285,Dagbok!$K$5:$K$2500)","v":0},{"$f":"Register!C293","v":0},0]
[285,{"$f":"Register!B294","v":0},{"$f":"SUMIF(Dagbok!$G$5:$G$2500,A286,Dagbok!$J$5:$J$2500)","v":0},{"$f":"SUMIF(Dagbok!$G$5:$G$2500,A286,Dagbok!$K$5:$K$2500)","v":0},{"$f":"Register!C294","v":0},0]
[286,{"$f":"Register!B295","v":0},{"$f":"SUMIF(Dagbok!$G$5:$G$2500,A287,Dagbok!$J$5:$J$2500)","v":0},{"$f":"SUMIF(Dagbok!$G$5:$G$2500,A287,Dagbok!$K$5:$K$2500)","v":0},{"$f":"Register!C295","v":0},0]
[287,{"$f":"Register!B296","v":0},{"$f":"SUMIF(Dagbok!$G$5:$G$2500,A288,Dagbok!$J$5:$J$2500)","v":0},{"$f":"SUMIF(Dagbok!$G$5:$G$2500,A288,Dagbok!$K$5:$K$2500)","v":0},{"$f":"Register!C296","v":0},0]
[288,{"$f":"Register!B297","v":0},{"$f":"SUMIF(Dagbok!$G$5:$G$2500,A289,Dagbok!$J$5:$J$2500)","v":0},{"$f":"SUMIF(Dagbok!$G$5:$G$2500,A289,Dagbok!$K$5:$K$2500)","v":0},{"$f":"Register!C297","v":0},0]
[289,{"$f":"Register!B298","v":0},{"$f":"SUMIF(Dagbok!$G$5:$G$2500,A290,Dagbok!$J$5:$J$2500)","v":0},{"$f":"SUMIF(Dagbok!$G$5:$G$2500,A290,Dagbok!$K$5:$K$2500)","v":0},{"$f":"Register!C298","v":0},0]
[290,{"$f":"Register!B299","v":0},{"$f":"SUMIF(Dagbok!$G$5:$G$2500,A291,Dagbok!$J$5:$J$2500)","v":0},{"$f":"SUMIF(Dagbok!$G$5:$G$2500,A291,Dagbok!$K$5:$K$2500)","v":0},{"$f":"Register!C299","v":0},0]
[291,{"$f":"Register!B300","v":0},{"$f":"SUMIF(Dagbok!$G$5:$G$2500,A292,Dagbok!$J$5:$J$2500)","v":0},{"$f":"SUMIF(Dagbok!$G$5:$G$2500,A292,Dagbok!$K$5:$K$2500)","v":0},{"$f":"Register!C300","v":0},0]
[292,{"$f":"Register!B301","v":0},{"$f":"SUMIF(Dagbok!$G$5:$G$2500,A293,Dagbok!$J$5:$J$2500)","v":0},{"$f":"SUMIF(Dagbok!$G$5:$G$2500,A293,Dagbok!$K$5:$K$2500)","v":0},{"$f":"Register!C301","v":0},{"$f":"E293+C293+D293","v":0}]
[293,{"$f":"Register!B302","v":0},{"$f":"SUMIF(Dagbok!$G$5:$G$2500,A294,Dagbok!$J$5:$J$2500)","v":0},{"$f":"SUMIF(Dagbok!$G$5:$G$2500,A294,Dagbok!$K$5:$K$2500)","v":0},{"$f":"Register!C302","v":0},0]
[294,{"$f":"Register!B303","v":0},{"$f":"SUMIF(Dagbok!$G$5:$G$2500,A295,Dagbok!$J$5:$J$2500)","v":0},{"$f":"SUMIF(Dagbok!$G$5:$G$2500,A295,Dagbok!$K$5:$K$2500)","v":0},{"$f":"Register!C303","v":0},0]
[295,{"$f":"Register!B304","v":0},{"$f":"SUMIF(Dagbok!$G$5:$G$2500,A296,Dagbok!$J$5:$J$2500)","v":0},{"$f":"SUMIF(Dagbok!$G$5:$G$2500,A296,Dagbok!$K$5:$K$2500)","v":0},{"$f":"Register!C304","v":0},0]
[296,{"$f":"Register!B305","v":0},{"$f":"SUMIF(Dagbok!$G$5:$G$2500,A297,Dagbok!$J$5:$J$2500)","v":0},{"$f":"SUMIF(Dagbok!$G$5:$G$2500,A297,Dagbok!$K$5:$K$2500)","v":0},{"$f":"Register!C305","v":0},0]
[297,{"$f":"Register!B306","v":0},{"$f":"SUMIF(Dagbok!$G$5:$G$2500,A298,Dagbok!$J$5:$J$2500)","v":0},{"$f":"SUMIF(Dagbok!$G$5:$G$2500,A298,Dagbok!$K$5:$K$2500)","v":0},{"$f":"Register!C306","v":0},0]
[298,{"$f":"Register!B307","v":0},{"$f":"SUMIF(Dagbok!$G$5:$G$2500,A299,Dagbok!$J$5:$J$2500)","v":0},{"$f":"SUMIF(Dagbok!$G$5:$G$2500,A299,Dagbok!$K$5:$K$2500)","v":0},{"$f":"Register!C307","v":0},0]
[299,{"$f":"Register!B308","v":0},{"$f":"SUMIF(Dagbok!$G$5:$G$2500,A300,Dagbok!$J$5:$J$2500)","v":0},{"$f":"SUMIF(Dagbok!$G$5:$G$2500,A300,Dagbok!$K$5:$K$2500)","v":0},{"$f":"Register!C308","v":0},0]
[null,null,null,null,"Sum kunde",{"$f":"SUM(F2:F300)","v":0}]
[]
[300,{"$f":"Register!F10","v":"Diverse leverandørar"},{"$f":"SUMIF(Dagbok!$G$5:$G$2500,A303,Dagbok!$J$5:$J$2500)","v":0},{"$f":"SUMIF(Dagbok!$G$5:$G$2500,A303,Dagbok!$K$5:$K$2500)","v":0},{"$f":"Register!H10","v":0},{"$f":"E303-C303-D303","v":0}]
[301,{"$f":"Register!F11","v":"Jernia"},{"$f":"SUMIF(Dagbok!$G$5:$G$2500,A304,Dagbok!$J$5:$J$2500)","v":-36000},{"$f":"SUMIF(Dagbok!$G$5:$G$2500,A304,Dagbok!$K$5:$K$2500)","v":36000},{"$f":"Register!H11","v":0},{"$f":"E304-C304-D304","v":0}]
[302,{"$f":"Register!F12","v":0},{"$f":"SUMIF(Dagbok!$G$5:$G$2500,A305,Dagbok!$J$5:$J$2500)","v":0},{"$f":"SUMIF(Dagbok!$G$5:$G$2500,A305,Dagbok!$K$5:$K$2500)","v":0},{"$f":"Register!H12","v":0},{"$f":"E305-C305-D305","v":0}]
[303,{"$f":"Register!F13","v":0},{"$f":"SUMIF(Dagbok!$G$5:$G$2500,A306,Dagbok!$J$5:$J$2500)","v":0},{"$f":"SUMIF(Dagbok!$G$5:$G$2500,A306,Dagbok!$K$5:$K$2500)","v":0},{"$f":"Register!H13","v":0},{"$f":"E306-C306-D306","v":0}]
[304,{"$f":"Register!F14","v":0},{"$f":"SUMIF(Dagbok!$G$5:$G$2500,A307,Dagbok!$J$5:$J$2500)","v":0},{"$f":"SUMIF(Dagbok!$G$5:$G$2500,A307,Dagbok!$K$5:$K$2500)","v":0},{"$f":"Register!H14","v":0},{"$f":"E307-C307-D307","v":0}]
[305,{"$f":"Register!F15","v":0},{"$f":"SUMIF(Dagbok!$G$5:$G$2500,A308,Dagbok!$J$5:$J$2500)","v":0},{"$f":"SUMIF(Dagbok!$G$5:$G$2500,A308,Dagbok!$K$5:$K$2500)","v":0},{"$f":"Register!H15","v":0},0]
[306,{"$f":"Register!F16","v":0},{"$f":"SUMIF(Dagbok!$G$5:$G$2500,A309,Dagbok!$J$5:$J$2500)","v":0},{"$f":"SUMIF(Dagbok!$G$5:$G$2500,A309,Dagbok!$K$5:$K$2500)","v":0},{"$f":"Register!H16","v":0},0]
[307,{"$f":"Register!F17","v":0},{"$f":"SUMIF(Dagbok!$G$5:$G$2500,A310,Dagbok!$J$5:$J$2500)","v":0},{"$f":"SUMIF(Dagbok!$G$5:$G$2500,A310,Dagbok!$K$5:$K$2500)","v":0},{"$f":"Register!H17","v":0},0]
[308,{"$f":"Register!F18","v":0},{"$f":"SUMIF(Dagbok!$G$5:$G$2500,A311,Dagbok!$J$5:$J$2500)","v":0},{"$f":"SUMIF(Dagbok!$G$5:$G$2500,A311,Dagbok!$K$5:$K$2500)","v":0},{"$f":"Register!H18","v":0},0]
[309,{"$f":"Register!F19","v":0},{"$f":"SUMIF(Dagbok!$G$5:$G$2500,A312,Dagbok!$J$5:$J$2500)","v":0},{"$f":"SUMIF(Dagbok!$G$5:$G$2500,A312,Dagbok!$K$5:$K$2500)","v":0},{"$f":"Register!H19","v":0},0]
[310,{"$f":"Register!F20","v":0},{"$f":"SUMIF(Dagbok!$G$5:$G$2500,A313,Dagbok!$J$5:$J$2500)","v":0},{"$f":"SUMIF(Dagbok!$G$5:$G$2500,A313,Dagbok!$K$5:$K$2500)","v":0},{"$f":"Register!H20","v":0},0]
[311,{"$f":"Register!F21","v":0},{"$f":"SUMIF(Dagbok!$G$5:$G$2500,A314,Dagbok!$J$5:$J$2500)","v":0},{"$f":"SUMIF(Dagbok!$G$5:$G$2500,A314,Dagbok!$K$5:$K$2500)","v":0},{"$f":"Register!H21","v":0},0]
[312,{"$f":"Register!F22","v":0},{"$f":"SUMIF(Dagbok!$G$5:$G$2500,A315,Dagbok!$J$5:$J$2500)","v":0},{"$f":"SUMIF(Dagbok!$G$5:$G$2500,A315,Dagbok!$K$5:$K$2500)","v":0},{"$f":"Register!H22","v":0},0]
[313,{"$f":"Register!F23","v":0},{"$f":"SUMIF(Dagbok!$G$5:$G$2500,A316,Dagbok!$J$5:$J$2500)","v":0},{"$f":"SUMIF(Dagbok!$G$5:$G$2500,A316,Dagbok!$K$5:$K$2500)","v":0},{"$f":"Register!H23","v":0},0]
[314,{"$f":"Register!F24","v":0},{"$f":"SUMIF(Dagbok!$G$5:$G$2500,A317,Dagbok!$J$5:$J$2500)","v":0},{"$f":"SUMIF(Dagbok!$G$5:$G$2500,A317,Dagbok!$K$5:$K$2500)","v":0},{"$f":"Register!H24","v":0},0]
[315,{"$f":"Register!F25","v":0},{"$f":"SUMIF(Dagbok!$G$5:$G$2500,A318,Dagbok!$J$5:$J$2500)","v":0},{"$f":"SUMIF(Dagbok!$G$5:$G$2500,A318,Dagbok!$K$5:$K$2500)","v":0},{"$f":"Register!H25","v":0},0]
[316,{"$f":"Register!F26","v":0},{"$f":"SUMIF(Dagbok!$G$5:$G$2500,A319,Dagbok!$J$5:$J$2500)","v":0},{"$f":"SUMIF(Dagbok!$G$5:$G$2500,A319,Dagbok!$K$5:$K$2500)","v":0},{"$f":"Register!H26","v":0},0]
[317,{"$f":"Register!F27","v":0},{"$f":"SUMIF(Dagbok!$G$5:$G$2500,A320,Dagbok!$J$5:$J$2500)","v":0},{"$f":"SUMIF(Dagbok!$G$5:$G$2500,A320,Dagbok!$K$5:$K$2500)","v":0},{"$f":"Register!H27","v":0},0]
[318,{"$f":"Register!F28","v":0},{"$f":"SUMIF(Dagbok!$G$5:$G$2500,A321,Dagbok!$J$5:$J$2500)","v":0},{"$f":"SUMIF(Dagbok!$G$5:$G$2500,A321,Dagbok!$K$5:$K$2500)","v":0},{"$f":"Register!H28","v":0},0]
[319,{"$f":"Register!F29","v":0},{"$f":"SUMIF(Dagbok!$G$5:$G$2500,A322,Dagbok!$J$5:$J$2500)","v":0},{"$f":"SUMIF(Dagbok!$G$5:$G$2500,A322,Dagbok!$K$5:$K$2500)","v":0},{"$f":"Register!H29","v":0},0]
[320,{"$f":"Register!F30","v":0},{"$f":"SUMIF(Dagbok!$G$5:$G$2500,A323,Dagbok!$J$5:$J$2500)","v":0},{"$f":"SUMIF(Dagbok!$G$5:$G$2500,A323,Dagbok!$K$5:$K$2500)","v":0},{"$f":"Register!H30","v":0},0]
[321,{"$f":"Register!F31","v":0},{"$f":"SUMIF(Dagbok!$G$5:$G$2500,A324,Dagbok!$J$5:$J$2500)","v":0},{"$f":"SUMIF(Dagbok!$G$5:$G$2500,A324,Dagbok!$K$5:$K$2500)","v":0},{"$f":"Register!H31","v":0},0]
[322,{"$f":"Register!F32","v":0},{"$f":"SUMIF(Dagbok!$G$5:$G$2500,A325,Dagbok!$J$5:$J$2500)","v":0},{"$f":"SUMIF(Dagbok!$G$5:$G$2500,A325,Dagbok!$K$5:$K$2500)","v":0},{"$f":"Register!H32","v":0},0]
[323,{"$f":"Register!F33","v":0},{"$f":"SUMIF(Dagbok!$G$5:$G$2500,A326,Dagbok!$J$5:$J$2500)","v":0},{"$f":"SUMIF(Dagbok!$G$5:$G$2500,A326,Dagbok!$K$5:$K$2500)","v":0},{"$f":"Register!H33","v":0},0]
[324,{"$f":"Register!F34","v":0},{"$f":"SUMIF(Dagbok!$G$5:$G$2500,A327,Dagbok!$J$5:$J$2500)","v":0},{"$f":"SUMIF(Dagbok!$G$5:$G$2500,A327,Dagbok!$K$5:$K$2500)","v":0},{"$f":"Register!H34","v":0},0]
[325,{"$f":"Register!F35","v":0},{"$f":"SUMIF(Dagbok!$G$5:$G$2500,A328,Dagbok!$J$5:$J$2500)","v":0},{"$f":"SUMIF(Dagbok!$G$5:$G$2500,A328,Dagbok!$K$5:$K$2500)","v":0},{"$f":"Register!H35","v":0},0]
[326,{"$f":"Register!F36","v":0},{"$f":"SUMIF(Dagbok!$G$5:$G$2500,A329,Dagbok!$J$5:$J$2500)","v":0},{"$f":"SUMIF(Dagbok!$G$5:$G$2500,A329,Dagbok!$K$5:$K$2500)","v":0},{"$f":"Register!H36","v":0},0]
[327,{"$f":"Register!F37","v":0},{"$f":"SUMIF(Dagbok!$G$5:$G$2500,A330,Dagbok!$J$5:$J$2500)","v":0},{"$f":"SUMIF(Dagbok!$G$5:$G$2500,A330,Dagbok!$K$5:$K$2500)","v":0},{"$f":"Register!H37","v":0},0]
[328,{"$f":"Register!F38","v":0},{"$f":"SUMIF(Dagbok!$G$5:$G$2500,A331,Dagbok!$J$5:$J$2500)","v":0},{"$f":"SUMIF(Dagbok!$G$5:$G$2500,A331,Dagbok!$K$5:$K$2500)","v":0},{"$f":"Register!H38","v":0},0]
[329,{"$f":"Register!F39","v":0},{"$f":"SUMIF(Dagbok!$G$5:$G$2500,A332,Dagbok!$J$5:$J$2500)","v":0},{"$f":"SUMIF(Dagbok!$G$5:$G$2500,A332,Dagbok!$K$5:$K$2500)","v":0},{"$f":"Register!H39","v":0},0]
[330,{"$f":"Register!F40","v":0},{"$f":"SUMIF(Dagbok!$G$5:$G$2500,A333,Dagbok!$J$5:$J$2500)","v":0},{"$f":"SUMIF(Dagbok!$G$5:$G$2500,A333,Dagbok!$K$5:$K$2500)","v":0},{"$f":"Register!H40","v":0},0]
[331,{"$f":"Register!F41","v":0},{"$f":"SUMIF(Dagbok!$G$5:$G$2500,A334,Dagbok!$J$5:$J$2500)","v":0},{"$f":"SUMIF(Dagbok!$G$5:$G$2500,A334,Dagbok!$K$5:$K$2500)","v":0},{"$f":"Register!H41","v":0},0]
[332,{"$f":"Register!F42","v":0},{"$f":"SUMIF(Dagbok!$G$5:$G$2500,A335,Dagbok!$J$5:$J$2500)","v":0},{"$f":"SUMIF(Dagbok!$G$5:$G$2500,A335,Dagbok!$K$5:$K$2500)","v":0},{"$f":"Register!H42","v":0},0]
[333,{"$f":"Register!F43","v":0},{"$f":"SUMIF(Dagbok!$G$5:$G$2500,A336,Dagbok!$J$5:$J$2500)","v":0},{"$f":"SUMIF(Dagbok!$G$5:$G$2500,A336,Dagbok!$K$5:$K$2500)","v":0},{"$f":"Register!H43","v":0},0]
[334,{"$f":"Register!F44","v":0},{"$f":"SUMIF(Dagbok!$G$5:$G$2500,A337,Dagbok!$J$5:$J$2500)","v":0},{"$f":"SUMIF(Dagbok!$G$5:$G$2500,A337,Dagbok!$K$5:$K$2500)","v":0},{"$f":"Register!H44","v":0},0]
[335,{"$f":"Register!F45","v":0},{"$f":"SUMIF(Dagbok!$G$5:$G$2500,A338,Dagbok!$J$5:$J$2500)","v":0},{"$f":"SUMIF(Dagbok!$G$5:$G$2500,A338,Dagbok!$K$5:$K$2500)","v":0},{"$f":"Register!H45","v":0},0]
[336,{"$f":"Register!F46","v":0},{"$f":"SUMIF(Dagbok!$G$5:$G$2500,A339,Dagbok!$J$5:$J$2500)","v":0},{"$f":"SUMIF(Dagbok!$G$5:$G$2500,A339,Dagbok!$K$5:$K$2500)","v":0},{"$f":"Register!H46","v":0},0]
[337,{"$f":"Register!F47","v":0},{"$f":"SUMIF(Dagbok!$G$5:$G$2500,A340,Dagbok!$J$5:$J$2500)","v":0},{"$f":"SUMIF(Dagbok!$G$5:$G$2500,A340,Dagbok!$K$5:$K$2500)","v":0},{"$f":"Register!H47","v":0},0]
[338,{"$f":"Register!F48","v":0},{"$f":"SUMIF(Dagbok!$G$5:$G$2500,A341,Dagbok!$J$5:$J$2500)","v":0},{"$f":"SUMIF(Dagbok!$G$5:$G$2500,A341,Dagbok!$K$5:$K$2500)","v":0},{"$f":"Register!H48","v":0},0]
[339,{"$f":"Register!F49","v":0},{"$f":"SUMIF(Dagbok!$G$5:$G$2500,A342,Dagbok!$J$5:$J$2500)","v":0},{"$f":"SUMIF(Dagbok!$G$5:$G$2500,A342,Dagbok!$K$5:$K$2500)","v":0},{"$f":"Register!H49","v":0},0]
[340,{"$f":"Register!F50","v":0},{"$f":"SUMIF(Dagbok!$G$5:$G$2500,A343,Dagbok!$J$5:$J$2500)","v":0},{"$f":"SUMIF(Dagbok!$G$5:$G$2500,A343,Dagbok!$K$5:$K$2500)","v":0},{"$f":"Register!H50","v":0},0]
[341,{"$f":"Register!F51","v":0},{"$f":"SUMIF(Dagbok!$G$5:$G$2500,A344,Dagbok!$J$5:$J$2500)","v":0},{"$f":"SUMIF(Dagbok!$G$5:$G$2500,A344,Dagbok!$K$5:$K$2500)","v":0},{"$f":"Register!H51","v":0},0]
[342,{"$f":"Register!F52","v":0},{"$f":"SUMIF(Dagbok!$G$5:$G$2500,A345,Dagbok!$J$5:$J$2500)","v":0},{"$f":"SUMIF(Dagbok!$G$5:$G$2500,A345,Dagbok!$K$5:$K$2500)","v":0},{"$f":"Register!H52","v":0},0]
[343,{"$f":"Register!F53","v":0},{"$f":"SUMIF(Dagbok!$G$5:$G$2500,A346,Dagbok!$J$5:$J$2500)","v":0},{"$f":"SUMIF(Dagbok!$G$5:$G$2500,A346,Dagbok!$K$5:$K$2500)","v":0},{"$f":"Register!H53","v":0},0]
[344,{"$f":"Register!F54","v":0},{"$f":"SUMIF(Dagbok!$G$5:$G$2500,A347,Dagbok!$J$5:$J$2500)","v":0},{"$f":"SUMIF(Dagbok!$G$5:$G$2500,A347,Dagbok!$K$5:$K$2500)","v":0},{"$f":"Register!H54","v":0},0]
[345,{"$f":"Register!F55","v":0},{"$f":"SUMIF(Dagbok!$G$5:$G$2500,A348,Dagbok!$J$5:$J$2500)","v":0},{"$f":"SUMIF(Dagbok!$G$5:$G$2500,A348,Dagbok!$K$5:$K$2500)","v":0},{"$f":"Register!H55","v":0},0]
[346,{"$f":"Register!F56","v":0},{"$f":"SUMIF(Dagbok!$G$5:$G$2500,A349,Dagbok!$J$5:$J$2500)","v":0},{"$f":"SUMIF(Dagbok!$G$5:$G$2500,A349,Dagbok!$K$5:$K$2500)","v":0},{"$f":"Register!H56","v":0},0]
[347,{"$f":"Register!F57","v":0},{"$f":"SUMIF(Dagbok!$G$5:$G$2500,A350,Dagbok!$J$5:$J$2500)","v":0},{"$f":"SUMIF(Dagbok!$G$5:$G$2500,A350,Dagbok!$K$5:$K$2500)","v":0},{"$f":"Register!H57","v":0},0]
[348,{"$f":"Register!F58","v":0},{"$f":"SUMIF(Dagbok!$G$5:$G$2500,A351,Dagbok!$J$5:$J$2500)","v":0},{"$f":"SUMIF(Dagbok!$G$5:$G$2500,A351,Dagbok!$K$5:$K$2500)","v":0},{"$f":"Register!H58","v":0},0]
[349,{"$f":"Register!F59","v":0},{"$f":"SUMIF(Dagbok!$G$5:$G$2500,A352,Dagbok!$J$5:$J$2500)","v":0},{"$f":"SUMIF(Dagbok!$G$5:$G$2500,A352,Dagbok!$K$5:$K$2500)","v":0},{"$f":"Register!H59","v":0},0]
[350,{"$f":"Register!F60","v":0},{"$f":"SUMIF(Dagbok!$G$5:$G$2500,A353,Dagbok!$J$5:$J$2500)","v":0},{"$f":"SUMIF(Dagbok!$G$5:$G$2500,A353,Dagbok!$K$5:$K$2500)","v":0},{"$f":"Register!H60","v":0},0]
[351,{"$f":"Register!F61","v":0},{"$f":"SUMIF(Dagbok!$G$5:$G$2500,A354,Dagbok!$J$5:$J$2500)","v":0},{"$f":"SUMIF(Dagbok!$G$5:$G$2500,A354,Dagbok!$K$5:$K$2500)","v":0},{"$f":"Register!H61","v":0},0]
[352,{"$f":"Register!F62","v":0},{"$f":"SUMIF(Dagbok!$G$5:$G$2500,A355,Dagbok!$J$5:$J$2500)","v":0},{"$f":"SUMIF(Dagbok!$G$5:$G$2500,A355,Dagbok!$K$5:$K$2500)","v":0},{"$f":"Register!H62","v":0},0]
[353,{"$f":"Register!F63","v":0},{"$f":"SUMIF(Dagbok!$G$5:$G$2500,A356,Dagbok!$J$5:$J$2500)","v":0},{"$f":"SUMIF(Dagbok!$G$5:$G$2500,A356,Dagbok!$K$5:$K$2500)","v":0},{"$f":"Register!H63","v":0},0]
[354,{"$f":"Register!F64","v":0},{"$f":"SUMIF(Dagbok!$G$5:$G$2500,A357,Dagbok!$J$5:$J$2500)","v":0},{"$f":"SUMIF(Dagbok!$G$5:$G$2500,A357,Dagbok!$K$5:$K$2500)","v":0},{"$f":"Register!H64","v":0},0]
[355,{"$f":"Register!F65","v":0},{"$f":"SUMIF(Dagbok!$G$5:$G$2500,A358,Dagbok!$J$5:$J$2500)","v":0},{"$f":"SUMIF(Dagbok!$G$5:$G$2500,A358,Dagbok!$K$5:$K$2500)","v":0},{"$f":"Register!H65","v":0},0]
[356,{"$f":"Register!F66","v":0},{"$f":"SUMIF(Dagbok!$G$5:$G$2500,A359,Dagbok!$J$5:$J$2500)","v":0},{"$f":"SUMIF(Dagbok!$G$5:$G$2500,A359,Dagbok!$K$5:$K$2500)","v":0},{"$f":"Register!H66","v":0},0]
[357,{"$f":"Register!F67","v":0},{"$f":"SUMIF(Dagbok!$G$5:$G$2500,A360,Dagbok!$J$5:$J$2500)","v":0},{"$f":"SUMIF(Dagbok!$G$5:$G$2500,A360,Dagbok!$K$5:$K$2500)","v":0},{"$f":"Register!H67","v":0},0]
[358,{"$f":"Register!F68","v":0},{"$f":"SUMIF(Dagbok!$G$5:$G$2500,A361,Dagbok!$J$5:$J$2500)","v":0},{"$f":"SUMIF(Dagbok!$G$5:$G$2500,A361,Dagbok!$K$5:$K$2500)","v":0},{"$f":"Register!H68","v":0},0]
[359,{"$f":"Register!F69","v":0},{"$f":"SUMIF(Dagbok!$G$5:$G$2500,A362,Dagbok!$J$5:$J$2500)","v":0},{"$f":"SUMIF(Dagbok!$G$5:$G$2500,A362,Dagbok!$K$5:$K$2500)","v":0},{"$f":"Register!H69","v":0},0]
[360,{"$f":"Register!F70","v":0},{"$f":"SUMIF(Dagbok!$G$5:$G$2500,A363,Dagbok!$J$5:$J$2500)","v":0},{"$f":"SUMIF(Dagbok!$G$5:$G$2500,A363,Dagbok!$K$5:$K$2500)","v":0},{"$f":"Register!H70","v":0},0]
[361,{"$f":"Register!F71","v":0},{"$f":"SUMIF(Dagbok!$G$5:$G$2500,A364,Dagbok!$J$5:$J$2500)","v":0},{"$f":"SUMIF(Dagbok!$G$5:$G$2500,A364,Dagbok!$K$5:$K$2500)","v":0},{"$f":"Register!H71","v":0},0]
[362,{"$f":"Register!F72","v":0},{"$f":"SUMIF(Dagbok!$G$5:$G$2500,A365,Dagbok!$J$5:$J$2500)","v":0},{"$f":"SUMIF(Dagbok!$G$5:$G$2500,A365,Dagbok!$K$5:$K$2500)","v":0},{"$f":"Register!H72","v":0},0]
[363,{"$f":"Register!F73","v":0},{"$f":"SUMIF(Dagbok!$G$5:$G$2500,A366,Dagbok!$J$5:$J$2500)","v":0},{"$f":"SUMIF(Dagbok!$G$5:$G$2500,A366,Dagbok!$K$5:$K$2500)","v":0},{"$f":"Register!H73","v":0},0]
[364,{"$f":"Register!F74","v":0},{"$f":"SUMIF(Dagbok!$G$5:$G$2500,A367,Dagbok!$J$5:$J$2500)","v":0},{"$f":"SUMIF(Dagbok!$G$5:$G$2500,A367,Dagbok!$K$5:$K$2500)","v":0},{"$f":"Register!H74","v":0},0]
[365,{"$f":"Register!F75","v":0},{"$f":"SUMIF(Dagbok!$G$5:$G$2500,A368,Dagbok!$J$5:$J$2500)","v":0},{"$f":"SUMIF(Dagbok!$G$5:$G$2500,A368,Dagbok!$K$5:$K$2500)","v":0},{"$f":"Register!H75","v":0},0]
[366,{"$f":"Register!F76","v":0},{"$f":"SUMIF(Dagbok!$G$5:$G$2500,A369,Dagbok!$J$5:$J$2500)","v":0},{"$f":"SUMIF(Dagbok!$G$5:$G$2500,A369,Dagbok!$K$5:$K$2500)","v":0},{"$f":"Register!H76","v":0},0]
[367,{"$f":"Register!F77","v":0},{"$f":"SUMIF(Dagbok!$G$5:$G$2500,A370,Dagbok!$J$5:$J$2500)","v":0},{"$f":"SUMIF(Dagbok!$G$5:$G$2500,A370,Dagbok!$K$5:$K$2500)","v":0},{"$f":"Register!H77","v":0},0]
[368,{"$f":"Register!F78","v":0},{"$f":"SUMIF(Dagbok!$G$5:$G$2500,A371,Dagbok!$J$5:$J$2500)","v":0},{"$f":"SUMIF(Dagbok!$G$5:$G$2500,A371,Dagbok!$K$5:$K$2500)","v":0},{"$f":"Register!H78","v":0},{"$f":"E371-C371-D371","v":0}]
[369,{"$f":"Register!F79","v":0},{"$f":"SUMIF(Dagbok!$G$5:$G$2500,A372,Dagbok!$J$5:$J$2500)","v":0},{"$f":"SUMIF(Dagbok!$G$5:$G$2500,A372,Dagbok!$K$5:$K$2500)","v":0},{"$f":"Register!H79","v":0},0]
[370,{"$f":"Register!F80","v":0},{"$f":"SUMIF(Dagbok!$G$5:$G$2500,A373,Dagbok!$J$5:$J$2500)","v":0},{"$f":"SUMIF(Dagbok!$G$5:$G$2500,A373,Dagbok!$K$5:$K$2500)","v":0},{"$f":"Register!H80","v":0},0]
[371,{"$f":"Register!F81","v":0},{"$f":"SUMIF(Dagbok!$G$5:$G$2500,A374,Dagbok!$J$5:$J$2500)","v":0},{"$f":"SUMIF(Dagbok!$G$5:$G$2500,A374,Dagbok!$K$5:$K$2500)","v":0},{"$f":"Register!H81","v":0},0]
[372,{"$f":"Register!F82","v":0},{"$f":"SUMIF(Dagbok!$G$5:$G$2500,A375,Dagbok!$J$5:$J$2500)","v":0},{"$f":"SUMIF(Dagbok!$G$5:$G$2500,A375,Dagbok!$K$5:$K$2500)","v":0},{"$f":"Register!H82","v":0},0]
[373,{"$f":"Register!F83","v":0},{"$f":"SUMIF(Dagbok!$G$5:$G$2500,A376,Dagbok!$J$5:$J$2500)","v":0},{"$f":"SUMIF(Dagbok!$G$5:$G$2500,A376,Dagbok!$K$5:$K$2500)","v":0},{"$f":"Register!H83","v":0},0]
[374,{"$f":"Register!F84","v":0},{"$f":"SUMIF(Dagbok!$G$5:$G$2500,A377,Dagbok!$J$5:$J$2500)","v":0},{"$f":"SUMIF(Dagbok!$G$5:$G$2500,A377,Dagbok!$K$5:$K$2500)","v":0},{"$f":"Register!H84","v":0},0]
[375,{"$f":"Register!F85","v":0},{"$f":"SUMIF(Dagbok!$G$5:$G$2500,A378,Dagbok!$J$5:$J$2500)","v":0},{"$f":"SUMIF(Dagbok!$G$5:$G$2500,A378,Dagbok!$K$5:$K$2500)","v":0},{"$f":"Register!H85","v":0},0]
[376,{"$f":"Register!F86","v":0},{"$f":"SUMIF(Dagbok!$G$5:$G$2500,A379,Dagbok!$J$5:$J$2500)","v":0},{"$f":"SUMIF(Dagbok!$G$5:$G$2500,A379,Dagbok!$K$5:$K$2500)","v":0},{"$f":"Register!H86","v":0},0]
[377,{"$f":"Register!F87","v":0},{"$f":"SUMIF(Dagbok!$G$5:$G$2500,A380,Dagbok!$J$5:$J$2500)","v":0},{"$f":"SUMIF(Dagbok!$G$5:$G$2500,A380,Dagbok!$K$5:$K$2500)","v":0},{"$f":"Register!H87","v":0},0]
[378,{"$f":"Register!F88","v":0},{"$f":"SUMIF(Dagbok!$G$5:$G$2500,A381,Dagbok!$J$5:$J$2500)","v":0},{"$f":"SUMIF(Dagbok!$G$5:$G$2500,A381,Dagbok!$K$5:$K$2500)","v":0},{"$f":"Register!H88","v":0},0]
[379,{"$f":"Register!F89","v":0},{"$f":"SUMIF(Dagbok!$G$5:$G$2500,A382,Dagbok!$J$5:$J$2500)","v":0},{"$f":"SUMIF(Dagbok!$G$5:$G$2500,A382,Dagbok!$K$5:$K$2500)","v":0},{"$f":"Register!H89","v":0},0]
[380,{"$f":"Register!F90","v":0},{"$f":"SUMIF(Dagbok!$G$5:$G$2500,A383,Dagbok!$J$5:$J$2500)","v":0},{"$f":"SUMIF(Dagbok!$G$5:$G$2500,A383,Dagbok!$K$5:$K$2500)","v":0},{"$f":"Register!H90","v":0},0]
[381,{"$f":"Register!F91","v":0},{"$f":"SUMIF(Dagbok!$G$5:$G$2500,A384,Dagbok!$J$5:$J$2500)","v":0},{"$f":"SUMIF(Dagbok!$G$5:$G$2500,A384,Dagbok!$K$5:$K$2500)","v":0},{"$f":"Register!H91","v":0},0]
[382,{"$f":"Register!F92","v":0},{"$f":"SUMIF(Dagbok!$G$5:$G$2500,A385,Dagbok!$J$5:$J$2500)","v":0},{"$f":"SUMIF(Dagbok!$G$5:$G$2500,A385,Dagbok!$K$5:$K$2500)","v":0},{"$f":"Register!H92","v":0},0]
[383,{"$f":"Register!F93","v":0},{"$f":"SUMIF(Dagbok!$G$5:$G$2500,A386,Dagbok!$J$5:$J$2500)","v":0},{"$f":"SUMIF(Dagbok!$G$5:$G$2500,A386,Dagbok!$K$5:$K$2500)","v":0},{"$f":"Register!H93","v":0},0]
[384,{"$f":"Register!F94","v":0},{"$f":"SUMIF(Dagbok!$G$5:$G$2500,A387,Dagbok!$J$5:$J$2500)","v":0},{"$f":"SUMIF(Dagbok!$G$5:$G$2500,A387,Dagbok!$K$5:$K$2500)","v":0},{"$f":"Register!H94","v":0},0]
[385,{"$f":"Register!F95","v":0},{"$f":"SUMIF(Dagbok!$G$5:$G$2500,A388,Dagbok!$J$5:$J$2500)","v":0},{"$f":"SUMIF(Dagbok!$G$5:$G$2500,A388,Dagbok!$K$5:$K$2500)","v":0},{"$f":"Register!H95","v":0},0]
[386,{"$f":"Register!F96","v":0},{"$f":"SUMIF(Dagbok!$G$5:$G$2500,A389,Dagbok!$J$5:$J$2500)","v":0},{"$f":"SUMIF(Dagbok!$G$5:$G$2500,A389,Dagbok!$K$5:$K$2500)","v":0},{"$f":"Register!H96","v":0},0]
[387,{"$f":"Register!F97","v":0},{"$f":"SUMIF(Dagbok!$G$5:$G$2500,A390,Dagbok!$J$5:$J$2500)","v":0},{"$f":"SUMIF(Dagbok!$G$5:$G$2500,A390,Dagbok!$K$5:$K$2500)","v":0},{"$f":"Register!H97","v":0},0]
[388,{"$f":"Register!F98","v":0},{"$f":"SUMIF(Dagbok!$G$5:$G$2500,A391,Dagbok!$J$5:$J$2500)","v":0},{"$f":"SUMIF(Dagbok!$G$5:$G$2500,A391,Dagbok!$K$5:$K$2500)","v":0},{"$f":"Register!H98","v":0},0]
[389,{"$f":"Register!F99","v":0},{"$f":"SUMIF(Dagbok!$G$5:$G$2500,A392,Dagbok!$J$5:$J$2500)","v":0},{"$f":"SUMIF(Dagbok!$G$5:$G$2500,A392,Dagbok!$K$5:$K$2500)","v":0},{"$f":"Register!H99","v":0},0]
[390,{"$f":"Register!F100","v":0},{"$f":"SUMIF(Dagbok!$G$5:$G$2500,A393,Dagbok!$J$5:$J$2500)","v":0},{"$f":"SUMIF(Dagbok!$G$5:$G$2500,A393,Dagbok!$K$5:$K$2500)","v":0},{"$f":"Register!H100","v":0},0]
[391,{"$f":"Register!F101","v":0},{"$f":"SUMIF(Dagbok!$G$5:$G$2500,A394,Dagbok!$J$5:$J$2500)","v":0},{"$f":"SUMIF(Dagbok!$G$5:$G$2500,A394,Dagbok!$K$5:$K$2500)","v":0},{"$f":"Register!H101","v":0},0]
[392,{"$f":"Register!F102","v":0},{"$f":"SUMIF(Dagbok!$G$5:$G$2500,A395,Dagbok!$J$5:$J$2500)","v":0},{"$f":"SUMIF(Dagbok!$G$5:$G$2500,A395,Dagbok!$K$5:$K$2500)","v":0},{"$f":"Register!H102","v":0},0]
[393,{"$f":"Register!F103","v":0},{"$f":"SUMIF(Dagbok!$G$5:$G$2500,A396,Dagbok!$J$5:$J$2500)","v":0},{"$f":"SUMIF(Dagbok!$G$5:$G$2500,A396,Dagbok!$K$5:$K$2500)","v":0},{"$f":"Register!H103","v":0},0]
[394,{"$f":"Register!F104","v":0},{"$f":"SUMIF(Dagbok!$G$5:$G$2500,A397,Dagbok!$J$5:$J$2500)","v":0},{"$f":"SUMIF(Dagbok!$G$5:$G$2500,A397,Dagbok!$K$5:$K$2500)","v":0},{"$f":"Register!H104","v":0},0]
[395,{"$f":"Register!F105","v":0},{"$f":"SUMIF(Dagbok!$G$5:$G$2500,A398,Dagbok!$J$5:$J$2500)","v":0},{"$f":"SUMIF(Dagbok!$G$5:$G$2500,A398,Dagbok!$K$5:$K$2500)","v":0},{"$f":"Register!H105","v":0},0]
[396,{"$f":"Register!F106","v":0},{"$f":"SUMIF(Dagbok!$G$5:$G$2500,A399,Dagbok!$J$5:$J$2500)","v":0},{"$f":"SUMIF(Dagbok!$G$5:$G$2500,A399,Dagbok!$K$5:$K$2500)","v":0},{"$f":"Register!H106","v":0},{"$f":"E399-C399-D399","v":0}]
[397,{"$f":"Register!F107","v":0},{"$f":"SUMIF(Dagbok!$G$5:$G$2500,A400,Dagbok!$J$5:$J$2500)","v":0},{"$f":"SUMIF(Dagbok!$G$5:$G$2500,A400,Dagbok!$K$5:$K$2500)","v":0},{"$f":"Register!H107","v":0},0]
[398,{"$f":"Register!F108","v":0},{"$f":"SUMIF(Dagbok!$G$5:$G$2500,A401,Dagbok!$J$5:$J$2500)","v":0},{"$f":"SUMIF(Dagbok!$G$5:$G$2500,A401,Dagbok!$K$5:$K$2500)","v":0},{"$f":"Register!H108","v":0},0]
[399,{"$f":"Register!F109","v":0},{"$f":"SUMIF(Dagbok!$G$5:$G$2500,A402,Dagbok!$J$5:$J$2500)","v":0},{"$f":"SUMIF(Dagbok!$G$5:$G$2500,A402,Dagbok!$K$5:$K$2500)","v":0},{"$f":"Register!H109","v":0},0]
[400,{"$f":"Register!F110","v":0},{"$f":"SUMIF(Dagbok!$G$5:$G$2500,A403,Dagbok!$J$5:$J$2500)","v":0},{"$f":"SUMIF(Dagbok!$G$5:$G$2500,A403,Dagbok!$K$5:$K$2500)","v":0},{"$f":"Register!H110","v":0},0]
[401,{"$f":"Register!F111","v":0},{"$f":"SUMIF(Dagbok!$G$5:$G$2500,A404,Dagbok!$J$5:$J$2500)","v":0},{"$f":"SUMIF(Dagbok!$G$5:$G$2500,A404,Dagbok!$K$5:$K$2500)","v":0},{"$f":"Register!H111","v":0},0]
[402,{"$f":"Register!F112","v":0},{"$f":"SUMIF(Dagbok!$G$5:$G$2500,A405,Dagbok!$J$5:$J$2500)","v":0},{"$f":"SUMIF(Dagbok!$G$5:$G$2500,A405,Dagbok!$K$5:$K$2500)","v":0},{"$f":"Register!H112","v":0},0]
[403,{"$f":"Register!F113","v":0},{"$f":"SUMIF(Dagbok!$G$5:$G$2500,A406,Dagbok!$J$5:$J$2500)","v":0},{"$f":"SUMIF(Dagbok!$G$5:$G$2500,A406,Dagbok!$K$5:$K$2500)","v":0},{"$f":"Register!H113","v":0},0]
[404,{"$f":"Register!F114","v":0},{"$f":"SUMIF(Dagbok!$G$5:$G$2500,A407,Dagbok!$J$5:$J$2500)","v":0},{"$f":"SUMIF(Dagbok!$G$5:$G$2500,A407,Dagbok!$K$5:$K$2500)","v":0},{"$f":"Register!H114","v":0},0]
[405,{"$f":"Register!F115","v":0},{"$f":"SUMIF(Dagbok!$G$5:$G$2500,A408,Dagbok!$J$5:$J$2500)","v":0},{"$f":"SUMIF(Dagbok!$G$5:$G$2500,A408,Dagbok!$K$5:$K$2500)","v":0},{"$f":"Register!H115","v":0},0]
[406,{"$f":"Register!F116","v":0},{"$f":"SUMIF(Dagbok!$G$5:$G$2500,A409,Dagbok!$J$5:$J$2500)","v":0},{"$f":"SUMIF(Dagbok!$G$5:$G$2500,A409,Dagbok!$K$5:$K$2500)","v":0},{"$f":"Register!H116","v":0},0]
[407,{"$f":"Register!F117","v":0},{"$f":"SUMIF(Dagbok!$G$5:$G$2500,A410,Dagbok!$J$5:$J$2500)","v":0},{"$f":"SUMIF(Dagbok!$G$5:$G$2500,A410,Dagbok!$K$5:$K$2500)","v":0},{"$f":"Register!H117","v":0},0]
[408,{"$f":"Register!F118","v":0},{"$f":"SUMIF(Dagbok!$G$5:$G$2500,A411,Dagbok!$J$5:$J$2500)","v":0},{"$f":"SUMIF(Dagbok!$G$5:$G$2500,A411,Dagbok!$K$5:$K$2500)","v":0},{"$f":"Register!H118","v":0},0]
[409,{"$f":"Register!F119","v":0},{"$f":"SUMIF(Dagbok!$G$5:$G$2500,A412,Dagbok!$J$5:$J$2500)","v":0},{"$f":"SUMIF(Dagbok!$G$5:$G$2500,A412,Dagbok!$K$5:$K$2500)","v":0},{"$f":"Register!H119","v":0},0]
[410,{"$f":"Register!F120","v":0},{"$f":"SUMIF(Dagbok!$G$5:$G$2500,A413,Dagbok!$J$5:$J$2500)","v":0},{"$f":"SUMIF(Dagbok!$G$5:$G$2500,A413,Dagbok!$K$5:$K$2500)","v":0},{"$f":"Register!H120","v":0},0]
[411,{"$f":"Register!F121","v":0},{"$f":"SUMIF(Dagbok!$G$5:$G$2500,A414,Dagbok!$J$5:$J$2500)","v":0},{"$f":"SUMIF(Dagbok!$G$5:$G$2500,A414,Dagbok!$K$5:$K$2500)","v":0},{"$f":"Register!H121","v":0},0]
[412,{"$f":"Register!F122","v":0},{"$f":"SUMIF(Dagbok!$G$5:$G$2500,A415,Dagbok!$J$5:$J$2500)","v":0},{"$f":"SUMIF(Dagbok!$G$5:$G$2500,A415,Dagbok!$K$5:$K$2500)","v":0},{"$f":"Register!H122","v":0},0]
[413,{"$f":"Register!F123","v":0},{"$f":"SUMIF(Dagbok!$G$5:$G$2500,A416,Dagbok!$J$5:$J$2500)","v":0},{"$f":"SUMIF(Dagbok!$G$5:$G$2500,A416,Dagbok!$K$5:$K$2500)","v":0},{"$f":"Register!H123","v":0},0]
[414,{"$f":"Register!F124","v":0},{"$f":"SUMIF(Dagbok!$G$5:$G$2500,A417,Dagbok!$J$5:$J$2500)","v":0},{"$f":"SUMIF(Dagbok!$G$5:$G$2500,A417,Dagbok!$K$5:$K$2500)","v":0},{"$f":"Register!H124","v":0},0]
[415,{"$f":"Register!F125","v":0},{"$f":"SUMIF(Dagbok!$G$5:$G$2500,A418,Dagbok!$J$5:$J$2500)","v":0},{"$f":"SUMIF(Dagbok!$G$5:$G$2500,A418,Dagbok!$K$5:$K$2500)","v":0},{"$f":"Register!H125","v":0},0]
[416,{"$f":"Register!F126","v":0},{"$f":"SUMIF(Dagbok!$G$5:$G$2500,A419,Dagbok!$J$5:$J$2500)","v":0},{"$f":"SUMIF(Dagbok!$G$5:$G$2500,A419,Dagbok!$K$5:$K$2500)","v":0},{"$f":"Register!H126","v":0},0]
[417,{"$f":"Register!F127","v":0},{"$f":"SUMIF(Dagbok!$G$5:$G$2500,A420,Dagbok!$J$5:$J$2500)","v":0},{"$f":"SUMIF(Dagbok!$G$5:$G$2500,A420,Dagbok!$K$5:$K$2500)","v":0},{"$f":"Register!H127","v":0},0]
[418,{"$f":"Register!F128","v":0},{"$f":"SUMIF(Dagbok!$G$5:$G$2500,A421,Dagbok!$J$5:$J$2500)","v":0},{"$f":"SUMIF(Dagbok!$G$5:$G$2500,A421,Dagbok!$K$5:$K$2500)","v":0},{"$f":"Register!H128","v":0},0]
[419,{"$f":"Register!F129","v":0},{"$f":"SUMIF(Dagbok!$G$5:$G$2500,A422,Dagbok!$J$5:$J$2500)","v":0},{"$f":"SUMIF(Dagbok!$G$5:$G$2500,A422,Dagbok!$K$5:$K$2500)","v":0},{"$f":"Register!H129","v":0},0]
[420,{"$f":"Register!F130","v":0},{"$f":"SUMIF(Dagbok!$G$5:$G$2500,A423,Dagbok!$J$5:$J$2500)","v":0},{"$f":"SUMIF(Dagbok!$G$5:$G$2500,A423,Dagbok!$K$5:$K$2500)","v":0},{"$f":"Register!H130","v":0},0]
[421,{"$f":"Register!F131","v":0},{"$f":"SUMIF(Dagbok!$G$5:$G$2500,A424,Dagbok!$J$5:$J$2500)","v":0},{"$f":"SUMIF(Dagbok!$G$5:$G$2500,A424,Dagbok!$K$5:$K$2500)","v":0},{"$f":"Register!H131","v":0},0]
[422,{"$f":"Register!F132","v":0},{"$f":"SUMIF(Dagbok!$G$5:$G$2500,A425,Dagbok!$J$5:$J$2500)","v":0},{"$f":"SUMIF(Dagbok!$G$5:$G$2500,A425,Dagbok!$K$5:$K$2500)","v":0},{"$f":"Register!H132","v":0},0]
[423,{"$f":"Register!F133","v":0},{"$f":"SUMIF(Dagbok!$G$5:$G$2500,A426,Dagbok!$J$5:$J$2500)","v":0},{"$f":"SUMIF(Dagbok!$G$5:$G$2500,A426,Dagbok!$K$5:$K$2500)","v":0},{"$f":"Register!H133","v":0},0]
[424,{"$f":"Register!F134","v":0},{"$f":"SUMIF(Dagbok!$G$5:$G$2500,A427,Dagbok!$J$5:$J$2500)","v":0},{"$f":"SUMIF(Dagbok!$G$5:$G$2500,A427,Dagbok!$K$5:$K$2500)","v":0},{"$f":"Register!H134","v":0},0]
[425,{"$f":"Register!F135","v":0},{"$f":"SUMIF(Dagbok!$G$5:$G$2500,A428,Dagbok!$J$5:$J$2500)","v":0},{"$f":"SUMIF(Dagbok!$G$5:$G$2500,A428,Dagbok!$K$5:$K$2500)","v":0},{"$f":"Register!H135","v":0},0]
[426,{"$f":"Register!F136","v":0},{"$f":"SUMIF(Dagbok!$G$5:$G$2500,A429,Dagbok!$J$5:$J$2500)","v":0},{"$f":"SUMIF(Dagbok!$G$5:$G$2500,A429,Dagbok!$K$5:$K$2500)","v":0},{"$f":"Register!H136","v":0},0]
[427,{"$f":"Register!F137","v":0},{"$f":"SUMIF(Dagbok!$G$5:$G$2500,A430,Dagbok!$J$5:$J$2500)","v":0},{"$f":"SUMIF(Dagbok!$G$5:$G$2500,A430,Dagbok!$K$5:$K$2500)","v":0},{"$f":"Register!H137","v":0},0]
[428,{"$f":"Register!F138","v":0},{"$f":"SUMIF(Dagbok!$G$5:$G$2500,A431,Dagbok!$J$5:$J$2500)","v":0},{"$f":"SUMIF(Dagbok!$G$5:$G$2500,A431,Dagbok!$K$5:$K$2500)","v":0},{"$f":"Register!H138","v":0},0]
[429,{"$f":"Register!F139","v":0},{"$f":"SUMIF(Dagbok!$G$5:$G$2500,A432,Dagbok!$J$5:$J$2500)","v":0},{"$f":"SUMIF(Dagbok!$G$5:$G$2500,A432,Dagbok!$K$5:$K$2500)","v":0},{"$f":"Register!H139","v":0},0]
[430,{"$f":"Register!F140","v":0},{"$f":"SUMIF(Dagbok!$G$5:$G$2500,A433,Dagbok!$J$5:$J$2500)","v":0},{"$f":"SUMIF(Dagbok!$G$5:$G$2500,A433,Dagbok!$K$5:$K$2500)","v":0},{"$f":"Register!H140","v":0},0]
[431,{"$f":"Register!F141","v":0},{"$f":"SUMIF(Dagbok!$G$5:$G$2500,A434,Dagbok!$J$5:$J$2500)","v":0},{"$f":"SUMIF(Dagbok!$G$5:$G$2500,A434,Dagbok!$K$5:$K$2500)","v":0},{"$f":"Register!H141","v":0},0]
[432,{"$f":"Register!F142","v":0},{"$f":"SUMIF(Dagbok!$G$5:$G$2500,A435,Dagbok!$J$5:$J$2500)","v":0},{"$f":"SUMIF(Dagbok!$G$5:$G$2500,A435,Dagbok!$K$5:$K$2500)","v":0},{"$f":"Register!H142","v":0},0]
[433,{"$f":"Register!F143","v":0},{"$f":"SUMIF(Dagbok!$G$5:$G$2500,A436,Dagbok!$J$5:$J$2500)","v":0},{"$f":"SUMIF(Dagbok!$G$5:$G$2500,A436,Dagbok!$K$5:$K$2500)","v":0},{"$f":"Register!H143","v":0},0]
[434,{"$f":"Register!F144","v":0},{"$f":"SUMIF(Dagbok!$G$5:$G$2500,A437,Dagbok!$J$5:$J$2500)","v":0},{"$f":"SUMIF(Dagbok!$G$5:$G$2500,A437,Dagbok!$K$5:$K$2500)","v":0},{"$f":"Register!H144","v":0},0]
[435,{"$f":"Register!F145","v":0},{"$f":"SUMIF(Dagbok!$G$5:$G$2500,A438,Dagbok!$J$5:$J$2500)","v":0},{"$f":"SUMIF(Dagbok!$G$5:$G$2500,A438,Dagbok!$K$5:$K$2500)","v":0},{"$f":"Register!H145","v":0},0]
[436,{"$f":"Register!F146","v":0},{"$f":"SUMIF(Dagbok!$G$5:$G$2500,A439,Dagbok!$J$5:$J$2500)","v":0},{"$f":"SUMIF(Dagbok!$G$5:$G$2500,A439,Dagbok!$K$5:$K$2500)","v":0},{"$f":"Register!H146","v":0},0]
[437,{"$f":"Register!F147","v":0},{"$f":"SUMIF(Dagbok!$G$5:$G$2500,A440,Dagbok!$J$5:$J$2500)","v":0},{"$f":"SUMIF(Dagbok!$G$5:$G$2500,A440,Dagbok!$K$5:$K$2500)","v":0},{"$f":"Register!H147","v":0},0]
[438,{"$f":"Register!F148","v":0},{"$f":"SUMIF(Dagbok!$G$5:$G$2500,A441,Dagbok!$J$5:$J$2500)","v":0},{"$f":"SUMIF(Dagbok!$G$5:$G$2500,A441,Dagbok!$K$5:$K$2500)","v":0},{"$f":"Register!H148","v":0},0]
[439,{"$f":"Register!F149","v":0},{"$f":"SUMIF(Dagbok!$G$5:$G$2500,A442,Dagbok!$J$5:$J$2500)","v":0},{"$f":"SUMIF(Dagbok!$G$5:$G$2500,A442,Dagbok!$K$5:$K$2500)","v":0},{"$f":"Register!H149","v":0},0]
[440,{"$f":"Register!F150","v":0},{"$f":"SUMIF(Dagbok!$G$5:$G$2500,A443,Dagbok!$J$5:$J$2500)","v":0},{"$f":"SUMIF(Dagbok!$G$5:$G$2500,A443,Dagbok!$K$5:$K$2500)","v":0},{"$f":"Register!H150","v":0},0]
[441,{"$f":"Register!F151","v":0},{"$f":"SUMIF(Dagbok!$G$5:$G$2500,A444,Dagbok!$J$5:$J$2500)","v":0},{"$f":"SUMIF(Dagbok!$G$5:$G$2500,A444,Dagbok!$K$5:$K$2500)","v":0},{"$f":"Register!H151","v":0},0]
[442,{"$f":"Register!F152","v":0},{"$f":"SUMIF(Dagbok!$G$5:$G$2500,A445,Dagbok!$J$5:$J$2500)","v":0},{"$f":"SUMIF(Dagbok!$G$5:$G$2500,A445,Dagbok!$K$5:$K$2500)","v":0},{"$f":"Register!H152","v":0},0]
[443,{"$f":"Register!F153","v":0},{"$f":"SUMIF(Dagbok!$G$5:$G$2500,A446,Dagbok!$J$5:$J$2500)","v":0},{"$f":"SUMIF(Dagbok!$G$5:$G$2500,A446,Dagbok!$K$5:$K$2500)","v":0},{"$f":"Register!H153","v":0},0]
[444,{"$f":"Register!F154","v":0},{"$f":"SUMIF(Dagbok!$G$5:$G$2500,A447,Dagbok!$J$5:$J$2500)","v":0},{"$f":"SUMIF(Dagbok!$G$5:$G$2500,A447,Dagbok!$K$5:$K$2500)","v":0},{"$f":"Register!H154","v":0},0]
[445,{"$f":"Register!F155","v":0},{"$f":"SUMIF(Dagbok!$G$5:$G$2500,A448,Dagbok!$J$5:$J$2500)","v":0},{"$f":"SUMIF(Dagbok!$G$5:$G$2500,A448,Dagbok!$K$5:$K$2500)","v":0},{"$f":"Register!H155","v":0},0]
[446,{"$f":"Register!F156","v":0},{"$f":"SUMIF(Dagbok!$G$5:$G$2500,A449,Dagbok!$J$5:$J$2500)","v":0},{"$f":"SUMIF(Dagbok!$G$5:$G$2500,A449,Dagbok!$K$5:$K$2500)","v":0},{"$f":"Register!H156","v":0},0]
[447,{"$f":"Register!F157","v":0},{"$f":"SUMIF(Dagbok!$G$5:$G$2500,A450,Dagbok!$J$5:$J$2500)","v":0},{"$f":"SUMIF(Dagbok!$G$5:$G$2500,A450,Dagbok!$K$5:$K$2500)","v":0},{"$f":"Register!H157","v":0},0]
[448,{"$f":"Register!F158","v":0},{"$f":"SUMIF(Dagbok!$G$5:$G$2500,A451,Dagbok!$J$5:$J$2500)","v":0},{"$f":"SUMIF(Dagbok!$G$5:$G$2500,A451,Dagbok!$K$5:$K$2500)","v":0},{"$f":"Register!H158","v":0},0]
[449,{"$f":"Register!F159","v":0},{"$f":"SUMIF(Dagbok!$G$5:$G$2500,A452,Dagbok!$J$5:$J$2500)","v":0},{"$f":"SUMIF(Dagbok!$G$5:$G$2500,A452,Dagbok!$K$5:$K$2500)","v":0},{"$f":"Register!H159","v":0},0]
[450,{"$f":"Register!F160","v":0},{"$f":"SUMIF(Dagbok!$G$5:$G$2500,A453,Dagbok!$J$5:$J$2500)","v":0},{"$f":"SUMIF(Dagbok!$G$5:$G$2500,A453,Dagbok!$K$5:$K$2500)","v":0},{"$f":"Register!H160","v":0},0]
[451,{"$f":"Register!F161","v":0},{"$f":"SUMIF(Dagbok!$G$5:$G$2500,A454,Dagbok!$J$5:$J$2500)","v":0},{"$f":"SUMIF(Dagbok!$G$5:$G$2500,A454,Dagbok!$K$5:$K$2500)","v":0},{"$f":"Register!H161","v":0},0]
[452,{"$f":"Register!F162","v":0},{"$f":"SUMIF(Dagbok!$G$5:$G$2500,A455,Dagbok!$J$5:$J$2500)","v":0},{"$f":"SUMIF(Dagbok!$G$5:$G$2500,A455,Dagbok!$K$5:$K$2500)","v":0},{"$f":"Register!H162","v":0},0]
[453,{"$f":"Register!F163","v":0},{"$f":"SUMIF(Dagbok!$G$5:$G$2500,A456,Dagbok!$J$5:$J$2500)","v":0},{"$f":"SUMIF(Dagbok!$G$5:$G$2500,A456,Dagbok!$K$5:$K$2500)","v":0},{"$f":"Register!H163","v":0},0]
[454,{"$f":"Register!F164","v":0},{"$f":"SUMIF(Dagbok!$G$5:$G$2500,A457,Dagbok!$J$5:$J$2500)","v":0},{"$f":"SUMIF(Dagbok!$G$5:$G$2500,A457,Dagbok!$K$5:$K$2500)","v":0},{"$f":"Register!H164","v":0},0]
[455,{"$f":"Register!F165","v":0},{"$f":"SUMIF(Dagbok!$G$5:$G$2500,A458,Dagbok!$J$5:$J$2500)","v":0},{"$f":"SUMIF(Dagbok!$G$5:$G$2500,A458,Dagbok!$K$5:$K$2500)","v":0},{"$f":"Register!H165","v":0},0]
[456,{"$f":"Register!F166","v":0},{"$f":"SUMIF(Dagbok!$G$5:$G$2500,A459,Dagbok!$J$5:$J$2500)","v":0},{"$f":"SUMIF(Dagbok!$G$5:$G$2500,A459,Dagbok!$K$5:$K$2500)","v":0},{"$f":"Register!H166","v":0},0]
[457,{"$f":"Register!F167","v":0},{"$f":"SUMIF(Dagbok!$G$5:$G$2500,A460,Dagbok!$J$5:$J$2500)","v":0},{"$f":"SUMIF(Dagbok!$G$5:$G$2500,A460,Dagbok!$K$5:$K$2500)","v":0},{"$f":"Register!H167","v":0},0]
[458,{"$f":"Register!F168","v":0},{"$f":"SUMIF(Dagbok!$G$5:$G$2500,A461,Dagbok!$J$5:$J$2500)","v":0},{"$f":"SUMIF(Dagbok!$G$5:$G$2500,A461,Dagbok!$K$5:$K$2500)","v":0},{"$f":"Register!H168","v":0},0]
[459,{"$f":"Register!F169","v":0},{"$f":"SUMIF(Dagbok!$G$5:$G$2500,A462,Dagbok!$J$5:$J$2500)","v":0},{"$f":"SUMIF(Dagbok!$G$5:$G$2500,A462,Dagbok!$K$5:$K$2500)","v":0},{"$f":"Register!H169","v":0},0]
[460,{"$f":"Register!F170","v":0},{"$f":"SUMIF(Dagbok!$G$5:$G$2500,A463,Dagbok!$J$5:$J$2500)","v":0},{"$f":"SUMIF(Dagbok!$G$5:$G$2500,A463,Dagbok!$K$5:$K$2500)","v":0},{"$f":"Register!H170","v":0},{"$f":"E463-C463-D463","v":0}]
[461,{"$f":"Register!F171","v":0},{"$f":"SUMIF(Dagbok!$G$5:$G$2500,A464,Dagbok!$J$5:$J$2500)","v":0},{"$f":"SUMIF(Dagbok!$G$5:$G$2500,A464,Dagbok!$K$5:$K$2500)","v":0},{"$f":"Register!H171","v":0},0]
[462,{"$f":"Register!F172","v":0},{"$f":"SUMIF(Dagbok!$G$5:$G$2500,A465,Dagbok!$J$5:$J$2500)","v":0},{"$f":"SUMIF(Dagbok!$G$5:$G$2500,A465,Dagbok!$K$5:$K$2500)","v":0},{"$f":"Register!H172","v":0},0]
[463,{"$f":"Register!F173","v":0},{"$f":"SUMIF(Dagbok!$G$5:$G$2500,A466,Dagbok!$J$5:$J$2500)","v":0},{"$f":"SUMIF(Dagbok!$G$5:$G$2500,A466,Dagbok!$K$5:$K$2500)","v":0},{"$f":"Register!H173","v":0},0]
[464,{"$f":"Register!F174","v":0},{"$f":"SUMIF(Dagbok!$G$5:$G$2500,A467,Dagbok!$J$5:$J$2500)","v":0},{"$f":"SUMIF(Dagbok!$G$5:$G$2500,A467,Dagbok!$K$5:$K$2500)","v":0},{"$f":"Register!H174","v":0},0]
[465,{"$f":"Register!F175","v":0},{"$f":"SUMIF(Dagbok!$G$5:$G$2500,A468,Dagbok!$J$5:$J$2500)","v":0},{"$f":"SUMIF(Dagbok!$G$5:$G$2500,A468,Dagbok!$K$5:$K$2500)","v":0},{"$f":"Register!H175","v":0},0]
[466,{"$f":"Register!F176","v":0},{"$f":"SUMIF(Dagbok!$G$5:$G$2500,A469,Dagbok!$J$5:$J$2500)","v":0},{"$f":"SUMIF(Dagbok!$G$5:$G$2500,A469,Dagbok!$K$5:$K$2500)","v":0},{"$f":"Register!H176","v":0},0]
[467,{"$f":"Register!F177","v":0},{"$f":"SUMIF(Dagbok!$G$5:$G$2500,A470,Dagbok!$J$5:$J$2500)","v":0},{"$f":"SUMIF(Dagbok!$G$5:$G$2500,A470,Dagbok!$K$5:$K$2500)","v":0},{"$f":"Register!H177","v":0},0]
[468,{"$f":"Register!F178","v":0},{"$f":"SUMIF(Dagbok!$G$5:$G$2500,A471,Dagbok!$J$5:$J$2500)","v":0},{"$f":"SUMIF(Dagbok!$G$5:$G$2500,A471,Dagbok!$K$5:$K$2500)","v":0},{"$f":"Register!H178","v":0},0]
[469,{"$f":"Register!F179","v":0},{"$f":"SUMIF(Dagbok!$G$5:$G$2500,A472,Dagbok!$J$5:$J$2500)","v":0},{"$f":"SUMIF(Dagbok!$G$5:$G$2500,A472,Dagbok!$K$5:$K$2500)","v":0},{"$f":"Register!H179","v":0},0]
[470,{"$f":"Register!F180","v":0},{"$f":"SUMIF(Dagbok!$G$5:$G$2500,A473,Dagbok!$J$5:$J$2500)","v":0},{"$f":"SUMIF(Dagbok!$G$5:$G$2500,A473,Dagbok!$K$5:$K$2500)","v":0},{"$f":"Register!H180","v":0},0]
[471,{"$f":"Register!F181","v":0},{"$f":"SUMIF(Dagbok!$G$5:$G$2500,A474,Dagbok!$J$5:$J$2500)","v":0},{"$f":"SUMIF(Dagbok!$G$5:$G$2500,A474,Dagbok!$K$5:$K$2500)","v":0},{"$f":"Register!H181","v":0},0]
[472,{"$f":"Register!F182","v":0},{"$f":"SUMIF(Dagbok!$G$5:$G$2500,A475,Dagbok!$J$5:$J$2500)","v":0},{"$f":"SUMIF(Dagbok!$G$5:$G$2500,A475,Dagbok!$K$5:$K$2500)","v":0},{"$f":"Register!H182","v":0},0]
[473,{"$f":"Register!F183","v":0},{"$f":"SUMIF(Dagbok!$G$5:$G$2500,A476,Dagbok!$J$5:$J$2500)","v":0},{"$f":"SUMIF(Dagbok!$G$5:$G$2500,A476,Dagbok!$K$5:$K$2500)","v":0},{"$f":"Register!H183","v":0},0]
[474,{"$f":"Register!F184","v":0},{"$f":"SUMIF(Dagbok!$G$5:$G$2500,A477,Dagbok!$J$5:$J$2500)","v":0},{"$f":"SUMIF(Dagbok!$G$5:$G$2500,A477,Dagbok!$K$5:$K$2500)","v":0},{"$f":"Register!H184","v":0},0]
[475,{"$f":"Register!F185","v":0},{"$f":"SUMIF(Dagbok!$G$5:$G$2500,A478,Dagbok!$J$5:$J$2500)","v":0},{"$f":"SUMIF(Dagbok!$G$5:$G$2500,A478,Dagbok!$K$5:$K$2500)","v":0},{"$f":"Register!H185","v":0},0]
[476,{"$f":"Register!F186","v":0},{"$f":"SUMIF(Dagbok!$G$5:$G$2500,A479,Dagbok!$J$5:$J$2500)","v":0},{"$f":"SUMIF(Dagbok!$G$5:$G$2500,A479,Dagbok!$K$5:$K$2500)","v":0},{"$f":"Register!H186","v":0},0]
[477,{"$f":"Register!F187","v":0},{"$f":"SUMIF(Dagbok!$G$5:$G$2500,A480,Dagbok!$J$5:$J$2500)","v":0},{"$f":"SUMIF(Dagbok!$G$5:$G$2500,A480,Dagbok!$K$5:$K$2500)","v":0},{"$f":"Register!H187","v":0},0]
[478,{"$f":"Register!F188","v":0},{"$f":"SUMIF(Dagbok!$G$5:$G$2500,A481,Dagbok!$J$5:$J$2500)","v":0},{"$f":"SUMIF(Dagbok!$G$5:$G$2500,A481,Dagbok!$K$5:$K$2500)","v":0},{"$f":"Register!H188","v":0},0]
[479,{"$f":"Register!F189","v":0},{"$f":"SUMIF(Dagbok!$G$5:$G$2500,A482,Dagbok!$J$5:$J$2500)","v":0},{"$f":"SUMIF(Dagbok!$G$5:$G$2500,A482,Dagbok!$K$5:$K$2500)","v":0},{"$f":"Register!H189","v":0},0]
[480,{"$f":"Register!F190","v":0},{"$f":"SUMIF(Dagbok!$G$5:$G$2500,A483,Dagbok!$J$5:$J$2500)","v":0},{"$f":"SUMIF(Dagbok!$G$5:$G$2500,A483,Dagbok!$K$5:$K$2500)","v":0},{"$f":"Register!H190","v":0},0]
[481,{"$f":"Register!F191","v":0},{"$f":"SUMIF(Dagbok!$G$5:$G$2500,A484,Dagbok!$J$5:$J$2500)","v":0},{"$f":"SUMIF(Dagbok!$G$5:$G$2500,A484,Dagbok!$K$5:$K$2500)","v":0},{"$f":"Register!H191","v":0},0]
[482,{"$f":"Register!F192","v":0},{"$f":"SUMIF(Dagbok!$G$5:$G$2500,A485,Dagbok!$J$5:$J$2500)","v":0},{"$f":"SUMIF(Dagbok!$G$5:$G$2500,A485,Dagbok!$K$5:$K$2500)","v":0},{"$f":"Register!H192","v":0},0]
[483,{"$f":"Register!F193","v":0},{"$f":"SUMIF(Dagbok!$G$5:$G$2500,A486,Dagbok!$J$5:$J$2500)","v":0},{"$f":"SUMIF(Dagbok!$G$5:$G$2500,A486,Dagbok!$K$5:$K$2500)","v":0},{"$f":"Register!H193","v":0},0]
[484,{"$f":"Register!F194","v":0},{"$f":"SUMIF(Dagbok!$G$5:$G$2500,A487,Dagbok!$J$5:$J$2500)","v":0},{"$f":"SUMIF(Dagbok!$G$5:$G$2500,A487,Dagbok!$K$5:$K$2500)","v":0},{"$f":"Register!H194","v":0},0]
[485,{"$f":"Register!F195","v":0},{"$f":"SUMIF(Dagbok!$G$5:$G$2500,A488,Dagbok!$J$5:$J$2500)","v":0},{"$f":"SUMIF(Dagbok!$G$5:$G$2500,A488,Dagbok!$K$5:$K$2500)","v":0},{"$f":"Register!H195","v":0},0]
[486,{"$f":"Register!F196","v":0},{"$f":"SUMIF(Dagbok!$G$5:$G$2500,A489,Dagbok!$J$5:$J$2500)","v":0},{"$f":"SUMIF(Dagbok!$G$5:$G$2500,A489,Dagbok!$K$5:$K$2500)","v":0},{"$f":"Register!H196","v":0},0]
[487,{"$f":"Register!F197","v":0},{"$f":"SUMIF(Dagbok!$G$5:$G$2500,A490,Dagbok!$J$5:$J$2500)","v":0},{"$f":"SUMIF(Dagbok!$G$5:$G$2500,A490,Dagbok!$K$5:$K$2500)","v":0},{"$f":"Register!H197","v":0},0]
[488,{"$f":"Register!F198","v":0},{"$f":"SUMIF(Dagbok!$G$5:$G$2500,A491,Dagbok!$J$5:$J$2500)","v":0},{"$f":"SUMIF(Dagbok!$G$5:$G$2500,A491,Dagbok!$K$5:$K$2500)","v":0},{"$f":"Register!H198","v":0},0]
[489,{"$f":"Register!F199","v":0},{"$f":"SUMIF(Dagbok!$G$5:$G$2500,A492,Dagbok!$J$5:$J$2500)","v":0},{"$f":"SUMIF(Dagbok!$G$5:$G$2500,A492,Dagbok!$K$5:$K$2500)","v":0},{"$f":"Register!H199","v":0},0]
[490,{"$f":"Register!F200","v":0},{"$f":"SUMIF(Dagbok!$G$5:$G$2500,A493,Dagbok!$J$5:$J$2500)","v":0},{"$f":"SUMIF(Dagbok!$G$5:$G$2500,A493,Dagbok!$K$5:$K$2500)","v":0},{"$f":"Register!H200","v":0},0]
[491,{"$f":"Register!F201","v":0},{"$f":"SUMIF(Dagbok!$G$5:$G$2500,A494,Dagbok!$J$5:$J$2500)","v":0},{"$f":"SUMIF(Dagbok!$G$5:$G$2500,A494,Dagbok!$K$5:$K$2500)","v":0},{"$f":"Register!H201","v":0},0]
[492,{"$f":"Register!F202","v":0},{"$f":"SUMIF(Dagbok!$G$5:$G$2500,A495,Dagbok!$J$5:$J$2500)","v":0},{"$f":"SUMIF(Dagbok!$G$5:$G$2500,A495,Dagbok!$K$5:$K$2500)","v":0},{"$f":"Register!H202","v":0},0]
[493,{"$f":"Register!F203","v":0},{"$f":"SUMIF(Dagbok!$G$5:$G$2500,A496,Dagbok!$J$5:$J$2500)","v":0},{"$f":"SUMIF(Dagbok!$G$5:$G$2500,A496,Dagbok!$K$5:$K$2500)","v":0},{"$f":"Register!H203","v":0},0]
[494,{"$f":"Register!F204","v":0},{"$f":"SUMIF(Dagbok!$G$5:$G$2500,A497,Dagbok!$J$5:$J$2500)","v":0},{"$f":"SUMIF(Dagbok!$G$5:$G$2500,A497,Dagbok!$K$5:$K$2500)","v":0},{"$f":"Register!H204","v":0},0]
[495,{"$f":"Register!F205","v":0},{"$f":"SUMIF(Dagbok!$G$5:$G$2500,A498,Dagbok!$J$5:$J$2500)","v":0},{"$f":"SUMIF(Dagbok!$G$5:$G$2500,A498,Dagbok!$K$5:$K$2500)","v":0},{"$f":"Register!H205","v":0},0]
[496,{"$f":"Register!F206","v":0},{"$f":"SUMIF(Dagbok!$G$5:$G$2500,A499,Dagbok!$J$5:$J$2500)","v":0},{"$f":"SUMIF(Dagbok!$G$5:$G$2500,A499,Dagbok!$K$5:$K$2500)","v":0},{"$f":"Register!H206","v":0},0]
[497,{"$f":"Register!F207","v":0},{"$f":"SUMIF(Dagbok!$G$5:$G$2500,A500,Dagbok!$J$5:$J$2500)","v":0},{"$f":"SUMIF(Dagbok!$G$5:$G$2500,A500,Dagbok!$K$5:$K$2500)","v":0},{"$f":"Register!H207","v":0},0]
[498,{"$f":"Register!F208","v":0},{"$f":"SUMIF(Dagbok!$G$5:$G$2500,A501,Dagbok!$J$5:$J$2500)","v":0},{"$f":"SUMIF(Dagbok!$G$5:$G$2500,A501,Dagbok!$K$5:$K$2500)","v":0},{"$f":"Register!H208","v":0},0]
[499,{"$f":"Register!F209","v":0},{"$f":"SUMIF(Dagbok!$G$5:$G$2500,A502,Dagbok!$J$5:$J$2500)","v":0},{"$f":"SUMIF(Dagbok!$G$5:$G$2500,A502,Dagbok!$K$5:$K$2500)","v":0},{"$f":"Register!H209","v":0},0]
[500,{"$f":"Register!F210","v":0},{"$f":"SUMIF(Dagbok!$G$5:$G$2500,A503,Dagbok!$J$5:$J$2500)","v":0},{"$f":"SUMIF(Dagbok!$G$5:$G$2500,A503,Dagbok!$K$5:$K$2500)","v":0},{"$f":"Register!H210","v":0},0]
[501,{"$f":"Register!F211","v":0},{"$f":"SUMIF(Dagbok!$G$5:$G$2500,A504,Dagbok!$J$5:$J$2500)","v":0},{"$f":"SUMIF(Dagbok!$G$5:$G$2500,A504,Dagbok!$K$5:$K$2500)","v":0},{"$f":"Register!H211","v":0},0]
[502,{"$f":"Register!F212","v":0},{"$f":"SUMIF(Dagbok!$G$5:$G$2500,A505,Dagbok!$J$5:$J$2500)","v":0},{"$f":"SUMIF(Dagbok!$G$5:$G$2500,A505,Dagbok!$K$5:$K$2500)","v":0},{"$f":"Register!H212","v":0},0]
[503,{"$f":"Register!F213","v":0},{"$f":"SUMIF(Dagbok!$G$5:$G$2500,A506,Dagbok!$J$5:$J$2500)","v":0},{"$f":"SUMIF(Dagbok!$G$5:$G$2500,A506,Dagbok!$K$5:$K$2500)","v":0},{"$f":"Register!H213","v":0},0]
[504,{"$f":"Register!F214","v":0},{"$f":"SUMIF(Dagbok!$G$5:$G$2500,A507,Dagbok!$J$5:$J$2500)","v":0},{"$f":"SUMIF(Dagbok!$G$5:$G$2500,A507,Dagbok!$K$5:$K$2500)","v":0},{"$f":"Register!H214","v":0},0]
[505,{"$f":"Register!F215","v":0},{"$f":"SUMIF(Dagbok!$G$5:$G$2500,A508,Dagbok!$J$5:$J$2500)","v":0},{"$f":"SUMIF(Dagbok!$G$5:$G$2500,A508,Dagbok!$K$5:$K$2500)","v":0},{"$f":"Register!H215","v":0},0]
[506,{"$f":"Register!F216","v":0},{"$f":"SUMIF(Dagbok!$G$5:$G$2500,A509,Dagbok!$J$5:$J$2500)","v":0},{"$f":"SUMIF(Dagbok!$G$5:$G$2500,A509,Dagbok!$K$5:$K$2500)","v":0},{"$f":"Register!H216","v":0},0]
[507,{"$f":"Register!F217","v":0},{"$f":"SUMIF(Dagbok!$G$5:$G$2500,A510,Dagbok!$J$5:$J$2500)","v":0},{"$f":"SUMIF(Dagbok!$G$5:$G$2500,A510,Dagbok!$K$5:$K$2500)","v":0},{"$f":"Register!H217","v":0},0]
[508,{"$f":"Register!F218","v":0},{"$f":"SUMIF(Dagbok!$G$5:$G$2500,A511,Dagbok!$J$5:$J$2500)","v":0},{"$f":"SUMIF(Dagbok!$G$5:$G$2500,A511,Dagbok!$K$5:$K$2500)","v":0},{"$f":"Register!H218","v":0},0]
[509,{"$f":"Register!F219","v":0},{"$f":"SUMIF(Dagbok!$G$5:$G$2500,A512,Dagbok!$J$5:$J$2500)","v":0},{"$f":"SUMIF(Dagbok!$G$5:$G$2500,A512,Dagbok!$K$5:$K$2500)","v":0},{"$f":"Register!H219","v":0},0]
[510,{"$f":"Register!F220","v":0},{"$f":"SUMIF(Dagbok!$G$5:$G$2500,A513,Dagbok!$J$5:$J$2500)","v":0},{"$f":"SUMIF(Dagbok!$G$5:$G$2500,A513,Dagbok!$K$5:$K$2500)","v":0},{"$f":"Register!H220","v":0},0]
[511,{"$f":"Register!F221","v":0},{"$f":"SUMIF(Dagbok!$G$5:$G$2500,A514,Dagbok!$J$5:$J$2500)","v":0},{"$f":"SUMIF(Dagbok!$G$5:$G$2500,A514,Dagbok!$K$5:$K$2500)","v":0},{"$f":"Register!H221","v":0},0]
[512,{"$f":"Register!F222","v":0},{"$f":"SUMIF(Dagbok!$G$5:$G$2500,A515,Dagbok!$J$5:$J$2500)","v":0},{"$f":"SUMIF(Dagbok!$G$5:$G$2500,A515,Dagbok!$K$5:$K$2500)","v":0},{"$f":"Register!H222","v":0},0]
[513,{"$f":"Register!F223","v":0},{"$f":"SUMIF(Dagbok!$G$5:$G$2500,A516,Dagbok!$J$5:$J$2500)","v":0},{"$f":"SUMIF(Dagbok!$G$5:$G$2500,A516,Dagbok!$K$5:$K$2500)","v":0},{"$f":"Register!H223","v":0},0]
[514,{"$f":"Register!F224","v":0},{"$f":"SUMIF(Dagbok!$G$5:$G$2500,A517,Dagbok!$J$5:$J$2500)","v":0},{"$f":"SUMIF(Dagbok!$G$5:$G$2500,A517,Dagbok!$K$5:$K$2500)","v":0},{"$f":"Register!H224","v":0},0]
[515,{"$f":"Register!F225","v":0},{"$f":"SUMIF(Dagbok!$G$5:$G$2500,A518,Dagbok!$J$5:$J$2500)","v":0},{"$f":"SUMIF(Dagbok!$G$5:$G$2500,A518,Dagbok!$K$5:$K$2500)","v":0},{"$f":"Register!H225","v":0},0]
[516,{"$f":"Register!F226","v":0},{"$f":"SUMIF(Dagbok!$G$5:$G$2500,A519,Dagbok!$J$5:$J$2500)","v":0},{"$f":"SUMIF(Dagbok!$G$5:$G$2500,A519,Dagbok!$K$5:$K$2500)","v":0},{"$f":"Register!H226","v":0},0]
[517,{"$f":"Register!F227","v":0},{"$f":"SUMIF(Dagbok!$G$5:$G$2500,A520,Dagbok!$J$5:$J$2500)","v":0},{"$f":"SUMIF(Dagbok!$G$5:$G$2500,A520,Dagbok!$K$5:$K$2500)","v":0},{"$f":"Register!H227","v":0},0]
[518,{"$f":"Register!F228","v":0},{"$f":"SUMIF(Dagbok!$G$5:$G$2500,A521,Dagbok!$J$5:$J$2500)","v":0},{"$f":"SUMIF(Dagbok!$G$5:$G$2500,A521,Dagbok!$K$5:$K$2500)","v":0},{"$f":"Register!H228","v":0},0]
[519,{"$f":"Register!F229","v":0},{"$f":"SUMIF(Dagbok!$G$5:$G$2500,A522,Dagbok!$J$5:$J$2500)","v":0},{"$f":"SUMIF(Dagbok!$G$5:$G$2500,A522,Dagbok!$K$5:$K$2500)","v":0},{"$f":"Register!H229","v":0},0]
[520,{"$f":"Register!F230","v":0},{"$f":"SUMIF(Dagbok!$G$5:$G$2500,A523,Dagbok!$J$5:$J$2500)","v":0},{"$f":"SUMIF(Dagbok!$G$5:$G$2500,A523,Dagbok!$K$5:$K$2500)","v":0},{"$f":"Register!H230","v":0},0]
[521,{"$f":"Register!F231","v":0},{"$f":"SUMIF(Dagbok!$G$5:$G$2500,A524,Dagbok!$J$5:$J$2500)","v":0},{"$f":"SUMIF(Dagbok!$G$5:$G$2500,A524,Dagbok!$K$5:$K$2500)","v":0},{"$f":"Register!H231","v":0},0]
[522,{"$f":"Register!F232","v":0},{"$f":"SUMIF(Dagbok!$G$5:$G$2500,A525,Dagbok!$J$5:$J$2500)","v":0},{"$f":"SUMIF(Dagbok!$G$5:$G$2500,A525,Dagbok!$K$5:$K$2500)","v":0},{"$f":"Register!H232","v":0},0]
[523,{"$f":"Register!F233","v":0},{"$f":"SUMIF(Dagbok!$G$5:$G$2500,A526,Dagbok!$J$5:$J$2500)","v":0},{"$f":"SUMIF(Dagbok!$G$5:$G$2500,A526,Dagbok!$K$5:$K$2500)","v":0},{"$f":"Register!H233","v":0},0]
[524,{"$f":"Register!F234","v":0},{"$f":"SUMIF(Dagbok!$G$5:$G$2500,A527,Dagbok!$J$5:$J$2500)","v":0},{"$f":"SUMIF(Dagbok!$G$5:$G$2500,A527,Dagbok!$K$5:$K$2500)","v":0},{"$f":"Register!H234","v":0},{"$f":"E527-C527-D527","v":0}]
[525,{"$f":"Register!F235","v":0},{"$f":"SUMIF(Dagbok!$G$5:$G$2500,A528,Dagbok!$J$5:$J$2500)","v":0},{"$f":"SUMIF(Dagbok!$G$5:$G$2500,A528,Dagbok!$K$5:$K$2500)","v":0},{"$f":"Register!H235","v":0},0]
[526,{"$f":"Register!F236","v":0},{"$f":"SUMIF(Dagbok!$G$5:$G$2500,A529,Dagbok!$J$5:$J$2500)","v":0},{"$f":"SUMIF(Dagbok!$G$5:$G$2500,A529,Dagbok!$K$5:$K$2500)","v":0},{"$f":"Register!H236","v":0},0]
[527,{"$f":"Register!F237","v":0},{"$f":"SUMIF(Dagbok!$G$5:$G$2500,A530,Dagbok!$J$5:$J$2500)","v":0},{"$f":"SUMIF(Dagbok!$G$5:$G$2500,A530,Dagbok!$K$5:$K$2500)","v":0},{"$f":"Register!H237","v":0},0]
[528,{"$f":"Register!F238","v":0},{"$f":"SUMIF(Dagbok!$G$5:$G$2500,A531,Dagbok!$J$5:$J$2500)","v":0},{"$f":"SUMIF(Dagbok!$G$5:$G$2500,A531,Dagbok!$K$5:$K$2500)","v":0},{"$f":"Register!H238","v":0},0]
[529,{"$f":"Register!F239","v":0},{"$f":"SUMIF(Dagbok!$G$5:$G$2500,A532,Dagbok!$J$5:$J$2500)","v":0},{"$f":"SUMIF(Dagbok!$G$5:$G$2500,A532,Dagbok!$K$5:$K$2500)","v":0},{"$f":"Register!H239","v":0},0]
[530,{"$f":"Register!F240","v":0},{"$f":"SUMIF(Dagbok!$G$5:$G$2500,A533,Dagbok!$J$5:$J$2500)","v":0},{"$f":"SUMIF(Dagbok!$G$5:$G$2500,A533,Dagbok!$K$5:$K$2500)","v":0},{"$f":"Register!H240","v":0},0]
[531,{"$f":"Register!F241","v":0},{"$f":"SUMIF(Dagbok!$G$5:$G$2500,A534,Dagbok!$J$5:$J$2500)","v":0},{"$f":"SUMIF(Dagbok!$G$5:$G$2500,A534,Dagbok!$K$5:$K$2500)","v":0},{"$f":"Register!H241","v":0},0]
[532,{"$f":"Register!F242","v":0},{"$f":"SUMIF(Dagbok!$G$5:$G$2500,A535,Dagbok!$J$5:$J$2500)","v":0},{"$f":"SUMIF(Dagbok!$G$5:$G$2500,A535,Dagbok!$K$5:$K$2500)","v":0},{"$f":"Register!H242","v":0},0]
[533,{"$f":"Register!F243","v":0},{"$f":"SUMIF(Dagbok!$G$5:$G$2500,A536,Dagbok!$J$5:$J$2500)","v":0},{"$f":"SUMIF(Dagbok!$G$5:$G$2500,A536,Dagbok!$K$5:$K$2500)","v":0},{"$f":"Register!H243","v":0},0]
[534,{"$f":"Register!F244","v":0},{"$f":"SUMIF(Dagbok!$G$5:$G$2500,A537,Dagbok!$J$5:$J$2500)","v":0},{"$f":"SUMIF(Dagbok!$G$5:$G$2500,A537,Dagbok!$K$5:$K$2500)","v":0},{"$f":"Register!H244","v":0},0]
[535,{"$f":"Register!F245","v":0},{"$f":"SUMIF(Dagbok!$G$5:$G$2500,A538,Dagbok!$J$5:$J$2500)","v":0},{"$f":"SUMIF(Dagbok!$G$5:$G$2500,A538,Dagbok!$K$5:$K$2500)","v":0},{"$f":"Register!H245","v":0},0]
[536,{"$f":"Register!F246","v":0},{"$f":"SUMIF(Dagbok!$G$5:$G$2500,A539,Dagbok!$J$5:$J$2500)","v":0},{"$f":"SUMIF(Dagbok!$G$5:$G$2500,A539,Dagbok!$K$5:$K$2500)","v":0},{"$f":"Register!H246","v":0},0]
[537,{"$f":"Register!F247","v":0},{"$f":"SUMIF(Dagbok!$G$5:$G$2500,A540,Dagbok!$J$5:$J$2500)","v":0},{"$f":"SUMIF(Dagbok!$G$5:$G$2500,A540,Dagbok!$K$5:$K$2500)","v":0},{"$f":"Register!H247","v":0},0]
[538,{"$f":"Register!F248","v":0},{"$f":"SUMIF(Dagbok!$G$5:$G$2500,A541,Dagbok!$J$5:$J$2500)","v":0},{"$f":"SUMIF(Dagbok!$G$5:$G$2500,A541,Dagbok!$K$5:$K$2500)","v":0},{"$f":"Register!H248","v":0},0]
[539,{"$f":"Register!F249","v":0},{"$f":"SUMIF(Dagbok!$G$5:$G$2500,A542,Dagbok!$J$5:$J$2500)","v":0},{"$f":"SUMIF(Dagbok!$G$5:$G$2500,A542,Dagbok!$K$5:$K$2500)","v":0},{"$f":"Register!H249","v":0},0]
[540,{"$f":"Register!F250","v":0},{"$f":"SUMIF(Dagbok!$G$5:$G$2500,A543,Dagbok!$J$5:$J$2500)","v":0},{"$f":"SUMIF(Dagbok!$G$5:$G$2500,A543,Dagbok!$K$5:$K$2500)","v":0},{"$f":"Register!H250","v":0},0]
[541,{"$f":"Register!F251","v":0},{"$f":"SUMIF(Dagbok!$G$5:$G$2500,A544,Dagbok!$J$5:$J$2500)","v":0},{"$f":"SUMIF(Dagbok!$G$5:$G$2500,A544,Dagbok!$K$5:$K$2500)","v":0},{"$f":"Register!H251","v":0},0]
[542,{"$f":"Register!F252","v":0},{"$f":"SUMIF(Dagbok!$G$5:$G$2500,A545,Dagbok!$J$5:$J$2500)","v":0},{"$f":"SUMIF(Dagbok!$G$5:$G$2500,A545,Dagbok!$K$5:$K$2500)","v":0},{"$f":"Register!H252","v":0},0]
[543,{"$f":"Register!F253","v":0},{"$f":"SUMIF(Dagbok!$G$5:$G$2500,A546,Dagbok!$J$5:$J$2500)","v":0},{"$f":"SUMIF(Dagbok!$G$5:$G$2500,A546,Dagbok!$K$5:$K$2500)","v":0},{"$f":"Register!H253","v":0},0]
[544,{"$f":"Register!F254","v":0},{"$f":"SUMIF(Dagbok!$G$5:$G$2500,A547,Dagbok!$J$5:$J$2500)","v":0},{"$f":"SUMIF(Dagbok!$G$5:$G$2500,A547,Dagbok!$K$5:$K$2500)","v":0},{"$f":"Register!H254","v":0},0]
[545,{"$f":"Register!F255","v":0},{"$f":"SUMIF(Dagbok!$G$5:$G$2500,A548,Dagbok!$J$5:$J$2500)","v":0},{"$f":"SUMIF(Dagbok!$G$5:$G$2500,A548,Dagbok!$K$5:$K$2500)","v":0},{"$f":"Register!H255","v":0},0]
[546,{"$f":"Register!F256","v":0},{"$f":"SUMIF(Dagbok!$G$5:$G$2500,A549,Dagbok!$J$5:$J$2500)","v":0},{"$f":"SUMIF(Dagbok!$G$5:$G$2500,A549,Dagbok!$K$5:$K$2500)","v":0},{"$f":"Register!H256","v":0},0]
[547,{"$f":"Register!F257","v":0},{"$f":"SUMIF(Dagbok!$G$5:$G$2500,A550,Dagbok!$J$5:$J$2500)","v":0},{"$f":"SUMIF(Dagbok!$G$5:$G$2500,A550,Dagbok!$K$5:$K$2500)","v":0},{"$f":"Register!H257","v":0},0]
[548,{"$f":"Register!F258","v":0},{"$f":"SUMIF(Dagbok!$G$5:$G$2500,A551,Dagbok!$J$5:$J$2500)","v":0},{"$f":"SUMIF(Dagbok!$G$5:$G$2500,A551,Dagbok!$K$5:$K$2500)","v":0},{"$f":"Register!H258","v":0},0]
[549,{"$f":"Register!F259","v":0},{"$f":"SUMIF(Dagbok!$G$5:$G$2500,A552,Dagbok!$J$5:$J$2500)","v":0},{"$f":"SUMIF(Dagbok!$G$5:$G$2500,A552,Dagbok!$K$5:$K$2500)","v":0},{"$f":"Register!H259","v":0},0]
[550,{"$f":"Register!F260","v":0},{"$f":"SUMIF(Dagbok!$G$5:$G$2500,A553,Dagbok!$J$5:$J$2500)","v":0},{"$f":"SUMIF(Dagbok!$G$5:$G$2500,A553,Dagbok!$K$5:$K$2500)","v":0},{"$f":"Register!H260","v":0},0]
[551,{"$f":"Register!F261","v":0},{"$f":"SUMIF(Dagbok!$G$5:$G$2500,A554,Dagbok!$J$5:$J$2500)","v":0},{"$f":"SUMIF(Dagbok!$G$5:$G$2500,A554,Dagbok!$K$5:$K$2500)","v":0},{"$f":"Register!H261","v":0},0]
[552,{"$f":"Register!F262","v":0},{"$f":"SUMIF(Dagbok!$G$5:$G$2500,A555,Dagbok!$J$5:$J$2500)","v":0},{"$f":"SUMIF(Dagbok!$G$5:$G$2500,A555,Dagbok!$K$5:$K$2500)","v":0},{"$f":"Register!H262","v":0},0]
[553,{"$f":"Register!F263","v":0},{"$f":"SUMIF(Dagbok!$G$5:$G$2500,A556,Dagbok!$J$5:$J$2500)","v":0},{"$f":"SUMIF(Dagbok!$G$5:$G$2500,A556,Dagbok!$K$5:$K$2500)","v":0},{"$f":"Register!H263","v":0},0]
[554,{"$f":"Register!F264","v":0},{"$f":"SUMIF(Dagbok!$G$5:$G$2500,A557,Dagbok!$J$5:$J$2500)","v":0},{"$f":"SUMIF(Dagbok!$G$5:$G$2500,A557,Dagbok!$K$5:$K$2500)","v":0},{"$f":"Register!H264","v":0},0]
[555,{"$f":"Register!F265","v":0},{"$f":"SUMIF(Dagbok!$G$5:$G$2500,A558,Dagbok!$J$5:$J$2500)","v":0},{"$f":"SUMIF(Dagbok!$G$5:$G$2500,A558,Dagbok!$K$5:$K$2500)","v":0},{"$f":"Register!H265","v":0},0]
[556,{"$f":"Register!F266","v":0},{"$f":"SUMIF(Dagbok!$G$5:$G$2500,A559,Dagbok!$J$5:$J$2500)","v":0},{"$f":"SUMIF(Dagbok!$G$5:$G$2500,A559,Dagbok!$K$5:$K$2500)","v":0},{"$f":"Register!H266","v":0},0]
[557,{"$f":"Register!F267","v":0},{"$f":"SUMIF(Dagbok!$G$5:$G$2500,A560,Dagbok!$J$5:$J$2500)","v":0},{"$f":"SUMIF(Dagbok!$G$5:$G$2500,A560,Dagbok!$K$5:$K$2500)","v":0},{"$f":"Register!H267","v":0},0]
[558,{"$f":"Register!F268","v":0},{"$f":"SUMIF(Dagbok!$G$5:$G$2500,A561,Dagbok!$J$5:$J$2500)","v":0},{"$f":"SUMIF(Dagbok!$G$5:$G$2500,A561,Dagbok!$K$5:$K$2500)","v":0},{"$f":"Register!H268","v":0},0]
[559,{"$f":"Register!F269","v":0},{"$f":"SUMIF(Dagbok!$G$5:$G$2500,A562,Dagbok!$J$5:$J$2500)","v":0},{"$f":"SUMIF(Dagbok!$G$5:$G$2500,A562,Dagbok!$K$5:$K$2500)","v":0},{"$f":"Register!H269","v":0},0]
[560,{"$f":"Register!F270","v":0},{"$f":"SUMIF(Dagbok!$G$5:$G$2500,A563,Dagbok!$J$5:$J$2500)","v":0},{"$f":"SUMIF(Dagbok!$G$5:$G$2500,A563,Dagbok!$K$5:$K$2500)","v":0},{"$f":"Register!H270","v":0},{"$f":"E563-C563-D563","v":0}]
[561,{"$f":"Register!F271","v":0},{"$f":"SUMIF(Dagbok!$G$5:$G$2500,A564,Dagbok!$J$5:$J$2500)","v":0},{"$f":"SUMIF(Dagbok!$G$5:$G$2500,A564,Dagbok!$K$5:$K$2500)","v":0},{"$f":"Register!H271","v":0},0]
[562,{"$f":"Register!F272","v":0},{"$f":"SUMIF(Dagbok!$G$5:$G$2500,A565,Dagbok!$J$5:$J$2500)","v":0},{"$f":"SUMIF(Dagbok!$G$5:$G$2500,A565,Dagbok!$K$5:$K$2500)","v":0},{"$f":"Register!H272","v":0},0]
[563,{"$f":"Register!F273","v":0},{"$f":"SUMIF(Dagbok!$G$5:$G$2500,A566,Dagbok!$J$5:$J$2500)","v":0},{"$f":"SUMIF(Dagbok!$G$5:$G$2500,A566,Dagbok!$K$5:$K$2500)","v":0},{"$f":"Register!H273","v":0},0]
[564,{"$f":"Register!F274","v":0},{"$f":"SUMIF(Dagbok!$G$5:$G$2500,A567,Dagbok!$J$5:$J$2500)","v":0},{"$f":"SUMIF(Dagbok!$G$5:$G$2500,A567,Dagbok!$K$5:$K$2500)","v":0},{"$f":"Register!H274","v":0},0]
[565,{"$f":"Register!F275","v":0},{"$f":"SUMIF(Dagbok!$G$5:$G$2500,A568,Dagbok!$J$5:$J$2500)","v":0},{"$f":"SUMIF(Dagbok!$G$5:$G$2500,A568,Dagbok!$K$5:$K$2500)","v":0},{"$f":"Register!H275","v":0},0]
[566,{"$f":"Register!F276","v":0},{"$f":"SUMIF(Dagbok!$G$5:$G$2500,A569,Dagbok!$J$5:$J$2500)","v":0},{"$f":"SUMIF(Dagbok!$G$5:$G$2500,A569,Dagbok!$K$5:$K$2500)","v":0},{"$f":"Register!H276","v":0},0]
[567,{"$f":"Register!F277","v":0},{"$f":"SUMIF(Dagbok!$G$5:$G$2500,A570,Dagbok!$J$5:$J$2500)","v":0},{"$f":"SUMIF(Dagbok!$G$5:$G$2500,A570,Dagbok!$K$5:$K$2500)","v":0},{"$f":"Register!H277","v":0},0]
[568,{"$f":"Register!F278","v":0},{"$f":"SUMIF(Dagbok!$G$5:$G$2500,A571,Dagbok!$J$5:$J$2500)","v":0},{"$f":"SUMIF(Dagbok!$G$5:$G$2500,A571,Dagbok!$K$5:$K$2500)","v":0},{"$f":"Register!H278","v":0},0]
[569,{"$f":"Register!F279","v":0},{"$f":"SUMIF(Dagbok!$G$5:$G$2500,A572,Dagbok!$J$5:$J$2500)","v":0},{"$f":"SUMIF(Dagbok!$G$5:$G$2500,A572,Dagbok!$K$5:$K$2500)","v":0},{"$f":"Register!H279","v":0},0]
[570,{"$f":"Register!F280","v":0},{"$f":"SUMIF(Dagbok!$G$5:$G$2500,A573,Dagbok!$J$5:$J$2500)","v":0},{"$f":"SUMIF(Dagbok!$G$5:$G$2500,A573,Dagbok!$K$5:$K$2500)","v":0},{"$f":"Register!H280","v":0},0]
[571,{"$f":"Register!F281","v":0},{"$f":"SUMIF(Dagbok!$G$5:$G$2500,A574,Dagbok!$J$5:$J$2500)","v":0},{"$f":"SUMIF(Dagbok!$G$5:$G$2500,A574,Dagbok!$K$5:$K$2500)","v":0},{"$f":"Register!H281","v":0},0]
[572,{"$f":"Register!F282","v":0},{"$f":"SUMIF(Dagbok!$G$5:$G$2500,A575,Dagbok!$J$5:$J$2500)","v":0},{"$f":"SUMIF(Dagbok!$G$5:$G$2500,A575,Dagbok!$K$5:$K$2500)","v":0},{"$f":"Register!H282","v":0},0]
[573,{"$f":"Register!F283","v":0},{"$f":"SUMIF(Dagbok!$G$5:$G$2500,A576,Dagbok!$J$5:$J$2500)","v":0},{"$f":"SUMIF(Dagbok!$G$5:$G$2500,A576,Dagbok!$K$5:$K$2500)","v":0},{"$f":"Register!H283","v":0},0]
[574,{"$f":"Register!F284","v":0},{"$f":"SUMIF(Dagbok!$G$5:$G$2500,A577,Dagbok!$J$5:$J$2500)","v":0},{"$f":"SUMIF(Dagbok!$G$5:$G$2500,A577,Dagbok!$K$5:$K$2500)","v":0},{"$f":"Register!H284","v":0},0]
[575,{"$f":"Register!F285","v":0},{"$f":"SUMIF(Dagbok!$G$5:$G$2500,A578,Dagbok!$J$5:$J$2500)","v":0},{"$f":"SUMIF(Dagbok!$G$5:$G$2500,A578,Dagbok!$K$5:$K$2500)","v":0},{"$f":"Register!H285","v":0},0]
[576,{"$f":"Register!F286","v":0},{"$f":"SUMIF(Dagbok!$G$5:$G$2500,A579,Dagbok!$J$5:$J$2500)","v":0},{"$f":"SUMIF(Dagbok!$G$5:$G$2500,A579,Dagbok!$K$5:$K$2500)","v":0},{"$f":"Register!H286","v":0},0]
[577,{"$f":"Register!F287","v":0},{"$f":"SUMIF(Dagbok!$G$5:$G$2500,A580,Dagbok!$J$5:$J$2500)","v":0},{"$f":"SUMIF(Dagbok!$G$5:$G$2500,A580,Dagbok!$K$5:$K$2500)","v":0},{"$f":"Register!H287","v":0},0]
[578,{"$f":"Register!F288","v":0},{"$f":"SUMIF(Dagbok!$G$5:$G$2500,A581,Dagbok!$J$5:$J$2500)","v":0},{"$f":"SUMIF(Dagbok!$G$5:$G$2500,A581,Dagbok!$K$5:$K$2500)","v":0},{"$f":"Register!H288","v":0},0]
[579,{"$f":"Register!F289","v":0},{"$f":"SUMIF(Dagbok!$G$5:$G$2500,A582,Dagbok!$J$5:$J$2500)","v":0},{"$f":"SUMIF(Dagbok!$G$5:$G$2500,A582,Dagbok!$K$5:$K$2500)","v":0},{"$f":"Register!H289","v":0},0]
[580,{"$f":"Register!F290","v":0},{"$f":"SUMIF(Dagbok!$G$5:$G$2500,A583,Dagbok!$J$5:$J$2500)","v":0},{"$f":"SUMIF(Dagbok!$G$5:$G$2500,A583,Dagbok!$K$5:$K$2500)","v":0},{"$f":"Register!H290","v":0},0]
[581,{"$f":"Register!F291","v":0},{"$f":"SUMIF(Dagbok!$G$5:$G$2500,A584,Dagbok!$J$5:$J$2500)","v":0},{"$f":"SUMIF(Dagbok!$G$5:$G$2500,A584,Dagbok!$K$5:$K$2500)","v":0},{"$f":"Register!H291","v":0},0]
[582,{"$f":"Register!F292","v":0},{"$f":"SUMIF(Dagbok!$G$5:$G$2500,A585,Dagbok!$J$5:$J$2500)","v":0},{"$f":"SUMIF(Dagbok!$G$5:$G$2500,A585,Dagbok!$K$5:$K$2500)","v":0},{"$f":"Register!H292","v":0},0]
[583,{"$f":"Register!F293","v":0},{"$f":"SUMIF(Dagbok!$G$5:$G$2500,A586,Dagbok!$J$5:$J$2500)","v":0},{"$f":"SUMIF(Dagbok!$G$5:$G$2500,A586,Dagbok!$K$5:$K$2500)","v":0},{"$f":"Register!H293","v":0},0]
[584,{"$f":"Register!F294","v":0},{"$f":"SUMIF(Dagbok!$G$5:$G$2500,A587,Dagbok!$J$5:$J$2500)","v":0},{"$f":"SUMIF(Dagbok!$G$5:$G$2500,A587,Dagbok!$K$5:$K$2500)","v":0},{"$f":"Register!H294","v":0},0]
[585,{"$f":"Register!F295","v":0},{"$f":"SUMIF(Dagbok!$G$5:$G$2500,A588,Dagbok!$J$5:$J$2500)","v":0},{"$f":"SUMIF(Dagbok!$G$5:$G$2500,A588,Dagbok!$K$5:$K$2500)","v":0},{"$f":"Register!H295","v":0},0]
[586,{"$f":"Register!F296","v":0},{"$f":"SUMIF(Dagbok!$G$5:$G$2500,A589,Dagbok!$J$5:$J$2500)","v":0},{"$f":"SUMIF(Dagbok!$G$5:$G$2500,A589,Dagbok!$K$5:$K$2500)","v":0},{"$f":"Register!H296","v":0},0]
[587,{"$f":"Register!F297","v":0},{"$f":"SUMIF(Dagbok!$G$5:$G$2500,A590,Dagbok!$J$5:$J$2500)","v":0},{"$f":"SUMIF(Dagbok!$G$5:$G$2500,A590,Dagbok!$K$5:$K$2500)","v":0},{"$f":"Register!H297","v":0},0]
[588,{"$f":"Register!F298","v":0},{"$f":"SUMIF(Dagbok!$G$5:$G$2500,A591,Dagbok!$J$5:$J$2500)","v":0},{"$f":"SUMIF(Dagbok!$G$5:$G$2500,A591,Dagbok!$K$5:$K$2500)","v":0},{"$f":"Register!H298","v":0},0]
[589,{"$f":"Register!F299","v":0},{"$f":"SUMIF(Dagbok!$G$5:$G$2500,A592,Dagbok!$J$5:$J$2500)","v":0},{"$f":"SUMIF(Dagbok!$G$5:$G$2500,A592,Dagbok!$K$5:$K$2500)","v":0},{"$f":"Register!H299","v":0},0]
[590,{"$f":"Register!F300","v":0},{"$f":"SUMIF(Dagbok!$G$5:$G$2500,A593,Dagbok!$J$5:$J$2500)","v":0},{"$f":"SUMIF(Dagbok!$G$5:$G$2500,A593,Dagbok!$K$5:$K$2500)","v":0},{"$f":"Register!H300","v":0},0]
[591,{"$f":"Register!F301","v":0},{"$f":"SUMIF(Dagbok!$G$5:$G$2500,A594,Dagbok!$J$5:$J$2500)","v":0},{"$f":"SUMIF(Dagbok!$G$5:$G$2500,A594,Dagbok!$K$5:$K$2500)","v":0},{"$f":"Register!H301","v":0},0]
[592,{"$f":"Register!F302","v":0},{"$f":"SUMIF(Dagbok!$G$5:$G$2500,A595,Dagbok!$J$5:$J$2500)","v":0},{"$f":"SUMIF(Dagbok!$G$5:$G$2500,A595,Dagbok!$K$5:$K$2500)","v":0},{"$f":"Register!H302","v":0},0]
[593,{"$f":"Register!F303","v":0},{"$f":"SUMIF(Dagbok!$G$5:$G$2500,A596,Dagbok!$J$5:$J$2500)","v":0},{"$f":"SUMIF(Dagbok!$G$5:$G$2500,A596,Dagbok!$K$5:$K$2500)","v":0},{"$f":"Register!H303","v":0},0]
[594,{"$f":"Register!F304","v":0},{"$f":"SUMIF(Dagbok!$G$5:$G$2500,A597,Dagbok!$J$5:$J$2500)","v":0},{"$f":"SUMIF(Dagbok!$G$5:$G$2500,A597,Dagbok!$K$5:$K$2500)","v":0},{"$f":"Register!H304","v":0},0]
[595,{"$f":"Register!F305","v":0},{"$f":"SUMIF(Dagbok!$G$5:$G$2500,A598,Dagbok!$J$5:$J$2500)","v":0},{"$f":"SUMIF(Dagbok!$G$5:$G$2500,A598,Dagbok!$K$5:$K$2500)","v":0},{"$f":"Register!H305","v":0},0]
[596,{"$f":"Register!F306","v":0},{"$f":"SUMIF(Dagbok!$G$5:$G$2500,A599,Dagbok!$J$5:$J$2500)","v":0},{"$f":"SUMIF(Dagbok!$G$5:$G$2500,A599,Dagbok!$K$5:$K$2500)","v":0},{"$f":"Register!H306","v":0},0]
[597,{"$f":"Register!F307","v":0},{"$f":"SUMIF(Dagbok!$G$5:$G$2500,A600,Dagbok!$J$5:$J$2500)","v":0},{"$f":"SUMIF(Dagbok!$G$5:$G$2500,A600,Dagbok!$K$5:$K$2500)","v":0},{"$f":"Register!H307","v":0},0]
[598,{"$f":"Register!F308","v":0},{"$f":"SUMIF(Dagbok!$G$5:$G$2500,A601,Dagbok!$J$5:$J$2500)","v":0},{"$f":"SUMIF(Dagbok!$G$5:$G$2500,A601,Dagbok!$K$5:$K$2500)","v":0},{"$f":"Register!H308","v":0},{"$f":"E601-C601-D601","v":0}]
[599,{"$f":"Register!F309","v":0},{"$f":"SUMIF(Dagbok!$G$5:$G$2500,A602,Dagbok!$J$5:$J$2500)","v":0},{"$f":"SUMIF(Dagbok!$G$5:$G$2500,A602,Dagbok!$K$5:$K$2500)","v":0},{"$f":"Register!H309","v":0},{"$f":"E602-C602-D602","v":0}]
[null,null,null,null,"sum lev",{"$f":"SUM(F303:F602)","v":0}]
[2740,{"$f":"Register!B2","v":"Oppgjerskonto mva"},{"$f":"SUMIF(Dagbok!$G$5:$G$2500,A604,Dagbok!$J$5:$J$2500)","v":0},{"$f":"SUMIF(Dagbok!$G$5:$G$2500,A604,Dagbok!$K$5:$K$2500)","v":36000},{"$f":"Årsoppgjer!M44-Årsoppgjer!H38","v":36000},{"$f":"E604-C604-D604+MVA!E23","v":28800}]
[2949,{"$f":"Register!B3","v":"Lønn, feriepengar"},{"$f":"SUMIF(Dagbok!$G$5:$G$2500,A605,Dagbok!$J$5:$J$2500)","v":0},{"$f":"SUMIF(Dagbok!$G$5:$G$2500,A605,Dagbok!$K$5:$K$2500)","v":0},{"$f":"Årsoppgjer!M49","v":0},{"$f":"E605-C605-D605","v":0}]
[2600,{"$f":"Register!B4","v":"Skattetrekk"},{"$f":"SUMIF(Dagbok!$G$5:$G$2500,A606,Dagbok!$J$5:$J$2500)","v":0},{"$f":"SUMIF(Dagbok!$G$5:$G$2500,A606,Dagbok!$K$5:$K$2500)","v":0},{"$f":"Årsoppgjer!M43","v":0},{"$f":"E606-C606-D606","v":0}]
[2770,{"$f":"Register!B5","v":"Arbeidsgj.avg"},{"$f":"SUMIF(Dagbok!$G$5:$G$2500,A607,Dagbok!$J$5:$J$2500)","v":0},{"$f":"SUMIF(Dagbok!$G$5:$G$2500,A607,Dagbok!$K$5:$K$2500)","v":0},{"$f":"Årsoppgjer!M45","v":0},{"$f":"E607-C607-D607","v":0}]
[2220,"Bankgjeld drifta",{"$f":"SUMIF(Dagbok!$G$5:$G$2500,A608,Dagbok!$J$5:$J$2500)","v":0},{"$f":"SUMIF(Dagbok!$G$5:$G$2500,A608,Dagbok!$K$5:$K$2500)","v":0},{"$f":"Årsoppgjer!M38","v":0},{"$f":"E608-C608-D608","v":0}]
[2050,"Privatkonto",{"$f":"SUMIF(Dagbok!$G$5:$G$2500,A609,Dagbok!$J$5:$J$2500)","v":0},{"$f":"SUMIF(Dagbok!$G$5:$G$2500,A609,Dagbok!$K$5:$K$2500)","v":0}]
[]
[null,null,null,null,"Evt gjeld 31/12",{"$f":"IF(F605>0,F605,)+IF(F606>0,F606,)+IF(F607>0,F607,)","v":0}]

{"sheet":"Utplukk","index":5,"n_rows":2499,"n_cols":12,"rows_kept":2499,"cut":false,"hidden":false,"merged":[]}
[null," Utplukk",null,2022,0]
["fakt. dato","bilag nummer","konto","bilagtekst","utgift","inntekt","kunde lev.nr","betal. dato","bet-kode","faktura sum","betaling sum","kunde/lev.-namn"]
[null,null,null,"Delsum",{"$f":"SUBTOTAL(9,E4:E2500)","v":0},{"$f":"SUBTOTAL(9,F4:F2500)","v":0},null,null,null,{"$f":"SUBTOTAL(9,J4:J2500)","v":0},{"$f":"SUBTOTAL(9,K4:K2500)","v":0}]
[null,0,null,0,null,null,null,"00:00:00",0,0,0,0]
[null,0,null,0,null,null,null,"00:00:00",0,0,0,0]
[null,0,null,0,null,null,null,"00:00:00",0,0,0,0]
[null,0,null,0,null,null,null,"00:00:00",0,0,0,0]
[null,0,null,0,null,null,null,"00:00:00",0,0,0,0]
[null,0,null,0,null,null,null,"00:00:00",0,0,0,0]
[null,0,null,0,null,null,null,"00:00:00",0,0,0,0]
[null,0,null,0,null,null,null,"00:00:00",0,0,0,0]
[null,0,null,0,null,null,null,"00:00:00",0,0,0,0]
[null,0,null,0,null,null,null,"00:00:00",0,0,0,0]
[null,0,null,0,null,null,null,"00:00:00",0,0,0,0]
[null,0,null,0,null,null,null,"00:00:00",0,0,0,0]
[null,0,null,0,null,null,null,"00:00:00",0,0,0,0]
[null,0,null,0,null,null,null,"00:00:00",0,0,0,0]
[null,0,null,0,null,null,null,"00:00:00",0,0,0,0]
[null,0,null,0,null,null,null,"00:00:00",0,0,0,0]
[null,0,null,0,null,null,null,"00:00:00",0,0,0,0]
[null,0,null,0,null,null,null,"00:00:00",0,0,0,0]
[null,0,null,0,null,null,null,"00:00:00",0,0,0,0]
[null,0,null,0,null,null,null,"00:00:00",0,0,0,0]
[null,0,null,0,null,null,null,"00:00:00",0,0,0,0]
[null,0,null,0,null,null,null,"00:00:00",0,0,0,0]
[null,0,null,0,null,null,null,"00:00:00",0,0,0,0]
[null,0,null,0,null,null,null,"00:00:00",0,0,0,0]
[null,0,null,0,null,null,null,"00:00:00",0,0,0,0]
[null,0,null,0,null,null,null,"00:00:00",0,0,0,0]
[null,0,null,0,null,null,null,"00:00:00",0,0,0,0]
[null,0,null,0,null,null,null,"00:00:00",0,0,0,0]
[null,0,null,0,null,null,null,"00:00:00",0,0,0,0]
[null,0,null,0,null,null,null,"00:00:00",0,0,0,0]
[null,0,null,0,null,null,null,"00:00:00",0,0,0,0]
[null,0,null,0,null,null,null,"00:00:00",0,0,0,0]
[null,0,null,0,null,null,null,"00:00:00",0,0,0,0]
[null,0,null,0,null,null,null,"00:00:00",0,0,0,0]
[null,0,null,0,null,null,null,"00:00:00",0,0,0,0]
[null,0,null,0,null,null,null,"00:00:00",0,0,0,0]
[null,0,null,0,null,null,null,"00:00:00",0,0,0,0]
[null,0,null,0,null,null,null,"00:00:00",0,0,0,0]
[null,0,null,0,null,null,null,"00:00:00",0,0,0,0]
[null,0,null,0,null,null,null,"00:00:00",0,0,0,0]
[null,0,null,0,null,null,null,"00:00:00",0,0,0,0]
[null,0,null,0,null,null,null,"00:00:00",0,0,0,0]
[null,0,null,0,null,null,null,"00:00:00",0,0,0,0]
[null,0,null,0,null,null,null,"00:00:00",0,0,0,0]
[null,0,null,0,null,null,null,"00:00:00",0,0,0,0]
[null,0,null,0,null,null,null,"00:00:00",0,0,0,0]
[null,0,null,0,null,null,null,"00:00:00",0,0,0,0]
[null,0,null,0,null,null,null,"00:00:00",0,0,0,0]
[null,0,null,0,null,null,null,"00:00:00",0,0,0,0]
[null,0,null,0,null,null,null,"00:00:00",0,0,0,0]
[null,0,null,0,null,null,null,"00:00:00",0,0,0,0]
[null,0,null,0,null,null,null,"00:00:00",0,0,0,0]
[null,0,null,0,null,null,null,"00:00:00",0,0,0,0]
[null,0,null,0,null,null,null,"00:00:00",0,0,0,0]
[null,0,null,0,null,null,null,"00:00:00",0,0,0,0]
[null,0,null,0,null,null,null,"00:00:00",0,0,0,0]
[null,0,null,0,null,null,null,"00:00:00",0,0,0,0]
[null,0,null,0,null,null,null,"00:00:00",0,0,0,0]
[null,0,null,0,null,null,null,"00:00:00",0,0,0,0]
[null,0,null,0,null,null,null,"00:00:00",0,0,0,0]
[null,0,null,0,null,null,null,"00:00:00",0,0,0,0]
[null,0,null,0,null,null,null,"00:00:00",0,0,0,0]
[null,0,null,0,null,null,null,"00:00:00",0,0,0,0]
[null,0,null,0,null,null,null,"00:00:00",0,0,0,0]
[null,0,null,0,null,null,null,"00:00:00",0,0,0,0]
[null,0,null,0,null,null,null,"00:00:00",0,0,0,0]
[null,0,null,0,null,null,null,"00:00:00",0,0,0,0]
[null,0,null,0,null,null,null,"00:00:00",0,0,0,0]
[null,0,null,0,null,null,null,"00:00:00",0,0,0,0]
[null,0,null,0,null,null,null,"00:00:00",0,0,0,0]
[null,0,null,0,null,null,null,"00:00:00",0,0,0,0]
[null,0,null,0,null,null,null,"00:00:00",0,0,0,0]
[null,0,null,0,null,null,null,"00:00:00",0,0,0,0]
[null,0,null,0,null,null,null,"00:00:00",0,0,0,0]
[null,0,null,0,null,null,null,"00:00:00",0,0,0,0]
[null,0,null,0,null,null,null,"00:00:00",0,0,0,0]
[null,0,null,0,null,null,null,"00:00:00",0,0,0,0]
[null,0,null,0,null,null,null,"00:00:00",0,0,0,0]
[null,0,null,0,null,null,null,"00:00:00",0,0,0,0]
[null,0,null,0,null,null,null,"00:00:00",0,0,0,0]
[null,0,null,0,null,null,null,"00:00:00",0,0,0,0]
[null,0,null,0,null,null,null,"00:00:00",0,0,0,0]
[null,0,null,0,null,null,null,"00:00:00",0,0,0,0]
[null,0,null,0,null,null,null,"00:00:00",0,0,0,0]
[null,0,null,0,null,null,null,"00:00:00",0,0,0,0]
[null,0,null,0,null,null,null,"00:00:00",0,0,0,0]
[null,0,null,0,null,null,null,"00:00:00",0,0,0,0]
[null,0,null,0,null,null,null,"00:00:00",0,0,0,0]
[null,0,null,0,null,null,null,"00:00:00",0,0,0,0]
[null,0,null,0,null,null,null,"00:00:00",0,0,0,0]
[null,0,null,0,null,null,null,"00:00:00",0,0,0,0]
[null,0,null,0,null,null,null,"00:00:00",0,0,0,0]
[null,0,null,0,null,null,null,"00:00:00",0,0,0,0]
[null,0,null,0,null,null,null,"00:00:00",0,0,0,0]
[null,0,null,0,null,null,null,"00:00:00",0,0,0,0]
[null,0,null,0,null,null,null,"00:00:00",0,0,0,0]
[null,0,null,0,null,null,null,"00:00:00",0,0,0,0]
[null,0,null,0,null,null,null,"00:00:00",0,0,0,0]
[null,0,null,0,null,null,null,"00:00:00",0,0,0,0]
[null,0,null,0,null,null,null,"00:00:00",0,0,0,0]
[null,0,null,0,null,null,null,"00:00:00",0,0,0,0]
[null,0,null,0,null,null,null,"00:00:00",0,0,0,0]
[null,0,null,0,null,null,null,"00:00:00",0,0,0,0]
[null,0,null,0,null,null,null,"00:00:00",0,0,0,0]
[null,0,null,0,null,null,null,"00:00:00",0,0,0,0]
[null,0,null,0,null,null,null,"00:00:00",0,0,0,0]
[null,0,null,0,null,null,null,"00:00:00",0,0,0,0]
[null,0,null,0,null,null,null,"00:00:00",0,0,0,0]
[null,0,null,0,null,null,null,"00:00:00",0,0,0,0]
[null,0,null,0,null,null,null,"00:00:00",0,0,0,0]
[null,0,null,0,null,null,null,"00:00:00",0,0,0,0]
[null,0,null,0,null,null,null,"00:00:00",0,0,0,0]
[null,0,null,0,null,null,null,"00:00:00",0,0,0,0]
[null,0,null,0,null,null,null,"00:00:00",0,0,0,0]
[null,0,null,0,null,null,null,"00:00:00",0,0,0,0]
[null,0,null,0,null,null,null,"00:00:00",0,0,0,0]
[null,0,null,0,null,null,null,"00:00:00",0,0,0,0]
[null,0,null,0,null,null,null,"00:00:00",0,0,0,0]
[null,0,null,0,null,null,null,"00:00:00",0,0,0,0]
[null,0,null,0,null,null,null,"00:00:00",0,0,0,0]
[null,0,null,0,null,null,null,"00:00:00",0,0,0,0]
[null,0,null,0,null,null,null,"00:00:00",0,0,0,0]
[null,0,null,0,null,null,null,"00:00:00",0,0,0,0]
[null,0,null,0,null,null,null,"00:00:00",0,0,0,0]
[null,0,null,0,null,null,null,"00:00:00",0,0,0,0]
[null,0,null,0,null,null,null,"00:00:00",0,0,0,0]
[null,0,null,0,null,null,null,"00:00:00",0,0,0,0]
[null,0,null,0,null,null,null,"00:00:00",0,0,0,0]
[null,0,null,0,null,null,null,"00:00:00",0,0,0,0]
[null,0,null,0,null,null,null,"00:00:00",0,0,0,0]
[null,0,null,0,null,null,null,"00:00:00",0,0,0,0]
[null,0,null,0,null,null,null,"00:00:00",0,0,0,0]
[null,0,null,0,null,null,null,"00:00:00",0,0,0,0]
[null,0,null,0,null,null,null,"00:00:00",0,0,0,0]
[null,0,null,0,null,null,null,"00:00:00",0,0,0,0]
[null,0,null,0,null,null,null,"00:00:00",0,0,0,0]
[null,0,null,0,null,null,null,"00:00:00",0,0,0,0]
[null,0,null,0,null,null,null,"00:00:00",0,0,0,0]
[null,0,null,0,null,null,null,"00:00:00",0,0,0,0]
[null,0,null,0,null,null,null,"00:00:00",0,0,0,0]
[null,0,null,0,null,null,null,"00:00:00",0,0,0,0]
[null,0,null,0,null,null,null,"00:00:00",0,0,0,0]
[null,0,null,0,null,null,null,"00:00:00",0,0,0,0]
[null,0,null,0,null,null,null,"00:00:00",0,0,0,0]
[null,0,null,0,null,null,null,"00:00:00",0,0,0,0]
[null,0,null,0,null,null,null,"00:00:00",0,0,0,0]
[null,0,null,0,null,null,null,"00:00:00",0,0,0,0]
[null,0,null,0,null,null,null,"00:00:00",0,0,0,0]
[null,0,null,0,null,null,null,"00:00:00",0,0,0,0]
[null,0,null,0,null,null,null,"00:00:00",0,0,0,0]
[null,0,null,0,null,null,null,"00:00:00",0,0,0,0]
[null,0,null,0,null,null,null,"00:00:00",0,0,0,0]
[null,0,null,0,null,null,null,"00:00:00",0,0,0,0]
[null,0,null,0,null,null,null,"00:00:00",0,0,0,0]
[null,0,null,0,null,null,null,"00:00:00",0,0,0,0]
[null,0,null,0,null,null,null,"00:00:00",0,0,0,0]
[null,0,null,0,null,null,null,"00:00:00",0,0,0,0]
[null,0,null,0,null,null,null,"00:00:00",0,0,0,0]
[null,0,null,0,null,null,null,"00:00:00",0,0,0,0]
[null,0,null,0,null,null,null,"00:00:00",0,0,0,0]
[null,0,null,0,null,null,null,"00:00:00",0,0,0,0]
[null,0,null,0,null,null,null,"00:00:00",0,0,0,0]
[null,0,null,0,null,null,null,"00:00:00",0,0,0,0]
[null,0,null,0,null,null,null,"00:00:00",0,0,0,0]
[null,0,null,0,null,null,null,"00:00:00",0,0,0,0]
[null,0,null,0,null,null,null,"00:00:00",0,0,0,0]
[null,0,null,0,null,null,null,"00:00:00",0,0,0,0]
[null,0,null,0,null,null,null,"00:00:00",0,0,0,0]
[null,0,null,0,null,null,null,"00:00:00",0,0,0,0]
[null,0,null,0,null,null,null,"00:00:00",0,0,0,0]
[null,0,null,0,null,null,null,"00:00:00",0,0,0,0]
[null,0,null,0,null,null,null,"00:00:00",0,0,0,0]
[null,0,null,0,null,null,null,"00:00:00",0,0,0,0]
[null,0,null,0,null,null,null,"00:00:00",0,0,0,0]
[null,0,null,0,null,null,null,"00:00:00",0,0,0,0]
[null,0,null,0,null,null,null,"00:00:00",0,0,0,0]
[null,0,null,0,null,null,null,"00:00:00",0,0,0,0]
[null,0,null,0,null,null,null,"00:00:00",0,0,0,0]
[null,0,null,0,null,null,null,"00:00:00",0,0,0,0]
[null,0,null,0,null,null,null,"00:00:00",0,0,0,0]
[null,0,null,0,null,null,null,"00:00:00",0,0,0,0]
[null,0,null,0,null,null,null,"00:00:00",0,0,0,0]
[null,0,null,0,null,null,null,"00:00:00",0,0,0,0]
[null,0,null,0,null,null,null,"00:00:00",0,0,0,0]
[null,0,null,0,null,null,null,"00:00:00",0,0,0,0]
[null,0,null,0,null,null,null,"00:00:00",0,0,0,0]
[null,0,null,0,null,null,null,"00:00:00",0,0,0,0]
[null,0,null,0,null,null,null,"00:00:00",0,0,0,0]
[null,0,null,0,null,null,null,"00:00:00",0,0,0,0]
[null,0,null,0,null,null,null,"00:00:00",0,0,0,0]
[null,0,null,0,null,null,null,"00:00:00",0,0,0,0]
[null,0,null,0,null,null,null,"00:00:00",0,0,0,0]
[null,0,null,0,null,null,null,"00:00:00",0,0,0,0]
[null,0,null,0,null,null,null,"00:00:00",0,0,0,0]
[null,0,null,0,null,null,null,"00:00:00",0,0,0,0]
[null,0,null,0,null,null,null,"00:00:00",0,0,0,0]
[null,0,null,0,null,null,null,"00:00:00",0,0,0,0]
[null,0,null,0,null,null,null,"00:00:00",0,0,0,0]
[null,0,null,0,null,null,null,"00:00:00",0,0,0,0]
[null,0,null,0,null,null,null,"00:00:00",0,0,0,0]
[null,0,null,0,null,null,null,"00:00:00",0,0,0,0]
[null,0,null,0,null,null,null,"00:00:00",0,0,0,0]
[null,0,null,0,null,null,null,"00:00:00",0,0,0,0]
[null,0,null,0,null,null,null,"00:00:00",0,0,0,0]
[null,0,null,0,null,null,null,"00:00:00",0,0,0,0]
[null,0,null,0,null,null,null,"00:00:00",0,0,0,0]
[null,0,null,0,null,null,null,"00:00:00",0,0,0,0]
[null,0,null,0,null,null,null,"00:00:00",0,0,0,0]
[null,0,null,0,null,null,null,"00:00:00",0,0,0,0]
[null,0,null,0,null,null,null,"00:00:00",0,0,0,0]
[null,0,null,0,null,null,null,"00:00:00",0,0,0,0]
[null,0,null,0,null,null,null,"00:00:00",0,0,0,0]
[null,0,null,0,null,null,null,"00:00:00",0,0,0,0]
[null,0,null,0,null,null,null,"00:00:00",0,0,0,0]
[null,0,null,0,null,null,null,"00:00:00",0,0,0,0]
[null,0,null,0,null,null,null,"00:00:00",0,0,0,0]
[null,0,null,0,null,null,null,"00:00:00",0,0,0,0]
[null,0,null,0,null,null,null,"00:00:00",0,0,0,0]
[null,0,null,0,null,null,null,"00:00:00",0,0,0,0]
[null,0,null,0,null,null,null,"00:00:00",0,0,0,0]
[null,0,null,0,null,null,null,"00:00:00",0,0,0,0]
[null,0,null,0,null,null,null,"00:00:00",0,0,0,0]
[null,0,null,0,null,null,null,"00:00:00",0,0,0,0]
[null,0,null,0,null,null,null,"00:00:00",0,0,0,0]
[null,0,null,0,null,null,null,"00:00:00",0,0,0,0]
[null,0,null,0,null,null,null,"00:00:00",0,0,0,0]
[null,0,null,0,null,null,null,"00:00:00",0,0,0,0]
[null,0,null,0,null,null,null,"00:00:00",0,0,0,0]
[null,0,null,0,null,null,null,"00:00:00",0,0,0,0]
[null,0,null,0,null,null,null,"00:00:00",0,0,0,0]
[null,0,null,0,null,null,null,"00:00:00",0,0,0,0]
[null,0,null,0,null,null,null,"00:00:00",0,0,0,0]
[null,0,null,0,null,null,null,"00:00:00",0,0,0,0]
[null,0,null,0,null,null,null,"00:00:00",0,0,0,0]
[null,0,null,0,null,null,null,"00:00:00",0,0,0,0]
[null,0,null,0,null,null,null,"00:00:00",0,0,0,0]
[null,0,null,0,null,null,null,"00:00:00",0,0,0,0]
[null,0,null,0,null,null,null,"00:00:00",0,0,0,0]
[null,0,null,0,null,null,null,"00:00:00",0,0,0,0]
[null,0,null,0,null,null,null,"00:00:00",0,0,0,0]
[null,0,null,0,null,null,null,"00:00:00",0,0,0,0]
[null,0,null,0,null,null,null,"00:00:00",0,0,0,0]
[null,0,null,0,null,null,null,"00:00:00",0,0,0,0]
[null,0,null,0,null,null,null,"00:00:00",0,0,0,0]
[null,0,null,0,null,null,null,"00:00:00",0,0,0,0]
[null,0,null,0,null,null,null,"00:00:00",0,0,0,0]
[null,0,null,0,null,null,null,"00:00:00",0,0,0,0]
[null,0,null,0,null,null,null,"00:00:00",0,0,0,0]
[null,0,null,0,null,null,null,"00:00:00",0,0,0,0]
[null,0,null,0,null,null,null,"00:00:00",0,0,0,0]
[null,0,null,0,null,null,null,"00:00:00",0,0,0,0]
[null,0,null,0,null,null,null,"00:00:00",0,0,0,0]
[null,0,null,0,null,null,null,"00:00:00",0,0,0,0]
[null,0,null,0,null,null,null,"00:00:00",0,0,0,0]
[null,0,null,0,null,null,null,"00:00:00",0,0,0,0]
[null,0,null,0,null,null,null,"00:00:00",0,0,0,0]
[null,0,null,0,null,null,null,"00:00:00",0,0,0,0]
[null,0,null,0,null,null,null,"00:00:00",0,0,0,0]
[null,0,null,0,null,null,null,"00:00:00",0,0,0,0]
[null,0,null,0,null,null,null,"00:00:00",0,0,0,0]
[null,0,null,0,null,null,null,"00:00:00",0,0,0,0]
[null,0,null,0,null,null,null,"00:00:00",0,0,0,0]
[null,0,null,0,null,null,null,"00:00:00",0,0,0,0]
[null,0,null,0,null,null,null,"00:00:00",0,0,0,0]
[null,0,null,0,null,null,null,"00:00:00",0,0,0,0]
[null,0,null,0,null,null,null,"00:00:00",0,0,0,0]
[null,0,null,0,null,null,null,"00:00:00",0,0,0,0]
[null,0,null,0,null,null,null,"00:00:00",0,0,0,0]
[null,0,null,0,null,null,null,"00:00:00",0,0,0,0]
[null,0,null,0,null,null,null,"00:00:00",0,0,0,0]
[null,0,null,0,null,null,null,"00:00:00",0,0,0,0]
[null,0,null,0,null,null,null,"00:00:00",0,0,0,0]
[null,0,null,0,null,null,null,"00:00:00",0,0,0,0]
[null,0,null,0,null,null,null,"00:00:00",0,0,0,0]
[null,0,null,0,null,null,null,"00:00:00",0,0,0,0]
[null,0,null,0,null,null,null,"00:00:00",0,0,0,0]
[null,0,null,0,null,null,null,"00:00:00",0,0,0,0]
[null,0,null,0,null,null,null,"00:00:00",0,0,0,0]
[null,0,null,0,null,null,null,"00:00:00",0,0,0,0]
[null,0,null,0,null,null,null,"00:00:00",0,0,0,0]
[null,0,null,0,null,null,null,"00:00:00",0,0,0,0]
[null,0,null,0,null,null,null,"00:00:00",0,0,0,0]
[null,0,null,0,null,null,null,"00:00:00",0,0,0,0]
[null,0,null,0,null,null,null,"00:00:00",0,0,0,0]
[null,0,null,0,null,null,null,"00:00:00",0,0,0,0]
[null,0,null,0,null,null,null,"00:00:00",0,0,0,0]
[null,0,null,0,null,null,null,"00:00:00",0,0,0,0]
[null,0,null,0,null,null,null,"00:00:00",0,0,0,0]
[null,0,null,0,null,null,null,"00:00:00",0,0,0,0]
[null,0,null,0,null,null,null,"00:00:00",0,0,0,0]
[null,0,null,0,null,null,null,"00:00:00",0,0,0,0]
[null,0,null,0,null,null,null,"00:00:00",0,0,0,0]
[null,0,null,0,null,null,null,"00:00:00",0,0,0,0]
[null,0,null,0,null,null,null,"00:00:00",0,0,0,0]
[null,0,null,0,null,null,null,"00:00:00",0,0,0,0]
[null,0,null,0,null,null,null,"00:00:00",0,0,0,0]
[null,0,null,0,null,null,null,"00:00:00",0,0,0,0]
[null,0,null,0,null,null,null,"00:00:00",0,0,0,0]
[null,0,null,0,null,null,null,"00:00:00",0,0,0,0]
[null,0,null,0,null,null,null,"00:00:00",0,0,0,0]
[null,0,null,0,null,null,null,"00:00:00",0,0,0,0]
[null,0,null,0,null,null,null,"00:00:00",0,0,0,0]
[null,0,null,0,null,null,null,"00:00:00",0,0,0,0]
[null,0,null,0,null,null,null,"00:00:00",0,0,0,0]
[null,0,null,0,null,null,null,"00:00:00",0,0,0,0]
[null,0,null,0,null,null,null,"00:00:00",0,0,0,0]
[null,0,null,0,null,null,null,"00:00:00",0,0,0,0]
[null,0,null,0,null,null,null,"00:00:00",0,0,0,0]
[null,0,null,0,null,null,null,"00:00:00",0,0,0,0]
[null,0,null,0,null,null,null,"00:00:00",0,0,0,0]
[null,0,null,0,null,null,null,"00:00:00",0,0,0,0]
[null,0,null,0,null,null,null,"00:00:00",0,0,0,0]
[null,0,null,0,null,null,null,"00:00:00",0,0,0,0]
[null,0,null,0,null,null,null,"00:00:00",0,0,0,0]
[null,0,null,0,null,null,null,"00:00:00",0,0,0,0]
[null,0,null,0,null,null,null,"00:00:00",0,0,0,0]
[null,0,null,0,null,null,null,"00:00:00",0,0,0,0]
[null,0,null,0,null,null,null,"00:00:00",0,0,0,0]
[null,0,null,0,null,null,null,"00:00:00",0,0,0,0]
[null,0,null,0,null,null,null,"00:00:00",0,0,0,0]
[null,0,null,0,null,null,null,"00:00:00",0,0,0,0]
[null,0,null,0,null,null,null,"00:00:00",0,0,0,0]
[null,0,null,0,null,null,null,"00:00:00",0,0,0,0]
[null,0,null,0,null,null,null,"00:00:00",0,0,0,0]
[null,0,null,0,null,null,null,"00:00:00",0,0,0,0]
[null,0,null,0,null,null,null,"00:00:00",0,0,0,0]
[null,0,null,0,null,null,null,"00:00:00",0,0,0,0]
[null,0,null,0,null,null,null,"00:00:00",0,0,0,0]
[null,0,null,0,null,null,null,"00:00:00",0,0,0,0]
[null,0,null,0,null,null,null,"00:00:00",0,0,0,0]
[null,0,null,0,null,null,null,"00:00:00",0,0,0,0]
[null,0,null,0,null,null,null,"00:00:00",0,0,0,0]
[null,0,null,0,null,null,null,"00:00:00",0,0,0,0]
[null,0,null,0,null,null,null,"00:00:00",0,0,0,0]
[null,0,null,0,null,null,null,"00:00:00",0,0,0,0]
[null,0,null,0,null,null,null,"00:00:00",0,0,0,0]
[null,0,null,0,null,null,null,"00:00:00",0,0,0,0]
[null,0,null,0,null,null,null,"00:00:00",0,0,0,0]
[null,0,null,0,null,null,null,"00:00:00",0,0,0,0]
[null,0,null,0,null,null,null,"00:00:00",0,0,0,0]
[null,0,null,0,null,null,null,"00:00:00",0,0,0,0]
[null,0,null,0,null,null,null,"00:00:00",0,0,0,0]
[null,0,null,0,null,null,null,"00:00:00",0,0,0,0]
[null,0,null,0,null,null,null,"00:00:00",0,0,0,0]
[null,0,null,0,null,null,null,"00:00:00",0,0,0,0]
[null,0,null,0,null,null,null,"00:00:00",0,0,0,0]
[null,0,null,0,null,null,null,"00:00:00",0,0,0,0]
[null,0,null,0,null,null,null,"00:00:00",0,0,0,0]
[null,0,null,0,null,null,null,"00:00:00",0,0,0,0]
[null,0,null,0,null,null,null,"00:00:00",0,0,0,0]
[null,0,null,0,null,null,null,"00:00:00",0,0,0,0]
[null,0,null,0,null,null,null,"00:00:00",0,0,0,0]
[null,0,null,0,null,null,null,"00:00:00",0,0,0,0]
[null,0,null,0,null,null,null,"00:00:00",0,0,0,0]
[null,0,null,0,null,null,null,"00:00:00",0,0,0,0]
[null,0,null,0,null,null,null,"00:00:00",0,0,0,0]
[null,0,null,0,null,null,null,"00:00:00",0,0,0,0]
[null,0,null,0,null,null,null,"00:00:00",0,0,0,0]
[null,0,null,0,null,null,null,"00:00:00",0,0,0,0]
[null,0,null,0,null,null,null,"00:00:00",0,0,0,0]
[null,0,null,0,null,null,null,"00:00:00",0,0,0,0]
[null,0,null,0,null,null,null,"00:00:00",0,0,0,0]
[null,0,null,0,null,null,null,"00:00:00",0,0,0,0]
[null,0,null,0,null,null,null,"00:00:00",0,0,0,0]
[null,0,null,0,null,null,null,"00:00:00",0,0,0,0]
[null,0,null,0,null,null,null,"00:00:00",0,0,0,0]
[null,0,null,0,null,null,null,"00:00:00",0,0,0,0]
[null,0,null,0,null,null,null,"00:00:00",0,0,0,0]
[null,0,null,0,null,null,null,"00:00:00",0,0,0,0]
[null,0,null,0,null,null,null,"00:00:00",0,0,0,0]
[null,0,null,0,null,null,null,"00:00:00",0,0,0,0]
[null,0,null,0,null,null,null,"00:00:00",0,0,0,0]
[null,0,null,0,null,null,null,"00:00:00",0,0,0,0]
[null,0,null,0,null,null,null,"00:00:00",0,0,0,0]
[null,0,null,0,null,null,null,"00:00:00",0,0,0,0]
[null,0,null,0,null,null,null,"00:00:00",0,0,0,0]
[null,0,null,0,null,null,null,"00:00:00",0,0,0,0]
[null,0,null,0,null,null,null,"00:00:00",0,0,0,0]
[null,0,null,0,null,null,null,"00:00:00",0,0,0,0]
[null,0,null,0,null,null,null,"00:00:00",0,0,0,0]
[null,0,null,0,null,null,null,"00:00:00",0,0,0,0]
[null,0,null,0,null,null,null,"00:00:00",0,0,0,0]
[null,0,null,0,null,null,null,"00:00:00",0,0,0,0]
[null,0,null,0,null,null,null,"00:00:00",0,0,0,0]
[null,0,null,0,null,null,null,"00:00:00",0,0,0,0]
[null,0,null,0,null,null,null,"00:00:00",0,0,0,0]
[null,0,null,0,null,null,null,"00:00:00",0,0,0,0]
[null,0,null,0,null,null,null,"00:00:00",0,0,0,0]
[null,0,null,0,null,null,null,"00:00:00",0,0,0,0]
[null,0,null,0,null,null,null,"00:00:00",0,0,0,0]
[null,0,null,0,null,null,null,"00:00:00",0,0,0,0]
[null,0,null,0,null,null,null,"00:00:00",0,0,0,0]
[null,0,null,0,null,null,null,"00:00:00",0,0,0,0]
[null,0,null,0,null,null,null,"00:00:00",0,0,0,0]
[null,0,null,0,null,null,null,"00:00:00",0,0,0,0]
[null,0,null,0,null,null,null,"00:00:00",0,0,0,0]
[null,0,null,0,null,null,null,"00:00:00",0,0,0,0]
[null,0,null,0,null,null,null,"00:00:00",0,0,0,0]
[null,0,null,0,null,null,null,"00:00:00",0,0,0,0]
[null,0,null,0,null,null,null,"00:00:00",0,0,0,0]
[null,0,null,0,null,null,null,"00:00:00",0,0,0,0]
[null,0,null,0,null,null,null,"00:00:00",0,0,0,0]
[null,0,null,0,null,null,null,"00:00:00",0,0,0,0]
[null,0,null,0,null,null,null,"00:00:00",0,0,0,0]
[null,0,null,0,null,null,null,"00:00:00",0,0,0,0]
[null,0,null,0,null,null,null,"00:00:00",0,0,0,0]
[null,0,null,0,null,null,null,"00:00:00",0,0,0,0]
[null,0,null,0,null,null,null,"00:00:00",0,0,0,0]
[null,0,null,0,null,null,null,"00:00:00",0,0,0,0]
[null,0,null,0,null,null,null,"00:00:00",0,0,0,0]
[null,0,null,0,null,null,null,"00:00:00",0,0,0,0]
[null,0,null,0,null,null,null,"00:00:00",0,0,0,0]
[null,0,null,0,null,null,null,"00:00:00",0,0,0,0]
[null,0,null,0,null,null,null,"00:00:00",0,0,0,0]
[null,0,null,0,null,null,null,"00:00:00",0,0,0,0]
[null,0,null,0,null,null,null,"00:00:00",0,0,0,0]
[null,0,null,0,null,null,null,"00:00:00",0,0,0,0]
[null,0,null,0,null,null,null,"00:00:00",0,0,0,0]
[null,0,null,0,null,null,null,"00:00:00",0,0,0,0]
[null,0,null,0,null,null,null,"00:00:00",0,0,0,0]
[null,0,null,0,null,null,null,"00:00:00",0,0,0,0]
[null,0,null,0,null,null,null,"00:00:00",0,0,0,0]
[null,0,null,0,null,null,null,"00:00:00",0,0,0,0]
[null,0,null,0,null,null,null,"00:00:00",0,0,0,0]
[null,0,null,0,null,null,null,"00:00:00",0,0,0,0]
[null,0,null,0,null,null,null,"00:00:00",0,0,0,0]
[null,0,null,0,null,null,null,"00:00:00",0,0,0,0]
[null,0,null,0,null,null,null,"00:00:00",0,0,0,0]
[null,0,null,0,null,null,null,"00:00:00",0,0,0,0]
[null,0,null,0,null,null,null,"00:00:00",0,0,0,0]
[null,0,null,0,null,null,null,"00:00:00",0,0,0,0]
[null,0,null,0,null,null,null,"00:00:00",0,0,0,0]
[null,0,null,0,null,null,null,"00:00:00",0,0,0,0]
[null,0,null,0,null,null,null,"00:00:00",0,0,0,0]
[null,0,null,0,null,null,null,"00:00:00",0,0,0,0]
[null,0,null,0,null,null,null,"00:00:00",0,0,0,0]
[null,0,null,0,null,null,null,"00:00:00",0,0,0,0]
[null,0,null,0,null,null,null,"00:00:00",0,0,0,0]
[null,0,null,0,null,null,null,"00:00:00",0,0,0,0]
[null,0,null,0,null,null,null,"00:00:00",0,0,0,0]
[null,0,null,0,null,null,null,"00:00:00",0,0,0,0]
[null,0,null,0,null,null,null,"00:00:00",0,0,0,0]
[null,0,null,0,null,null,null,"00:00:00",0,0,0,0]
[null,0,null,0,null,null,null,"00:00:00",0,0,0,0]
[null,0,null,0,null,null,null,"00:00:00",0,0,0,0]
[null,0,null,0,null,null,null,"00:00:00",0,0,0,0]
[null,0,null,0,null,null,null,"00:00:00",0,0,0,0]
[null,0,null,0,null,null,null,"00:00:00",0,0,0,0]
[null,0,null,0,null,null,null,"00:00:00",0,0,0,0]
[null,0,null,0,null,null,null,"00:00:00",0,0,0,0]
[null,0,null,0,null,null,null,"00:00:00",0,0,0,0]
[null,0,null,0,null,null,null,"00:00:00",0,0,0,0]
[null,0,null,0,null,null,null,"00:00:00",0,0,0,0]
[null,0,null,0,null,null,null,"00:00:00",0,0,0,0]
[null,0,null,0,null,null,null,"00:00:00",0,0,0,0]
[null,0,null,0,null,null,null,"00:00:00",0,0,0,0]
[null,0,null,0,null,null,null,"00:00:00",0,0,0,0]
[null,0,null,0,null,null,null,"00:00:00",0,0,0,0]
[null,0,null,0,null,null,null,"00:00:00",0,0,0,0]
[null,0,null,0,null,null,null,"00:00:00",0,0,0,0]
[null,0,null,0,null,null,null,"00:00:00",0,0,0,0]
[null,0,null,0,null,null,null,"00:00:00",0,0,0,0]
[null,0,null,0,null,null,null,"00:00:00",0,0,0,0]
[null,0,null,0,null,null,null,"00:00:00",0,0,0,0]
[null,0,null,0,null,null,null,"00:00:00",0,0,0,0]
[null,0,null,0,null,null,null,"00:00:00",0,0,0,0]
[null,0,null,0,null,null,null,"00:00:00",0,0,0,0]
[null,0,null,0,null,null,null,"00:00:00",0,0,0,0]
[null,0,null,0,null,null,null,"00:00:00",0,0,0,0]
[null,0,null,0,null,null,null,"00:00:00",0,0,0,0]
[null,0,null,0,null,null,null,"00:00:00",0,0,0,0]
[null,0,null,0,null,null,null,"00:00:00",0,0,0,0]
[null,0,null,0,null,null,null,"00:00:00",0,0,0,0]
[null,0,null,0,null,null,null,"00:00:00",0,0,0,0]
[null,0,null,0,null,null,null,"00:00:00",0,0,0,0]
[null,0,null,0,null,null,null,"00:00:00",0,0,0,0]
[null,0,null,0,null,null,null,"00:00:00",0,0,0,0]
[null,0,null,0,null,null,null,"00:00:00",0,0,0,0]
[null,0,null,0,null,null,null,"00:00:00",0,0,0,0]
[null,0,null,0,null,null,null,"00:00:00",0,0,0,0]
[null,0,null,0,null,null,null,"00:00:00",0,0,0,0]
[null,0,null,0,null,null,null,"00:00:00",0,0,0,0]
[null,0,null,0,null,null,null,"00:00:00",0,0,0,0]
[null,0,null,0,null,null,null,"00:00:00",0,0,0,0]
[null,0,null,0,null,null,null,"00:00:00",0,0,0,0]
[null,0,null,0,null,null,null,"00:00:00",0,0,0,0]
[null,0,null,0,null,null,null,"00:00:00",0,0,0,0]
[null,0,null,0,null,null,null,"00:00:00",0,0,0,0]
[null,0,null,0,null,null,null,"00:00:00",0,0,0,0]
[null,0,null,0,null,null,null,"00:00:00",0,0,0,0]
[null,0,null,0,null,null,null,"00:00:00",0,0,0,0]
[null,0,null,0,null,null,null,"00:00:00",0,0,0,0]
[null,0,null,0,null,null,null,"00:00:00",0,0,0,0]
[null,0,null,0,null,null,null,"00:00:00",0,0,0,0]
[null,0,null,0,null,null,null,"00:00:00",0,0,0,0]
[null,0,null,0,null,null,null,"00:00:00",0,0,0,0]
[null,0,null,0,null,null,null,"00:00:00",0,0,0,0]
[null,0,null,0,null,null,null,"00:00:00",0,0,0,0]
[null,0,null,0,null,null,null,"00:00:00",0,0,0,0]
[null,0,null,0,null,null,null,"00:00:00",0,0,0,0]
[null,0,null,0,null,null,null,"00:00:00",0,0,0,0]
[null,0,null,0,null,null,null,"00:00:00",0,0,0,0]
[null,0,null,0,null,null,null,"00:00:00",0,0,0,0]
[null,0,null,0,null,null,null,"00:00:00",0,0,0,0]
[null,0,null,0,null,null,null,"00:00:00",0,0,0,0]
[null,0,null,0,null,null,null,"00:00:00",0,0,0,0]
[null,0,null,0,null,null,null,"00:00:00",0,0,0,0]
[null,0,null,0,null,null,null,"00:00:00",0,0,0,0]
[null,0,null,0,null,null,null,"00:00:00",0,0,0,0]
[null,0,null,0,null,null,null,"00:00:00",0,0,0,0]
[null,0,null,0,null,null,null,"00:00:00",0,0,0,0]
[null,0,null,0,null,null,null,"00:00:00",0,0,0,0]
[null,0,null,0,null,null,null,"00:00:00",0,0,0,0]
[null,0,null,0,null,null,null,"00:00:00",0,0,0,0]
[null,0,null,0,null,null,null,"00:00:00",0,0,0,0]
[null,0,null,0,null,null,null,"00:00:00",0,0,0,0]
[null,0,null,0,null,null,null,"00:00:00",0,0,0,0]
[null,0,null,0,null,null,null,"00:00:00",0,0,0,0]
[null,0,null,0,null,null,null,"00:00:00",0,0,0,0]
[null,0,null,0,null,null,null,"00:00:00",0,0,0,0]
[null,0,null,0,null,null,null,"00:00:00",0,0,0,0]
[null,0,null,0,null,null,null,"00:00:00",0,0,0,0]
[null,0,null,0,null,null,null,"00:00:00",0,0,0,0]
[null,0,null,0,null,null,null,"00:00:00",0,0,0,0]
[null,0,null,0,null,null,null,"00:00:00",0,0,0,0]
[null,0,null,0,null,null,null,"00:00:00",0,0,0,0]
[null,0,null,0,null,null,null,"00:00:00",0,0,0,0]
[null,0,null,0,null,null,null,"00:00:00",0,0,0,0]
[null,0,null,0,null,null,null,"00:00:00",0,0,0,0]
[null,0,null,0,null,null,null,"00:00:00",0,0,0,0]
[null,0,null,0,null,null,null,"00:00:00",0,0,0,0]
[null,0,null,0,null,null,null,"00:00:00",0,0,0,0]
[null,0,null,0,null,null,null,"00:00:00",0,0,0,0]
[null,0,null,0,null,null,null,"00:00:00",0,0,0,0]
[null,0,null,0,null,null,null,"00:00:00",0,0,0,0]
[null,0,null,0,null,null,null,"00:00:00",0,0,0,0]
[null,0,null,0,null,null,null,"00:00:00",0,0,0,0]
[null,0,null,0,null,null,null,"00:00:00",0,0,0,0]
[null,0,null,0,null,null,null,"00:00:00",0,0,0,0]
[null,0,null,0,null,null,null,"00:00:00",0,0,0,0]
[null,0,null,0,null,null,null,"00:00:00",0,0,0,0]
[null,0,null,0,null,null,null,"00:00:00",0,0,0,0]
[null,0,null,0,null,null,null,"00:00:00",0,0,0,0]
[null,0,null,0,null,null,null,"00:00:00",0,0,0,0]
[null,0,null,0,null,null,null,"00:00:00",0,0,0,0]
[null,0,null,0,null,null,null,"00:00:00",0,0,0,0]
[null,0,null,0,null,null,null,"00:00:00",0,0,0,0]
[null,0,null,0,null,null,null,"00:00:00",0,0,0,0]
[null,0,null,0,null,null,null,"00:00:00",0,0,0,0]
[null,0,null,0,null,null,null,"00:00:00",0,0,0,0]
[null,0,null,0,null,null,null,"00:00:00",0,0,0,0]
[null,0,null,0,null,null,null,"00:00:00",0,0,0,0]
[null,0,null,0,null,null,null,"00:00:00",0,0,0,0]
[null,0,null,0,null,null,null,"00:00:00",0,0,0,0]
[null,0,null,0,null,null,null,"00:00:00",0,0,0,0]
[null,0,null,0,null,null,null,"00:00:00",0,0,0,0]
[null,0,null,0,null,null,null,"00:00:00",0,0,0,0]
[null,0,null,0,null,null,null,"00:00:00",0,0,0,0]
[null,0,null,0,null,null,null,"00:00:00",0,0,0,0]
[null,0,null,0,null,null,null,"00:00:00",0,0,0,0]
[null,0,null,0,null,null,null,"00:00:00",0,0,0,0]
[null,0,null,0,null,null,null,"00:00:00",0,0,0,0]
[null,0,null,0,null,null,null,"00:00:00",0,0,0,0]
[null,0,null,0,null,null,null,"00:00:00",0,0,0,0]
[null,0,null,0,null,null,null,"00:00:00",0,0,0,0]
[null,0,null,0,null,null,null,"00:00:00",0,0,0,0]
[null,0,null,0,null,null,null,"00:00:00",0,0,0,0]
[null,0,null,0,null,null,null,"00:00:00",0,0,0,0]
[null,0,null,0,null,null,null,"00:00:00",0,0,0,0]
[null,0,null,0,null,null,null,"00:00:00",0,0,0,0]
[null,0,null,0,null,null,null,"00:00:00",0,0,0,0]
[null,0,null,0,null,null,null,"00:00:00",0,0,0,0]
[null,0,null,0,null,null,null,"00:00:00",0,0,0,0]
[null,0,null,0,null,null,null,"00:00:00",0,0,0,0]
[null,0,null,0,null,null,null,"00:00:00",0,0,0,0]
[null,0,null,0,null,null,null,"00:00:00",0,0,0,0]
[null,0,null,0,null,null,null,"00:00:00",0,0,0,0]
[null,0,null,0,null,null,null,"00:00:00",0,0,0,0]
[null,0,null,0,null,null,null,"00:00:00",0,0,0,0]
[null,0,null,0,null,null,null,"00:00:00",0,0,0,0]
[null,0,null,0,null,null,null,"00:00:00",0,0,0,0]
[null,0,null,0,null,null,null,"00:00:00",0,0,0,0]
[null,0,null,0,null,null,null,"00:00:00",0,0,0,0]
[null,0,null,0,null,null,null,"00:00:00",0,0,0,0]
[null,0,null,0,null,null,null,"00:00:00",0,0,0,0]
[null,0,null,0,null,null,null,"00:00:00",0,0,0,0]
[null,0,null,0,null,null,null,"00:00:00",0,0,0,0]
[null,0,null,0,null,null,null,"00:00:00",0,0,0,0]
[null,0,null,0,null,null,null,"00:00:00",0,0,0,0]
[null,0,null,0,null,null,null,"00:00:00",0,0,0,0]
[null,0,null,0,null,null,null,"00:00:00",0,0,0,0]
[null,0,null,0,null,null,null,"00:00:00",0,0,0,0]
[null,0,null,0,null,null,null,"00:00:00",0,0,0,0]
[null,0,null,0,null,null,null,"00:00:00",0,0,0,0]
[null,0,null,0,null,null,null,"00:00:00",0,0,0,0]
[null,0,null,0,null,null,null,"00:00:00",0,0,0,0]
[null,0,null,0,null,null,null,"00:00:00",0,0,0,0]
[null,0,null,0,null,null,null,"00:00:00",0,0,0,0]
[null,0,null,0,null,null,null,"00:00:00",0,0,0,0]
[null,0,null,0,null,null,null,"00:00:00",0,0,0,0]
[null,0,null,0,null,null,null,"00:00:00",0,0,0,0]
[null,0,null,0,null,null,null,"00:00:00",0,0,0,0]
[null,0,null,0,null,null,null,"00:00:00",0,0,0,0]
[null,0,null,0,null,null,null,"00:00:00",0,0,0,0]
[null,0,null,0,null,null,null,"00:00:00",0,0,0,0]
[null,0,null,0,null,null,null,"00:00:00",0,0,0,0]
[null,0,null,0,null,null,null,"00:00:00",0,0,0,0]
[null,0,null,0,null,null,null,"00:00:00",0,0,0,0]
[null,0,null,0,null,null,null,"00:00:00",0,0,0,0]
[null,0,null,0,null,null,null,"00:00:00",0,0,0,0]
[null,0,null,0,null,null,null,"00:00:00",0,0,0,0]
[null,0,null,0,null,null,null,"00:00:00",0,0,0,0]
[null,0,null,0,null,null,null,"00:00:00",0,0,0,0]
[null,0,null,0,null,null,null,"00:00:00",0,0,0,0]
[null,0,null,0,null,null,null,"00:00:00",0,0,0,0]
[null,0,null,0,null,null,null,"00:00:00",0,0,0,0]
[null,0,null,0,null,null,null,"00:00:00",0,0,0,0]
[null,0,null,0,null,null,null,"00:00:00",0,0,0,0]
[null,0,null,0,null,null,null,"00:00:00",0,0,0,0]
[null,0,null,0,null,null,null,"00:00:00",0,0,0,0]
[null,0,null,0,null,null,null,"00:00:00",0,0,0,0]
[null,0,null,0,null,null,null,"00:00:00",0,0,0,0]
[null,0,null,0,null,null,null,"00:00:00",0,0,0,0]
[null,0,null,0,null,null,null,"00:00:00",0,0,0,0]
[null,0,null,0,null,null,null,"00:00:00",0,0,0,0]
[null,0,null,0,null,null,null,"00:00:00",0,0,0,0]
[null,0,null,0,null,null,null,"00:00:00",0,0,0,0]
[null,0,null,0,null,null,null,"00:00:00",0,0,0,0]
[null,0,null,0,null,null,null,"00:00:00",0,0,0,0]
[null,0,null,0,null,null,null,"00:00:00",0,0,0,0]
[null,0,null,0,null,null,null,"00:00:00",0,0,0,0]
[null,0,null,0,null,null,null,"00:00:00",0,0,0,0]
[null,0,null,0,null,null,null,"00:00:00",0,0,0,0]
[null,0,null,0,null,null,null,"00:00:00",0,0,0,0]
[null,0,null,0,null,null,null,"00:00:00",0,0,0,0]
[null,0,null,0,null,null,null,"00:00:00",0,0,0,0]
[null,0,null,0,null,null,null,"00:00:00",0,0,0,0]
[null,0,null,0,null,null,null,"00:00:00",0,0,0,0]
[null,0,null,0,null,null,null,"00:00:00",0,0,0,0]
[null,0,null,0,null,null,null,"00:00:00",0,0,0,0]
[null,0,null,0,null,null,null,"00:00:00",0,0,0,0]
[null,0,null,0,null,null,null,"00:00:00",0,0,0,0]
[null,0,null,0,null,null,null,"00:00:00",0,0,0,0]
[null,0,null,0,null,null,null,"00:00:00",0,0,0,0]
[null,0,null,0,null,null,null,"00:00:00",0,0,0,0]
[null,0,null,0,null,null,null,"00:00:00",0,0,0,0]
[null,0,null,0,null,null,null,"00:00:00",0,0,0,0]
[null,0,null,0,null,null,null,"00:00:00",0,0,0,0]
[null,0,null,0,null,null,null,"00:00:00",0,0,0,0]
[null,0,null,0,null,null,null,"00:00:00",0,0,0,0]
[null,0,null,0,null,null,null,"00:00:00",0,0,0,0]
[null,0,null,0,null,null,null,"00:00:00",0,0,0,0]
[null,0,null,0,null,null,null,"00:00:00",0,0,0,0]
[null,0,null,0,null,null,null,"00:00:00",0,0,0,0]
[null,0,null,0,null,null,null,"00:00:00",0,0,0,0]
[null,0,null,0,null,null,null,"00:00:00",0,0,0,0]
[null,0,null,0,null,null,null,"00:00:00",0,0,0,0]
[null,0,null,0,null,null,null,"00:00:00",0,0,0,0]
[null,0,null,0,null,null,null,"00:00:00",0,0,0,0]
[null,0,null,0,null,null,null,"00:00:00",0,0,0,0]
[null,0,null,0,null,null,null,"00:00:00",0,0,0,0]
[null,0,null,0,null,null,null,"00:00:00",0,0,0,0]
[null,0,null,0,null,null,null,"00:00:00",0,0,0,0]
[null,0,null,0,null,null,null,"00:00:00",0,0,0,0]
[null,0,null,0,null,null,null,"00:00:00",0,0,0,0]
[null,0,null,0,null,null,null,"00:00:00",0,0,0,0]
[null,0,null,0,null,null,null,"00:00:00",0,0,0,0]
[null,0,null,0,null,null,null,"00:00:00",0,0,0,0]
[null,0,null,0,null,null,null,"00:00:00",0,0,0,0]
[null,0,null,0,null,null,null,"00:00:00",0,0,0,0]
[null,0,null,0,null,null,null,"00:00:00",0,0,0,0]
[null,0,null,0,null,null,null,"00:00:00",0,0,0,0]
[null,0,null,0,null,null,null,"00:00:00",0,0,0,0]
[null,0,null,0,null,null,null,"00:00:00",0,0,0,0]
[null,0,null,0,null,null,null,"00:00:00",0,0,0,0]
[null,0,null,0,null,null,null,"00:00:00",0,0,0,0]
[null,0,null,0,null,null,null,"00:00:00",0,0,0,0]
[null,0,null,0,null,null,null,"00:00:00",0,0,0,0]
[null,0,null,0,null,null,null,"00:00:00",0,0,0,0]
[null,0,null,0,null,null,null,"00:00:00",0,0,0,0]
[null,0,null,0,null,null,null,"00:00:00",0,0,0,0]
[null,0,null,0,null,null,null,"00:00:00",0,0,0,0]
[null,0,null,0,null,null,null,"00:00:00",0,0,0,0]
[null,0,null,0,null,null,null,"00:00:00",0,0,0,0]
[null,0,null,0,null,null,null,"00:00:00",0,0,0,0]
[null,0,null,0,null,null,null,"00:00:00",0,0,0,0]
[null,0,null,0,null,null,null,"00:00:00",0,0,0,0]
[null,0,null,0,null,null,null,"00:00:00",0,0,0,0]
[null,0,null,0,null,null,null,"00:00:00",0,0,0,0]
[null,0,null,0,null,null,null,"00:00:00",0,0,0,0]
[null,0,null,0,null,null,null,"00:00:00",0,0,0,0]
[null,0,null,0,null,null,null,"00:00:00",0,0,0,0]
[null,0,null,0,null,null,null,"00:00:00",0,0,0,0]
[null,0,null,0,null,null,null,"00:00:00",0,0,0,0]
[null,0,null,0,null,null,null,"00:00:00",0,0,0,0]
[null,0,null,0,null,null,null,"00:00:00",0,0,0,0]
[null,0,null,0,null,null,null,"00:00:00",0,0,0,0]
[null,0,null,0,null,null,null,"00:00:00",0,0,0,0]
[null,0,null,0,null,null,null,"00:00:00",0,0,0,0]
[null,0,null,0,null,null,null,"00:00:00",0,0,0,0]
[null,0,null,0,null,null,null,"00:00:00",0,0,0,0]
[null,0,null,0,null,null,null,"00:00:00",0,0,0,0]
[null,0,null,0,null,null,null,"00:00:00",0,0,0,0]
[null,0,null,0,null,null,null,"00:00:00",0,0,0,0]
[null,0,null,0,null,null,null,"00:00:00",0,0,0,0]
[null,0,null,0,null,null,null,"00:00:00",0,0,0,0]
[null,0,null,0,null,null,null,"00:00:00",0,0,0,0]
[null,0,null,0,null,null,null,"00:00:00",0,0,0,0]
[null,0,null,0,null,null,null,"00:00:00",0,0,0,0]
[null,0,null,0,null,null,null,"00:00:00",0,0,0,0]
[null,0,null,0,null,null,null,"00:00:00",0,0,0,0]
[null,0,null,0,null,null,null,"00:00:00",0,0,0,0]
[null,0,null,0,null,null,null,"00:00:00",0,0,0,0]
[null,0,null,0,null,null,null,"00:00:00",0,0,0,0]
[null,0,null,0,null,null,null,"00:00:00",0,0,0,0]
[null,0,null,0,null,null,null,"00:00:00",0,0,0,0]
[null,0,null,0,null,null,null,"00:00:00",0,0,0,0]
[null,0,null,0,null,null,null,"00:00:00",0,0,0,0]
[null,0,null,0,null,null,null,"00:00:00",0,0,0,0]
[null,0,null,0,null,null,null,"00:00:00",0,0,0,0]
[null,0,null,0,null,null,null,"00:00:00",0,0,0,0]
[null,0,null,0,null,null,null,"00:00:00",0,0,0,0]
[null,0,null,0,null,null,null,"00:00:00",0,0,0,0]
[null,0,null,0,null,null,null,"00:00:00",0,0,0,0]
[null,0,null,0,null,null,null,"00:00:00",0,0,0,0]
[null,0,null,0,null,null,null,"00:00:00",0,0,0,0]
[null,0,null,0,null,null,null,"00:00:00",0,0,0,0]
[null,0,null,0,null,null,null,"00:00:00",0,0,0,0]
[null,0,null,0,null,null,null,"00:00:00",0,0,0,0]
[null,0,null,0,null,null,null,"00:00:00",0,0,0,0]
[null,0,null,0,null,null,null,"00:00:00",0,0,0,0]
[null,0,null,0,null,null,null,"00:00:00",0,0,0,0]
[null,0,null,0,null,null,null,"00:00:00",0,0,0,0]
[null,0,null,0,null,null,null,"00:00:00",0,0,0,0]
[null,0,null,0,null,null,null,"00:00:00",0,0,0,0]
[null,0,null,0,null,null,null,"00:00:00",0,0,0,0]
[null,0,null,0,null,null,null,"00:00:00",0,0,0,0]
[null,0,null,0,null,null,null,"00:00:00",0,0,0,0]
[null,0,null,0,null,null,null,"00:00:00",0,0,0,0]
[null,0,null,0,null,null,null,"00:00:00",0,0,0,0]
[null,0,null,0,null,null,null,"00:00:00",0,0,0,0]
[null,0,null,0,null,null,null,"00:00:00",0,0,0,0]
[null,0,null,0,null,null,null,"00:00:00",0,0,0,0]
[null,0,null,0,null,null,null,"00:00:00",0,0,0,0]
[null,0,null,0,null,null,null,"00:00:00",0,0,0,0]
[null,0,null,0,null,null,null,"00:00:00",0,0,0,0]
[null,0,null,0,null,null,null,"00:00:00",0,0,0,0]
[null,0,null,0,null,null,null,"00:00:00",0,0,0,0]
[null,0,null,0,null,null,null,"00:00:00",0,0,0,0]
[null,0,null,0,null,null,null,"00:00:00",0,0,0,0]
[null,0,null,0,null,null,null,"00:00:00",0,0,0,0]
[null,0,null,0,null,null,null,"00:00:00",0,0,0,0]
[null,0,null,0,null,null,null,"00:00:00",0,0,0,0]
[null,0,null,0,null,null,null,"00:00:00",0,0,0,0]
[null,0,null,0,null,null,null,"00:00:00",0,0,0,0]
[null,0,null,0,null,null,null,"00:00:00",0,0,0,0]
[null,0,null,0,null,null,null,"00:00:00",0,0,0,0]
[null,0,null,0,null,null,null,"00:00:00",0,0,0,0]
[null,0,null,0,null,null,null,"00:00:00",0,0,0,0]
[null,0,null,0,null,null,null,"00:00:00",0,0,0,0]
[null,0,null,0,null,null,null,"00:00:00",0,0,0,0]
[null,0,null,0,null,null,null,"00:00:00",0,0,0,0]
[null,0,null,0,null,null,null,"00:00:00",0,0,0,0]
[null,0,null,0,null,null,null,"00:00:00",0,0,0,0]
[null,0,null,0,null,null,null,"00:00:00",0,0,0,0]
[null,0,null,0,null,null,null,"00:00:00",0,0,0,0]
[null,0,null,0,null,null,null,"00:00:00",0,0,0,0]
[null,0,null,0,null,null,null,"00:00:00",0,0,0,0]
[null,0,null,0,null,null,null,"00:00:00",0,0,0,0]
[null,0,null,0,null,null,null,"00:00:00",0,0,0,0]
[null,0,null,0,null,null,null,"00:00:00",0,0,0,0]
[null,0,null,0,null,null,null,"00:00:00",0,0,0,0]
[null,0,null,0,null,null,null,"00:00:00",0,0,0,0]
[null,0,null,0,null,null,null,"00:00:00",0,0,0,0]
[null,0,null,0,null,null,null,"00:00:00",0,0,0,0]
[null,0,null,0,null,null,null,"00:00:00",0,0,0,0]
[null,0,null,0,null,null,null,"00:00:00",0,0,0,0]
[null,0,null,0,null,null,null,"00:00:00",0,0,0,0]
[null,0,null,0,null,null,null,"00:00:00",0,0,0,0]
[null,0,null,0,null,null,null,"00:00:00",0,0,0,0]
[null,0,null,0,null,null,null,"00:00:00",0,0,0,0]
[null,0,null,0,null,null,null,"00:00:00",0,0,0,0]
[null,0,null,0,null,null,null,"00:00:00",0,0,0,0]
[null,0,null,0,null,null,null,"00:00:00",0,0,0,0]
[null,0,null,0,null,null,null,"00:00:00",0,0,0,0]
[null,0,null,0,null,null,null,"00:00:00",0,0,0,0]
[null,0,null,0,null,null,null,"00:00:00",0,0,0,0]
[null,0,null,0,null,null,null,"00:00:00",0,0,0,0]
[null,0,null,0,null,null,null,"00:00:00",0,0,0,0]
[null,0,null,0,null,null,null,"00:00:00",0,0,0,0]
[null,0,null,0,null,null,null,"00:00:00",0,0,0,0]
[null,0,null,0,null,null,null,"00:00:00",0,0,0,0]
[null,0,null,0,null,null,null,"00:00:00",0,0,0,0]
[null,0,null,0,null,null,null,"00:00:00",0,0,0,0]
[null,0,null,0,null,null,null,"00:00:00",0,0,0,0]
[null,0,null,0,null,null,null,"00:00:00",0,0,0,0]
[null,0,null,0,null,null,null,"00:00:00",0,0,0,0]
[null,0,null,0,null,null,null,"00:00:00",0,0,0,0]
[null,0,null,0,null,null,null,"00:00:00",0,0,0,0]
[null,0,null,0,null,null,null,"00:00:00",0,0,0,0]
[null,0,null,0,null,null,null,"00:00:00",0,0,0,0]
[null,0,null,0,null,null,null,"00:00:00",0,0,0,0]
[null,0,null,0,null,null,null,"00:00:00",0,0,0,0]
[null,0,null,0,null,null,null,"00:00:00",0,0,0,0]
[null,0,null,0,null,null,null,"00:00:00",0,0,0,0]
[null,0,null,0,null,null,null,"00:00:00",0,0,0,0]
[null,0,null,0,null,null,null,"00:00:00",0,0,0,0]
[null,0,null,0,null,null,null,"00:00:00",0,0,0,0]
[null,0,null,0,null,null,null,"00:00:00",0,0,0,0]
[null,0,null,0,null,null,null,"00:00:00",0,0,0,0]
[null,0,null,0,null,null,null,"00:00:00",0,0,0,0]
[null,0,null,0,null,null,null,"00:00:00",0,0,0,0]
[null,0,null,0,null,null,null,"00:00:00",0,0,0,0]
[null,0,null,0,null,null,null,"00:00:00",0,0,0,0]
[null,0,null,0,null,null,null,"00:00:00",0,0,0,0]
[null,0,null,0,null,null,null,"00:00:00",0,0,0,0]
[null,0,null,0,null,null,null,"00:00:00",0,0,0,0]
[null,0,null,0,null,null,null,"00:00:00",0,0,0,0]
[null,0,null,0,null,null,null,"00:00:00",0,0,0,0]
[null,0,null,0,null,null,null,"00:00:00",0,0,0,0]
[null,0,null,0,null,null,null,"00:00:00",0,0,0,0]
[null,0,null,0,null,null,null,"00:00:00",0,0,0,0]
[null,0,null,0,null,null,null,"00:00:00",0,0,0,0]
[null,0,null,0,null,null,null,"00:00:00",0,0,0,0]
[null,0,null,0,null,null,null,"00:00:00",0,0,0,0]
[null,0,null,0,null,null,null,"00:00:00",0,0,0,0]
[null,0,null,0,null,null,null,"00:00:00",0,0,0,0]
[null,0,null,0,null,null,null,"00:00:00",0,0,0,0]
[null,0,null,0,null,null,null,"00:00:00",0,0,0,0]
[null,0,null,0,null,null,null,"00:00:00",0,0,0,0]
[null,0,null,0,null,null,null,"00:00:00",0,0,0,0]
[null,0,null,0,null,null,null,"00:00:00",0,0,0,0]
[null,0,null,0,null,null,null,"00:00:00",0,0,0,0]
[null,0,null,0,null,null,null,"00:00:00",0,0,0,0]
[null,0,null,0,null,null,null,"00:00:00",0,0,0,0]
[null,0,null,0,null,null,null,"00:00:00",0,0,0,0]
[null,0,null,0,null,null,null,"00:00:00",0,0,0,0]
[null,0,null,0,null,null,null,"00:00:00",0,0,0,0]
[null,0,null,0,null,null,null,"00:00:00",0,0,0,0]
[null,0,null,0,null,null,null,"00:00:00",0,0,0,0]
[null,0,null,0,null,null,null,"00:00:00",0,0,0,0]
[null,0,null,0,null,null,null,"00:00:00",0,0,0,0]
[null,0,null,0,null,null,null,"00:00:00",0,0,0,0]
[null,0,null,0,null,null,null,"00:00:00",0,0,0,0]
[null,0,null,0,null,null,null,"00:00:00",0,0,0,0]
[null,0,null,0,null,null,null,"00:00:00",0,0,0,0]
[null,0,null,0,null,null,null,"00:00:00",0,0,0,0]
[null,0,null,0,null,null,null,"00:00:00",0,0,0,0]
[null,0,null,0,null,null,null,"00:00:00",0,0,0,0]
[null,0,null,0,null,null,null,"00:00:00",0,0,0,0]
[null,0,null,0,null,null,null,"00:00:00",0,0,0,0]
[null,0,null,0,null,null,null,"00:00:00",0,0,0,0]
[null,0,null,0,null,null,null,"00:00:00",0,0,0,0]
[null,0,null,0,null,null,null,"00:00:00",0,0,0,0]
[null,0,null,0,null,null,null,"00:00:00",0,0,0,0]
[null,0,null,0,null,null,null,"00:00:00",0,0,0,0]
[null,0,null,0,null,null,null,"00:00:00",0,0,0,0]
[null,0,null,0,null,null,null,"00:00:00",0,0,0,0]
[null,0,null,0,null,null,null,"00:00:00",0,0,0,0]
[null,0,null,0,null,null,null,"00:00:00",0,0,0,0]
[null,0,null,0,null,null,null,"00:00:00",0,0,0,0]
[null,0,null,0,null,null,null,"00:00:00",0,0,0,0]
[null,0,null,0,null,null,null,"00:00:00",0,0,0,0]
[null,0,null,0,null,null,null,"00:00:00",0,0,0,0]
[null,0,null,0,null,null,null,"00:00:00",0,0,0,0]
[null,0,null,0,null,null,null,"00:00:00",0,0,0,0]
[null,0,null,0,null,null,null,"00:00:00",0,0,0,0]
[null,0,null,0,null,null,null,"00:00:00",0,0,0,0]
[null,0,null,0,null,null,null,"00:00:00",0,0,0,0]
[null,0,null,0,null,null,null,"00:00:00",0,0,0,0]
[null,0,null,0,null,null,null,"00:00:00",0,0,0,0]
[null,0,null,0,null,null,null,"00:00:00",0,0,0,0]
[null,0,null,0,null,null,null,"00:00:00",0,0,0,0]
[null,0,null,0,null,null,null,"00:00:00",0,0,0,0]
[null,0,null,0,null,null,null,"00:00:00",0,0,0,0]
[null,0,null,0,null,null,null,"00:00:00",0,0,0,0]
[null,0,null,0,null,null,null,"00:00:00",0,0,0,0]
[null,0,null,0,null,null,null,"00:00:00",0,0,0,0]
[null,0,null,0,null,null,null,"00:00:00",0,0,0,0]
[null,0,null,0,null,null,null,"00:00:00",0,0,0,0]
[null,0,null,0,null,null,null,"00:00:00",0,0,0,0]
[null,0,null,0,null,null,null,"00:00:00",0,0,0,0]
[null,0,null,0,null,null,null,"00:00:00",0,0,0,0]
[null,0,null,0,null,null,null,"00:00:00",0,0,0,0]
[null,0,null,0,null,null,null,"00:00:00",0,0,0,0]
[null,0,null,0,null,null,null,"00:00:00",0,0,0,0]
[null,0,null,0,null,null,null,"00:00:00",0,0,0,0]
[null,0,null,0,null,null,null,"00:00:00",0,0,0,0]
[null,0,null,0,null,null,null,"00:00:00",0,0,0,0]
[null,0,null,0,null,null,null,"00:00:00",0,0,0,0]
[null,0,null,0,null,null,null,"00:00:00",0,0,0,0]
[null,0,null,0,null,null,null,"00:00:00",0,0,0,0]
[null,0,null,0,null,null,null,"00:00:00",0,0,0,0]
[null,0,null,0,null,null,null,"00:00:00",0,0,0,0]
[null,0,null,0,null,null,null,"00:00:00",0,0,0,0]
[null,0,null,0,null,null,null,"00:00:00",0,0,0,0]
[null,0,null,0,null,null,null,"00:00:00",0,0,0,0]
[null,0,null,0,null,null,null,"00:00:00",0,0,0,0]
[null,0,null,0,null,null,null,"00:00:00",0,0,0,0]
[null,0,null,0,null,null,null,"00:00:00",0,0,0,0]
[null,0,null,0,null,null,null,"00:00:00",0,0,0,0]
[null,0,null,0,null,null,null,"00:00:00",0,0,0,0]
[null,0,null,0,null,null,null,"00:00:00",0,0,0,0]
[null,0,null,0,null,null,null,"00:00:00",0,0,0,0]
[null,0,null,0,null,null,null,"00:00:00",0,0,0,0]
[null,0,null,0,null,null,null,"00:00:00",0,0,0,0]
[null,0,null,0,null,null,null,"00:00:00",0,0,0,0]
[null,0,null,0,null,null,null,"00:00:00",0,0,0,0]
[null,0,null,0,null,null,null,"00:00:00",0,0,0,0]
[null,0,null,0,null,null,null,"00:00:00",0,0,0,0]
[null,0,null,0,null,null,null,"00:00:00",0,0,0,0]
[null,0,null,0,null,null,null,"00:00:00",0,0,0,0]
[null,0,null,0,null,null,null,"00:00:00",0,0,0,0]
[null,0,null,0,null,null,null,"00:00:00",0,0,0,0]
[null,0,null,0,null,null,null,"00:00:00",0,0,0,0]
[null,0,null,0,null,null,null,"00:00:00",0,0,0,0]
[null,0,null,0,null,null,null,"00:00:00",0,0,0,0]
[null,0,null,0,null,null,null,"00:00:00",0,0,0,0]
[null,0,null,0,null,null,null,"00:00:00",0,0,0,0]
[null,0,null,0,null,null,null,"00:00:00",0,0,0,0]
[null,0,null,0,null,null,null,"00:00:00",0,0,0,0]
[null,0,null,0,null,null,null,"00:00:00",0,0,0,0]
[null,0,null,0,null,null,null,"00:00:00",0,0,0,0]
[null,0,null,0,null,null,null,"00:00:00",0,0,0,0]
[null,0,null,0,null,null,null,"00:00:00",0,0,0,0]
[null,0,null,0,null,null,null,"00:00:00",0,0,0,0]
[null,0,null,0,null,null,null,"00:00:00",0,0,0,0]
[null,0,null,0,null,null,null,"00:00:00",0,0,0,0]
[null,0,null,0,null,null,null,"00:00:00",0,0,0,0]
[null,0,null,0,null,null,null,"00:00:00",0,0,0,0]
[null,0,null,0,null,null,null,"00:00:00",0,0,0,0]
[null,0,null,0,null,null,null,"00:00:00",0,0,0,0]
[null,0,null,0,null,null,null,"00:00:00",0,0,0,0]
[null,0,null,0,null,null,null,"00:00:00",0,0,0,0]
[null,0,null,0,null,null,null,"00:00:00",0,0,0,0]
[null,0,null,0,null,null,null,"00:00:00",0,0,0,0]
[null,0,null,0,null,null,null,"00:00:00",0,0,0,0]
[null,0,null,0,null,null,null,"00:00:00",0,0,0,0]
[null,0,null,0,null,null,null,"00:00:00",0,0,0,0]
[null,0,null,0,null,null,null,"00:00:00",0,0,0,0]
[null,0,null,0,null,null,null,"00:00:00",0,0,0,0]
[null,0,null,0,null,null,null,"00:00:00",0,0,0,0]
[null,0,null,0,null,null,null,"00:00:00",0,0,0,0]
[null,0,null,0,null,null,null,"00:00:00",0,0,0,0]
[null,0,null,0,null,null,null,"00:00:00",0,0,0,0]
[null,0,null,0,null,null,null,"00:00:00",0,0,0,0]
[null,0,null,0,null,null,null,"00:00:00",0,0,0,0]
[null,0,null,0,null,null,null,"00:00:00",0,0,0,0]
[null,0,null,0,null,null,null,"00:00:00",0,0,0,0]
[null,0,null,0,null,null,null,"00:00:00",0,0,0,0]
[null,0,null,0,null,null,null,"00:00:00",0,0,0,0]
[null,0,null,0,null,null,null,"00:00:00",0,0,0,0]
[null,0,null,0,null,null,null,"00:00:00",0,0,0,0]
[null,0,null,0,null,null,null,"00:00:00",0,0,0,0]
[null,0,null,0,null,null,null,"00:00:00",0,0,0,0]
[null,0,null,0,null,null,null,"00:00:00",0,0,0,0]
[null,0,null,0,null,null,null,"00:00:00",0,0,0,0]
[null,0,null,0,null,null,null,"00:00:00",0,0,0,0]
[null,0,null,0,null,null,null,"00:00:00",0,0,0,0]
[null,0,null,0,null,null,null,"00:00:00",0,0,0,0]
[null,0,null,0,null,null,null,"00:00:00",0,0,0,0]
[null,0,null,0,null,null,null,"00:00:00",0,0,0,0]
[null,0,null,0,null,null,null,"00:00:00",0,0,0,0]
[null,0,null,0,null,null,null,"00:00:00",0,0,0,0]
[null,0,null,0,null,null,null,"00:00:00",0,0,0,0]
[null,0,null,0,null,null,null,"00:00:00",0,0,0,0]
[null,0,null,0,null,null,null,"00:00:00",0,0,0,0]
[null,0,null,0,null,null,null,"00:00:00",0,0,0,0]
[null,0,null,0,null,null,null,"00:00:00",0,0,0,0]
[null,0,null,0,null,null,null,"00:00:00",0,0,0,0]
[null,0,null,0,null,null,null,"00:00:00",0,0,0,0]
[null,0,null,0,null,null,null,"00:00:00",0,0,0,0]
[null,0,null,0,null,null,null,"00:00:00",0,0,0,0]
[null,0,null,0,null,null,null,"00:00:00",0,0,0,0]
[null,0,null,0,null,null,null,"00:00:00",0,0,0,0]
[null,0,null,0,null,null,null,"00:00:00",0,0,0,0]
[null,0,null,0,null,null,null,"00:00:00",0,0,0,0]
[null,0,null,0,null,null,null,"00:00:00",0,0,0,0]
[null,0,null,0,null,null,null,"00:00:00",0,0,0,0]
[null,0,null,0,null,null,null,"00:00:00",0,0,0,0]
[null,0,null,0,null,null,null,"00:00:00",0,0,0,0]
[null,0,null,0,null,null,null,"00:00:00",0,0,0,0]
[null,0,null,0,null,null,null,"00:00:00",0,0,0,0]
[null,0,null,0,null,null,null,"00:00:00",0,0,0,0]
[null,0,null,0,null,null,null,"00:00:00",0,0,0,0]
[null,0,null,0,null,null,null,"00:00:00",0,0,0,0]
[null,0,null,0,null,null,null,"00:00:00",0,0,0,0]
[null,0,null,0,null,null,null,"00:00:00",0,0,0,0]
[null,0,null,0,null,null,null,"00:00:00",0,0,0,0]
[null,0,null,0,null,null,null,"00:00:00",0,0,0,0]
[null,0,null,0,null,null,null,"00:00:00",0,0,0,0]
[null,0,null,0,null,null,null,"00:00:00",0,0,0,0]
[null,0,null,0,null,null,null,"00:00:00",0,0,0,0]
[null,0,null,0,null,null,null,"00:00:00",0,0,0,0]
[null,0,null,0,null,null,null,"00:00:00",0,0,0,0]
[null,0,null,0,null,null,null,"00:00:00",0,0,0,0]
[null,0,null,0,null,null,null,"00:00:00",0,0,0,0]
[null,0,null,0,null,null,null,"00:00:00",0,0,0,0]
[null,0,null,0,null,null,null,"00:00:00",0,0,0,0]
[null,0,null,0,null,null,null,"00:00:00",0,0,0,0]
[null,0,null,0,null,null,null,"00:00:00",0,0,0,0]
[null,0,null,0,null,null,null,"00:00:00",0,0,0,0]
[null,0,null,0,null,null,null,"00:00:00",0,0,0,0]
[null,0,null,0,null,null,null,"00:00:00",0,0,0,0]
[null,0,null,0,null,null,null,"00:00:00",0,0,0,0]
[null,0,null,0,null,null,null,"00:00:00",0,0,0,0]
[null,0,null,0,null,null,null,"00:00:00",0,0,0,0]
[null,0,null,0,null,null,null,"00:00:00",0,0,0,0]
[null,0,null,0,null,null,null,"00:00:00",0,0,0,0]
[null,0,null,0,null,null,null,"00:00:00",0,0,0,0]
[null,0,null,0,null,null,null,"00:00:00",0,0,0,0]
[null,0,null,0,null,null,null,"00:00:00",0,0,0,0]
[null,0,null,0,null,null,null,"00:00:00",0,0,0,0]
[null,0,null,0,null,null,null,"00:00:00",0,0,0,0]
[null,0,null,0,null,null,null,"00:00:00",0,0,0,0]
[null,0,null,0,null,null,null,"00:00:00",0,0,0,0]
[null,0,null,0,null,null,null,"00:00:00",0,0,0,0]
[null,0,null,0,null,null,null,"00:00:00",0,0,0,0]
[null,0,null,0,null,null,null,"00:00:00",0,0,0,0]
[null,0,null,0,null,null,null,"00:00:00",0,0,0,0]
[null,0,null,0,null,null,null,"00:00:00",0,0,0,0]
[null,0,null,0,null,null,null,"00:00:00",0,0,0,0]
[null,0,null,0,null,null,null,"00:00:00",0,0,0,0]
[null,0,null,0,null,null,null,"00:00:00",0,0,0,0]
[null,0,null,0,null,null,null,"00:00:00",0,0,0,0]
[null,0,null,0,null,null,null,"00:00:00",0,0,0,0]
[null,0,null,0,null,null,null,"00:00:00",0,0,0,0]
[null,0,null,0,null,null,null,"00:00:00",0,0,0,0]
[null,0,null,0,null,null,null,"00:00:00",0,0,0,0]
[null,0,null,0,null,null,null,"00:00:00",0,0,0,0]
[null,0,null,0,null,null,null,"00:00:00",0,0,0,0]
[null,0,null,0,null,null,null,"00:00:00",0,0,0,0]
[null,0,null,0,null,null,null,"00:00:00",0,0,0,0]
[null,0,null,0,null,null,null,"00:00:00",0,0,0,0]
[null,0,null,0,null,null,null,"00:00:00",0,0,0,0]
[null,0,null,0,null,null,null,"00:00:00",0,0,0,0]
[null,0,null,0,null,null,null,"00:00:00",0,0,0,0]
[null,0,null,0,null,null,null,"00:00:00",0,0,0,0]
[null,0,null,0,null,null,null,"00:00:00",0,0,0,0]
[null,0,null,0,null,null,null,"00:00:00",0,0,0,0]
[null,0,null,0,null,null,null,"00:00:00",0,0,0,0]
[null,0,null,0,null,null,null,"00:00:00",0,0,0,0]
[null,0,null,0,null,null,null,"00:00:00",0,0,0,0]
[null,0,null,0,null,null,null,"00:00:00",0,0,0,0]
[null,0,null,0,null,null,null,"00:00:00",0,0,0,0]
[null,0,null,0,null,null,null,"00:00:00",0,0,0,0]
[null,0,null,0,null,null,null,"00:00:00",0,0,0,0]
[null,0,null,0,null,null,null,"00:00:00",0,0,0,0]
[null,0,null,0,null,null,null,"00:00:00",0,0,0,0]
[null,0,null,0,null,null,null,"00:00:00",0,0,0,0]
[null,0,null,0,null,null,null,"00:00:00",0,0,0,0]
[null,0,null,0,null,null,null,"00:00:00",0,0,0,0]
[null,0,null,0,null,null,null,"00:00:00",0,0,0,0]
[null,0,null,0,null,null,null,"00:00:00",0,0,0,0]
[null,0,null,0,null,null,null,"00:00:00",0,0,0,0]
[null,0,null,0,null,null,null,"00:00:00",0,0,0,0]
[null,0,null,0,null,null,null,"00:00:00",0,0,0,0]
[null,0,null,0,null,null,null,"00:00:00",0,0,0,0]
[null,0,null,0,null,null,null,"00:00:00",0,0,0,0]
[null,0,null,0,null,null,null,"00:00:00",0,0,0,0]
[null,0,null,0,null,null,null,"00:00:00",0,0,0,0]
[null,0,null,0,null,null,null,"00:00:00",0,0,0,0]
[null,0,null,0,null,null,null,"00:00:00",0,0,0,0]
[null,0,null,0,null,null,null,"00:00:00",0,0,0,0]
[null,0,null,0,null,null,null,"00:00:00",0,0,0,0]
[null,0,null,0,null,null,null,"00:00:00",0,0,0,0]
[null,0,null,0,null,null,null,"00:00:00",0,0,0,0]
[null,0,null,0,null,null,null,"00:00:00",0,0,0,0]
[null,0,null,0,null,null,null,"00:00:00",0,0,0,0]
[null,0,null,0,null,null,null,"00:00:00",0,0,0,0]
[null,0,null,0,null,null,null,"00:00:00",0,0,0,0]
[null,0,null,0,null,null,null,"00:00:00",0,0,0,0]
[null,0,null,0,null,null,null,"00:00:00",0,0,0,0]
[null,0,null,0,null,null,null,"00:00:00",0,0,0,0]
[null,0,null,0,null,null,null,"00:00:00",0,0,0,0]
[null,0,null,0,null,null,null,"00:00:00",0,0,0,0]
[null,0,null,0,null,null,null,"00:00:00",0,0,0,0]
[null,0,null,0,null,null,null,"00:00:00",0,0,0,0]
[null,0,null,0,null,null,null,"00:00:00",0,0,0,0]
[null,0,null,0,null,null,null,"00:00:00",0,0,0,0]
[null,0,null,0,null,null,null,"00:00:00",0,0,0,0]
[null,0,null,0,null,null,null,"00:00:00",0,0,0,0]
[null,0,null,0,null,null,null,"00:00:00",0,0,0,0]
[null,0,null,0,null,null,null,"00:00:00",0,0,0,0]
[null,0,null,0,null,null,null,"00:00:00",0,0,0,0]
[null,0,null,0,null,null,null,"00:00:00",0,0,0,0]
[null,0,null,0,null,null,null,"00:00:00",0,0,0,0]
[null,0,null,0,null,null,null,"00:00:00",0,0,0,0]
[null,0,null,0,null,null,null,"00:00:00",0,0,0,0]
[null,0,null,0,null,null,null,"00:00:00",0,0,0,0]
[null,0,null,0,null,null,null,"00:00:00",0,0,0,0]
[null,0,null,0,null,null,null,"00:00:00",0,0,0,0]
[null,0,null,0,null,null,null,"00:00:00",0,0,0,0]
[null,0,null,0,null,null,null,"00:00:00",0,0,0,0]
[null,0,null,0,null,null,null,"00:00:00",0,0,0,0]
[null,0,null,0,null,null,null,"00:00:00",0,0,0,0]
[null,0,null,0,null,null,null,"00:00:00",0,0,0,0]
[null,0,null,0,null,null,null,"00:00:00",0,0,0,0]
[null,0,null,0,null,null,null,"00:00:00",0,0,0,0]
[null,0,null,0,null,null,null,"00:00:00",0,0,0,0]
[null,0,null,0,null,null,null,"00:00:00",0,0,0,0]
[null,0,null,0,null,null,null,"00:00:00",0,0,0,0]
[null,0,null,0,null,null,null,"00:00:00",0,0,0,0]
[null,0,null,0,null,null,null,"00:00:00",0,0,0,0]
[null,0,null,0,null,null,null,"00:00:00",0,0,0,0]
[null,0,null,0,null,null,null,"00:00:00",0,0,0,0]
[null,0,null,0,null,null,null,"00:00:00",0,0,0,0]
[null,0,null,0,null,null,null,"00:00:00",0,0,0,0]
[null,0,null,0,null,null,null,"00:00:00",0,0,0,0]
[null,0,null,0,null,null,null,"00:00:00",0,0,0,0]
[null,0,null,0,null,null,null,"00:00:00",0,0,0,0]
[null,0,null,0,null,null,null,"00:00:00",0,0,0,0]
[null,0,null,0,null,null,null,"00:00:00",0,0,0,0]
[null,0,null,0,null,null,null,"00:00:00",0,0,0,0]
[null,0,null,0,null,null,null,"00:00:00",0,0,0,0]
[null,0,null,0,null,null,null,"00:00:00",0,0,0,0]
[null,0,null,0,null,null,null,"00:00:00",0,0,0,0]
[null,0,null,0,null,null,null,"00:00:00",0,0,0,0]
[null,0,null,0,null,null,null,"00:00:00",0,0,0,0]
[null,0,null,0,null,null,null,"00:00:00",0,0,0,0]
[null,0,null,0,null,null,null,"00:00:00",0,0,0,0]
[null,0,null,0,null,null,null,"00:00:00",0,0,0,0]
[null,0,null,0,null,null,null,"00:00:00",0,0,0,0]
[null,0,null,0,null,null,null,"00:00:00",0,0,0,0]
[null,0,null,0,null,null,null,"00:00:00",0,0,0,0]
[null,0,null,0,null,null,null,"00:00:00",0,0,0,0]
[null,0,null,0,null,null,null,"00:00:00",0,0,0,0]
[null,0,null,0,null,null,null,"00:00:00",0,0,0,0]
[null,0,null,0,null,null,null,"00:00:00",0,0,0,0]
[null,0,null,0,null,null,null,"00:00:00",0,0,0,0]
[null,0,null,0,null,null,null,"00:00:00",0,0,0,0]
[null,0,null,0,null,null,null,"00:00:00",0,0,0,0]
[null,0,null,0,null,null,null,"00:00:00",0,0,0,0]
[null,0,null,0,null,null,null,"00:00:00",0,0,0,0]
[null,0,null,0,null,null,null,"00:00:00",0,0,0,0]
[null,0,null,0,null,null,null,"00:00:00",0,0,0,0]
[null,0,null,0,null,null,null,"00:00:00",0,0,0,0]
[null,0,null,0,null,null,null,"00:00:00",0,0,0,0]
[null,0,null,0,null,null,null,"00:00:00",0,0,0,0]
[null,0,null,0,null,null,null,"00:00:00",0,0,0,0]
[null,0,null,0,null,null,null,"00:00:00",0,0,0,0]
[null,0,null,0,null,null,null,"00:00:00",0,0,0,0]
[null,0,null,0,null,null,null,"00:00:00",0,0,0,0]
[null,0,null,0,null,null,null,"00:00:00",0,0,0,0]
[null,0,null,0,null,null,null,"00:00:00",0,0,0,0]
[null,0,null,0,null,null,null,"00:00:00",0,0,0,0]
[null,0,null,0,null,null,null,"00:00:00",0,0,0,0]
[null,0,null,0,null,null,null,"00:00:00",0,0,0,0]
[null,0,null,0,null,null,null,"00:00:00",0,0,0,0]
[null,0,null,0,null,null,null,"00:00:00",0,0,0,0]
[null,0,null,0,null,null,null,"00:00:00",0,0,0,0]
[null,0,null,0,null,null,null,"00:00:00",0,0,0,0]
[null,0,null,0,null,null,null,"00:00:00",0,0,0,0]
[null,0,null,0,null,null,null,"00:00:00",0,0,0,0]
[null,0,null,0,null,null,null,"00:00:00",0,0,0,0]
[null,0,null,0,null,null,null,"00:00:00",0,0,0,0]
[null,0,null,0,null,null,null,"00:00:00",0,0,0,0]
[null,0,null,0,null,null,null,"00:00:00",0,0,0,0]
[null,0,null,0,null,null,null,"00:00:00",0,0,0,0]
[null,0,null,0,null,null,null,"00:00:00",0,0,0,0]
[null,0,null,0,null,null,null,"00:00:00",0,0,0,0]
[null,0,null,0,null,null,null,"00:00:00",0,0,0,0]
[null,0,null,0,null,null,null,"00:00:00",0,0,0,0]
[null,0,null,0,null,null,null,"00:00:00",0,0,0,0]
[null,0,null,0,null,null,null,"00:00:00",0,0,0,0]
[null,0,null,0,null,null,null,"00:00:00",0,0,0,0]
[null,0,null,0,null,null,null,"00:00:00",0,0,0,0]
[null,0,null,0,null,null,null,"00:00:00",0,0,0,0]
[null,0,null,0,null,null,null,"00:00:00",0,0,0,0]
[null,0,null,0,null,null,null,"00:00:00",0,0,0,0]
[null,0,null,0,null,null,null,"00:00:00",0,0,0,0]
[null,0,null,0,null,null,null,"00:00:00",0,0,0,0]
[null,0,null,0,null,null,null,"00:00:00",0,0,0,0]
[null,0,null,0,null,null,null,"00:00:00",0,0,0,0]
[null,0,null,0,null,null,null,"00:00:00",0,0,0,0]
[null,0,null,0,null,null,null,"00:00:00",0,0,0,0]
[null,0,null,0,null,null,null,"00:00:00",0,0,0,0]
[null,0,null,0,null,null,null,"00:00:00",0,0,0,0]
[null,0,null,0,null,null,null,"00:00:00",0,0,0,0]
[null,0,null,0,null,null,null,"00:00:00",0,0,0,0]
[null,0,null,0,null,null,null,"00:00:00",0,0,0,0]
[null,0,null,0,null,null,null,"00:00:00",0,0,0,0]
[null,0,null,0,null,null,null,"00:00:00",0,0,0,0]
[null,0,null,0,null,null,null,"00:00:00",0,0,0,0]
[null,0,null,0,null,null,null,"00:00:00",0,0,0,0]
[null,0,null,0,null,null,null,"00:00:00",0,0,0,0]
[null,0,null,0,null,null,null,"00:00:00",0,0,0,0]
[null,0,null,0,null,null,null,"00:00:00",0,0,0,0]
[null,0,null,0,null,null,null,"00:00:00",0,0,0,0]
[null,0,null,0,null,null,null,"00:00:00",0,0,0,0]
[null,0,null,0,null,null,null,"00:00:00",0,0,0,0]
[null,0,null,0,null,null,null,"00:00:00",0,0,0,0]
[null,0,null,0,null,null,null,"00:00:00",0,0,0,0]
[null,0,null,0,null,null,null,"00:00:00",0,0,0,0]
[null,0,null,0,null,null,null,"00:00:00",0,0,0,0]
[null,0,null,0,null,null,null,"00:00:00",0,0,0,0]
[null,0,null,0,null,null,null,"00:00:00",0,0,0,0]
[null,0,null,0,null,null,null,"00:00:00",0,0,0,0]
[null,0,null,0,null,null,null,"00:00:00",0,0,0,0]
[null,0,null,0,null,null,null,"00:00:00",0,0,0,0]
[null,0,null,0,null,null,null,"00:00:00",0,0,0,0]
[null,0,null,0,null,null,null,"00:00:00",0,0,0,0]
[null,0,null,0,null,null,null,"00:00:00",0,0,0,0]
[null,0,null,0,null,null,null,"00:00:00",0,0,0,0]
[null,0,null,0,null,null,null,"00:00:00",0,0,0,0]
[null,0,null,0,null,null,null,"00:00:00",0,0,0,0]
[null,0,null,0,null,null,null,"00:00:00",0,0,0,0]
[null,0,null,0,null,null,null,"00:00:00",0,0,0,0]
[null,0,null,0,null,null,null,"00:00:00",0,0,0,0]
[null,0,null,0,null,null,null,"00:00:00",0,0,0,0]
[null,0,null,0,null,null,null,"00:00:00",0,0,0,0]
[null,0,null,0,null,null,null,"00:00:00",0,0,0,0]
[null,0,null,0,null,null,null,"00:00:00",0,0,0,0]
[null,0,null,0,null,null,null,"00:00:00",0,0,0,0]
[null,0,null,0,null,null,null,"00:00:00",0,0,0,0]
[null,0,null,0,null,null,null,"00:00:00",0,0,0,0]
[null,0,null,0,null,null,null,"00:00:00",0,0,0,0]
[null,0,null,0,null,null,null,"00:00:00",0,0,0,0]
[null,0,null,0,null,null,null,"00:00:00",0,0,0,0]
[null,0,null,0,null,null,null,"00:00:00",0,0,0,0]
[null,0,null,0,null,null,null,"00:00:00",0,0,0,0]
[null,0,null,0,null,null,null,"00:00:00",0,0,0,0]
[null,0,null,0,null,null,null,"00:00:00",0,0,0,0]
[null,0,null,0,null,null,null,"00:00:00",0,0,0,0]
[null,0,null,0,null,null,null,"00:00:00",0,0,0,0]
[null,0,null,0,null,null,null,"00:00:00",0,0,0,0]
[null,0,null,0,null,null,null,"00:00:00",0,0,0,0]
[null,0,null,0,null,null,null,"00:00:00",0,0,0,0]
[null,0,null,0,null,null,null,"00:00:00",0,0,0,0]
[null,0,null,0,null,null,null,"00:00:00",0,0,0,0]
[null,0,null,0,null,null,null,"00:00:00",0,0,0,0]
[null,0,null,0,null,null,null,"00:00:00",0,0,0,0]
[null,0,null,0,null,null,null,"00:00:00",0,0,0,0]
[null,0,null,0,null,null,null,"00:00:00",0,0,0,0]
[null,0,null,0,null,null,null,"00:00:00",0,0,0,0]
[null,0,null,0,null,null,null,"00:00:00",0,0,0,0]
[null,0,null,0,null,null,null,"00:00:00",0,0,0,0]
[null,0,null,0,null,null,null,"00:00:00",0,0,0,0]
[null,0,null,0,null,null,null,"00:00:00",0,0,0,0]
[null,0,null,0,null,null,null,"00:00:00",0,0,0,0]
[null,0,null,0,null,null,null,"00:00:00",0,0,0,0]
[null,0,null,0,null,null,null,"00:00:00",0,0,0,0]
[null,0,null,0,null,null,null,"00:00:00",0,0,0,0]
[null,0,null,0,null,null,null,"00:00:00",0,0,0,0]
[null,0,null,0,null,null,null,"00:00:00",0,0,0,0]
[null,0,null,0,null,null,null,"00:00:00",0,0,0,0]
[null,0,null,0,null,null,null,"00:00:00",0,0,0,0]
[null,0,null,0,null,null,null,"00:00:00",0,0,0,0]
[null,0,null,0,null,null,null,"00:00:00",0,0,0,0]
[null,0,null,0,null,null,null,"00:00:00",0,0,0,0]
[null,0,null,0,null,null,null,"00:00:00",0,0,0,0]
[null,0,null,0,null,null,null,"00:00:00",0,0,0,0]
[null,0,null,0,null,null,null,"00:00:00",0,0,0,0]
[null,0,null,0,null,null,null,"00:00:00",0,0,0,0]
[null,0,null,0,null,null,null,"00:00:00",0,0,0,0]
[null,0,null,0,null,null,null,"00:00:00",0,0,0,0]
[null,0,null,0,null,null,null,"00:00:00",0,0,0,0]
[null,0,null,0,null,null,null,"00:00:00",0,0,0,0]
[null,0,null,0,null,null,null,"00:00:00",0,0,0,0]
[null,0,null,0,null,null,null,"00:00:00",0,0,0,0]
[null,0,null,0,null,null,null,"00:00:00",0,0,0,0]
[null,0,null,0,null,null,null,"00:00:00",0,0,0,0]
[null,0,null,0,null,null,null,"00:00:00",0,0,0,0]
[null,0,null,0,null,null,null,"00:00:00",0,0,0,0]
[null,0,null,0,null,null,null,"00:00:00",0,0,0,0]
[null,0,null,0,null,null,null,"00:00:00",0,0,0,0]
[null,0,null,0,null,null,null,"00:00:00",0,0,0,0]
[null,0,null,0,null,null,null,"00:00:00",0,0,0,0]
[null,0,null,0,null,null,null,"00:00:00",0,0,0,0]
[null,0,null,0,null,null,null,"00:00:00",0,0,0,0]
[null,0,null,0,null,null,null,"00:00:00",0,0,0,0]
[null,0,null,0,null,null,null,"00:00:00",0,0,0,0]
[null,0,null,0,null,null,null,"00:00:00",0,0,0,0]
[null,0,null,0,null,null,null,"00:00:00",0,0,0,0]
[null,0,null,0,null,null,null,"00:00:00",0,0,0,0]
[null,0,null,0,null,null,null,"00:00:00",0,0,0,0]
[null,0,null,0,null,null,null,"00:00:00",0,0,0,0]
[null,0,null,0,null,null,null,"00:00:00",0,0,0,0]
[null,0,null,0,null,null,null,"00:00:00",0,0,0,0]
[null,0,null,0,null,null,null,"00:00:00",0,0,0,0]
[null,0,null,0,null,null,null,"00:00:00",0,0,0,0]
[null,0,null,0,null,null,null,"00:00:00",0,0,0,0]
[null,0,null,0,null,null,null,"00:00:00",0,0,0,0]
[null,0,null,0,null,null,null,"00:00:00",0,0,0,0]
[null,0,null,0,null,null,null,"00:00:00",0,0,0,0]
[null,0,null,0,null,null,null,"00:00:00",0,0,0,0]
[null,0,null,0,null,null,null,"00:00:00",0,0,0,0]
[null,0,null,0,null,null,null,"00:00:00",0,0,0,0]
[null,0,null,0,null,null,null,"00:00:00",0,0,0,0]
[null,0,null,0,null,null,null,"00:00:00",0,0,0,0]
[null,0,null,0,null,null,null,"00:00:00",0,0,0,0]
[null,0,null,0,null,null,null,"00:00:00",0,0,0,0]
[null,0,null,0,null,null,null,"00:00:00",0,0,0,0]
[null,0,null,0,null,null,null,"00:00:00",0,0,0,0]
[null,0,null,0,null,null,null,"00:00:00",0,0,0,0]
[null,0,null,0,null,null,null,"00:00:00",0,0,0,0]
[null,0,null,0,null,null,null,"00:00:00",0,0,0,0]
[null,0,null,0,null,null,null,"00:00:00",0,0,0,0]
[null,0,null,0,null,null,null,"00:00:00",0,0,0,0]
[null,0,null,0,null,null,null,"00:00:00",0,0,0,0]
[null,0,null,0,null,null,null,"00:00:00",0,0,0,0]
[null,0,null,0,null,null,null,"00:00:00",0,0,0,0]
[null,0,null,0,null,null,null,"00:00:00",0,0,0,0]
[null,0,null,0,null,null,null,"00:00:00",0,0,0,0]
[null,0,null,0,null,null,null,"00:00:00",0,0,0,0]
[null,0,null,0,null,null,null,"00:00:00",0,0,0,0]
[null,0,null,0,null,null,null,"00:00:00",0,0,0,0]
[null,0,null,0,null,null,null,"00:00:00",0,0,0,0]
[null,0,null,0,null,null,null,"00:00:00",0,0,0,0]
[null,0,null,0,null,null,null,"00:00:00",0,0,0,0]
[null,0,null,0,null,null,null,"00:00:00",0,0,0,0]
[null,0,null,0,null,null,null,"00:00:00",0,0,0,0]
[null,0,null,0,null,null,null,"00:00:00",0,0,0,0]
[null,0,null,0,null,null,null,"00:00:00",0,0,0,0]
[null,0,null,0,null,null,null,"00:00:00",0,0,0,0]
[null,0,null,0,null,null,null,"00:00:00",0,0,0,0]
[null,0,null,0,null,null,null,"00:00:00",0,0,0,0]
[null,0,null,0,null,null,null,"00:00:00",0,0,0,0]
[null,0,null,0,null,null,null,"00:00:00",0,0,0,0]
[null,0,null,0,null,null,null,"00:00:00",0,0,0,0]
[null,0,null,0,null,null,null,"00:00:00",0,0,0,0]
[null,0,null,0,null,null,null,"00:00:00",0,0,0,0]
[null,0,null,0,null,null,null,"00:00:00",0,0,0,0]
[null,0,null,0,null,null,null,"00:00:00",0,0,0,0]
[null,0,null,0,null,null,null,"00:00:00",0,0,0,0]
[null,0,null,0,null,null,null,"00:00:00",0,0,0,0]
[null,0,null,0,null,null,null,"00:00:00",0,0,0,0]
[null,0,null,0,null,null,null,"00:00:00",0,0,0,0]
[null,0,null,0,null,null,null,"00:00:00",0,0,0,0]
[null,0,null,0,null,null,null,"00:00:00",0,0,0,0]
[null,0,null,0,null,null,null,"00:00:00",0,0,0,0]
[null,0,null,0,null,null,null,"00:00:00",0,0,0,0]
[null,0,null,0,null,null,null,"00:00:00",0,0,0,0]
[null,0,null,0,null,null,null,"00:00:00",0,0,0,0]
[null,0,null,0,null,null,null,"00:00:00",0,0,0,0]
[null,0,null,0,null,null,null,"00:00:00",0,0,0,0]
[null,0,null,0,null,null,null,"00:00:00",0,0,0,0]
[null,0,null,0,null,null,null,"00:00:00",0,0,0,0]
[null,0,null,0,null,null,null,"00:00:00",0,0,0,0]
[null,0,null,0,null,null,null,"00:00:00",0,0,0,0]
[null,0,null,0,null,null,null,"00:00:00",0,0,0,0]
[null,0,null,0,null,null,null,"00:00:00",0,0,0,0]
[null,0,null,0,null,null,null,"00:00:00",0,0,0,0]
[null,0,null,0,null,null,null,"00:00:00",0,0,0,0]
[null,0,null,0,null,null,null,"00:00:00",0,0,0,0]
[null,0,null,0,null,null,null,"00:00:00",0,0,0,0]
[null,0,null,0,null,null,null,"00:00:00",0,0,0,0]
[null,0,null,0,null,null,null,"00:00:00",0,0,0,0]
[null,0,null,0,null,null,null,"00:00:00",0,0,0,0]
[null,0,null,0,null,null,null,"00:00:00",0,0,0,0]
[null,0,null,0,null,null,null,"00:00:00",0,0,0,0]
[null,0,null,0,null,null,null,"00:00:00",0,0,0,0]
[null,0,null,0,null,null,null,"00:00:00",0,0,0,0]
[null,0,null,0,null,null,null,"00:00:00",0,0,0,0]
[null,0,null,0,null,null,null,"00:00:00",0,0,0,0]
[null,0,null,0,null,null,null,"00:00:00",0,0,0,0]
[null,0,null,0,null,null,null,"00:00:00",0,0,0,0]
[null,0,null,0,null,null,null,"00:00:00",0,0,0,0]
[null,0,null,0,null,null,null,"00:00:00",0,0,0,0]
[null,0,null,0,null,null,null,"00:00:00",0,0,0,0]
[null,0,null,0,null,null,null,"00:00:00",0,0,0,0]
[null,0,null,0,null,null,null,"00:00:00",0,0,0,0]
[null,0,null,0,null,null,null,"00:00:00",0,0,0,0]
[null,0,null,0,null,null,null,"00:00:00",0,0,0,0]
[null,0,null,0,null,null,null,"00:00:00",0,0,0,0]
[null,0,null,0,null,null,null,"00:00:00",0,0,0,0]
[null,0,null,0,null,null,null,"00:00:00",0,0,0,0]
[null,0,null,0,null,null,null,"00:00:00",0,0,0,0]
[null,0,null,0,null,null,null,"00:00:00",0,0,0,0]
[null,0,null,0,null,null,null,"00:00:00",0,0,0,0]
[null,0,null,0,null,null,null,"00:00:00",0,0,0,0]
[null,0,null,0,null,null,null,"00:00:00",0,0,0,0]
[null,0,null,0,null,null,null,"00:00:00",0,0,0,0]
[null,0,null,0,null,null,null,"00:00:00",0,0,0,0]
[null,0,null,0,null,null,null,"00:00:00",0,0,0,0]
[null,0,null,0,null,null,null,"00:00:00",0,0,0,0]
[null,0,null,0,null,null,null,"00:00:00",0,0,0,0]
[null,0,null,0,null,null,null,"00:00:00",0,0,0,0]
[null,0,null,0,null,null,null,"00:00:00",0,0,0,0]
[null,0,null,0,null,null,null,"00:00:00",0,0,0,0]
[null,0,null,0,null,null,null,"00:00:00",0,0,0,0]
[null,0,null,0,null,null,null,"00:00:00",0,0,0,0]
[null,0,null,0,null,null,null,"00:00:00",0,0,0,0]
[null,0,null,0,null,null,null,"00:00:00",0,0,0,0]
[null,0,null,0,null,null,null,"00:00:00",0,0,0,0]
[null,0,null,0,null,null,null,"00:00:00",0,0,0,0]
[null,0,null,0,null,null,null,"00:00:00",0,0,0,0]
[null,0,null,0,null,null,null,"00:00:00",0,0,0,0]
[null,0,null,0,null,null,null,"00:00:00",0,0,0,0]
[null,0,null,0,null,null,null,"00:00:00",0,0,0,0]
[null,0,null,0,null,null,null,"00:00:00",0,0,0,0]
[null,0,null,0,null,null,null,"00:00:00",0,0,0,0]
[null,0,null,0,null,null,null,"00:00:00",0,0,0,0]
[null,0,null,0,null,null,null,"00:00:00",0,0,0,0]
[null,0,null,0,null,null,null,"00:00:00",0,0,0,0]
[null,0,null,0,null,null,null,"00:00:00",0,0,0,0]
[null,0,null,0,null,null,null,"00:00:00",0,0,0,0]
[null,0,null,0,null,null,null,"00:00:00",0,0,0,0]
[null,0,null,0,null,null,null,"00:00:00",0,0,0,0]
[null,0,null,0,null,null,null,"00:00:00",0,0,0,0]
[null,0,null,0,null,null,null,"00:00:00",0,0,0,0]
[null,0,null,0,null,null,null,"00:00:00",0,0,0,0]
[null,0,null,0,null,null,null,"00:00:00",0,0,0,0]
[null,0,null,0,null,null,null,"00:00:00",0,0,0,0]
[null,0,null,0,null,null,null,"00:00:00",0,0,0,0]
[null,0,null,0,null,null,null,"00:00:00",0,0,0,0]
[null,0,null,0,null,null,null,"00:00:00",0,0,0,0]
[null,0,null,0,null,null,null,"00:00:00",0,0,0,0]
[null,0,null,0,null,null,null,"00:00:00",0,0,0,0]
[null,0,null,0,null,null,null,"00:00:00",0,0,0,0]
[null,0,null,0,null,null,null,"00:00:00",0,0,0,0]
[null,0,null,0,null,null,null,"00:00:00",0,0,0,0]
[null,0,null,0,null,null,null,"00:00:00",0,0,0,0]
[null,0,null,0,null,null,null,"00:00:00",0,0,0,0]
[null,0,null,0,null,null,null,"00:00:00",0,0,0,0]
[null,0,null,0,null,null,null,"00:00:00",0,0,0,0]
[null,0,null,0,null,null,null,"00:00:00",0,0,0,0]
[null,0,null,0,null,null,null,"00:00:00",0,0,0,0]
[null,0,null,0,null,null,null,"00:00:00",0,0,0,0]
[null,0,null,0,null,null,null,"00:00:00",0,0,0,0]
[null,0,null,0,null,null,null,"00:00:00",0,0,0,0]
[null,0,null,0,null,null,null,"00:00:00",0,0,0,0]
[null,0,null,0,null,null,null,"00:00:00",0,0,0,0]
[null,0,null,0,null,null,null,"00:00:00",0,0,0,0]
[null,0,null,0,null,null,null,"00:00:00",0,0,0,0]
[null,0,null,0,null,null,null,"00:00:00",0,0,0,0]
[null,0,null,0,null,null,null,"00:00:00",0,0,0,0]
[null,0,null,0,null,null,null,"00:00:00",0,0,0,0]
[null,0,null,0,null,null,null,"00:00:00",0,0,0,0]
[null,0,null,0,null,null,null,"00:00:00",0,0,0,0]
[null,0,null,0,null,null,null,"00:00:00",0,0,0,0]
[null,0,null,0,null,null,null,"00:00:00",0,0,0,0]
[null,0,null,0,null,null,null,"00:00:00",0,0,0,0]
[null,0,null,0,null,null,null,"00:00:00",0,0,0,0]
[null,0,null,0,null,null,null,"00:00:00",0,0,0,0]
[null,0,null,0,null,null,null,"00:00:00",0,0,0,0]
[null,0,null,0,null,null,null,"00:00:00",0,0,0,0]
[null,0,null,0,null,null,null,"00:00:00",0,0,0,0]
[null,0,null,0,null,null,null,"00:00:00",0,0,0,0]
[null,0,null,0,null,null,null,"00:00:00",0,0,0,0]
[null,0,null,0,null,null,null,"00:00:00",0,0,0,0]
[null,0,null,0,null,null,null,"00:00:00",0,0,0,0]
[null,0,null,0,null,null,null,"00:00:00",0,0,0,0]
[null,0,null,0,null,null,null,"00:00:00",0,0,0,0]
[null,0,null,0,null,null,null,"00:00:00",0,0,0,0]
[null,0,null,0,null,null,null,"00:00:00",0,0,0,0]
[null,0,null,0,null,null,null,"00:00:00",0,0,0,0]
[null,0,null,0,null,null,null,"00:00:00",0,0,0,0]
[null,0,null,0,null,null,null,"00:00:00",0,0,0,0]
[null,0,null,0,null,null,null,"00:00:00",0,0,0,0]
[null,0,null,0,null,null,null,"00:00:00",0,0,0,0]
[null,0,null,0,null,null,null,"00:00:00",0,0,0,0]
[null,0,null,0,null,null,null,"00:00:00",0,0,0,0]
[null,0,null,0,null,null,null,"00:00:00",0,0,0,0]
[null,0,null,0,null,null,null,"00:00:00",0,0,0,0]
[null,0,null,0,null,null,null,"00:00:00",0,0,0,0]
[null,0,null,0,null,null,null,"00:00:00",0,0,0,0]
[null,0,null,0,null,null,null,"00:00:00",0,0,0,0]
[null,0,null,0,null,null,null,"00:00:00",0,0,0,0]
[null,0,null,0,null,null,null,"00:00:00",0,0,0,0]
[null,0,null,0,null,null,null,"00:00:00",0,0,0,0]
[null,0,null,0,null,null,null,"00:00:00",0,0,0,0]
[null,0,null,0,null,null,null,"00:00:00",0,0,0,0]
[null,0,null,0,null,null,null,"00:00:00",0,0,0,0]
[null,0,null,0,null,null,null,"00:00:00",0,0,0,0]
[null,0,null,0,null,null,null,"00:00:00",0,0,0,0]
[null,0,null,0,null,null,null,"00:00:00",0,0,0,0]
[null,0,null,0,null,null,null,"00:00:00",0,0,0,0]
[null,0,null,0,null,null,null,"00:00:00",0,0,0,0]
[null,0,null,0,null,null,null,"00:00:00",0,0,0,0]
[null,0,null,0,null,null,null,"00:00:00",0,0,0,0]
[null,0,null,0,null,null,null,"00:00:00",0,0,0,0]
[null,0,null,0,null,null,null,"00:00:00",0,0,0,0]
[null,0,null,0,null,null,null,"00:00:00",0,0,0,0]
[null,0,null,0,null,null,null,"00:00:00",0,0,0,0]
[null,0,null,0,null,null,null,"00:00:00",0,0,0,0]
[null,0,null,0,null,null,null,"00:00:00",0,0,0,0]
[null,0,null,0,null,null,null,"00:00:00",0,0,0,0]
[null,0,null,0,null,null,null,"00:00:00",0,0,0,0]
[null,0,null,0,null,null,null,"00:00:00",0,0,0,0]
[null,0,null,0,null,null,null,"00:00:00",0,0,0,0]
[null,0,null,0,null,null,null,"00:00:00",0,0,0,0]
[null,0,null,0,null,null,null,"00:00:00",0,0,0,0]
[null,0,null,0,null,null,null,"00:00:00",0,0,0,0]
[null,0,null,0,null,null,null,"00:00:00",0,0,0,0]
[null,0,null,0,null,null,null,"00:00:00",0,0,0,0]
[null,0,null,0,null,null,null,"00:00:00",0,0,0,0]
[null,0,null,0,null,null,null,"00:00:00",0,0,0,0]
[null,0,null,0,null,null,null,"00:00:00",0,0,0,0]
[null,0,null,0,null,null,null,"00:00:00",0,0,0,0]
[null,0,null,0,null,null,null,"00:00:00",0,0,0,0]
[null,0,null,0,null,null,null,"00:00:00",0,0,0,0]
[null,0,null,0,null,null,null,"00:00:00",0,0,0,0]
[null,0,null,0,null,null,null,"00:00:00",0,0,0,0]
[null,0,null,0,null,null,null,"00:00:00",0,0,0,0]
[null,0,null,0,null,null,null,"00:00:00",0,0,0,0]
[null,0,null,0,null,null,null,"00:00:00",0,0,0,0]
[null,0,null,0,null,null,null,"00:00:00",0,0,0,0]
[null,0,null,0,null,null,null,"00:00:00",0,0,0,0]
[null,0,null,0,null,null,null,"00:00:00",0,0,0,0]
[null,0,null,0,null,null,null,"00:00:00",0,0,0,0]
[null,0,null,0,null,null,null,"00:00:00",0,0,0,0]
[null,0,null,0,null,null,null,"00:00:00",0,0,0,0]
[null,0,null,0,null,null,null,"00:00:00",0,0,0,0]
[null,0,null,0,null,null,null,"00:00:00",0,0,0,0]
[null,0,null,0,null,null,null,"00:00:00",0,0,0,0]
[null,0,null,0,null,null,null,"00:00:00",0,0,0,0]
[null,0,null,0,null,null,null,"00:00:00",0,0,0,0]
[null,0,null,0,null,null,null,"00:00:00",0,0,0,0]
[null,0,null,0,null,null,null,"00:00:00",0,0,0,0]
[null,0,null,0,null,null,null,"00:00:00",0,0,0,0]
[null,0,null,0,null,null,null,"00:00:00",0,0,0,0]
[null,0,null,0,null,null,null,"00:00:00",0,0,0,0]
[null,0,null,0,null,null,null,"00:00:00",0,0,0,0]
[null,0,null,0,null,null,null,"00:00:00",0,0,0,0]
[null,0,null,0,null,null,null,"00:00:00",0,0,0,0]
[null,0,null,0,null,null,null,"00:00:00",0,0,0,0]
[null,0,null,0,null,null,null,"00:00:00",0,0,0,0]
[null,0,null,0,null,null,null,"00:00:00",0,0,0,0]
[null,0,null,0,null,null,null,"00:00:00",0,0,0,0]
[null,0,null,0,null,null,null,"00:00:00",0,0,0,0]
[null,0,null,0,null,null,null,"00:00:00",0,0,0,0]
[null,0,null,0,null,null,null,"00:00:00",0,0,0,0]
[null,0,null,0,null,null,null,"00:00:00",0,0,0,0]
[null,0,null,0,null,null,null,"00:00:00",0,0,0,0]
[null,0,null,0,null,null,null,"00:00:00",0,0,0,0]
[null,0,null,0,null,null,null,"00:00:00",0,0,0,0]
[null,0,null,0,null,null,null,"00:00:00",0,0,0,0]
[null,0,null,0,null,null,null,"00:00:00",0,0,0,0]
[null,0,null,0,null,null,null,"00:00:00",0,0,0,0]
[null,0,null,0,null,null,null,"00:00:00",0,0,0,0]
[null,0,null,0,null,null,null,"00:00:00",0,0,0,0]
[null,0,null,0,null,null,null,"00:00:00",0,0,0,0]
[null,0,null,0,null,null,null,"00:00:00",0,0,0,0]
[null,0,null,0,null,null,null,"00:00:00",0,0,0,0]
[null,0,null,0,null,null,null,"00:00:00",0,0,0,0]
[null,0,null,0,null,null,null,"00:00:00",0,0,0,0]
[null,0,null,0,null,null,null,"00:00:00",0,0,0,0]
[null,0,null,0,null,null,null,"00:00:00",0,0,0,0]
[null,0,null,0,null,null,null,"00:00:00",0,0,0,0]
[null,0,null,0,null,null,null,"00:00:00",0,0,0,0]
[null,0,null,0,null,null,null,"00:00:00",0,0,0,0]
[null,0,null,0,null,null,null,"00:00:00",0,0,0,0]
[null,0,null,0,null,null,null,"00:00:00",0,0,0,0]
[null,0,null,0,null,null,null,"00:00:00",0,0,0,0]
[null,0,null,0,null,null,null,"00:00:00",0,0,0,0]
[null,0,null,0,null,null,null,"00:00:00",0,0,0,0]
[null,0,null,0,null,null,null,"00:00:00",0,0,0,0]
[null,0,null,0,null,null,null,"00:00:00",0,0,0,0]
[null,0,null,0,null,null,null,"00:00:00",0,0,0,0]
[null,0,null,0,null,null,null,"00:00:00",0,0,0,0]
[null,0,null,0,null,null,null,"00:00:00",0,0,0,0]
[null,0,null,0,null,null,null,"00:00:00",0,0,0,0]
[null,0,null,0,null,null,null,"00:00:00",0,0,0,0]
[null,0,null,0,null,null,null,"00:00:00",0,0,0,0]
[null,0,null,0,null,null,null,"00:00:00",0,0,0,0]
[null,0,null,0,null,null,null,"00:00:00",0,0,0,0]
[null,0,null,0,null,null,null,"00:00:00",0,0,0,0]
[null,0,null,0,null,null,null,"00:00:00",0,0,0,0]
[null,0,null,0,null,null,null,"00:00:00",0,0,0,0]
[null,0,null,0,null,null,null,"00:00:00",0,0,0,0]
[null,0,null,0,null,null,null,"00:00:00",0,0,0,0]
[null,0,null,0,null,null,null,"00:00:00",0,0,0,0]
[null,0,null,0,null,null,null,"00:00:00",0,0,0,0]
[null,0,null,0,null,null,null,"00:00:00",0,0,0,0]
[null,0,null,0,null,null,null,"00:00:00",0,0,0,0]
[null,0,null,0,null,null,null,"00:00:00",0,0,0,0]
[null,0,null,0,null,null,null,"00:00:00",0,0,0,0]
[null,0,null,0,null,null,null,"00:00:00",0,0,0,0]
[null,0,null,0,null,null,null,"00:00:00",0,0,0,0]
[null,0,null,0,null,null,null,"00:00:00",0,0,0,0]
[null,0,null,0,null,null,null,"00:00:00",0,0,0,0]
[null,0,null,0,null,null,null,"00:00:00",0,0,0,0]
[null,0,null,0,null,null,null,"00:00:00",0,0,0,0]
[null,0,null,0,null,null,null,"00:00:00",0,0,0,0]
[null,0,null,0,null,null,null,"00:00:00",0,0,0,0]
[null,0,null,0,null,null,null,"00:00:00",0,0,0,0]
[null,0,null,0,null,null,null,"00:00:00",0,0,0,0]
[null,0,null,0,null,null,null,"00:00:00",0,0,0,0]
[null,0,null,0,null,null,null,"00:00:00",0,0,0,0]
[null,0,null,0,null,null,null,"00:00:00",0,0,0,0]
[null,0,null,0,null,null,null,"00:00:00",0,0,0,0]
[null,0,null,0,null,null,null,"00:00:00",0,0,0,0]
[null,0,null,0,null,null,null,"00:00:00",0,0,0,0]
[null,0,null,0,null,null,null,"00:00:00",0,0,0,0]
[null,0,null,0,null,null,null,"00:00:00",0,0,0,0]
[null,0,null,0,null,null,null,"00:00:00",0,0,0,0]
[null,0,null,0,null,null,null,"00:00:00",0,0,0,0]
[null,0,null,0,null,null,null,"00:00:00",0,0,0,0]
[null,0,null,0,null,null,null,"00:00:00",0,0,0,0]
[null,0,null,0,null,null,null,"00:00:00",0,0,0,0]
[null,0,null,0,null,null,null,"00:00:00",0,0,0,0]
[null,0,null,0,null,null,null,"00:00:00",0,0,0,0]
[null,0,null,0,null,null,null,"00:00:00",0,0,0,0]
[null,0,null,0,null,null,null,"00:00:00",0,0,0,0]
[null,0,null,0,null,null,null,"00:00:00",0,0,0,0]
[null,0,null,0,null,null,null,"00:00:00",0,0,0,0]
[null,0,null,0,null,null,null,"00:00:00",0,0,0,0]
[null,0,null,0,null,null,null,"00:00:00",0,0,0,0]
[null,0,null,0,null,null,null,"00:00:00",0,0,0,0]
[null,0,null,0,null,null,null,"00:00:00",0,0,0,0]
[null,0,null,0,null,null,null,"00:00:00",0,0,0,0]
[null,0,null,0,null,null,null,"00:00:00",0,0,0,0]
[null,0,null,0,null,null,null,"00:00:00",0,0,0,0]
[null,0,null,0,null,null,null,"00:00:00",0,0,0,0]
[null,0,null,0,null,null,null,"00:00:00",0,0,0,0]
[null,0,null,0,null,null,null,"00:00:00",0,0,0,0]
[null,0,null,0,null,null,null,"00:00:00",0,0,0,0]
[null,0,null,0,null,null,null,"00:00:00",0,0,0,0]
[null,0,null,0,null,null,null,"00:00:00",0,0,0,0]
[null,0,null,0,null,null,null,"00:00:00",0,0,0,0]
[null,0,null,0,null,null,null,"00:00:00",0,0,0,0]
[null,0,null,0,null,null,null,"00:00:00",0,0,0,0]
[null,0,null,0,null,null,null,"00:00:00",0,0,0,0]
[null,0,null,0,null,null,null,"00:00:00",0,0,0,0]
[null,0,null,0,null,null,null,"00:00:00",0,0,0,0]
[null,0,null,0,null,null,null,"00:00:00",0,0,0,0]
[null,0,null,0,null,null,null,"00:00:00",0,0,0,0]
[null,0,null,0,null,null,null,"00:00:00",0,0,0,0]
[null,0,null,0,null,null,null,"00:00:00",0,0,0,0]
[null,0,null,0,null,null,null,"00:00:00",0,0,0,0]
[null,0,null,0,null,null,null,"00:00:00",0,0,0,0]
[null,0,null,0,null,null,null,"00:00:00",0,0,0,0]
[null,0,null,0,null,null,null,"00:00:00",0,0,0,0]
[null,0,null,0,null,null,null,"00:00:00",0,0,0,0]
[null,0,null,0,null,null,null,"00:00:00",0,0,0,0]
[null,0,null,0,null,null,null,"00:00:00",0,0,0,0]
[null,0,null,0,null,null,null,"00:00:00",0,0,0,0]
[null,0,null,0,null,null,null,"00:00:00",0,0,0,0]
[null,0,null,0,null,null,null,"00:00:00",0,0,0,0]
[null,0,null,0,null,null,null,"00:00:00",0,0,0,0]
[null,0,null,0,null,null,null,"00:00:00",0,0,0,0]
[null,0,null,0,null,null,null,"00:00:00",0,0,0,0]
[null,0,null,0,null,null,null,"00:00:00",0,0,0,0]
[null,0,null,0,null,null,null,"00:00:00",0,0,0,0]
[null,0,null,0,null,null,null,"00:00:00",0,0,0,0]
[null,0,null,0,null,null,null,"00:00:00",0,0,0,0]
[null,0,null,0,null,null,null,"00:00:00",0,0,0,0]
[null,0,null,0,null,null,null,"00:00:00",0,0,0,0]
[null,0,null,0,null,null,null,"00:00:00",0,0,0,0]
[null,0,null,0,null,null,null,"00:00:00",0,0,0,0]
[null,0,null,0,null,null,null,"00:00:00",0,0,0,0]
[null,0,null,0,null,null,null,"00:00:00",0,0,0,0]
[null,0,null,0,null,null,null,"00:00:00",0,0,0,0]
[null,0,null,0,null,null,null,"00:00:00",0,0,0,0]
[null,0,null,0,null,null,null,"00:00:00",0,0,0,0]
[null,0,null,0,null,null,null,"00:00:00",0,0,0,0]
[null,0,null,0,null,null,null,"00:00:00",0,0,0,0]
[null,0,null,0,null,null,null,"00:00:00",0,0,0,0]
[null,0,null,0,null,null,null,"00:00:00",0,0,0,0]
[null,0,null,0,null,null,null,"00:00:00",0,0,0,0]
[null,0,null,0,null,null,null,"00:00:00",0,0,0,0]
[null,0,null,0,null,null,null,"00:00:00",0,0,0,0]
[null,0,null,0,null,null,null,"00:00:00",0,0,0,0]
[null,0,null,0,null,null,null,"00:00:00",0,0,0,0]
[null,0,null,0,null,null,null,"00:00:00",0,0,0,0]
[null,0,null,0,null,null,null,"00:00:00",0,0,0,0]
[null,0,null,0,null,null,null,"00:00:00",0,0,0,0]
[null,0,null,0,null,null,null,"00:00:00",0,0,0,0]
[null,0,null,0,null,null,null,"00:00:00",0,0,0,0]
[null,0,null,0,null,null,null,"00:00:00",0,0,0,0]
[null,0,null,0,null,null,null,"00:00:00",0,0,0,0]
[null,0,null,0,null,null,null,"00:00:00",0,0,0,0]
[null,0,null,0,null,null,null,"00:00:00",0,0,0,0]
[null,0,null,0,null,null,null,"00:00:00",0,0,0,0]
[null,0,null,0,null,null,null,"00:00:00",0,0,0,0]
[null,0,null,0,null,null,null,"00:00:00",0,0,0,0]
[null,0,null,0,null,null,null,"00:00:00",0,0,0,0]
[null,0,null,0,null,null,null,"00:00:00",0,0,0,0]
[null,0,null,0,null,null,null,"00:00:00",0,0,0,0]
[null,0,null,0,null,null,null,"00:00:00",0,0,0,0]
[null,0,null,0,null,null,null,"00:00:00",0,0,0,0]
[null,0,null,0,null,null,null,"00:00:00",0,0,0,0]
[null,0,null,0,null,null,null,"00:00:00",0,0,0,0]
[null,0,null,0,null,null,null,"00:00:00",0,0,0,0]
[null,0,null,0,null,null,null,"00:00:00",0,0,0,0]
[null,0,null,0,null,null,null,"00:00:00",0,0,0,0]
[null,0,null,0,null,null,null,"00:00:00",0,0,0,0]
[null,0,null,0,null,null,null,"00:00:00",0,0,0,0]
[null,0,null,0,null,null,null,"00:00:00",0,0,0,0]
[null,0,null,0,null,null,null,"00:00:00",0,0,0,0]
[null,0,null,0,null,null,null,"00:00:00",0,0,0,0]
[null,0,null,0,null,null,null,"00:00:00",0,0,0,0]
[null,0,null,0,null,null,null,"00:00:00",0,0,0,0]
[null,0,null,0,null,null,null,"00:00:00",0,0,0,0]
[null,0,null,0,null,null,null,"00:00:00",0,0,0,0]
[null,0,null,0,null,null,null,"00:00:00",0,0,0,0]
[null,0,null,0,null,null,null,"00:00:00",0,0,0,0]
[null,0,null,0,null,null,null,"00:00:00",0,0,0,0]
[null,0,null,0,null,null,null,"00:00:00",0,0,0,0]
[null,0,null,0,null,null,null,"00:00:00",0,0,0,0]
[null,0,null,0,null,null,null,"00:00:00",0,0,0,0]
[null,0,null,0,null,null,null,"00:00:00",0,0,0,0]
[null,0,null,0,null,null,null,"00:00:00",0,0,0,0]
[null,0,null,0,null,null,null,"00:00:00",0,0,0,0]
[null,0,null,0,null,null,null,"00:00:00",0,0,0,0]
[null,0,null,0,null,null,null,"00:00:00",0,0,0,0]
[null,0,null,0,null,null,null,"00:00:00",0,0,0,0]
[null,0,null,0,null,null,null,"00:00:00",0,0,0,0]
[null,0,null,0,null,null,null,"00:00:00",0,0,0,0]
[null,0,null,0,null,null,null,"00:00:00",0,0,0,0]
[null,0,null,0,null,null,null,"00:00:00",0,0,0,0]
[null,0,null,0,null,null,null,"00:00:00",0,0,0,0]
[null,0,null,0,null,null,null,"00:00:00",0,0,0,0]
[null,0,null,0,null,null,null,"00:00:00",0,0,0,0]
[null,0,null,0,null,null,null,"00:00:00",0,0,0,0]
[null,0,null,0,null,null,null,"00:00:00",0,0,0,0]
[null,0,null,0,null,null,null,"00:00:00",0,0,0,0]
[null,0,null,0,null,null,null,"00:00:00",0,0,0,0]
[null,0,null,0,null,null,null,"00:00:00",0,0,0,0]
[null,0,null,0,null,null,null,"00:00:00",0,0,0,0]
[null,0,null,0,null,null,null,"00:00:00",0,0,0,0]
[null,0,null,0,null,null,null,"00:00:00",0,0,0,0]
[null,0,null,0,null,null,null,"00:00:00",0,0,0,0]
[null,0,null,0,null,null,null,"00:00:00",0,0,0,0]
[null,0,null,0,null,null,null,"00:00:00",0,0,0,0]
[null,0,null,0,null,null,null,"00:00:00",0,0,0,0]
[null,0,null,0,null,null,null,"00:00:00",0,0,0,0]
[null,0,null,0,null,null,null,"00:00:00",0,0,0,0]
[null,0,null,0,null,null,null,"00:00:00",0,0,0,0]
[null,0,null,0,null,null,null,"00:00:00",0,0,0,0]
[null,0,null,0,null,null,null,"00:00:00",0,0,0,0]
[null,0,null,0,null,null,null,"00:00:00",0,0,0,0]
[null,0,null,0,null,null,null,"00:00:00",0,0,0,0]
[null,0,null,0,null,null,null,"00:00:00",0,0,0,0]
[null,0,null,0,null,null,null,"00:00:00",0,0,0,0]
[null,0,null,0,null,null,null,"00:00:00",0,0,0,0]
[null,0,null,0,null,null,null,"00:00:00",0,0,0,0]
[null,0,null,0,null,null,null,"00:00:00",0,0,0,0]
[null,0,null,0,null,null,null,"00:00:00",0,0,0,0]
[null,0,null,0,null,null,null,"00:00:00",0,0,0,0]
[null,0,null,0,null,null,null,"00:00:00",0,0,0,0]
[null,0,null,0,null,null,null,"00:00:00",0,0,0,0]
[null,0,null,0,null,null,null,"00:00:00",0,0,0,0]
[null,0,null,0,null,null,null,"00:00:00",0,0,0,0]
[null,0,null,0,null,null,null,"00:00:00",0,0,0,0]
[null,0,null,0,null,null,null,"00:00:00",0,0,0,0]
[null,0,null,0,null,null,null,"00:00:00",0,0,0,0]
[null,0,null,0,null,null,null,"00:00:00",0,0,0,0]
[null,0,null,0,null,null,null,"00:00:00",0,0,0,0]
[null,0,null,0,null,null,null,"00:00:00",0,0,0,0]
[null,0,null,0,null,null,null,"00:00:00",0,0,0,0]
[null,0,null,0,null,null,null,"00:00:00",0,0,0,0]
[null,0,null,0,null,null,null,"00:00:00",0,0,0,0]
[null,0,null,0,null,null,null,"00:00:00",0,0,0,0]
[null,0,null,0,null,null,null,"00:00:00",0,0,0,0]
[null,0,null,0,null,null,null,"00:00:00",0,0,0,0]
[null,0,null,0,null,null,null,"00:00:00",0,0,0,0]
[null,0,null,0,null,null,null,"00:00:00",0,0,0,0]
[null,0,null,0,null,null,null,"00:00:00",0,0,0,0]
[null,0,null,0,null,null,null,"00:00:00",0,0,0,0]
[null,0,null,0,null,null,null,"00:00:00",0,0,0,0]
[null,0,null,0,null,null,null,"00:00:00",0,0,0,0]
[null,0,null,0,null,null,null,"00:00:00",0,0,0,0]
[null,0,null,0,null,null,null,"00:00:00",0,0,0,0]
[null,0,null,0,null,null,null,"00:00:00",0,0,0,0]
[null,0,null,0,null,null,null,"00:00:00",0,0,0,0]
[null,0,null,0,null,null,null,"00:00:00",0,0,0,0]
[null,0,null,0,null,null,null,"00:00:00",0,0,0,0]
[null,0,null,0,null,null,null,"00:00:00",0,0,0,0]
[null,0,null,0,null,null,null,"00:00:00",0,0,0,0]
[null,0,null,0,null,null,null,"00:00:00",0,0,0,0]
[null,0,null,0,null,null,null,"00:00:00",0,0,0,0]
[null,0,null,0,null,null,null,"00:00:00",0,0,0,0]
[null,0,null,0,null,null,null,"00:00:00",0,0,0,0]
[null,0,null,0,null,null,null,"00:00:00",0,0,0,0]
[null,0,null,0,null,null,null,"00:00:00",0,0,0,0]
[null,0,null,0,null,null,null,"00:00:00",0,0,0,0]
[null,0,null,0,null,null,null,"00:00:00",0,0,0,0]
[null,0,null,0,null,null,null,"00:00:00",0,0,0,0]
[null,0,null,0,null,null,null,"00:00:00",0,0,0,0]
[null,0,null,0,null,null,null,"00:00:00",0,0,0,0]
[null,0,null,0,null,null,null,"00:00:00",0,0,0,0]
[null,0,null,0,null,null,null,"00:00:00",0,0,0,0]
[null,0,null,0,null,null,null,"00:00:00",0,0,0,0]
[null,0,null,0,null,null,null,"00:00:00",0,0,0,0]
[null,0,null,0,null,null,null,"00:00:00",0,0,0,0]
[null,0,null,0,null,null,null,"00:00:00",0,0,0,0]
[null,0,null,0,null,null,null,"00:00:00",0,0,0,0]
[null,0,null,0,null,null,null,"00:00:00",0,0,0,0]
[null,0,null,0,null,null,null,"00:00:00",0,0,0,0]
[null,0,null,0,null,null,null,"00:00:00",0,0,0,0]
[null,0,null,0,null,null,null,"00:00:00",0,0,0,0]
[null,0,null,0,null,null,null,"00:00:00",0,0,0,0]
[null,0,null,0,null,null,null,"00:00:00",0,0,0,0]
[null,0,null,0,null,null,null,"00:00:00",0,0,0,0]
[null,0,null,0,null,null,null,"00:00:00",0,0,0,0]
[null,0,null,0,null,null,null,"00:00:00",0,0,0,0]
[null,0,null,0,null,null,null,"00:00:00",0,0,0,0]
[null,0,null,0,null,null,null,"00:00:00",0,0,0,0]
[null,0,null,0,null,null,null,"00:00:00",0,0,0,0]
[null,0,null,0,null,null,null,"00:00:00",0,0,0,0]
[null,0,null,0,null,null,null,"00:00:00",0,0,0,0]
[null,0,null,0,null,null,null,"00:00:00",0,0,0,0]
[null,0,null,0,null,null,null,"00:00:00",0,0,0,0]
[null,0,null,0,null,null,null,"00:00:00",0,0,0,0]
[null,0,null,0,null,null,null,"00:00:00",0,0,0,0]
[null,0,null,0,null,null,null,"00:00:00",0,0,0,0]
[null,0,null,0,null,null,null,"00:00:00",0,0,0,0]
[null,0,null,0,null,null,null,"00:00:00",0,0,0,0]
[null,0,null,0,null,null,null,"00:00:00",0,0,0,0]
[null,0,null,0,null,null,null,"00:00:00",0,0,0,0]
[null,0,null,0,null,null,null,"00:00:00",0,0,0,0]
[null,0,null,0,null,null,null,"00:00:00",0,0,0,0]
[null,0,null,0,null,null,null,"00:00:00",0,0,0,0]
[null,0,null,0,null,null,null,"00:00:00",0,0,0,0]
[null,0,null,0,null,null,null,"00:00:00",0,0,0,0]
[null,0,null,0,null,null,null,"00:00:00",0,0,0,0]
[null,0,null,0,null,null,null,"00:00:00",0,0,0,0]
[null,0,null,0,null,null,null,"00:00:00",0,0,0,0]
[null,0,null,0,null,null,null,"00:00:00",0,0,0,0]
[null,0,null,0,null,null,null,"00:00:00",0,0,0,0]
[null,0,null,0,null,null,null,"00:00:00",0,0,0,0]
[null,0,null,0,null,null,null,"00:00:00",0,0,0,0]
[null,0,null,0,null,null,null,"00:00:00",0,0,0,0]
[null,0,null,0,null,null,null,"00:00:00",0,0,0,0]
[null,0,null,0,null,null,null,"00:00:00",0,0,0,0]
[null,0,null,0,null,null,null,"00:00:00",0,0,0,0]
[null,0,null,0,null,null,null,"00:00:00",0,0,0,0]
[null,0,null,0,null,null,null,"00:00:00",0,0,0,0]
[null,0,null,0,null,null,null,"00:00:00",0,0,0,0]
[null,0,null,0,null,null,null,"00:00:00",0,0,0,0]
[null,0,null,0,null,null,null,"00:00:00",0,0,0,0]
[null,0,null,0,null,null,null,"00:00:00",0,0,0,0]
[null,0,null,0,null,null,null,"00:00:00",0,0,0,0]
[null,0,null,0,null,null,null,"00:00:00",0,0,0,0]
[null,0,null,0,null,null,null,"00:00:00",0,0,0,0]
[null,0,null,0,null,null,null,"00:00:00",0,0,0,0]
[null,0,null,0,null,null,null,"00:00:00",0,0,0,0]
[null,0,null,0,null,null,null,"00:00:00",0,0,0,0]
[null,0,null,0,null,null,null,"00:00:00",0,0,0,0]
[null,0,null,0,null,null,null,"00:00:00",0,0,0,0]
[null,0,null,0,null,null,null,"00:00:00",0,0,0,0]
[null,0,null,0,null,null,null,"00:00:00",0,0,0,0]
[null,0,null,0,null,null,null,"00:00:00",0,0,0,0]
[null,0,null,0,null,null,null,"00:00:00",0,0,0,0]
[null,0,null,0,null,null,null,"00:00:00",0,0,0,0]
[null,0,null,0,null,null,null,"00:00:00",0,0,0,0]
[null,0,null,0,null,null,null,"00:00:00",0,0,0,0]
[null,0,null,0,null,null,null,"00:00:00",0,0,0,0]
[null,0,null,0,null,null,null,"00:00:00",0,0,0,0]
[null,0,null,0,null,null,null,"00:00:00",0,0,0,0]
[null,0,null,0,null,null,null,"00:00:00",0,0,0,0]
[null,0,null,0,null,null,null,"00:00:00",0,0,0,0]
[null,0,null,0,null,null,null,"00:00:00",0,0,0,0]
[null,0,null,0,null,null,null,"00:00:00",0,0,0,0]
[null,0,null,0,null,null,null,"00:00:00",0,0,0,0]
[null,0,null,0,null,null,null,"00:00:00",0,0,0,0]
[null,0,null,0,null,null,null,"00:00:00",0,0,0,0]
[null,0,null,0,null,null,null,"00:00:00",0,0,0,0]
[null,0,null,0,null,null,null,"00:00:00",0,0,0,0]
[null,0,null,0,null,null,null,"00:00:00",0,0,0,0]
[null,0,null,0,null,null,null,"00:00:00",0,0,0,0]
[null,0,null,0,null,null,null,"00:00:00",0,0,0,0]
[null,0,null,0,null,null,null,"00:00:00",0,0,0,0]
[null,0,null,0,null,null,null,"00:00:00",0,0,0,0]
[null,0,null,0,null,null,null,"00:00:00",0,0,0,0]
[null,0,null,0,null,null,null,"00:00:00",0,0,0,0]
[null,0,null,0,null,null,null,"00:00:00",0,0,0,0]
[null,0,null,0,null,null,null,"00:00:00",0,0,0,0]
[null,0,null,0,null,null,null,"00:00:00",0,0,0,0]
[null,0,null,0,null,null,null,"00:00:00",0,0,0,0]
[null,0,null,0,null,null,null,"00:00:00",0,0,0,0]
[null,0,null,0,null,null,null,"00:00:00",0,0,0,0]
[null,0,null,0,null,null,null,"00:00:00",0,0,0,0]
[null,0,null,0,null,null,null,"00:00:00",0,0,0,0]
[null,0,null,0,null,null,null,"00:00:00",0,0,0,0]
[null,0,null,0,null,null,null,"00:00:00",0,0,0,0]
[null,0,null,0,null,null,null,"00:00:00",0,0,0,0]
[null,0,null,0,null,null,null,"00:00:00",0,0,0,0]
[null,0,null,0,null,null,null,"00:00:00",0,0,0,0]
[null,0,null,0,null,null,null,"00:00:00",0,0,0,0]
[null,0,null,0,null,null,null,"00:00:00",0,0,0,0]
[null,0,null,0,null,null,null,"00:00:00",0,0,0,0]
[null,0,null,0,null,null,null,"00:00:00",0,0,0,0]
[null,0,null,0,null,null,null,"00:00:00",0,0,0,0]
[null,0,null,0,null,null,null,"00:00:00",0,0,0,0]
[null,0,null,0,null,null,null,"00:00:00",0,0,0,0]
[null,0,null,0,null,null,null,"00:00:00",0,0,0,0]
[null,0,null,0,null,null,null,"00:00:00",0,0,0,0]
[null,0,null,0,null,null,null,"00:00:00",0,0,0,0]
[null,0,null,0,null,null,null,"00:00:00",0,0,0,0]
[null,0,null,0,null,null,null,"00:00:00",0,0,0,0]
[null,0,null,0,null,null,null,"00:00:00",0,0,0,0]
[null,0,null,0,null,null,null,"00:00:00",0,0,0,0]
[null,0,null,0,null,null,null,"00:00:00",0,0,0,0]
[null,0,null,0,null,null,null,"00:00:00",0,0,0,0]
[null,0,null,0,null,null,null,"00:00:00",0,0,0,0]
[null,0,null,0,null,null,null,"00:00:00",0,0,0,0]
[null,0,null,0,null,null,null,"00:00:00",0,0,0,0]
[null,0,null,0,null,null,null,"00:00:00",0,0,0,0]
[null,0,null,0,null,null,null,"00:00:00",0,0,0,0]
[null,0,null,0,null,null,null,"00:00:00",0,0,0,0]
[null,0,null,0,null,null,null,"00:00:00",0,0,0,0]
[null,0,null,0,null,null,null,"00:00:00",0,0,0,0]
[null,0,null,0,null,null,null,"00:00:00",0,0,0,0]
[null,0,null,0,null,null,null,"00:00:00",0,0,0,0]
[null,0,null,0,null,null,null,"00:00:00",0,0,0,0]
[null,0,null,0,null,null,null,"00:00:00",0,0,0,0]
[null,0,null,0,null,null,null,"00:00:00",0,0,0,0]
[null,0,null,0,null,null,null,"00:00:00",0,0,0,0]
[null,0,null,0,null,null,null,"00:00:00",0,0,0,0]
[null,0,null,0,null,null,null,"00:00:00",0,0,0,0]
[null,0,null,0,null,null,null,"00:00:00",0,0,0,0]
[null,0,null,0,null,null,null,"00:00:00",0,0,0,0]
[null,0,null,0,null,null,null,"00:00:00",0,0,0,0]
[null,0,null,0,null,null,null,"00:00:00",0,0,0,0]
[null,0,null,0,null,null,null,"00:00:00",0,0,0,0]
[null,0,null,0,null,null,null,"00:00:00",0,0,0,0]
[null,0,null,0,null,null,null,"00:00:00",0,0,0,0]
[null,0,null,0,null,null,null,"00:00:00",0,0,0,0]
[null,0,null,0,null,null,null,"00:00:00",0,0,0,0]
[null,0,null,0,null,null,null,"00:00:00",0,0,0,0]
[null,0,null,0,null,null,null,"00:00:00",0,0,0,0]
[null,0,null,0,null,null,null,"00:00:00",0,0,0,0]
[null,0,null,0,null,null,null,"00:00:00",0,0,0,0]
[null,0,null,0,null,null,null,"00:00:00",0,0,0,0]
[null,0,null,0,null,null,null,"00:00:00",0,0,0,0]
[null,0,null,0,null,null,null,"00:00:00",0,0,0,0]
[null,0,null,0,null,null,null,"00:00:00",0,0,0,0]
[null,0,null,0,null,null,null,"00:00:00",0,0,0,0]
[null,0,null,0,null,null,null,"00:00:00",0,0,0,0]
[null,0,null,0,null,null,null,"00:00:00",0,0,0,0]
[null,0,null,0,null,null,null,"00:00:00",0,0,0,0]
[null,0,null,0,null,null,null,"00:00:00",0,0,0,0]
[null,0,null,0,null,null,null,"00:00:00",0,0,0,0]
[null,0,null,0,null,null,null,"00:00:00",0,0,0,0]
[null,0,null,0,null,null,null,"00:00:00",0,0,0,0]
[null,0,null,0,null,null,null,"00:00:00",0,0,0,0]
[null,0,null,0,null,null,null,"00:00:00",0,0,0,0]
[null,0,null,0,null,null,null,"00:00:00",0,0,0,0]
[null,0,null,0,null,null,null,"00:00:00",0,0,0,0]
[null,0,null,0,null,null,null,"00:00:00",0,0,0,0]
[null,0,null,0,null,null,null,"00:00:00",0,0,0,0]
[null,0,null,0,null,null,null,"00:00:00",0,0,0,0]
[null,0,null,0,null,null,null,"00:00:00",0,0,0,0]
[null,0,null,0,null,null,null,"00:00:00",0,0,0,0]
[null,0,null,0,null,null,null,"00:00:00",0,0,0,0]
[null,0,null,0,null,null,null,"00:00:00",0,0,0,0]
[null,0,null,0,null,null,null,"00:00:00",0,0,0,0]
[null,0,null,0,null,null,null,"00:00:00",0,0,0,0]
[null,0,null,0,null,null,null,"00:00:00",0,0,0,0]
[null,0,null,0,null,null,null,"00:00:00",0,0,0,0]
[null,0,null,0,null,null,null,"00:00:00",0,0,0,0]
[null,0,null,0,null,null,null,"00:00:00",0,0,0,0]
[null,0,null,0,null,null,null,"00:00:00",0,0,0,0]
[null,0,null,0,null,null,null,"00:00:00",0,0,0,0]
[null,0,null,0,null,null,null,"00:00:00",0,0,0,0]
[null,0,null,0,null,null,null,"00:00:00",0,0,0,0]
[null,0,null,0,null,null,null,"00:00:00",0,0,0,0]
[null,0,null,0,null,null,null,"00:00:00",0,0,0,0]
[null,0,null,0,null,null,null,"00:00:00",0,0,0,0]
[null,0,null,0,null,null,null,"00:00:00",0,0,0,0]
[null,0,null,0,null,null,null,"00:00:00",0,0,0,0]
[null,0,null,0,null,null,null,"00:00:00",0,0,0,0]
[null,0,null,0,null,null,null,"00:00:00",0,0,0,0]
[null,0,null,0,null,null,null,"00:00:00",0,0,0,0]
[null,0,null,0,null,null,null,"00:00:00",0,0,0,0]
[null,0,null,0,null,null,null,"00:00:00",0,0,0,0]
[null,0,null,0,null,null,null,"00:00:00",0,0,0,0]
[null,0,null,0,null,null,null,"00:00:00",0,0,0,0]
[null,0,null,0,null,null,null,"00:00:00",0,0,0,0]
[null,0,null,0,null,null,null,"00:00:00",0,0,0,0]
[null,0,null,0,null,null,null,"00:00:00",0,0,0,0]
[null,0,null,0,null,null,null,"00:00:00",0,0,0,0]
[null,0,null,0,null,null,null,"00:00:00",0,0,0,0]
[null,0,null,0,null,null,null,"00:00:00",0,0,0,0]
[null,0,null,0,null,null,null,"00:00:00",0,0,0,0]
[null,0,null,0,null,null,null,"00:00:00",0,0,0,0]
[null,0,null,0,null,null,null,"00:00:00",0,0,0,0]
[null,0,null,0,null,null,null,"00:00:00",0,0,0,0]
[null,0,null,0,null,null,null,"00:00:00",0,0,0,0]
[null,0,null,0,null,null,null,"00:00:00",0,0,0,0]
[null,0,null,0,null,null,null,"00:00:00",0,0,0,0]
[null,0,null,0,null,null,null,"00:00:00",0,0,0,0]
[null,0,null,0,null,null,null,"00:00:00",0,0,0,0]
[null,0,null,0,null,null,null,"00:00:00",0,0,0,0]
[null,0,null,0,null,null,null,"00:00:00",0,0,0,0]
[null,0,null,0,null,null,null,"00:00:00",0,0,0,0]
[null,0,null,0,null,null,null,"00:00:00",0,0,0,0]
[null,0,null,0,null,null,null,"00:00:00",0,0,0,0]
[null,0,null,0,null,null,null,"00:00:00",0,0,0,0]
[null,0,null,0,null,null,null,"00:00:00",0,0,0,0]
[null,0,null,0,null,null,null,"00:00:00",0,0,0,0]
[null,0,null,0,null,null,null,"00:00:00",0,0,0,0]
[null,0,null,0,null,null,null,"00:00:00",0,0,0,0]
[null,0,null,0,null,null,null,"00:00:00",0,0,0,0]
[null,0,null,0,null,null,null,"00:00:00",0,0,0,0]
[null,0,null,0,null,null,null,"00:00:00",0,0,0,0]
[null,0,null,0,null,null,null,"00:00:00",0,0,0,0]
[null,0,null,0,null,null,null,"00:00:00",0,0,0,0]
[null,0,null,0,null,null,null,"00:00:00",0,0,0,0]
[null,0,null,0,null,null,null,"00:00:00",0,0,0,0]
[null,0,null,0,null,null,null,"00:00:00",0,0,0,0]
[null,0,null,0,null,null,null,"00:00:00",0,0,0,0]
[null,0,null,0,null,null,null,"00:00:00",0,0,0,0]
[null,0,null,0,null,null,null,"00:00:00",0,0,0,0]
[null,0,null,0,null,null,null,"00:00:00",0,0,0,0]
[null,0,null,0,null,null,null,"00:00:00",0,0,0,0]
[null,0,null,0,null,null,null,"00:00:00",0,0,0,0]
[null,0,null,0,null,null,null,"00:00:00",0,0,0,0]
[null,0,null,0,null,null,null,"00:00:00",0,0,0,0]
[null,0,null,0,null,null,null,"00:00:00",0,0,0,0]
[null,0,null,0,null,null,null,"00:00:00",0,0,0,0]
[null,0,null,0,null,null,null,"00:00:00",0,0,0,0]
[null,0,null,0,null,null,null,"00:00:00",0,0,0,0]
[null,0,null,0,null,null,null,"00:00:00",0,0,0,0]
[null,0,null,0,null,null,null,"00:00:00",0,0,0,0]
[null,0,null,0,null,null,null,"00:00:00",0,0,0,0]
[null,0,null,0,null,null,null,"00:00:00",0,0,0,0]
[null,0,null,0,null,null,null,"00:00:00",0,0,0,0]
[null,0,null,0,null,null,null,"00:00:00",0,0,0,0]
[null,0,null,0,null,null,null,"00:00:00",0,0,0,0]
[null,0,null,0,null,null,null,"00:00:00",0,0,0,0]
[null,0,null,0,null,null,null,"00:00:00",0,0,0,0]
[null,0,null,0,null,null,null,"00:00:00",0,0,0,0]
[null,0,null,0,null,null,null,"00:00:00",0,0,0,0]
[null,0,null,0,null,null,null,"00:00:00",0,0,0,0]
[null,0,null,0,null,null,null,"00:00:00",0,0,0,0]
[null,0,null,0,null,null,null,"00:00:00",0,0,0,0]
[null,0,null,0,null,null,null,"00:00:00",0,0,0,0]
[null,0,null,0,null,null,null,"00:00:00",0,0,0,0]
[null,0,null,0,null,null,null,"00:00:00",0,0,0,0]
[null,0,null,0,null,null,null,"00:00:00",0,0,0,0]
[null,0,null,0,null,null,null,"00:00:00",0,0,0,0]
[null,0,null,0,null,null,null,"00:00:00",0,0,0,0]
[null,0,null,0,null,null,null,"00:00:00",0,0,0,0]
[null,0,null,0,null,null,null,"00:00:00",0,0,0,0]
[null,0,null,0,null,null,null,"00:00:00",0,0,0,0]
[null,0,null,0,null,null,null,"00:00:00",0,0,0,0]
[null,0,null,0,null,null,null,"00:00:00",0,0,0,0]
[null,0,null,0,null,null,null,"00:00:00",0,0,0,0]
[null,0,null,0,null,null,null,"00:00:00",0,0,0,0]
[null,0,null,0,null,null,null,"00:00:00",0,0,0,0]
[null,0,null,0,null,null,null,"00:00:00",0,0,0,0]
[null,0,null,0,null,null,null,"00:00:00",0,0,0,0]
[null,0,null,0,null,null,null,"00:00:00",0,0,0,0]
[null,0,null,0,null,null,null,"00:00:00",0,0,0,0]
[null,0,null,0,null,null,null,"00:00:00",0,0,0,0]
[null,0,null,0,null,null,null,"00:00:00",0,0,0,0]
[null,0,null,0,null,null,null,"00:00:00",0,0,0,0]
[null,0,null,0,null,null,null,"00:00:00",0,0,0,0]
[null,0,null,0,null,null,null,"00:00:00",0,0,0,0]
[null,0,null,0,null,null,null,"00:00:00",0,0,0,0]
[null,0,null,0,null,null,null,"00:00:00",0,0,0,0]
[null,0,null,0,null,null,null,"00:00:00",0,0,0,0]
[null,0,null,0,null,null,null,"00:00:00",0,0,0,0]
[null,0,null,0,null,null,null,"00:00:00",0,0,0,0]
[null,0,null,0,null,null,null,"00:00:00",0,0,0,0]
[null,0,null,0,null,null,null,"00:00:00",0,0,0,0]
[null,0,null,0,null,null,null,"00:00:00",0,0,0,0]
[null,0,null,0,null,null,null,"00:00:00",0,0,0,0]
[null,0,null,0,null,null,null,"00:00:00",0,0,0,0]
[null,0,null,0,null,null,null,"00:00:00",0,0,0,0]
[null,0,null,0,null,null,null,"00:00:00",0,0,0,0]
[null,0,null,0,null,null,null,"00:00:00",0,0,0,0]
[null,0,null,0,null,null,null,"00:00:00",0,0,0,0]
[null,0,null,0,null,null,null,"00:00:00",0,0,0,0]
[null,0,null,0,null,null,null,"00:00:00",0,0,0,0]
[null,0,null,0,null,null,null,"00:00:00",0,0,0,0]
[null,0,null,0,null,null,null,"00:00:00",0,0,0,0]
[null,0,null,0,null,null,null,"00:00:00",0,0,0,0]
[null,0,null,0,null,null,null,"00:00:00",0,0,0,0]
[null,0,null,0,null,null,null,"00:00:00",0,0,0,0]
[null,0,null,0,null,null,null,"00:00:00",0,0,0,0]
[null,0,null,0,null,null,null,"00:00:00",0,0,0,0]
[null,0,null,0,null,null,null,"00:00:00",0,0,0,0]
[null,0,null,0,null,null,null,"00:00:00",0,0,0,0]
[null,0,null,0,null,null,null,"00:00:00",0,0,0,0]
[null,0,null,0,null,null,null,"00:00:00",0,0,0,0]
[null,0,null,0,null,null,null,"00:00:00",0,0,0,0]
[null,0,null,0,null,null,null,"00:00:00",0,0,0,0]
[null,0,null,0,null,null,null,"00:00:00",0,0,0,0]
[null,0,null,0,null,null,null,"00:00:00",0,0,0,0]
[null,0,null,0,null,null,null,"00:00:00",0,0,0,0]
[null,0,null,0,null,null,null,"00:00:00",0,0,0,0]
[null,0,null,0,null,null,null,"00:00:00",0,0,0,0]
[null,0,null,0,null,null,null,"00:00:00",0,0,0,0]
[null,0,null,0,null,null,null,"00:00:00",0,0,0,0]
[null,0,null,0,null,null,null,"00:00:00",0,0,0,0]
[null,0,null,0,null,null,null,"00:00:00",0,0,0,0]
[null,0,null,0,null,null,null,"00:00:00",0,0,0,0]
[null,0,null,0,null,null,null,"00:00:00",0,0,0,0]
[null,0,null,0,null,null,null,"00:00:00",0,0,0,0]
[null,0,null,0,null,null,null,"00:00:00",0,0,0,0]
[null,0,null,0,null,null,null,"00:00:00",0,0,0,0]
[null,0,null,0,null,null,null,"00:00:00",0,0,0,0]
[null,0,null,0,null,null,null,"00:00:00",0,0,0,0]
[null,0,null,0,null,null,null,"00:00:00",0,0,0,0]
[null,0,null,0,null,null,null,"00:00:00",0,0,0,0]
[null,0,null,0,null,null,null,"00:00:00",0,0,0,0]
[null,0,null,0,null,null,null,"00:00:00",0,0,0,0]
[null,0,null,0,null,null,null,"00:00:00",0,0,0,0]
[null,0,null,0,null,null,null,"00:00:00",0,0,0,0]
[null,0,null,0,null,null,null,"00:00:00",0,0,0,0]
[null,0,null,0,null,null,null,"00:00:00",0,0,0,0]
[null,0,null,0,null,null,null,"00:00:00",0,0,0,0]
[null,0,null,0,null,null,null,"00:00:00",0,0,0,0]
[null,0,null,0,null,null,null,"00:00:00",0,0,0,0]
[null,0,null,0,null,null,null,"00:00:00",0,0,0,0]
[null,0,null,0,null,null,null,"00:00:00",0,0,0,0]
[null,0,null,0,null,null,null,"00:00:00",0,0,0,0]
[null,0,null,0,null,null,null,"00:00:00",0,0,0,0]
[null,0,null,0,null,null,null,"00:00:00",0,0,0,0]
[null,0,null,0,null,null,null,"00:00:00",0,0,0,0]
[null,0,null,0,null,null,null,"00:00:00",0,0,0,0]
[null,0,null,0,null,null,null,"00:00:00",0,0,0,0]
[null,0,null,0,null,null,null,"00:00:00",0,0,0,0]
[null,0,null,0,null,null,null,"00:00:00",0,0,0,0]
[null,0,null,0,null,null,null,"00:00:00",0,0,0,0]
[null,0,null,0,null,null,null,"00:00:00",0,0,0,0]
[null,0,null,0,null,null,null,"00:00:00",0,0,0,0]
[null,0,null,0,null,null,null,"00:00:00",0,0,0,0]
[null,0,null,0,null,null,null,"00:00:00",0,0,0,0]
[null,0,null,0,null,null,null,"00:00:00",0,0,0,0]
[null,0,null,0,null,null,null,"00:00:00",0,0,0,0]
[null,0,null,0,null,null,null,"00:00:00",0,0,0,0]
[null,0,null,0,null,null,null,"00:00:00",0,0,0,0]
[null,0,null,0,null,null,null,"00:00:00",0,0,0,0]
[null,0,null,0,null,null,null,"00:00:00",0,0,0,0]
[null,0,null,0,null,null,null,"00:00:00",0,0,0,0]
[null,0,null,0,null,null,null,"00:00:00",0,0,0,0]
[null,0,null,0,null,null,null,"00:00:00",0,0,0,0]
[null,0,null,0,null,null,null,"00:00:00",0,0,0,0]
[null,0,null,0,null,null,null,"00:00:00",0,0,0,0]
[null,0,null,0,null,null,null,"00:00:00",0,0,0,0]
[null,0,null,0,null,null,null,"00:00:00",0,0,0,0]
[null,0,null,0,null,null,null,"00:00:00",0,0,0,0]
[null,0,null,0,null,null,null,"00:00:00",0,0,0,0]
[null,0,null,0,null,null,null,"00:00:00",0,0,0,0]
[null,0,null,0,null,null,null,"00:00:00",0,0,0,0]
[null,0,null,0,null,null,null,"00:00:00",0,0,0,0]
[null,0,null,0,null,null,null,"00:00:00",0,0,0,0]
[null,0,null,0,null,null,null,"00:00:00",0,0,0,0]
[null,0,null,0,null,null,null,"00:00:00",0,0,0,0]
[null,0,null,0,null,null,null,"00:00:00",0,0,0,0]
[null,0,null,0,null,null,null,"00:00:00",0,0,0,0]
[null,0,null,0,null,null,null,"00:00:00",0,0,0,0]
[null,0,null,0,null,null,null,"00:00:00",0,0,0,0]
[null,0,null,0,null,null,null,"00:00:00",0,0,0,0]
[null,0,null,0,null,null,null,"00:00:00",0,0,0,0]
[null,0,null,0,null,null,null,"00:00:00",0,0,0,0]
[null,0,null,0,null,null,null,"00:00:00",0,0,0,0]
[null,0,null,0,null,null,null,"00:00:00",0,0,0,0]
[null,0,null,0,null,null,null,"00:00:00",0,0,0,0]
[null,0,null,0,null,null,null,"00:00:00",0,0,0,0]
[null,0,null,0,null,null,null,"00:00:00",0,0,0,0]
[null,0,null,0,null,null,null,"00:00:00",0,0,0,0]
[null,0,null,0,null,null,null,"00:00:00",0,0,0,0]
[null,0,null,0,null,null,null,"00:00:00",0,0,0,0]
[null,0,null,0,null,null,null,"00:00:00",0,0,0,0]
[null,0,null,0,null,null,null,"00:00:00",0,0,0,0]
[null,0,null,0,null,null,null,"00:00:00",0,0,0,0]
[null,0,null,0,null,null,null,"00:00:00",0,0,0,0]
[null,0,null,0,null,null,null,"00:00:00",0,0,0,0]
[null,0,null,0,null,null,null,"00:00:00",0,0,0,0]
[null,0,null,0,null,null,null,"00:00:00",0,0,0,0]
[null,0,null,0,null,null,null,"00:00:00",0,0,0,0]
[null,0,null,0,null,null,null,"00:00:00",0,0,0,0]
[null,0,null,0,null,null,null,"00:00:00",0,0,0,0]
[null,0,null,0,null,null,null,"00:00:00",0,0,0,0]
[null,0,null,0,null,null,null,"00:00:00",0,0,0,0]
[null,0,null,0,null,null,null,"00:00:00",0,0,0,0]
[null,0,null,0,null,null,null,"00:00:00",0,0,0,0]
[null,0,null,0,null,null,null,"00:00:00",0,0,0,0]
[null,0,null,0,null,null,null,"00:00:00",0,0,0,0]
[null,0,null,0,null,null,null,"00:00:00",0,0,0,0]
[null,0,null,0,null,null,null,"00:00:00",0,0,0,0]
[null,0,null,0,null,null,null,"00:00:00",0,0,0,0]
[null,0,null,0,null,null,null,"00:00:00",0,0,0,0]
[null,0,null,0,null,null,null,"00:00:00",0,0,0,0]
[null,0,null,0,null,null,null,"00:00:00",0,0,0,0]
[null,0,null,0,null,null,null,"00:00:00",0,0,0,0]
[null,0,null,0,null,null,null,"00:00:00",0,0,0,0]
[null,0,null,0,null,null,null,"00:00:00",0,0,0,0]
[null,0,null,0,null,null,null,"00:00:00",0,0,0,0]
[null,0,null,0,null,null,null,"00:00:00",0,0,0,0]
[null,0,null,0,null,null,null,"00:00:00",0,0,0,0]
[null,0,null,0,null,null,null,"00:00:00",0,0,0,0]
[null,0,null,0,null,null,null,"00:00:00",0,0,0,0]
[null,0,null,0,null,null,null,"00:00:00",0,0,0,0]
[null,0,null,0,null,null,null,"00:00:00",0,0,0,0]
[null,0,null,0,null,null,null,"00:00:00",0,0,0,0]
[null,0,null,0,null,null,null,"00:00:00",0,0,0,0]
[null,0,null,0,null,null,null,"00:00:00",0,0,0,0]
[null,0,null,0,null,null,null,"00:00:00",0,0,0,0]
[null,0,null,0,null,null,null,"00:00:00",0,0,0,0]
[null,0,null,0,null,null,null,"00:00:00",0,0,0,0]
[null,0,null,0,null,null,null,"00:00:00",0,0,0,0]
[null,0,null,0,null,null,null,"00:00:00",0,0,0,0]
[null,0,null,0,null,null,null,"00:00:00",0,0,0,0]
[null,0,null,0,null,null,null,"00:00:00",0,0,0,0]
[null,0,null,0,null,null,null,"00:00:00",0,0,0,0]
[null,0,null,0,null,null,null,"00:00:00",0,0,0,0]
[null,0,null,0,null,null,null,"00:00:00",0,0,0,0]
[null,0,null,0,null,null,null,"00:00:00",0,0,0,0]
[null,0,null,0,null,null,null,"00:00:00",0,0,0,0]
[null,0,null,0,null,null,null,"00:00:00",0,0,0,0]
[null,0,null,0,null,null,null,"00:00:00",0,0,0,0]
[null,0,null,0,null,null,null,"00:00:00",0,0,0,0]
[null,0,null,0,null,null,null,"00:00:00",0,0,0,0]
[null,0,null,0,null,null,null,"00:00:00",0,0,0,0]
[null,0,null,0,null,null,null,"00:00:00",0,0,0,0]
[null,0,null,0,null,null,null,"00:00:00",0,0,0,0]
[null,0,null,0,null,null,null,"00:00:00",0,0,0,0]
[null,0,null,0,null,null,null,"00:00:00",0,0,0,0]
[null,0,null,0,null,null,null,"00:00:00",0,0,0,0]
[null,0,null,0,null,null,null,"00:00:00",0,0,0,0]
[null,0,null,0,null,null,null,"00:00:00",0,0,0,0]
[null,0,null,0,null,null,null,"00:00:00",0,0,0,0]
[null,0,null,0,null,null,null,"00:00:00",0,0,0,0]
[null,0,null,0,null,null,null,"00:00:00",0,0,0,0]
[null,0,null,0,null,null,null,"00:00:00",0,0,0,0]
[null,0,null,0,null,null,null,"00:00:00",0,0,0,0]
[null,0,null,0,null,null,null,"00:00:00",0,0,0,0]
[null,0,null,0,null,null,null,"00:00:00",0,0,0,0]
[null,0,null,0,null,null,null,"00:00:00",0,0,0,0]
[null,0,null,0,null,null,null,"00:00:00",0,0,0,0]
[null,0,null,0,null,null,null,"00:00:00",0,0,0,0]
[null,0,null,0,null,null,null,"00:00:00",0,0,0,0]
[null,0,null,0,null,null,null,"00:00:00",0,0,0,0]
[null,0,null,0,null,null,null,"00:00:00",0,0,0,0]
[null,0,null,0,null,null,null,"00:00:00",0,0,0,0]
[null,0,null,0,null,null,null,"00:00:00",0,0,0,0]
[null,0,null,0,null,null,null,"00:00:00",0,0,0,0]
[null,0,null,0,null,null,null,"00:00:00",0,0,0,0]
[null,0,null,0,null,null,null,"00:00:00",0,0,0,0]
[null,0,null,0,null,null,null,"00:00:00",0,0,0,0]
[null,0,null,0,null,null,null,"00:00:00",0,0,0,0]
[null,0,null,0,null,null,null,"00:00:00",0,0,0,0]
[null,0,null,0,null,null,null,"00:00:00",0,0,0,0]
[null,0,null,0,null,null,null,"00:00:00",0,0,0,0]
[null,0,null,0,null,null,null,"00:00:00",0,0,0,0]
[null,0,null,0,null,null,null,"00:00:00",0,0,0,0]
[null,0,null,0,null,null,null,"00:00:00",0,0,0,0]
[null,0,null,0,null,null,null,"00:00:00",0,0,0,0]
[null,0,null,0,null,null,null,"00:00:00",0,0,0,0]
[null,0,null,0,null,null,null,"00:00:00",0,0,0,0]
[null,0,null,0,null,null,null,"00:00:00",0,0,0,0]
[null,0,null,0,null,null,null,"00:00:00",0,0,0,0]
[null,0,null,0,null,null,null,"00:00:00",0,0,0,0]
[null,0,null,0,null,null,null,"00:00:00",0,0,0,0]
[null,0,null,0,null,null,null,"00:00:00",0,0,0,0]
[null,0,null,0,null,null,null,"00:00:00",0,0,0,0]
[null,0,null,0,null,null,null,"00:00:00",0,0,0,0]
[null,0,null,0,null,null,null,"00:00:00",0,0,0,0]
[null,0,null,0,null,null,null,"00:00:00",0,0,0,0]
[null,0,null,0,null,null,null,"00:00:00",0,0,0,0]
[null,0,null,0,null,null,null,"00:00:00",0,0,0,0]
[null,0,null,0,null,null,null,"00:00:00",0,0,0,0]
[null,0,null,0,null,null,null,"00:00:00",0,0,0,0]
[null,0,null,0,null,null,null,"00:00:00",0,0,0,0]
[null,0,null,0,null,null,null,"00:00:00",0,0,0,0]
[null,0,null,0,null,null,null,"00:00:00",0,0,0,0]
[null,0,null,0,null,null,null,"00:00:00",0,0,0,0]
[null,0,null,0,null,null,null,"00:00:00",0,0,0,0]
[null,0,null,0,null,null,null,"00:00:00",0,0,0,0]
[null,0,null,0,null,null,null,"00:00:00",0,0,0,0]
[null,0,null,0,null,null,null,"00:00:00",0,0,0,0]
[null,0,null,0,null,null,null,"00:00:00",0,0,0,0]
[null,0,null,0,null,null,null,"00:00:00",0,0,0,0]
[null,0,null,0,null,null,null,"00:00:00",0,0,0,0]
[null,0,null,0,null,null,null,"00:00:00",0,0,0,0]
[null,0,null,0,null,null,null,"00:00:00",0,0,0,0]
[null,0,null,0,null,null,null,"00:00:00",0,0,0,0]
[null,0,null,0,null,null,null,"00:00:00",0,0,0,0]
[null,0,null,0,null,null,null,"00:00:00",0,0,0,0]
[null,0,null,0,null,null,null,"00:00:00",0,0,0,0]
[null,0,null,0,null,null,null,"00:00:00",0,0,0,0]
[null,0,null,0,null,null,null,"00:00:00",0,0,0,0]
[null,0,null,0,null,null,null,"00:00:00",0,0,0,0]
[null,0,null,0,null,null,null,"00:00:00",0,0,0,0]
[null,0,null,0,null,null,null,"00:00:00",0,0,0,0]
[null,0,null,0,null,null,null,"00:00:00",0,0,0,0]
[null,0,null,0,null,null,null,"00:00:00",0,0,0,0]
[null,0,null,0,null,null,null,"00:00:00",0,0,0,0]
[null,0,null,0,null,null,null,"00:00:00",0,0,0,0]
[null,0,null,0,null,null,null,"00:00:00",0,0,0,0]
[null,0,null,0,null,null,null,"00:00:00",0,0,0,0]
[null,0,null,0,null,null,null,"00:00:00",0,0,0,0]
[null,0,null,0,null,null,null,"00:00:00",0,0,0,0]
[null,0,null,0,null,null,null,"00:00:00",0,0,0,0]
[null,0,null,0,null,null,null,"00:00:00",0,0,0,0]
[null,0,null,0,null,null,null,"00:00:00",0,0,0,0]
[null,0,null,0,null,null,null,"00:00:00",0,0,0,0]
[null,0,null,0,null,null,null,"00:00:00",0,0,0,0]
[null,0,null,0,null,null,null,"00:00:00",0,0,0,0]
[null,0,null,0,null,null,null,"00:00:00",0,0,0,0]
[null,0,null,0,null,null,null,"00:00:00",0,0,0,0]
[null,0,null,0,null,null,null,"00:00:00",0,0,0,0]
[null,0,null,0,null,null,null,"00:00:00",0,0,0,0]
[null,0,null,0,null,null,null,"00:00:00",0,0,0,0]
[null,0,null,0,null,null,null,"00:00:00",0,0,0,0]
[null,0,null,0,null,null,null,"00:00:00",0,0,0,0]
[null,0,null,0,null,null,null,"00:00:00",0,0,0,0]
[null,0,null,0,null,null,null,"00:00:00",0,0,0,0]
[null,0,null,0,null,null,null,"00:00:00",0,0,0,0]
[null,0,null,0,null,null,null,"00:00:00",0,0,0,0]
[null,0,null,0,null,null,null,"00:00:00",0,0,0,0]
[null,0,null,0,null,null,null,"00:00:00",0,0,0,0]
[null,0,null,0,null,null,null,"00:00:00",0,0,0,0]
[null,0,null,0,null,null,null,"00:00:00",0,0,0,0]
[null,0,null,0,null,null,null,"00:00:00",0,0,0,0]
[null,0,null,0,null,null,null,"00:00:00",0,0,0,0]
[null,0,null,0,null,null,null,"00:00:00",0,0,0,0]
[null,0,null,0,null,null,null,"00:00:00",0,0,0,0]
[null,0,null,0,null,null,null,"00:00:00",0,0,0,0]
[null,0,null,0,null,null,null,"00:00:00",0,0,0,0]
[null,0,null,0,null,null,null,"00:00:00",0,0,0,0]
[null,0,null,0,null,null,null,"00:00:00",0,0,0,0]
[null,0,null,0,null,null,null,"00:00:00",0,0,0,0]
[null,0,null,0,null,null,null,"00:00:00",0,0,0,0]
[null,0,null,0,null,null,null,"00:00:00",0,0,0,0]
[null,0,null,0,null,null,null,"00:00:00",0,0,0,0]
[null,0,null,0,null,null,null,"00:00:00",0,0,0,0]
[null,0,null,0,null,null,null,"00:00:00",0,0,0,0]
[null,0,null,0,null,null,null,"00:00:00",0,0,0,0]
[null,0,null,0,null,null,null,"00:00:00",0,0,0,0]
[null,0,null,0,null,null,null,"00:00:00",0,0,0,0]
[null,0,null,0,null,null,null,"00:00:00",0,0,0,0]
[null,0,null,0,null,null,null,"00:00:00",0,0,0,0]
[null,0,null,0,null,null,null,"00:00:00",0,0,0,0]
[null,0,null,0,null,null,null,"00:00:00",0,0,0,0]
[null,0,null,0,null,null,null,"00:00:00",0,0,0,0]
[null,0,null,0,null,null,null,"00:00:00",0,0,0,0]
[null,0,null,0,null,null,null,"00:00:00",0,0,0,0]
[null,0,null,0,null,null,null,"00:00:00",0,0,0,0]
[null,0,null,0,null,null,null,"00:00:00",0,0,0,0]
[null,0,null,0,null,null,null,"00:00:00",0,0,0,0]
[null,0,null,0,null,null,null,"00:00:00",0,0,0,0]
[null,0,null,0,null,null,null,"00:00:00",0,0,0,0]
[null,0,null,0,null,null,null,"00:00:00",0,0,0,0]
[null,0,null,0,null,null,null,"00:00:00",0,0,0,0]
[null,0,null,0,null,null,null,"00:00:00",0,0,0,0]
[null,0,null,0,null,null,null,"00:00:00",0,0,0,0]
[null,0,null,0,null,null,null,"00:00:00",0,0,0,0]
[null,0,null,0,null,null,null,"00:00:00",0,0,0,0]
[null,0,null,0,null,null,null,"00:00:00",0,0,0,0]
[null,0,null,0,null,null,null,"00:00:00",0,0,0,0]
[null,0,null,0,null,null,null,"00:00:00",0,0,0,0]
[null,0,null,0,null,null,null,"00:00:00",0,0,0,0]
[null,0,null,0,null,null,null,"00:00:00",0,0,0,0]
[null,0,null,0,null,null,null,"00:00:00",0,0,0,0]
[null,0,null,0,null,null,null,"00:00:00",0,0,0,0]
[null,0,null,0,null,null,null,"00:00:00",0,0,0,0]
[null,0,null,0,null,null,null,"00:00:00",0,0,0,0]
[null,0,null,0,null,null,null,"00:00:00",0,0,0,0]
[null,0,null,0,null,null,null,"00:00:00",0,0,0,0]
[null,0,null,0,null,null,null,"00:00:00",0,0,0,0]
[null,0,null,0,null,null,null,"00:00:00",0,0,0,0]
[null,0,null,0,null,null,null,"00:00:00",0,0,0,0]
[null,0,null,0,null,null,null,"00:00:00",0,0,0,0]
[null,0,null,0,null,null,null,"00:00:00",0,0,0,0]
[null,0,null,0,null,null,null,"00:00:00",0,0,0,0]
[null,0,null,0,null,null,null,"00:00:00",0,0,0,0]
[null,0,null,0,null,null,null,"00:00:00",0,0,0,0]
[null,0,null,0,null,null,null,"00:00:00",0,0,0,0]
[null,0,null,0,null,null,null,"00:00:00",0,0,0,0]
[null,0,null,0,null,null,null,"00:00:00",0,0,0,0]
[null,0,null,0,null,null,null,"00:00:00",0,0,0,0]
[null,0,null,0,null,null,null,"00:00:00",0,0,0,0]
[null,0,null,0,null,null,null,"00:00:00",0,0,0,0]
[null,0,null,0,null,null,null,"00:00:00",0,0,0,0]
[null,0,null,0,null,null,null,"00:00:00",0,0,0,0]
[null,0,null,0,null,null,null,"00:00:00",0,0,0,0]
[null,0,null,0,null,null,null,"00:00:00",0,0,0,0]
[null,0,null,0,null,null,null,"00:00:00",0,0,0,0]
[null,0,null,0,null,null,null,"00:00:00",0,0,0,0]
[null,0,null,0,null,null,null,"00:00:00",0,0,0,0]
[null,0,null,0,null,null,null,"00:00:00",0,0,0,0]
[null,0,null,0,null,null,null,"00:00:00",0,0,0,0]
[null,0,null,0,null,null,null,"00:00:00",0,0,0,0]
[null,0,null,0,null,null,null,"00:00:00",0,0,0,0]
[null,0,null,0,null,null,null,"00:00:00",0,0,0,0]
[null,0,null,0,null,null,null,"00:00:00",0,0,0,0]
[null,0,null,0,null,null,null,"00:00:00",0,0,0,0]
[null,0,null,0,null,null,null,"00:00:00",0,0,0,0]
[null,0,null,0,null,null,null,"00:00:00",0,0,0,0]
[null,0,null,0,null,null,null,"00:00:00",0,0,0,0]
[null,0,null,0,null,null,null,"00:00:00",0,0,0,0]
[null,0,null,0,null,null,null,"00:00:00",0,0,0,0]
[null,0,null,0,null,null,null,"00:00:00",0,0,0,0]
[null,0,null,0,null,null,null,"00:00:00",0,0,0,0]
[null,0,null,0,null,null,null,"00:00:00",0,0,0,0]
[null,0,null,0,null,null,null,"00:00:00",0,0,0,0]
[null,0,null,0,null,null,null,"00:00:00",0,0,0,0]
[null,0,null,0,null,null,null,"00:00:00",0,0,0,0]
[null,0,null,0,null,null,null,"00:00:00",0,0,0,0]
[null,0,null,0,null,null,null,"00:00:00",0,0,0,0]
[null,0,null,0,null,null,null,"00:00:00",0,0,0,0]
[null,0,null,0,null,null,null,"00:00:00",0,0,0,0]
[null,0,null,0,null,null,null,"00:00:00",0,0,0,0]
[null,0,null,0,null,null,null,"00:00:00",0,0,0,0]
[null,0,null,0,null,null,null,"00:00:00",0,0,0,0]
[null,0,null,0,null,null,null,"00:00:00",0,0,0,0]
[null,0,null,0,null,null,null,"00:00:00",0,0,0,0]
[null,0,null,0,null,null,null,"00:00:00",0,0,0,0]
[null,0,null,0,null,null,null,"00:00:00",0,0,0,0]
[null,0,null,0,null,null,null,"00:00:00",0,0,0,0]
[null,0,null,0,null,null,null,"00:00:00",0,0,0,0]
[null,0,null,0,null,null,null,"00:00:00",0,0,0,0]
[null,0,null,0,null,null,null,"00:00:00",0,0,0,0]
[null,0,null,0,null,null,null,"00:00:00",0,0,0,0]
[null,0,null,0,null,null,null,"00:00:00",0,0,0,0]
[null,0,null,0,null,null,null,"00:00:00",0,0,0,0]
[null,0,null,0,null,null,null,"00:00:00",0,0,0,0]
[null,0,null,0,null,null,null,"00:00:00",0,0,0,0]
[null,0,null,0,null,null,null,"00:00:00",0,0,0,0]
[null,0,null,0,null,null,null,"00:00:00",0,0,0,0]
[null,0,null,0,null,null,null,"00:00:00",0,0,0,0]
[null,0,null,0,null,null,null,"00:00:00",0,0,0,0]
[null,0,null,0,null,null,null,"00:00:00",0,0,0,0]
[null,0,null,0,null,null,null,"00:00:00",0,0,0,0]
[null,0,null,0,null,null,null,"00:00:00",0,0,0,0]
[null,0,null,0,null,null,null,"00:00:00",0,0,0,0]
[null,0,null,0,null,null,null,"00:00:00",0,0,0,0]
[null,0,null,0,null,null,null,"00:00:00",0,0,0,0]
[null,0,null,0,null,null,null,"00:00:00",0,0,0,0]
[null,0,null,0,null,null,null,"00:00:00",0,0,0,0]
[null,0,null,0,null,null,null,"00:00:00",0,0,0,0]
[null,0,null,0,null,null,null,"00:00:00",0,0,0,0]
[null,0,null,0,null,null,null,"00:00:00",0,0,0,0]
[null,0,null,0,null,null,null,"00:00:00",0,0,0,0]
[null,0,null,0,null,null,null,"00:00:00",0,0,0,0]
[null,0,null,0,null,null,null,"00:00:00",0,0,0,0]
[null,0,null,0,null,null,null,"00:00:00",0,0,0,0]
[null,0,null,0,null,null,null,"00:00:00",0,0,0,0]
[null,0,null,0,null,null,null,"00:00:00",0,0,0,0]
[null,0,null,0,null,null,null,"00:00:00",0,0,0,0]
[null,0,null,0,null,null,null,"00:00:00",0,0,0,0]
[null,0,null,0,null,null,null,"00:00:00",0,0,0,0]
[null,0,null,0,null,null,null,"00:00:00",0,0,0,0]
[null,0,null,0,null,null,null,"00:00:00",0,0,0,0]
[null,0,null,0,null,null,null,"00:00:00",0,0,0,0]
[null,0,null,0,null,null,null,"00:00:00",0,0,0,0]
[null,0,null,0,null,null,null,"00:00:00",0,0,0,0]
[null,0,null,0,null,null,null,"00:00:00",0,0,0,0]
[null,0,null,0,null,null,null,"00:00:00",0,0,0,0]
[null,0,null,0,null,null,null,"00:00:00",0,0,0,0]
[null,0,null,0,null,null,null,"00:00:00",0,0,0,0]
[null,0,null,0,null,null,null,"00:00:00",0,0,0,0]
[null,0,null,0,null,null,null,"00:00:00",0,0,0,0]
[null,0,null,0,null,null,null,"00:00:00",0,0,0,0]
[null,0,null,0,null,null,null,"00:00:00",0,0,0,0]
[null,0,null,0,null,null,null,"00:00:00",0,0,0,0]
[null,0,null,0,null,null,null,"00:00:00",0,0,0,0]
[null,0,null,0,null,null,null,"00:00:00",0,0,0,0]
[null,0,null,0,null,null,null,"00:00:00",0,0,0,0]
[null,0,null,0,null,null,null,"00:00:00",0,0,0,0]
[null,0,null,0,null,null,null,"00:00:00",0,0,0,0]
[null,0,null,0,null,null,null,"00:00:00",0,0,0,0]
[null,0,null,0,null,null,null,"00:00:00",0,0,0,0]
[null,0,null,0,null,null,null,"00:00:00",0,0,0,0]
[null,0,null,0,null,null,null,"00:00:00",0,0,0,0]
[null,0,null,0,null,null,null,"00:00:00",0,0,0,0]
[null,0,null,0,null,null,null,"00:00:00",0,0,0,0]
[null,0,null,0,null,null,null,"00:00:00",0,0,0,0]
[null,0,null,0,null,null,null,"00:00:00",0,0,0,0]
[null,0,null,0,null,null,null,"00:00:00",0,0,0,0]
[null,0,null,0,null,null,null,"00:00:00",0,0,0,0]
[null,0,null,0,null,null,null,"00:00:00",0,0,0,0]
[null,0,null,0,null,null,null,"00:00:00",0,0,0,0]
[null,0,null,0,null,null,null,"00:00:00",0,0,0,0]
[null,0,null,0,null,null,null,"00:00:00",0,0,0,0]
[null,0,null,0,null,null,null,"00:00:00",0,0,0,0]
[null,0,null,0,null,null,null,"00:00:00",0,0,0,0]
[null,0,null,0,null,null,null,"00:00:00",0,0,0,0]
[null,0,null,0,null,null,null,"00:00:00",0,0,0,0]
[null,0,null,0,null,null,null,"00:00:00",0,0,0,0]
[null,0,null,0,null,null,null,"00:00:00",0,0,0,0]
[null,0,null,0,null,null,null,"00:00:00",0,0,0,0]
[null,0,null,0,null,null,null,"00:00:00",0,0,0,0]
[null,0,null,0,null,null,null,"00:00:00",0,0,0,0]
[null,0,null,0,null,null,null,"00:00:00",0,0,0,0]
[null,0,null,0,null,null,null,"00:00:00",0,0,0,0]
[null,0,null,0,null,null,null,"00:00:00",0,0,0,0]
[null,0,null,0,null,null,null,"00:00:00",0,0,0,0]
[null,0,null,0,null,null,null,"00:00:00",0,0,0,0]
[null,0,null,0,null,null,null,"00:00:00",0,0,0,0]
[null,0,null,0,null,null,null,"00:00:00",0,0,0,0]
[null,0,null,0,null,null,null,"00:00:00",0,0,0,0]
[null,0,null,0,null,null,null,"00:00:00",0,0,0,0]
[null,0,null,0,null,null,null,"00:00:00",0,0,0,0]
[null,0,null,0,null,null,null,"00:00:00",0,0,0,0]
[null,0,null,0,null,null,null,"00:00:00",0,0,0,0]
[null,0,null,0,null,null,null,"00:00:00",0,0,0,0]
[null,0,null,0,null,null,null,"00:00:00",0,0,0,0]
[null,0,null,0,null,null,null,"00:00:00",0,0,0,0]
[null,0,null,0,null,null,null,"00:00:00",0,0,0,0]
[null,0,null,0,null,null,null,"00:00:00",0,0,0,0]
[null,0,null,0,null,null,null,"00:00:00",0,0,0,0]
[null,0,null,0,null,null,null,"00:00:00",0,0,0,0]
[null,0,null,0,null,null,null,"00:00:00",0,0,0,0]
[null,0,null,0,null,null,null,"00:00:00",0,0,0,0]
[null,0,null,0,null,null,null,"00:00:00",0,0,0,0]
[null,0,null,0,null,null,null,"00:00:00",0,0,0,0]

{"sheet":"Årsoppgjer","index":6,"n_rows":321,"n_cols":27,"rows_kept":321,"cut":false,"hidden":false,"merged":[[240,4,240,5],[237,1,237,3],[238,1,238,3],[239,1,239,3],[234,4,234,5],[235,4,235,5],[236,4,236,5],[237,4,237,5],[238,4,238,5],[239,4,239,5],[243,1,243,4],[173,0,173,2],[172,0,172,2],[171,0,171,2],[8,8,8,10],[105,0,105,2],[107,4,107,5],[98,4,98,5],[225,7,225,8],[168,8,168,9],[177,8,177,9],[171,3,171,7],[172,3,172,7],[176,8,176,9],[172,8,172,9],[173,8,173,9],[175,8,175,9],[173,3,173,7],[174,8,174,9],[169,3,169,7],[215,1,215,3],[176,0,176,2],[174,0,174,2],[171,8,171,9],[170,8,170,9],[169,0,169,2],[170,0,170,2],[170,3,170,7],[12,3,12,13],[94,0,94,2],[93,4,93,5],[92,13,99,13],[96,0,96,2],[97,0,97,2],[95,0,95,2],[100,13,108,13],[118,1,118,3],[104,0,104,2],[169,8,169,9],[2,5,2,9],[3,5,3,9],[5,5,5,9],[4,5,4,9],[120,1,120,3],[121,1,121,3],[162,5,162,6],[259,9,259,13],[162,11,162,12],[163,11,163,12],[197,10,197,11],[198,10,198,11],[193,10,193,11],[194,10,194,11],[195,10,195,11],[204,10,204,11],[200,10,200,11],[190,10,190,11],[184,10,184,11],[185,10,185,11],[186,10,186,11],[187,10,187,11],[188,10,188,11],[101,4,101,5],[226,7,226,8],[175,0,175,4],[166,0,166,12],[168,0,168,2],[174,3,174,7],[6,11,8,13],[154,12,156,13],[175,10,175,11],[173,10,173,11],[182,10,182,11],[174,10,174,11],[183,10,183,11],[180,10,180,11],[176,10,177,12],[181,10,181,11],[179,1,179,12],[181,3,181,4],[177,4,177,7],[106,0,106,2],[103,0,103,2],[9,5,9,7],[171,10,171,11],[169,10,169,11],[189,10,189,11],[233,4,233,5],[6,5,6,7],[170,10,170,11],[172,10,172,11],[201,10,201,11],[202,10,202,11],[203,10,203,11],[191,10,191,11],[196,10,196,11],[199,10,199,11],[192,10,192,11],[11,5,11,7],[7,5,7,7],[8,5,8,7],[9,8,9,11],[126,6,127,13],[168,10,168,11],[168,3,168,7],[122,1,122,3],[165,0,165,12],[163,5,163,6],[100,0,101,2],[123,1,123,3],[102,0,102,2]]}
["Gå til:"]
["Opplysningar til rekneskapen",null,null,null,null,null,null,"Versjon: VossN2022B, 8/2-23",null,null,null,"Dette programmet er for:"]
[null,"Namn",null,null,"brukar:",{"$f":"L3","v":"test"},null,null,null,null,null,"test"]
[null,"Namn",null,null,"ektefelle:",null,null,null,null,null,null,{"$f":"SKATT!A33","v":0}]
[null,"Adresse",null,null,null,{"$f":"L4","v":0},null,null,null,null,null,{"$f":"SKATT!A34","v":0}]
[null,"Postnummer og poststad",null,null,null,{"$f":"L5","v":0}]
[null,"Personnummer for brukar",null,null,null,null,null,null,{"$f":"IF(F7=\"\",,IF(LEN(F7)=11,,\"11 siffer !\"))","v":0},null,null,"Kopiering og vidaresal er ulovleg utan avtale med Landbruksdata Voss as,         tlf 56 52 98 55,          post@landbruksdata.no"]
[null,"Ektefellen sitt personnummer",null,null,null,null,null,null,{"$f":"IF(F8=\"\",,IF(LEN(F8)=11,,\"11 siffer !\"))","v":0}]
[null,"Organisasjonsnummer",null,null,null,null,null,null,{"$f":"IF(LEN(F9)>9,\"FEIL !   Ta bort evt mellomrom eller MVA\",)","v":0}]
[null,"Type næring",null,{"$f":"IF(F10=\"\",\"NB !!\",)","v":0},{"$f":"IF(LEN(F10)>35,\"For lang tekst !!\",)","v":0},"Tømrar",null,null,{"$f":"IF(F10=\"\",\" Skriv tekst for næring f.eks konsulent eller sjåfør\",)","v":0}]
[null,"Kommunenr",null,null,null,null,{"$f":"IF(LEN(F11)=0,,IF(LEN(F11)=4,,\"4 siffer i kommunenummer !!\"))","v":0}]
[null,"Kommunenamn"]
["Tal frå 2021-rekneskapen",null,null,"(For rettingar eller manuell innlegging ved 1.gangs bruk av programmet.)"]
[]
[null,null,null,null,null,null,null,null,null,null,null,null,null,{"$f":"IF(OR(ISTEXT(C15),ISTEXT(H15),ISTEXT(M15)),\"FEIL !\",)","v":0}]
[null,null,null,null,null,null,null,null,null,null,null,null,null,{"$f":"IF(OR(ISTEXT(C16),ISTEXT(H16),ISTEXT(M16)),\"FEIL !\",)","v":0}]
[null,null,null,null,null,null,null,null,null,null,null,null,null,0]
[null,null,null,null,null,null,null,null,null,null,null,null,null,0]
[null,null,null,null,null,null,null,null,null,null,null,null,null,0]
[null,null,null,null,null,null,null,null,null,null,null,null,null,0]
[null,null,null,null,null,null,null,null,null,null,null,null,null,0]
[null,null,null,null,null,null,null,null,null,null,null,null,null,0]
[null,null,null,null,null,null,null,null,null,null,null,null,null,0]
[null,null,null,null,null,null,null,null,null,null,null,null,null,0]
[null,null,null,null,null,null,null,null,null,null,null,null,null,0]
[null,null,null,null,null,null,null,null,null,null,null,null,null,0]
[null,null,null,null,null,null,null,null,null,null,null,null,null,0]
[null,null,null,null,null,null,null,null,null,null,null,null,null,0]
[null,null,null,null,null,null,null,null,null,null,null,null,null,0]
[null,null,null,null,null,null,null,null,null,null,null,null,null,0]
[null,null,null,null,null,null,null,null,null,null,null,null,null,0]
[null,null,null,null,null,null,null,null,null,null,null,null,null,0]
[null,null,null,null,null,null,null,null,null,null,null,null,null,0]
[null,null,null,null,null,null,null,null,null,null,null,null,null,0]
[null,null,null,null,null,null,null,null,null,null,null,null,null,0]
[null,null,null,null,null,null,null,null,null,null,null,null,null,0]
["Eigedeler -  31/12-2021",null,null,"    Eigedeler -  31/12-2021",null,null,null,null,null,"Gjeld -  31/12-2021",null,null,0]
[1000,"Forsking og utvikling",null,1599,"Andre krav (til gode mva)",null,null,null,2220,"Gjeld til kredittinstitusjonar",null,null,null,{"$f":"IF(OR(ISTEXT(C38),ISTEXT(H38),ISTEXT(M38)),\"FEIL !\",)","v":0}]
[1020,"Immatr.eigedeler",null,1599,"Andre krav (forskotsleige leasing)",null,null,null,2275,"Langsiktig lån i utanl valuta",null,null,null,{"$f":"IF(OR(ISTEXT(C39),ISTEXT(H39),ISTEXT(M39)),\"FEIL !\",)","v":0}]
[1080,"Goodwill (saldogruppe b)",null,1829,"Aksjar og verdipapir",null,null,null,2289,"Stille interessentinnskot",null,null,null,{"$f":"IF(OR(ISTEXT(C40),ISTEXT(H40),ISTEXT(M40)),\"FEIL !\",)","v":0}]
[1105,"Forr.bygg (saldogruppe i)",null,1869,"Obligasjonar og sertifikat",null,null,null,2380,"Kassakreditt",null,null,null,{"$f":"IF(OR(ISTEXT(C41),ISTEXT(H41),ISTEXT(M41)),\"FEIL !\",)","v":0}]
[1115,"Bygg og anl (saldogr h)",null,1880,"Andre finansielle instrument",null,null,null,2400,"Leverandørgjeld",null,null,null,{"$f":"IF(OR(ISTEXT(C42),ISTEXT(H42),ISTEXT(M42)),\"FEIL !\",)","v":0}]
[1120,"Fast teknisk anl (saldogr j)",null,1895,"Part i deltakarlikna selskap",null,null,null,2600,"Skattetrekk og andre trekk",null,null,null,{"$f":"IF(OR(ISTEXT(C44),ISTEXT(H43),ISTEXT(M43)),\"FEIL !\",)","v":0}]
[1130,"Bygg og anl under arbeid",null,1900,"Kontantar",null,null,null,2740,"Skuldig mva",null,null,36000,{"$f":"IF(OR(ISTEXT(C46),ISTEXT(H44),ISTEXT(M44)),\"FEIL !\",)","v":0}]
[1130,"Fast tekn.anl under arbeid",null,1920,"Bankinnskot",null,null,null,2770,"Skuldig arbeidsgjevaravgift",null,null,null,0]
[1140,"Jord- og skogverdiar",null,1950,"Bankinnskot for skattetrekk",null,null,null,2790,"Andre offentlege avgifter",null,null,null,0]
[1150,"Tomter og andre g.areal",null,"    Skattemessig eigenkapital",null,null,null,null,2900,"Forskot frå kundar",null,null,null,0]
[1160,"Bustad inkl tomter, hytter",null,2015,"Felleseigd partskap",null,null,null,2910,"Gjeld til tilsette og eigarar",null,null,null,0]
[1205,"Mask, persbilar,(sgr d)",120000,2050,"Anna eigenkapital",null,null,null,2949,"Løn, feriepengar o.l.",null,null,null,0]
[1221,"Skip, riggar (saldogr e)",null,2080,"Udekt tap",null,null,null,2950,"Påløpt rente",null,null,null,0]
[1238,"Vare-,lastebilar, mv (sgr c)",78000,"    Ikkje skattlagd eigenkapital",null,null,null,null,2995,"Anna gjeld",null,null,null,0]
[1239,"Varebilar med nullutslepp(gr c)",null,2095,"Negativ saldo",null,null,null,null,null,null,null,null,0]
[1280,"Kontormask (saldogr a)",null,2096,"Positiv vinst- og tapskonto",null,null,null,null,null,null,null,null,0]
[1290,"Andre driftsmidlar",null,null,null,null,null,null,null,null,null,null,null,0]
[1295,"Linære avskrivingar",null,"    Varelager",null,null,null,null,null,null,null,null,null,0]
[1299,"Neg vinst- og tapskonto",null,"0110","Råvarer og innkj halvfabr",null,null,null,null,null,null,null,null,0]
[1495,"Varelager ",null,"0120","Varer under tilverking",null,null,null,null,null,null,null,null,0]
[1500,"Kundekrav",null,"0130","Ferdig eigentilverka varer",null,null,null,null,null,null,null,null,0]
["1530","Opptente, ikkje fakt dr.innt",null,"0140","Innkjøpt varer for vidaresal",null,null,null,null,null,null,null,null,0]
[1577,"Krav mot tilsette",null,null,null,null,"SUM",{"$f":"SUM(H56:H59)","v":0},null,null,null,null,null,{"$f":"IF(OR(ISTEXT(#REF!),ISTEXT(H60),ISTEXT(M60)),\"FEIL !\",)","v":0}]
[]
["Opplysningar til årsavslutning av næringsoppgåva"]
["Varelager:",null,null,null,"Verdi 1/1","Verdi 31/12"]
["0110","Innkjøpte halvfabrikata og råvarer",null,null,{"$f":"H56","v":0},null,{"$f":"IF(ISTEXT(F64),\"FEIL !\",)","v":0}]
["0120","Varer under tilverking",null,null,{"$f":"H57","v":0},null,{"$f":"IF(ISTEXT(F65),\"FEIL !\",)","v":0}]
["0130","Ferdig eigentilverka varer",null,null,{"$f":"H58","v":0},null,{"$f":"IF(ISTEXT(F66),\"FEIL !\",)","v":0}]
["0140","Innkjøpte varer for vidaresal",null,null,{"$f":"H59","v":0},null,{"$f":"IF(ISTEXT(F67),\"FEIL !\",)","v":0}]
[null,null,null,"Sum",{"$f":"SUM(E64:E67)","v":0},{"$f":"SUM(F64:F67)","v":0}]
[]
["Telefon/el.kommunikasjon, utrekning av privat bruk:"]
[null,"Dersom telefon og andre elektroniske kommunikasjonsmiddel (breidband) også vert brukt privat, skal det tilbakeførast inntil kr 4392 i rekneskapen."]
[null,"I dagboka må dermed alle telefon og breidbandutgifter førast på konto 6995 til 6999 og kjem i post 6995, og ved utfylling her kjem den private delen på plass i "]
[null,"næringsoppgåva post 7098 ved å trykka på knappen nede til høgre: Vent med dette til alle bilag på telefoni er ført !!"]
[null,null,null,null,null,null,"(Dersom ja; skriv x)"]
[null,"Vert dei elektroniske kommunikasjonsmidla også brukt privat ?",null,null,null,null,"x",{"$f":"IF(OR(G75=\"x\",G75=\"\"),,\"FEIL !\")","v":0},1,null,"rest",6994,2710]
[null,null,null,null,null,null,null,{"$f":"IF(OR(G76=\"x\",G76=\"\"),,\"FEIL !\")","v":0},{"$f":"IF(C77>4392,4392,C77)","v":0},null,{"$f":"IF(C81-VRFORMEL.XLS!B134<0,C81-VRFORMEL.XLS!B134-J81,)","v":0},{"$f":"IF(VRFORMEL.XLS!E10=0,,(C81/1.25)*0.25*-1)","v":0},{"$f":"IF(VRFORMEL.XLS!E10=0,,telefon6994*-1)","v":0}]
[null,"Totalt utgiftsført inkl mva:",{"$f":"VRFORMEL.XLS!B122+VRFORMEL.XLS!B123+VRFORMEL.XLS!B124+VRFORMEL.XLS!B125+VRFORMEL.XLS!B126","v":0},"(post 6995  + mva)"]
[null,"Til frådrag:",null,"Andre kontorutgifter som er ført på 6995-6999 inkl mva"]
[null,"Sum:",{"$f":"C77-C78","v":0},"Telefon/el.kommunikasjon inkl mva"]
[]
[null,null,{"$f":"IF(G75=\"\",,IF(G76=\"\",I76*-1,J76*-1))","v":0},"Privat, max 4392 inkl mva"]
[null,null,{"$f":"C79-C80+C81","v":0},"Drift (overskytande inkl mva)"]
[null,"Resultat:",{"$f":"IF(telefon2710=0,C82,(C80+C82)/1.25)","v":0},"Reelt utgiftførte telefonutgifter (netto)"]
[null,null,{"$f":"C80+C82-C83","v":0},"Refundert mva"]
[null,"Forbehold: ","Sjablongregelen gjeld berre skattemessig, i prinsippet ikkje for mva."]
[null,null,"Likevel vurderer me det slik at dersom du ikkje har urimeleg høge utgifter kan skatt og avgift behandlast felles. Dette vert betydeleg enklare."]
[null,null,"Men då er det viktig at du ikkje fører urimeleg høge utgifter, eller høge utgifter som ikkje er relevant for næringa, td betalingstenester via telefon"]
[]
["Kartotek over driftsmiddel som kan avskrivast"]
["Bygg og anlegg",null,null,"grunnlag 1/1","tilkjøp kostpris",null,"tilskot",null,"grunnlag",null,null,"avskriving","grunnlag 31/12"]
["Under arbeid - bygning",null,null,{"$f":"C44","v":0},{"$f":"VRFORMEL.XLS!G20+VRFORMEL.XLS!G21","v":0},null,{"$f":"VRFORMEL.XLS!H22-G92","v":0},null,{"$f":"D91+E91-G91","v":0},null,"flytte til ferdig:",null,{"$f":"I91-L91","v":0}]
[" -fast tekn installasjon i bygning u. arbeid",null,null,{"$f":"C45","v":0},null,null,null,null,{"$f":"D92+E92-G92","v":0},null,"flytte til ferdig:",null,{"$f":"I92-L92","v":0}]
["Bygg og anlegg (saldogr h)",null,null,"grunnlag 1/1","tilkjøp kostpris","påkosting","realisasjon/ sal","tilskot","avskr. grunnlag","til tap/ vinstkt.","avskriv %sats","avskriving","grunnlag 31/12",{"$f":"IF(AND(E99=0,F99=0,D99=0,G99=0,H99=0),,\"NB NB NB  Fordeling på ulike bygg og anlegg:  Samlesummen i grå celle  -Til fordeling- må fordelast på dei kvite felta under, slik at Rest fordeling blir 0\")","v":0}]
["Namn på bygg/anlegg (ferdig)",null,"Til fordeling",{"$f":"C42","v":0},{"$f":"VRFORMEL.XLS!G13+VRFORMEL.XLS!G14+L91","v":0},null,{"$f":"VRFORMEL.XLS!H15","v":0},{"$f":"VRFORMEL.XLS!H16","v":0},null,"(sjelden brukt)"]
[null,null,null,null,null,null,null,null,{"$f":"D95+E95+F95-G95-H95","v":0},null,null,{"$f":"I95*(K95/100)","v":0},{"$f":"I95-L95+J95","v":0}]
[null,null,null,null,null,null,null,null,{"$f":"D96+E96+F96-G96-H96","v":0},null,null,{"$f":"I96*(K96/100)","v":0},{"$f":"I96-L96+J96","v":0}]
[null,null,null,null,null,null,null,null,{"$f":"D97+E97+F97-G97-H97","v":0},null,null,{"$f":"I97*(K97/100)","v":0},{"$f":"I97-L97+J97","v":0}]
[null,null,null,null,null,null,null,null,{"$f":"D98+E98+F98-G98-H98","v":0},null,null,{"$f":"I98*(K98/100)","v":0},{"$f":"I98-L98+J98","v":0}]
[null,null,"Rest fordeling",{"$f":"D94-D95-D96-D97-D98","v":0},{"$f":"E94-E95-E96-E97-E98-F95-F96-F97-F98","v":0},null,{"$f":"G94-G95-G96-G97-G98","v":0},{"$f":"H94-H95-H96-H97-H98-H102","v":0},"sum",{"$f":"SUM(J95:J98)","v":0},"sum",{"$f":"SUM(L95:L98)","v":0},{"$f":"SUM(M95:M98)","v":0}]
[null,null,null,null,null,null,null,null,null,{"$f":"IF(J99=0,,\"Er du sikker på at det skal førast tal til tap og vinstkonto?\")","v":0}]
["Fast teknisk installasjon i bygningar (saldogr j)",null,null,"grunnlag 1/1","tilkjøp kostpris","påkosting","realisasjon/ sal","tilskot","avskr. grunnlag","til tap/ vinstkt.","avskriv %sats","avskriving","grunnlag 31/12",{"$f":"IF(AND(E108=0,F108=0,D108=0,G108=0,H108=0),,\"NB NB NB  Fordeling på ulike bygg og anlegg:  Samlesummen i grå celle  -Til fordeling- må fordelast på dei kvite felta under, slik at Rest fordeling blir 0\")","v":0}]
[null,null,null,{"$f":"C43","v":0},{"$f":"VRFORMEL.XLS!G17+VRFORMEL.XLS!G18+L92","v":0},null,{"$f":"VRFORMEL.XLS!H19","v":0},null,null,"(sjelden brukt)"]
[null,null,null,null,null,null,null,null,{"$f":"D103+E103+F103-G103-H103","v":0},null,null,{"$f":"I103*(K103/100)","v":0},{"$f":"I103+J103-L103","v":0}]
[{"$f":"A96","v":0},null,null,null,null,null,null,null,{"$f":"D104+E104+F104-G104-H104","v":0},null,null,{"$f":"I104*(K104/100)","v":0},{"$f":"I104+J104-L104","v":0}]
[{"$f":"A97","v":0},null,null,null,null,null,null,null,{"$f":"D105+E105+F105-G105-H105","v":0},null,null,{"$f":"I105*(K105/100)","v":0},{"$f":"I105+J105-L105","v":0}]
[{"$f":"A98","v":0},null,null,null,null,null,null,null,{"$f":"D106+E106+F106-G106-H106","v":0},null,null,{"$f":"I106*(K106/100)","v":0},{"$f":"I106+J106-L106","v":0}]
["Fast tekn.install. forretningsbygg",null,null,null,null,null,null,null,{"$f":"D107+E107+F107-G107-H107","v":0},null,null,{"$f":"I107*(K107/100)","v":0},{"$f":"I107+J107-L107","v":0}]
[null,null,"Rest fordeling",{"$f":"D102-D103-D104-D105-D106","v":0},{"$f":"E102-E103-E104-E105-E106-F103-F104-F105-F106-E107-F107","v":0},null,{"$f":"G102-G103-G104-G105-G106-G107","v":0},{"$f":"H102-H103-H104-H105-H106-H107","v":0},"sum",{"$f":"SUM(J103:J107)","v":0},"sum",{"$f":"SUM(L103:L107)","v":0},{"$f":"SUM(M103:M106)","v":0}]
[null,null,null,null,null,null,"realisasjon/ sal",null,null,"til tap/ vinstkt.","%-sats"]
["Kontormaskiner (saldogr. a)",null,null,{"$f":"C53","v":0},{"$f":"VRFORMEL.XLS!G37+VRFORMEL.XLS!G38","v":0},null,{"$f":"VRFORMEL.XLS!H39","v":0},null,{"$f":"D110+E110-G110","v":0},null,null,{"$f":"I110*(K110/100)","v":0},{"$f":"I110+J110-L110","v":0}]
["Lastebilar, varebilar o.l(saldogr. c)",null,null,{"$f":"C51","v":78000},{"$f":"VRFORMEL.XLS!G31+VRFORMEL.XLS!G32","v":0},null,{"$f":"VRFORMEL.XLS!H33","v":0},null,{"$f":"D111+E111-G111","v":78000},null,24,{"$f":"I111*(K111/100)","v":18720},{"$f":"I111+J111-L111","v":59280}]
["Varebil med nullutslepp(saldogr c2)",null,null,{"$f":"C52","v":0},{"$f":"VRFORMEL.XLS!G34+VRFORMEL.XLS!G35","v":0},null,{"$f":"VRFORMEL.XLS!H36","v":0},null,{"$f":"D112+E112-G112","v":0},null,null,{"$f":"I112*(K112/100)","v":0},{"$f":"I112+J112-L112","v":0}]
[]
["Traktorar, maskiner (saldogr. d)",null,null,{"$f":"C49","v":120000},{"$f":"VRFORMEL.XLS!G27+VRFORMEL.XLS!G28","v":0},null,{"$f":"VRFORMEL.XLS!H29+VRFORMEL.XLS!H30","v":0},null,{"$f":"D114+E114-G114","v":120000},null,20,{"$f":"I114*(K114/100)+E114*(F114/100)","v":24000},{"$f":"I114+J114-L114","v":96000}]
[]
["Forretningsbygg (saldogr. i)",null,null,{"$f":"C41","v":0},{"$f":"VRFORMEL.XLS!G10+VRFORMEL.XLS!G11","v":0},null,{"$f":"VRFORMEL.XLS!H12","v":0},null,{"$f":"D116+E116-G116","v":0},null,null,{"$f":"I116*(K116/100)","v":0},{"$f":"I116-L116+J116","v":0}]
[]
["Forskotsleige ved leasing",null,null,"(Hjelperegister for å kunne kostnadsføra og statusføra rett beløp over avtaleperioden)"]
["objekt nr","beskrivelse av objekt",null,null,"start år","avtaletid - år","Opphaveleg betalt forskotsleige sum ","bet for-skots-leige i år","restverdi frå i fjor","Fordelt kostnad i år","Verdi 31/12"]
[null,null,null,null,{"$f":"IF(OR(ISTEXT(E121),ISTEXT(E122),ISTEXT(E123),ISTEXT(E124)),\"FEIL !\",)","v":0},{"$f":"IF(OR(ISTEXT(F121),ISTEXT(F122),ISTEXT(F123),ISTEXT(F124)),\"FEIL !\",)","v":0},{"$f":"IF(OR(ISTEXT(G121),ISTEXT(G122),ISTEXT(G123),ISTEXT(G124)),\"FEIL !\",)","v":0},{"$f":"VRFORMEL.XLS!G40","v":0},{"$f":"H39","v":0},"(kan over-skrivast)"]
[null,null,null,null,null,null,null,null,null,{"$f":"IF(G121+H121>0,(G121+H121)/F121,)","v":0},{"$f":"H121+I121-J121","v":0},{"$f":"IF(H121+I121>0,IF(F121=0,\"Skriv inn avtaletid!\",),)","v":0}]
[null,null,null,null,null,null,null,null,null,{"$f":"IF(G122+H122>0,(G122+H122)/F122,)","v":0},{"$f":"H122+I122-J122","v":0},{"$f":"IF(H122+I122>0,IF(F122=0,\"Skriv inn avtaletid!\",),)","v":0}]
[null,null,null,null,null,null,null,null,null,{"$f":"IF(G123+H123>0,(G123+H123)/F123,)","v":0},{"$f":"H123+I123-J123","v":0},{"$f":"IF(H123+I123>0,IF(F123=0,\"Skriv inn avtaletid!\",),)","v":0}]
[null,null,null,null,null,null,null,null,null,{"$f":"IF(G124+H124>0,(G124+H124)/F124,)","v":0},{"$f":"H124+I124-J124","v":0},{"$f":"IF(H124+I124>0,IF(F124=0,\"Skriv inn avtaletid!\",),)","v":0}]
[null,null,null,null,null,null,"rest",{"$f":"H120-H121-H122-H123-H124","v":0},{"$f":"I120-I121-I122-I123-I124","v":0},{"$f":"SUM(J121:J124)","v":0},{"$f":"SUM(K121:K124)","v":0},"sum"]
[]
[null,"Utrekning av personinntekt",null,null,null,null,"Skjemaet blir automatisk utfyllt med statusverdiar, men gule celler kan overskrivast "]
[]
[null,null,null,null,null,null,null,"Inngåande i året",null,"Utgåande i året"]
[null,"Saldogruppe A: Kontormaskiner mm",null,null,null,null,null,{"$f":"C53","v":0},{"$f":"IF(ISTEXT(H130),\"FEIL !\",)","v":0},{"$f":"M110","v":0},{"$f":"IF(ISTEXT(J130),\"FEIL !\",)","v":0}]
[null,"Saldogruppe B: Goodwill",null,null,null,null,null,{"$f":"C40","v":0},{"$f":"IF(ISTEXT(H131),\"FEIL !\",)","v":0},{"$f":"C40+VRFORMEL.XLS!G9","v":0},{"$f":"IF(ISTEXT(J131),\"FEIL !\",)","v":0}]
[null,"Saldogruppe C: Varebil,lastebil mv",null,null,null,null,null,{"$f":"C51","v":78000},null,{"$f":"M111","v":59280}]
[null,"Saldogruppe C2: Varebil med nullutslepp",null,null,null,null,null,{"$f":"C52","v":0},0,{"$f":"M112","v":0},0]
[null,"Saldogruppe D: Pers.bilar, traktorar, maskiner",null,null,null,null,null,{"$f":"C49","v":120000},0,{"$f":"M114","v":96000},0]
[null,"Saldogruppe H: Driftsbygningar og anlegg ",null,null,null,null,null,{"$f":"C42","v":0},0,{"$f":"M99","v":0},0]
[null,"Saldogruppe I: Forretningsbygg",null,null,null,null,null,{"$f":"C41","v":0},0,{"$f":"M116","v":0},0]
[null,"Saldogruppe J: Fast teknisk installasjon i bygning",null,null,null,null,null,{"$f":"C43","v":0},null,{"$f":"M108","v":0}]
[null,"Driftsmiddel som blir avskrive linært",null,null,null,null,null,null,0,null,0]
[null,"Tomter og andre grunnareal",null,null,null,null,null,{"$f":"C47","v":0},0,{"$f":"C47+VRFORMEL.XLS!G23-VRFORMEL.XLS!H24","v":0},0]
[null,"Varelager",null,null,null,null,null,{"$f":"C57","v":0},0,{"$f":"F68","v":0},0]
[null,"Kundekrav",null,null,null,null,null,{"$f":"C58","v":0},0,{"$f":"regformel!F301","v":0},0]
[null,"Sum",null,null,null,null,null,{"$f":"SUM(H130:H141)","v":198000},null,{"$f":"SUM(J130:J141)","v":155280}]
[null,"Leverandørgjeld, forskot frå kundar",null,null,null,null,null,{"$f":"M42","v":0},0,{"$f":"Register!I8","v":0},0]
[null,"Sum",null,null,null,null,null,{"$f":"H142-H143","v":198000},null,{"$f":"J142-J143","v":155280}]
[]
[null,"Skjermingsgrunnlag før gjeldsfrådrag",null,null,null,null,null,null,null,{"$f":"(H144+J144)/2","v":176640}]
[null,"Driftgjeld til finansinstitusjonar:",null,"1/1:",{"$f":"M176","v":0},"31/12:",{"$f":"I176","v":0},null,"Gjennomsnitt gjeld",{"$f":"(E147+G147)/2","v":0}]
[null,"Tal månader med drift",null,12,null,null,null,null,"Skjermingsgrunnlag",{"$f":"(J146-J147)*D148/12","v":176640}]
[null,null,null,null,null,null,null,null,null,null,null,"Post 1.3:Av dette kapitalinntekter knytta til"]
[null,"Korrigert grunnlag",null,null,null,null,null,null,null,{"$f":"Nær.spes!J144","v":72480},null,null,"objekt som ikkje har verka"]
[null,"Rentekostnader på driftsgjeld til finansinstitusjonar",null,null,null,null,null,null,null,{"$f":"K176*-1","v":0},null,null,null,"i verksemda, td festeinnt. og rentestøtte frå IN"]
[null,"Skjermingsrente:",2.1,"Maksimalsats for 2022: 2,1%   Max 1 desimal.",null,null,null,null,"Skjermingsfrådrag",{"$f":"IF(J148>0,J148*C152/100,)*-1","v":-3709.44}]
[null,null,{"$f":"IF(ISTEXT(C152),\"FEIL !\",)","v":0},null,null,null,null,null,null,null,null,null,"Post 1.5: Kapitalkostn og tap"]
[null,"Samla utrekna personinntekt for 2022",null,null,null,null,null,null,null,{"$f":"Nær.spes!J1113","v":68770.559999999998}]
[null,"Frådrag for evt. framførbar neg.utrekna pers.innt. frå føregåande år",null,null,null,null,null,null,null,null,{"$f":"IF(ISTEXT(J155),\"FEIL !\",IF(J155>0,\"Skriv negativt tal\",))","v":0},null,"Dersom du ikkje vil redusera positiv personinntekt i år med negativ personinntekt frå tidlegare år skriv X her:"]
[null,"Frådrag for negativ utrekna personinntekt som er overført frå anna verksemd (som det kan skje samordning med)",null,null,null,null,null,null,null,null,null,{"$f":"IF(OR(K156>0,J156>0),\"negativt !\",)","v":0}]
[null,"Tillegg for negativ utrekna personinntekt som er overført til anna verksemd (som det kan skje samordning med)",null,null,null,null,null,null,null,null,null,{"$f":"IF(OR(K157>0,J157>0),\"Skriv negativt tal !\",)","v":0}]
[null,"Tillegg for negativ utrekna personinntekt som kan samordnast med arbeidsgodtgjering frå ANS/DA/KS i år",null,null,null,null,null,null,null,null,null,{"$f":"IF(OR(K158>0,J158>0),\"Skriv negativt tal !\",)","v":0}]
[null,"Personinntekt overført til skattemelding",null,null,null,null,null,null,null,{"$f":"Nær.spes!J1237","v":68770.559999999998},{"$f":"IF(E241>0,E241,)","v":0}]
[null,"Negativ personinntekt som kan framførast til seinare år",null,null,null,null,null,null,null,{"$f":"Nær.spes!J1236","v":0},{"$f":"IF(E241<0,E241,)","v":0}]
[null,null,null,null,null,null,null,null,null,"brukar","ektefelle"]
[null,null,null,null,null,"Må også førast i skattemeldinga !",{"$f":"IF(OR(ISTEXT(F163),ISTEXT(F164)),\"FEIL !\",)","v":0},null,null,null,null,"Må også førast i skattemeldinga !"]
["Driftskonto 31/12-2022:",null,null,null,"Positiv driftskonto:",null,null,null,null,null,"inntektsrenter driftskonto:",null,null,{"$f":"IF(ISTEXT(L163),\"FEIL !\",)","v":0}]
[null,null,null,null,"Negativ driftskonto (kassakreditt):",null,null,null,null,null,"utgiftsrenter driftskonto:",null,null,{"$f":"IF(ISTEXT(L164),\"FEIL !\",)","v":0}]
[null,null,null,null,null,null,{"$f":"IF(F164<0,\"Ikkje bruk - forteikn\",)","v":0}]
["Føretaksgjeld er gjeld til kredittinstitusjonar. Med andre ord banklån som gjeld drifta, men ikkje leverandørgjeld eller skattefuten. Du kan maksimalt gje opp som driftsgjeld eit beløp som tilsvarar pkt 2.9 i personinntektskjema (skjermingsgrunnlaget ditt) Sjå grå celler nede. Du kan måtte dele opp eit lån med tilhøyrande renter for ikkje å overstige grensa. Alle lån med tilhøyrande renter vert også med i skattemeldinga ! Vurderingane av kva som er driftsgjeld og ikkje skal skje med \"lempe\" frå likningskontoret si side. Summane av gjeld og rentekostnader som gjeld drifta vert overført til næringsoppgåve og personinntektskjema. Det er gjennomsnitt av gjelda 1/1 og 31/12 som får effekt."]
["Vitsen med alt dette styret er at føretaksgjelda inngår i utrekninga av personinntekt. Føretaksgjeld vil kunne redusere skjermingsgrunnlaget ditt og auke personinntekta (meir skatt og meir pensjonspoeng). Renter på gjelda vil redusere grunnlaget, og dermed føre til mindre skatt og mindre pensjonspoeng. Dersom du ikkje heilt skjønar dette: Berre fyll ut!"]
["Oversikt over føretaksgjeld 31/12-2022.  (Driftsgjeld til finansinstitusjonar som inngår i utrekning av personinntekt)"]
["Namnet til banken, utlånar ",null,null,"Adresse",null,null,null,null,"Driftsgjeld 31/12-2022",null,"Renter i 2022",null,"Driftsgjeld 1/1-2022"]
[null,null,null,{"$f":"\"Driftskonto, \"&F3","v":"Driftskonto, test"},null,null,null,null,{"$f":"F164","v":0},null,{"$f":"L164","v":0},null,{"$f":"M41","v":0}]
[null,null,null,null,null,null,null,null,null,null,null,null,null,{"$f":"IF(OR(ISTEXT(I171),ISTEXT(K171),ISTEXT(M171)),\"FEIL !\",)","v":0}]
[null,null,null,null,null,null,null,null,null,null,null,null,null,{"$f":"IF(OR(ISTEXT(I172),ISTEXT(K172),ISTEXT(M172)),\"FEIL !\",)","v":0}]
[null,null,null,null,null,null,null,null,null,null,null,null,null,{"$f":"IF(OR(ISTEXT(I173),ISTEXT(K173),ISTEXT(M173)),\"FEIL !\",)","v":0}]
[null,null,null,null,null,null,null,null,null,null,null,null,null,{"$f":"IF(OR(ISTEXT(I174),ISTEXT(K174),ISTEXT(M174)),\"FEIL !\",)","v":0}]
[null,null,null,null,null,null,null,null,null,null,null,null,null,{"$f":"IF(OR(ISTEXT(I175),ISTEXT(K175),ISTEXT(M175)),\"FEIL !\",)","v":0}]
[{"$f":"\"Oversikt for \"&F3","v":"Oversikt for test"},null,null,null,null,null,null,"Sum:",{"$f":"SUM(I170:I175)","v":0},null,{"$f":"SUM(K170:K175)","v":0},null,{"$f":"SUM(M170:M175)","v":0}]
[null,null,null,null,null,null,null,"Årets gjennomsnittlege driftsgjeld:",{"$f":"(I176+M176)/2","v":0},null,{"$f":"IF(I177>I178,\"Du må ta med færre lån som driftsgjeld\",)","v":0}]
[null,null,null,null,"Maksimal driftsgjeld ut frå skjermingsgrunnlaget:",null,null,null,{"$f":"J146","v":176640}]
[null,null,null,null,null,null,null,null,{"$f":"IF(I176>0,IF(M176=0,\"Hadde du ikkje driftgjeld ved starten av rekneskapsåret ?\",),)","v":0}]
[null,{"$f":"IF(Nær.spes!J59+Nær.spes!J60+Nær.spes!J61>0,\"NB: Du har utgiftsført på konto 7000, 7020, 7040 som gjeld yrkesbil i næring, og må fylla ut opplysningar om firmabil. Dersom du ikkje har firmabil må du retta konteringar i dagboka. Dette skjemaet gjeld ikkje for bruk av privatbil i næringa\", \"Du har ikkje utgiftsført på kontonummer som gjeld næringsbil og skal ikkje fylla ut opplysningane her\")","v":"Du har ikkje utgiftsført på kontonummer som gjeld næringsbil og skal ikkje fylla ut opplysningane her"}]
[]
[null,"Bilkjennemerke:"]
[null,"År for førstegongsregistrering:",null,null,null,"(f.eks 2015)"]
[null,null,null,null,null,null,null,null,null,null,null,null,null,null,null,"i fjor"]
[null,"Biltype, kryss av i skjema:",null,"skriv x"]
[null,null,null,null,"Personbil",null,null,null,null,null,null,null,null,null,null,null,null,null,null,null,null,null,null,null,null,null,"personbil"]
[null,null,null,null,"Elbil",null,null,null,null,null,null,null,null,null,null,null,null,null,null,null,null,null,null,null,null,null,"elbil"]
[null,null,null,null,"Hydrogenbil",null,null,null,null,null,null,null,null,null,null,null,null,null,null,null,null,null,null,null,null,null,"hydrogenbil"]
[null,null,null,null,"Varebil klasse 2",null,null,null,null,null,null,null,null,null,null,null,null,null,null,null,null,null,null,null,null,null,"varebilKlasse2"]
[null,null,null,null,"Lastebil med totalvekt under 7500kg",null,null,null,null,null,null,null,null,null,null,null,null,null,null,null,null,null,null,null,null,null,"lastebilMedTotalvektUnder7500Kg"]
[null,null,null,null,"Lastebil med totalvekt 7500 kg eller meir",null,null,null,null,null,null,null,null,null,null,null,null,null,null,null,null,null,null,null,null,null,"lastebilMedTotalvekt7500KgEllerMer"]
[null,null,null,null,"Bil registrert for 9 passasjerar eller fleire",null,null,null,null,null,null,null,null,null,null,null,null,null,null,null,null,null,null,null,null,null,"bilRegistrertFor9PassasjererEllerFlere"]
[null,null,null,null,"Bil registrert for 16 passasjerar eller fleire",null,null,null,null,null,null,null,null,null,null,null,null,null,null,null,null,null,null,null,null,null,"bilRegistrertFor16PassasjererEllerFlere"]
[null,"Resultat, SKJUL",null,null,{"$f":"IF(D186=0,IF(D187=0,IF(D188=0,IF(D189=0,IF(D190=0,IF(D191=0,IF(D192=0,IF(D193=0,,AA193),AA192),AA191),AA190),AA189),AA188),AA187),AA186)","v":0}]
[null,"Drivstoffkostnad, frå dagbok:",null,{"$f":"Nær.spes!J59","v":0},"kr"]
[null,"Vedlikehaldskostnad, frå dagbok:",null,{"$f":"Nær.spes!J60","v":0},"kr"]
[null,"Forsikring og avgift, frå dagbok:",null,{"$f":"Nær.spes!J61","v":0},"kr"]
[null,"Leasingleige av bil, frå dagbok:",null,{"$f":"Nær.spes!J52","v":0},"kr"]
[null,"Tal kilometer yrkeskøyring:",null,null,"km"]
[null,"Totalt køyrt i år med firmabil:",null,null,"km"]
[null,"Er yrkesbilen brukt privat:",null,null,"Ja eller Nei"]
[null,"Tilbakeført kostnad for privat bruk",null,{"$f":"Nær.spes!J63*-1","v":0},"kr"]
[]
[]
[]
[]
[]
["Opplysningar til skattemelding/skatteutrekning:"]
[null,"Brukar:",{"$f":"F3","v":"test"},null,null,null,null,"Ektefelle:",null,{"$f":"F4","v":0}]
[null,"Fødselsår for brukar:",{"$f":"IF(D210=0,\"NB !\",IF(D210<2020,IF(D210>1900,,\"Feil !!\"),\"Feil !!\"))","v":"NB !"},null,"(4 siffer, td: 1960)",null,null,"Fødselsår for ektefelle:",null,null,{"$f":"IF(L210=0,\"NB !\",IF(L210<2020,IF(L210>1900,,\"Feil !!\"),\"Feil !!\"))","v":"NB !"},null,"(4 siffer)"]
[null,"Gift ?",{"$f":"IF(D211=\"J\",,IF(D211=\"N\",,\"FEIL KODE\"))","v":0},"N","(J eller N)"]
[null,"Skatteklasse:",null,1,{"$f":"IF(D212=1,,\"NB:Skatteklasse 2 er berre for skattytar som har førsørgaransvar for ektefelle\")","v":0}]
[null,"Del av 2,2 som er barnepensjon:",null,null,null,"(i kroner)",null,"Del av 2,2 som er barnep.:"]
[null,"Finnmark/Nordtroms ?",null,null,"N","(J eller N)"]
[null,"Skattereduksjon etter Skt.lov § 17-1:",null,null,"N","(J eller N)"]
[null,"Skattefrådrag for alderspensjon/AFP/  særfrådrag for einsleg forsørgar",null,null,null,"Skriv sum henta frå førehandsutfyllt skattemelding, positivt tal"]
[]
[null,"Innbetalt skatt, brukar",null,null,null,null,null,"Innbetalt skatt, ektefelle"]
[null,"Forskotsskatt: ",null,"x 4",{"$f":"C219*4","v":0},null,null,null,"Forskotsskatt: ",null,"x 4",{"$f":"J219*4","v":0}]
[null,null,null,"Skattetrekk på lønsinntekt: ",null,{"$f":"IF(ISTEXT(E220),\"FEIL !\",)","v":0},null,null,null,null,"Skattetrekk på lønsinntekt: "]
[null,null,null,"Skattetrekk på lønsinntekt: ",null,{"$f":"IF(ISTEXT(E221),\"FEIL !\",)","v":0},null,null,null,null,"Skattetrekk på lønsinntekt: "]
[null,null,null,"Skattetrekk på lønsinntekt: ",null,{"$f":"IF(ISTEXT(E222),\"FEIL !\",)","v":0},null,null,null,null,"Skattetrekk på lønsinntekt: "]
[null,null,null,"Totalt brukar: ",{"$f":"E219+E220+E221+E222","v":0},null,null,null,null,null,"Totalt ektefelle: ",{"$f":"L219+L220+L221+L222","v":0}]
[]
[null,null,"Samla skatt ved skatteklasse:",null,null,{"$f":"D212","v":1},{"$f":"H226+H227","v":4160.8500000000004},null,"(Gå til arket \"SKATT\" for fullstendig skatteutrekning)"]
[null,"Pensjonspoeng brukar:",null,{"$f":"SKATT!H54","v":0},{"$f":"SKATT!G54","v":0},null,"Skatt brukar:",{"$f":"SKATT!H50","v":4160.8500000000004},null,null,null,{"$f":"IF(E223>H226,\"Til gode skatt: \",\"Skuldig skatt: \")","v":"Skuldig skatt: "},{"$f":"SKATT!H52","v":4160.8500000000004}]
[null,"Pensjonsbeholdning brukar:",null,{"$f":"SKATT!H55","v":0},{"$f":"SKATT!G55","v":0},null,"Skatt ektefelle:",{"$f":"SKATT!J50","v":0},null,null,null,{"$f":"IF(L223>H227,\"Til gode skatt: \",\"Skuldig skatt: \")","v":"Skuldig skatt: "},{"$f":"SKATT!J52","v":0}]
[null,"Pensjonspoeng ektefelle:",null,{"$f":"SKATT!J54","v":0},{"$f":"SKATT!I54","v":0}]
[null,"Pensjonsbeholdning ektefelle:",null,{"$f":"SKATT!J55","v":0},{"$f":"SKATT!I55","v":0},null,null,null,null,null,"Personinntekt",null,"Næringsinntekt"]
[null,null,null,null,"brukar","ektefelle","(Berre heile tal)",null,null,null,"Brukar ","Ektef.","Brukar","Ektefelle"]
[null,"Ektefellefordeling  i prosent:",null,null,100,{"$f":"100-E231","v":0},"(frå 0 til 100)",null,null,null,{"$f":"Nær.spes!J1116","v":68770.559999999998},{"$f":"E241","v":0},{"$f":"Nær.spes!J145","v":72480},{"$f":"Nær.spes!J144-Nær.spes!J145","v":0}]
[null,null,null,null,{"$f":"IF(Nær.spes!J144<0,IF(E231=100,,\"FEIL! Underskot kan ikkje delast med ektefelle\"),)","v":0}]
[null,{"$f":"\"For ektefelle \"&F4&\" si skattemelding ved deling av inntekt, og som må leggast inn i ektefelle si skattemelding på skatteetaten/altinn:\"","v":"For ektefelle  si skattemelding ved deling av inntekt, og som må leggast inn i ektefelle si skattemelding på skatteetaten/altinn:"}]
[null,"%-del av inntekt fordelt til ektefelle:",null,null,{"$f":"F231","v":0}]
[null,"Næringsinntekt for ektefelle:",null,null,{"$f":"Nær.spes!J144-Nær.spes!J145","v":0}]
[null,"Personinntekt overført ektefelle:",null,null,{"$f":"Nær.spes!J1113-Nær.spes!J1116","v":0}]
[null,"Framført negativ personinntekt frå tidl år:",null,null,{"$f":"(J155*F231/100)*-1","v":0}]
[null,"Frådrag for negativ utrekna personinntekt som er overført frå anna verksemd (som det kan skje samordning med)",null,null,{"$f":"K156*-1","v":0}]
[null,"Tillegg for negativ utrekna personinntekt som er overført til anna verksemd (som det kan skje samordning med)",null,null,{"$f":"K157*-1","v":0}]
[null,"Tillegg for negativ utrekna personinntekt som kan samordnast med arbeidsgodtgjering frå ANS/DA/KS i år",null,null,{"$f":"K158*-1","v":0}]
[null,{"$f":"IF(E241<0,\"Samla negativ personinntekt for ektefelle:\",\"Samla positiv personinntekt for ektefelle\")","v":"Samla positiv personinntekt for ektefelle"},null,null,{"$f":"E236-E237-E238+E239+E240","v":0},null,{"$f":"IF(E241<0,\"NB. Skal ikkje førast, men blir framført til seinare år\",)","v":0}]
[]
[null,"For eventuell skatteutrekning, sumtal henta frå førehandsutfyllt skattemelding:"]
[null,"Denne skatteutrekninga er ikkje komplett, men er nyttig for å sjå effekten av f.eks avskrivingar, inntektsføring frå tømmerkonto osv. Korrekt skatteutrekning vil du få ved levering av skattemelding, der skatteetaten si utrekning blir vist.",null,null,null,null,"brukar",null,"ektefelle"]
[null,"Samla lønsinntekt, trygd, pensjon og anna personinntekt:",null,null,null,{"$f":"IF(G245<0,\"positivt tal!\",)","v":0},null,{"$f":"IF(I245<0,\"positivt tal!\",)","v":0}]
[null,"Minstefrådrag",null,null,null,0,null,0]
[null,"Anna næringsinntekt utanom denne rekneskapen:",null,null,null,0,null,0]
[null,"Samla kapitalinntekter (renteinntekter og anna):",null,null,null,0,null,0]
[null,"Samla kapitalutgifter (renteutgifter og andre frådrag)",null,null,null,0,null,0]
[null,"Netto formue",null,null,null,0,null,0]
[]
[]
[]
[]
[]
[]
[]
[]
[null,null,null,null,{"$f":"IF(F231=100,\"Du kan ikkje føre 100% på ektefelle dersom du skal levere på Altinn!\",)","v":0}]
[null,"Sjekkliste","Kontroll av rekneskapen ved årsavslutning.",null,null,null,null,null,null,"Meldingane vil falle bort etterkvart som du blir ferdig med rekneskapen."]
["Dagbok/register:"]
[null,{"$f":"IF(C262=0,,\"NB!\")","v":0},{"$f":"IF(ROUND(Dagbok!F2+Dagbok!E2,)=0,,\"Dagboka stemmer ikkje, kontroller for feilføring !\")","v":0}]
[null,{"$f":"IF(C263=0,,\"?\")","v":"?"},{"$f":"IF(Register!D8=0,\"Er du sikker på at du ikkje har uteståande krav ved nyttår ?\",)","v":"Er du sikker på at du ikkje har uteståande krav ved nyttår ?"}]
[null,{"$f":"IF(C264=0,,\"?\")","v":"?"},{"$f":"IF(Register!I8=0,\"Er du sikker på at du ikkje har ubetalte rekningar ved nyttår ?\",)","v":"Er du sikker på at du ikkje har ubetalte rekningar ved nyttår ?"}]
[null,{"$f":"IF(C265=0,,\"NB!\")","v":0},{"$f":"IF(OR(Register!C7=\"Differanse!\",Register!H7=\"Differanse!\"),\"Du har ikkje fordelt sum frå fjoråret på kundar/leverandørar i registeret\",)","v":0}]
[null,{"$f":"IF(C266=0,,\"NB!\")","v":0}]
["Årsoppgjer:"]
[null,{"$f":"IF(C268=0,,\"NB!\")","v":0},{"$f":"IF(C42+C46+C49+C57+C58+M42=0,\"Har du lagt inn statusverdiar frå i fjor ? (Kontroller på toppen av dette arket.)\",)","v":0}]
[null,{"$f":"IF(C269=0,,\"NB!\")","v":0},{"$f":"IF(D99+E99+G99=0,,\"Du har ikkje fordelt statusverdi/tilkjøp/tilskot bygningar på ulike bygg/anlegg\")","v":0}]
[null,{"$f":"IF(C270=0,,\"?\")","v":0},{"$f":"IF(L99+L110+L112+L114+L116=0,\"Du har ikkje lagt inn avskrivingar. Skriv i tilfelle inn %-sats\",)","v":0}]
[null,{"$f":"IF(C271=0,,\"NB!\")","v":0},{"$f":"IF(resttelefon<0,\"Du har ikkje bokført private telefonutgifter, trykk på knappen i eige avsnitt om dette for å bokføra\",)","v":0}]
[null,0,{"$f":"IF(resttelefon>0,\"Du har bokført for mykje private telefonutgifter, rett opp i dagboka\",)","v":0}]
[null,"NB!",{"$f":"IF(AND(F163=0,F164=0),\"Du har ikkje lagt inn saldo på driftskonto ved årsslutt\",)","v":"Du har ikkje lagt inn saldo på driftskonto ved årsslutt"}]
[null,"NB!",{"$f":"IF(OR(D210<1900,D210>2020),\"Du har ikkje lagt inn rett fødselsår for brukar\",)","v":"Du har ikkje lagt inn rett fødselsår for brukar"}]
[null,0,{"$f":"IF(F4=0,,IF(OR(L210<1900,L210>2020),\"Du har ikkje lagt inn rett fødselsår for ektefelle\",))","v":0}]
[null,0,{"$f":"IF(F4=0,,IF(D211=\"N\",\"Du har ikkje lagt inn J for gift i opplysningar for skatteutrekninga\",))","v":0}]
[null,"NB!",{"$f":"IF(OR(F11=0,ISTEXT(G11)),\"Du har ikkje lagt inn rett kommunenummer. (på toppen av dette arket)\",)","v":"Du har ikkje lagt inn rett kommunenummer. (på toppen av dette arket)"}]
[null,{"$f":"IF(C278=0,,\"?\")","v":0},{"$f":"IF(C152=0,\"Du har valgt 0 i skjermingsrente, er dette OK ?\",)","v":0}]
[null,{"$f":"IF(C279=0,,\"NB!\")","v":0},{"$f":"IF(I177>I178,\"Du har markert for stor driftsgjeld i høve til kapitalverdiar. Gå til Gjeld og rett opp.\",)","v":0}]
[]
[]
[]
[]
[]
[]
[]
[]
[]
[]
[]
[]
[]
[]
[]
[]
[]
[]
[]
[]
[]
[]
[]
[]
[]
[]
[]
[]
[]
[]
[]
[]
[]
[]
[]
[]
[]
[]
[]
[]
["INNSTILLINGAR:"]
["Tilpass til skjerm ved opning ?",null,null,"J","(J eller N)"]

{"sheet":"Nær.spes","index":7,"n_rows":1238,"n_cols":23,"rows_kept":1238,"cut":false,"hidden":false,"merged":[]}
[null,null,null,"tema","undertema","underundertema","teknisk namn","Jord","Skog","Anna næring",null,null,null,"aktiv","referanse","verdikolonner",null,"2023-02-08T09:02:37.060",{"$f":"NOW()","v":"2023-02-14T14:30:01.240"},"skatt_xml_type","Nær.spes",1,{"$f":"Årsoppgjer!F7","v":0}]
["Næringsspesifikasjon 2022",null,null,null,null,null,null,null,null,null,null,null,1,0]
[{"$f":"Årsoppgjer!F3","v":"test"},null,null,null,null,null,null,null,null,null,null,null,1,0]
["Oppsummering ",null,null,null,null,null,null,null,null,"Anna næring",null,null,1,0]
["Årsresultat",null,null,null,null,null,null,{"$f":"H6+H7-H8-H9","v":0},{"$f":"I6+I7-I8-I9","v":0},{"$f":"J6+J7-J8-J9","v":72480},{"$f":"K6+K7-K8-K9","v":72480},null,1,0]
["Sum driftsinntekter",null,null,null,null,null,null,{"$f":"SUM(H14:H29)","v":0},{"$f":"SUM(I14:I29)","v":0},{"$f":"SUM(J14:J29)","v":144000},{"$f":"SUM(K14:K29)","v":144000},null,1,0]
["Sum finansinntekter",null,null,null,null,null,null,{"$f":"SUM(H81:H82)","v":0},{"$f":"SUM(I81:I82)","v":0},{"$f":"SUM(J81:J82)","v":0},{"$f":"SUM(K81:K82)","v":0},null,1,0]
["Sum driftskostnadar",null,null,null,null,null,null,{"$f":"SUM(H33:H79)","v":0},{"$f":"SUM(I33:I79)","v":0},{"$f":"SUM(J33:J79)","v":71520},{"$f":"SUM(K33:K79)","v":71520},null,1,0]
["Sum finanskostnadar",null,null,null,null,null,null,{"$f":"SUM(H84:H85)","v":0},{"$f":"SUM(I84:I85)","v":0},{"$f":"SUM(J84:J85)","v":0},{"$f":"SUM(K84:K85)","v":0},null,1,0]
[null,null,null,null,null,null,null,null,null,null,null,null,1,0]
["Resultatrekneskap",null,null,null,null,null,null,null,null,"Anna næring",null,null,1,0]
["Driftsinntekter",null,null,null,null,null,null,null,null,null,null,null,1,0]
["Salsinntekter",null,null,null,null,null,null,null,null,null,null,null,1,0]
[3000,"Salsinntekt og uttak, avgiftspliktig","næringsspesifikasjon","resultatregnskap","driftsinntekt","salgsinntekt",3000,null,null,{"$f":"SUM(VRFORMEL.XLS!H49:H55)","v":144000},{"$f":"H14+I14+J14","v":144000},null,{"$f":"IF(K14=0,,1)","v":1},{"$f":"M14","v":1},null,"k"]
[3100,"Salsinntekt og uttak, avgiftsfritt","næringsspesifikasjon","resultatregnskap","driftsinntekt","salgsinntekt",3100,null,null,{"$f":"VRFORMEL.XLS!H56","v":0},{"$f":"H15+I15+J15","v":0},null,{"$f":"IF(K15=0,,1)","v":0},{"$f":"M15","v":0},null,"k"]
[3200,"Salsinntekt og uttak, utanfor meirverdiavgiftslova","næringsspesifikasjon","resultatregnskap","driftsinntekt","salgsinntekt",3200,null,null,{"$f":"VRFORMEL.XLS!H57","v":0},0,null,0,0,null,"k"]
[3300,"Spesielle offentlege avgifter ved salg","næringsspesifikasjon","resultatregnskap","driftsinntekt","salgsinntekt",3300,null,null,null,0,null,0,0,null,"k"]
["Anna driftsinntekt",null,null,null,null,null,null,null,null,null,null,null,1,0,null,"k"]
[3400,"Offentleg tilskot/refusjon","næringsspesifikasjon","resultatregnskap","driftsinntekt","annenDriftsinntekt",3400,null,null,{"$f":"VRFORMEL.XLS!H58","v":0},0,null,0,0,null,"k"]
[3410,"Tilskot kompensasjonsordning","næringsspesifikasjon","resultatregnskap","driftsinntekt","annenDriftsinntekt",3410,null,null,{"$f":"VRFORMEL.XLS!H59","v":0},0,null,0,0,null,"k"]
[3600,"Leigeinntekt fast eigedom","næringsspesifikasjon","resultatregnskap","driftsinntekt","annenDriftsinntekt",3600,null,null,{"$f":"VRFORMEL.XLS!H62+VRFORMEL.XLS!H60+VRFORMEL.XLS!H61","v":0},0,null,0,0,null,"k"]
[3650,"Leigeinntekt av rettar, -jakt, fiske, mv.","næringsspesifikasjon","resultatregnskap","driftsinntekt","annenDriftsinntekt",3650,null,null,null,0,null,0,0,null,"k"]
[3695,"Anna leigeinntekt","næringsspesifikasjon","resultatregnskap","driftsinntekt","annenDriftsinntekt",3695,null,null,{"$f":"VRFORMEL.XLS!H63","v":0},0,null,0,0,null,"k"]
[3700,"Provisjonsinntekt","næringsspesifikasjon","resultatregnskap","driftsinntekt","annenDriftsinntekt",3700,null,null,{"$f":"VRFORMEL.XLS!H64","v":0},0,null,0,0,null,"k"]
[3710,"Lisens-, patent- og royaltyinntekt","næringsspesifikasjon","resultatregnskap","driftsinntekt","annenDriftsinntekt",3710,null,null,null,0,null,0,0,null,"k"]
[3890,"Inntektsføring frå positiv vinst-/tapskonto","næringsspesifikasjon","resultatregnskap","driftsinntekt","annenDriftsinntekt",3890,null,null,{"$f":"VRFORMEL.XLS!H70","v":0},0,null,0,0,null,"k"]
[3895,"Inntektsføring frå negativ saldo","næringsspesifikasjon","resultatregnskap","driftsinntekt","annenDriftsinntekt",3895,null,null,null,0,null,0,0,null,"k"]
[3900,"Anna driftsrelatert inntekt","næringsspesifikasjon","resultatregnskap","driftsinntekt","annenDriftsinntekt",3900,null,null,{"$f":"VRFORMEL.XLS!H65+VRFORMEL.XLS!H66","v":0},0,null,0,0,null,"k"]
[3910,"Inntektsføring frå tømmerkonto","næringsspesifikasjon","resultatregnskap","driftsinntekt","annenDriftsinntekt",3910,null,null,null,0,null,0,0,null,"k"]
[null,null,null,null,null,null,null,null,null,null,null,null,1,0]
["Driftskostnadar",null,null,null,null,null,null,"Jord","Skog","Anna næring",null,null,1,0]
["Varekostnadar",null,null,null,null,null,null,null,null,null,null,null,1,0]
[4005,"varekostnad","næringsspesifikasjon","resultatregnskap","driftskostnad","varekostnad",4005,null,null,{"$f":"SUM(VRFORMEL.XLS!G73:G79)+Årsoppgjer!H56-Årsoppgjer!F64+Årsoppgjer!H59-Årsoppgjer!F67","v":28800},{"$f":"H33+I33+J33","v":28800},null,1,1,null,"k"]
[4295,"Beholdningsendring av varer under tilverking og ferdig tilv. varer","næringsspesifikasjon","resultatregnskap","driftskostnad","varekostnad",4295,null,null,{"$f":"Årsoppgjer!H57-Årsoppgjer!F65+Årsoppgjer!H58-Årsoppgjer!F66","v":0},0,null,0,0,null,"k"]
[4500,"Framandyting og underentreprise","næringsspesifikasjon","resultatregnskap","driftskostnad","varekostnad",4500,null,null,{"$f":"SUM(VRFORMEL.XLS!G80:G85)","v":0},0,null,0,0,null,"k"]
[4995,"Beholdningsendring av egentilverka anleggsmidlar","næringsspesifikasjon","resultatregnskap","driftskostnad","varekostnad",4995,null,null,null,0,null,0,0,null,"k"]
["Lønskostnad",null,null,null,null,null,null,null,null,null,null,null,1,0]
[5000,"Løn, feriepengar m.v.","næringsspesifikasjon","resultatregnskap","driftskostnad","loennskostnad",5000,null,null,{"$f":"VRFORMEL.XLS!G86+VRFORMEL.XLS!G87+VRFORMEL.XLS!G88+VRFORMEL.XLS!G89","v":0},0,null,0,0,null,"k"]
[5300,"Anna opplysningspliktig godtgjering","næringsspesifikasjon","resultatregnskap","driftskostnad","loennskostnad",5300,null,null,{"$f":"VRFORMEL.XLS!G90","v":0},0,null,0,0,null,"k"]
[5400,"Arbeidsgjevaravgift","næringsspesifikasjon","resultatregnskap","driftskostnad","loennskostnad",5400,null,null,{"$f":"VRFORMEL.XLS!G91+VRFORMEL.XLS!G92","v":0},0,null,0,0,null,"k"]
[5420,"Opplysningspliktig pensjonskostnad","næringsspesifikasjon","resultatregnskap","driftskostnad","loennskostnad",5420,null,null,null,0,null,0,0,null,"k"]
[5900,"Anna personalkostnad","næringsspesifikasjon","resultatregnskap","driftskostnad","loennskostnad",5900,null,null,{"$f":"VRFORMEL.XLS!G93","v":0},0,null,0,0,null,"k"]
[5950,"Eiga pensjonsordning","næringsspesifikasjon","resultatregnskap","driftskostnad","loennskostnad",5950,null,null,{"$f":"VRFORMEL.XLS!G94","v":0},0,null,0,0,null,"k"]
["Annan driftskostnad",null,null,null,null,null,null,null,null,null,null,null,1,0]
[6000,"Avskrivning på varige driftsmidlar og immaterielle eigedeler","næringsspesifikasjon","resultatregnskap","driftskostnad","annenDriftskostnad",6000,null,null,{"$f":"Årsoppgjer!L99+Årsoppgjer!L108+Årsoppgjer!L110+Årsoppgjer!L111+Årsoppgjer!L112+Årsoppgjer!L114+Årsoppgjer!L116+Årsoppgjer!L115","v":42720},42720,null,1,1,null,"k"]
[6100,"Frakt og transportkostnad ved salg","næringsspesifikasjon","resultatregnskap","driftskostnad","annenDriftskostnad",6100,null,null,{"$f":"VRFORMEL.XLS!G95+VRFORMEL.XLS!G96","v":0},0,null,0,0,null,"k"]
[6200,"Energi, brensel mv. ved produksjon","næringsspesifikasjon","resultatregnskap","driftskostnad","annenDriftskostnad",6200,null,null,{"$f":"VRFORMEL.XLS!G97+VRFORMEL.XLS!G98","v":0},0,null,0,0,null,"k"]
[6300,"Leige lokale","næringsspesifikasjon","resultatregnskap","driftskostnad","annenDriftskostnad",6300,null,null,{"$f":"VRFORMEL.XLS!G99+VRFORMEL.XLS!G100","v":0},0,null,0,0,null,"k"]
[6340,"Lys, varme","næringsspesifikasjon","resultatregnskap","driftskostnad","annenDriftskostnad",6340,null,null,{"$f":"VRFORMEL.XLS!G102+VRFORMEL.XLS!G103","v":0},0,null,0,0,null,"k"]
[6395,"Renovasjon, vatn, avløp, reinhald mv.","næringsspesifikasjon","resultatregnskap","driftskostnad","annenDriftskostnad",6395,null,null,{"$f":"VRFORMEL.XLS!G104+VRFORMEL.XLS!G105","v":0},0,null,0,0,null,"k"]
[6400,"Leige maskiner, inventar, transportmidlar o.l.","næringsspesifikasjon","resultatregnskap","driftskostnad","annenDriftskostnad",6400,null,null,{"$f":"VRFORMEL.XLS!G106+VRFORMEL.XLS!G107+Årsoppgjer!J125","v":0},0,null,0,0,null,"k"]
[6440,"Leasingleige av bil","næringsspesifikasjon","resultatregnskap","driftskostnad","annenDriftskostnad",6440,null,null,{"$f":"VRFORMEL.XLS!G101","v":0},0,null,0,0,null,"k"]
[6500,"Verktøy, inventar mv. som ikkje skal aktiverast","næringsspesifikasjon","resultatregnskap","driftskostnad","annenDriftskostnad",6500,null,null,{"$f":"VRFORMEL.XLS!G108+VRFORMEL.XLS!G109+VRFORMEL.XLS!G110+VRFORMEL.XLS!G111+VRFORMEL.XLS!G112","v":0},0,null,0,0,null,"k"]
[6600,"Reparasjon og vedlikehald av bygning","næringsspesifikasjon","resultatregnskap","driftskostnad","annenDriftskostnad",6600,null,null,{"$f":"VRFORMEL.XLS!G113+VRFORMEL.XLS!G114+VRFORMEL.XLS!G115+VRFORMEL.XLS!G116","v":0},0,null,0,0,null,"k"]
[6695,"Reparasjon og anna vedlikehald","næringsspesifikasjon","resultatregnskap","driftskostnad","annenDriftskostnad",6695,null,null,{"$f":"VRFORMEL.XLS!G117","v":0},0,null,0,0,null,"k"]
[6700,"Fremand teneste","næringsspesifikasjon","resultatregnskap","driftskostnad","annenDriftskostnad",6700,null,null,{"$f":"VRFORMEL.XLS!G118+VRFORMEL.XLS!G119+VRFORMEL.XLS!G120","v":0},0,null,0,0,null,"k"]
[6995,"Elektronisk kommunikasjon, porto mv.","næringsspesifikasjon","resultatregnskap","driftskostnad","annenDriftskostnad",6995,null,null,{"$f":"VRFORMEL.XLS!G121+VRFORMEL.XLS!G122+VRFORMEL.XLS!G123+VRFORMEL.XLS!G124+VRFORMEL.XLS!G125+VRFORMEL.XLS!G126","v":0},0,null,0,0,null,"k"]
[6998,"Privat bruk av elektronisk kommunikasjon","næringsspesifikasjon","resultatregnskap","driftskostnad","annenDriftskostnad",6998,null,null,{"$f":"VRFORMEL.XLS!G134","v":0},0,null,0,0,null,"k"]
[7000,"Drivstoff transportmidlar","næringsspesifikasjon","resultatregnskap","driftskostnad","annenDriftskostnad",7000,null,null,{"$f":"VRFORMEL.XLS!G127+VRFORMEL.XLS!G128","v":0},0,null,0,0,null,"k"]
[7020,"Vedlikehald mv. transportmidlar","næringsspesifikasjon","resultatregnskap","driftskostnad","annenDriftskostnad",7020,null,null,{"$f":"VRFORMEL.XLS!G129+VRFORMEL.XLS!G130","v":0},0,null,0,0,null,"k"]
[7040,"Forsikring og avgifter på transportmidlar","næringsspesifikasjon","resultatregnskap","driftskostnad","annenDriftskostnad",7040,null,null,{"$f":"VRFORMEL.XLS!G131+VRFORMEL.XLS!G132","v":0},0,null,0,0,null,"k"]
[7080,"Bilkostnadar, bruk av privat bil i næring","næringsspesifikasjon","resultatregnskap","driftskostnad","annenDriftskostnad",7080,null,null,{"$f":"VRFORMEL.XLS!G133","v":0},0,null,0,0,null,"k"]
[7099,"Privat bruk av yrkesbil","næringsspesifikasjon","resultatregnskap","driftskostnad","annenDriftskostnad",7099,null,null,{"$f":"VRFORMEL.XLS!G135","v":0},0,null,0,0,null,"k"]
[7155,"Reise-, diett- og bilgodtgjersle (opplysningspliktig)","næringsspesifikasjon","resultatregnskap","driftskostnad","annenDriftskostnad",7155,null,null,{"$f":"VRFORMEL.XLS!G136","v":0},0,null,0,0,null,"k"]
[7165,"Reise- og diettkostnadar (ikkje opplysningspliktig)","næringsspesifikasjon","resultatregnskap","driftskostnad","annenDriftskostnad",7165,null,null,{"$f":"VRFORMEL.XLS!G138+VRFORMEL.XLS!G139+VRFORMEL.XLS!G137","v":0},0,null,0,0,null,"k"]
[7295,"Provisjonskostnad","næringsspesifikasjon","resultatregnskap","driftskostnad","annenDriftskostnad",7295,null,null,{"$f":"VRFORMEL.XLS!G140+VRFORMEL.XLS!G141","v":0},0,null,0,0,null,"k"]
[7330,"Sals- og reklamekostnadar","næringsspesifikasjon","resultatregnskap","driftskostnad","annenDriftskostnad",7330,null,null,{"$f":"VRFORMEL.XLS!G142+VRFORMEL.XLS!G143+VRFORMEL.XLS!G144","v":0},0,null,0,0,null,"k"]
[7350,"Representasjonskostnadar, med frådragsrett","næringsspesifikasjon","resultatregnskap","driftskostnad","annenDriftskostnad",7350,null,null,{"$f":"VRFORMEL.XLS!G145","v":0},0,null,0,0,null,"k"]
[7400,"Kontingentar, med frådragsrett","næringsspesifikasjon","resultatregnskap","driftskostnad","annenDriftskostnad",7400,null,null,{"$f":"VRFORMEL.XLS!G146","v":0},0,null,0,0,null,"k"]
[7420,"Gåver, med frådragsrett","næringsspesifikasjon","resultatregnskap","driftskostnad","annenDriftskostnad",7420,null,null,null,0,null,0,0,null,"k"]
[7500,"Forsikringspremie","næringsspesifikasjon","resultatregnskap","driftskostnad","annenDriftskostnad",7500,null,null,{"$f":"VRFORMEL.XLS!G147+VRFORMEL.XLS!G148+VRFORMEL.XLS!G149","v":0},0,null,0,0,null,"k"]
[7565,"Garanti- og servicekostnad","næringsspesifikasjon","resultatregnskap","driftskostnad","annenDriftskostnad",7565,null,null,null,0,null,0,0,null,"k"]
[7600,"Lisens, patent og royaltykostnad","næringsspesifikasjon","resultatregnskap","driftskostnad","annenDriftskostnad",7600,null,null,{"$f":"VRFORMEL.XLS!G150","v":0},0,null,0,0,null,"k"]
[7700,"Annan kostnad","næringsspesifikasjon","resultatregnskap","driftskostnad","annenDriftskostnad",7700,null,null,{"$f":"VRFORMEL.XLS!G151","v":0},0,null,0,0,null,"k"]
[7830,"Tap på krav","næringsspesifikasjon","resultatregnskap","driftskostnad","annenDriftskostnad",7830,null,null,{"$f":"VRFORMEL.XLS!G152+VRFORMEL.XLS!G153","v":0},0,null,0,0,null,"k"]
[7890,"Frådragsføring av negativ vinst- og tapskonto","næringsspesifikasjon","resultatregnskap","driftskostnad","annenDriftskostnad",7890,null,null,{"$f":"VRFORMEL.XLS!G156","v":0},0,null,0,0,null,"k"]
[7897,"Endring i skattemessig tap på krav","næringsspesifikasjon","resultatregnskap","driftskostnad","annenDriftskostnad",7897,null,null,null,0,null,0,0,null,"k"]
[7910,"Overført til tømmerkonto av årets overskot/underskot","næringsspesifikasjon","resultatregnskap","driftskostnad","annenDriftskostnad",7910,null,null,null,0,null,0,0,null,"k"]
[7911,"Kostnadføring tømmerkonto","næringsspesifikasjon","resultatregnskap","driftskostnad","annenDriftskostnad",7911,null,null,null,0,null,{"$f":"IF(K79=0,,1)","v":0},{"$f":"M79","v":0},null,"k"]
["Finansinntekt",null,null,null,null,null,null,null,null,null,null,null,1,0]
[8060,"Valutavinst (agio)","næringsspesifikasjon","resultatregnskap",null,"finansinntekt",8060,null,null,null,null,null,0,0,null,"k"]
[8079,"Anna finansinntekt","næringsspesifikasjon","resultatregnskap",null,"finansinntekt",8079,null,null,{"$f":"VRFORMEL.XLS!H67","v":0},{"$f":"H82+I82+J82","v":0},null,0,0,null,"k"]
["Finanskostnad",null,null,null,null,null,null,null,null,null,null,null,1,0]
[8160,"Valutatap (disagio)","næringsspesifikasjon","resultatregnskap",null,"finanskostnad",8160,null,null,null,null,null,0,0,null,"k"]
[8179,"Annan finanskostnad","næringsspesifikasjon","resultatregnskap",null,"finanskostnad",8179,null,null,{"$f":"VRFORMEL.XLS!G155","v":0},{"$f":"H85+I85+J85","v":0},null,0,0,null,"k"]
[null,null,null,null,null,null,null,null,null,null,null,null,1,0]
["Balanserekneskap",null,null,null,null,null,null,"Jord","Skog","Anna næring",null,null,1,0]
["Anleggsmiddel",null,null,null,null,null,null,null,null,null,null,null,1,0]
[1000,"Forskning og utvikling","næringsspesifikasjon","balanseregnskap","anleggsmiddel","balanseverdiForAnleggsmiddel",1000,null,null,null,null,null,0,0,null,"k"]
[1020,"Konsesjonar, patentar, lisensar o.l. rettar. Mjølkekvote","næringsspesifikasjon","balanseregnskap","anleggsmiddel","balanseverdiForAnleggsmiddel",1020,null,null,null,{"$f":"H90+I90+J90","v":0},null,0,0,null,"k"]
[1080,"Goodwill","næringsspesifikasjon","balanseregnskap","anleggsmiddel","balanseverdiForAnleggsmiddel",1080,null,null,{"$f":"Årsoppgjer!C40+VRFORMEL.XLS!G9","v":0},0,null,0,0,null,"k"]
[1105,"Forretningsbygg","næringsspesifikasjon","balanseregnskap","anleggsmiddel","balanseverdiForAnleggsmiddel",1105,null,null,{"$f":"Årsoppgjer!M116","v":0},0,null,0,0,null,"k"]
[1115,"Bygg, anlegg, hotell o.l.","næringsspesifikasjon","balanseregnskap","anleggsmiddel","balanseverdiForAnleggsmiddel",1115,null,null,{"$f":"Årsoppgjer!M99","v":0},0,null,0,0,null,"k"]
[1117,"Elektroteknisk utrustning i kraftføretak mv.","næringsspesifikasjon","balanseregnskap","anleggsmiddel","balanseverdiForAnleggsmiddel",1117,null,null,null,0,null,0,0,null,"k"]
[1120,"Fast teknisk installasjon i bygningar","næringsspesifikasjon","balanseregnskap","anleggsmiddel","balanseverdiForAnleggsmiddel",1120,null,null,{"$f":"Årsoppgjer!M108","v":0},0,null,0,0,null,"k"]
[1130,"Anlegg, maskiner under bygging","næringsspesifikasjon","balanseregnskap","anleggsmiddel","balanseverdiForAnleggsmiddel",1130,null,null,{"$f":"Årsoppgjer!M91+Årsoppgjer!M92","v":0},0,null,0,0,null,"k"]
[1140,"Jord og skogverdiar","næringsspesifikasjon","balanseregnskap","anleggsmiddel","balanseverdiForAnleggsmiddel",1140,null,null,null,0,null,0,0,null,"k"]
[1150,"Tomter og andre grunnareal","næringsspesifikasjon","balanseregnskap","anleggsmiddel","balanseverdiForAnleggsmiddel",1150,null,null,{"$f":"Årsoppgjer!C47+VRFORMEL.XLS!G23-VRFORMEL.XLS!H24","v":0},0,null,0,0,null,"k"]
[1160,"Bustad inkl. bustadtomter, hytter mv.","næringsspesifikasjon","balanseregnskap","anleggsmiddel","balanseverdiForAnleggsmiddel",1160,null,null,{"$f":"Årsoppgjer!C48+VRFORMEL.XLS!G25-VRFORMEL.XLS!H26","v":0},0,null,0,0,null,"k"]
[1205,"Personbilar, maskiner, inventar","næringsspesifikasjon","balanseregnskap","anleggsmiddel","balanseverdiForAnleggsmiddel",1205,null,null,{"$f":"Årsoppgjer!M114","v":96000},96000,null,1,1,null,"k"]
[1221,"Skip, riggar mv.","næringsspesifikasjon","balanseregnskap","anleggsmiddel","balanseverdiForAnleggsmiddel",1221,null,null,null,0,null,0,0,null,"k"]
[1225,"Fly, helikopter mv.","næringsspesifikasjon","balanseregnskap","anleggsmiddel","balanseverdiForAnleggsmiddel",1225,null,null,null,0,null,0,0,null,"k"]
[1238,"Vare- og lastebilar, bussar mv.","næringsspesifikasjon","balanseregnskap","anleggsmiddel","balanseverdiForAnleggsmiddel",1238,null,null,{"$f":"Årsoppgjer!M111","v":59280},59280,null,1,1,null,"k"]
[1239,"Varebilar med nullutslepp","næringsspesifikasjon","balanseregnskap","anleggsmiddel","balanseverdiForAnleggsmiddel",1239,null,null,{"$f":"Årsoppgjer!M112","v":0},0,null,0,0,null,"k"]
[1280,"Kontormaskiner o.l.","næringsspesifikasjon","balanseregnskap","anleggsmiddel","balanseverdiForAnleggsmiddel",1280,null,null,{"$f":"Årsoppgjer!M110","v":0},0,null,0,0,null,"k"]
[1290,"Andre driftsmidlar","næringsspesifikasjon","balanseregnskap","anleggsmiddel","balanseverdiForAnleggsmiddel",1290,null,null,null,0,null,0,0,null,"k"]
[1295,"Driftsmidlar som avskrivast lineært","næringsspesifikasjon","balanseregnskap","anleggsmiddel","balanseverdiForAnleggsmiddel",1295,null,null,null,0,null,0,0,null,"k"]
[1296,"Negativ vinst- og tapskonto","næringsspesifikasjon","balanseregnskap","anleggsmiddel","balanseverdiForAnleggsmiddel",1296,null,null,{"$f":"Årsoppgjer!C56+VRFORMEL.XLS!G41-VRFORMEL.XLS!G156","v":0},0,null,0,0,null,"k"]
[1298,"Negativ tømmerkonto","næringsspesifikasjon","balanseregnskap","anleggsmiddel","balanseverdiForAnleggsmiddel",1298,null,null,null,0,null,0,0,null,"k"]
[1390,"Andre langsiktige krav, forskotsleige leasing","næringsspesifikasjon","balanseregnskap","anleggsmiddel","balanseverdiForAnleggsmiddel",1390,null,null,{"$f":"Årsoppgjer!K125","v":0},0,null,0,0,null,"k"]
["Omløpsmiddel",null,null,null,null,null,null,null,null,null,null,null,1,0]
[1400,"Varelager","næringsspesifikasjon","balanseregnskap","omloepsmiddel","balanseverdiForOmloepsmiddel",1400,null,null,{"$f":"Årsoppgjer!F68","v":0},0,null,0,0,null,"k"]
[1401,"Sjølvprodusert vare nytta i eigen produksjon i jordbruk","næringsspesifikasjon","balanseregnskap","omloepsmiddel","balanseverdiForOmloepsmiddel",1401,null,null,null,0,null,0,0,null,"k"]
[1500,"Kundekrav","næringsspesifikasjon","balanseregnskap","omloepsmiddel","balanseverdiForOmloepsmiddel",1500,null,null,{"$f":"regformel!F301","v":0},0,null,0,0,null,"k"]
[1530,"Opptente ikke fakturerte driftsinntekter","næringsspesifikasjon","balanseregnskap","omloepsmiddel","balanseverdiForOmloepsmiddel",1530,null,null,null,0,null,0,0,null,"k"]
[1570,"Andre kortsiktige krav, til gode mva","næringsspesifikasjon","balanseregnskap","omloepsmiddel","balanseverdiForOmloepsmiddel",1570,null,null,{"$f":"IF(Register!D2<0,Register!D2*-1,)","v":0},0,null,0,0,null,"k"]
[1920,"Bankinnskot","næringsspesifikasjon","balanseregnskap","omloepsmiddel","balanseverdiForOmloepsmiddel",1920,null,null,{"$f":"IF(Årsoppgjer!F163>0,Årsoppgjer!F163,)","v":0},0,null,0,0,null,"k"]
[1950,"Bankinnskot for skattetrekk","næringsspesifikasjon","balanseregnskap","omloepsmiddel","balanseverdiForOmloepsmiddel",1950,null,null,null,0,null,0,0,null,"k"]
["Langsiktig gjeld",null,"næringsspesifikasjon",null,null,null,null,null,null,null,0,null,1,0]
[2220,"Gjeld til kredittinstitusjonar, lån","næringsspesifikasjon","balanseregnskap","gjeldOgEgenkapital","langsiktigGjeld",2220,null,null,{"$f":"Årsoppgjer!I176-Årsoppgjer!F164","v":0},0,null,0,0,null,"k"]
[2290,"Anna langsiktig gjeld","næringsspesifikasjon","balanseregnskap","gjeldOgEgenkapital","langsiktigGjeld",2290,null,null,null,0,null,0,0,null,"k"]
["Kortsiktig gjeld",null,null,null,null,null,null,null,null,null,0,null,1,0]
[2380,"Gjeld til kredittinstitusjonar, kassakreditt","næringsspesifikasjon","balanseregnskap","gjeldOgEgenkapital","kortsiktigGjeld",2380,null,null,{"$f":"Årsoppgjer!F164","v":0},0,null,0,0,null,"k"]
[2400,"Leverandørgjeld","næringsspesifikasjon","balanseregnskap","gjeldOgEgenkapital","kortsiktigGjeld",2400,null,null,{"$f":"regformel!F603","v":0},0,null,0,0,null,"k"]
[2600,"Skattetrekk og andre trekk","næringsspesifikasjon","balanseregnskap","gjeldOgEgenkapital","kortsiktigGjeld",2600,null,null,{"$f":"regformel!F606","v":0},0,null,0,0,null,"k"]
[2740,"Skuldig meirverdiavgift","næringsspesifikasjon","balanseregnskap","gjeldOgEgenkapital","kortsiktigGjeld",2740,null,null,{"$f":"IF(Register!D2>0,Register!D2,)","v":28800},28800,null,1,1,null,"k"]
[2770,"Skuldig arbeidsgjevaravgift","næringsspesifikasjon","balanseregnskap","gjeldOgEgenkapital","kortsiktigGjeld",2770,null,null,{"$f":"regformel!F607","v":0},0,null,0,0,null,"k"]
[2949,"Løn, feriepengar o.l.","næringsspesifikasjon","balanseregnskap","gjeldOgEgenkapital","kortsiktigGjeld",2949,null,null,{"$f":"regformel!F605","v":0},0,null,0,0,null,"k"]
["Eigenkapital",null,"næringsspesifikasjon",null,null,null,null,null,null,null,null,null,1,0]
[2050,"Annan eigenkapital   ","næringsspesifikasjon","balanseregnskap","gjeldOgEgenkapital","egenkapital",2050,null,null,{"$f":"SUM(K89:K118)-SUM(K120:K128)-SUM(K131:K134)","v":126480},126480,null,1,1,null,"k"]
[2095,"Negativ saldo","næringsspesifikasjon","balanseregnskap","gjeldOgEgenkapital","egenkapital",2095,null,null,null,0,null,0,0,null,"k"]
[2096,"Positiv vinst og tapskonto","næringsspesifikasjon","balanseregnskap","gjeldOgEgenkapital","egenkapital",2096,null,null,{"$f":"Årsoppgjer!H53+VRFORMEL.XLS!H42-VRFORMEL.XLS!H70","v":0},0,null,0,0,null,"k"]
[2097,"Betinga avsett vinst","næringsspesifikasjon","balanseregnskap","gjeldOgEgenkapital","egenkapital",2097,null,null,null,0,null,0,0,null,"k"]
[2098,"Positiv tømmerkonto","næringsspesifikasjon","balanseregnskap","gjeldOgEgenkapital","egenkapital",2098,null,null,null,0,null,0,0,null,"k"]
[null,null,null,null,null,null,null,null,null,null,null,null,1,0]
["Utrekna næringsinntekt",null,null,null,null,null,null,"Jord","Skog","Anna næring",null,null,1,0]
[null,"ID","næringsspesifikasjon","beregnetNaeringsinntekt","fordeltBeregnetNaeringsinntekt",null,"id",null,null,3,3,null,0,1,null,"k",10,null,null,"Tekst"]
[null,"Næringstype","næringsspesifikasjon","beregnetNaeringsinntekt","fordeltBeregnetNaeringsinntekt",null,"naeringstype",null,null,"annenNaering","annenNaering",null,0,1,null,"k",40,null,null,"NaeringstypeMedInnkapsling"]
[null,"Næringsbeskrivelse","næringsspesifikasjon","beregnetNaeringsinntekt","fordeltBeregnetNaeringsinntekt",null,"naeringsbeskrivelse",null,null,{"$f":"Årsoppgjer!F10","v":"Tømrar"},{"$f":"J139","v":"Tømrar"},null,1,1,null,"k",50,null,null,"TekstMedInnkapsling"]
[null,"Identifikator for fordelt utrekna personinntekt","næringsspesifikasjon","beregnetNaeringsinntekt","fordeltBeregnetNaeringsinntekt",null,"identifikatorForFordeltBeregnetPersoninntekt",null,null,3,3,null,0,1,null,"k",20,null,null,"TekstMedInnkapsling"]
[null,"Identifikator for fordelt utrekna næringsinntekt","næringsspesifikasjon","beregnetNaeringsinntekt","fordeltBeregnetNaeringsinntekt",null,"identifikatorForFordeltBeregnetNaeringsinntekt",null,null,3,3,null,0,1,null,"k",30,null,null,"TekstMedInnkapsling"]
[null,"Skattemessig resultat fordelt på næringar","næringsspesifikasjon","beregnetNaeringsinntekt","fordeltBeregnetNaeringsinntekt",null,"fordeltSkattemessigResultat",null,null,{"$f":"J5","v":72480},{"$f":"J142","v":72480},null,1,1,null,"k",60,null,null,"BeloepMedSkattemessigeEgenskaper"]
[null,"Sjablongutrekna inntekt frå biomasse og vedproduksjon","næringsspesifikasjon","beregnetNaeringsinntekt","fordeltBeregnetNaeringsinntekt",null,"sjablongberegnetInntektFraBiomasseVedproduksjon",null,null,null,{"$f":"H143+I143+J143","v":0},null,{"$f":"IF(K143=0,,1)","v":0},{"$f":"M143","v":0},null,"k",70,null,null,"BeloepMedSkattemessigeEgenskaper"]
[null,"Fordelt skattemessig resultat etter korreksjon","næringsspesifikasjon","beregnetNaeringsinntekt","fordeltBeregnetNaeringsinntekt",null,"fordeltSkattemessigResultatEtterKorreksjon",null,null,{"$f":"J142","v":72480},{"$f":"H144+I144+J144","v":72480},null,1,0,null,null,80,null,null,"BeloepMedSkattemessigeEgenskaperOgOverstyring"]
[null,"Næringsinntekt fordelt til brukar","næringsspesifikasjon","beregnetNaeringsinntekt","fordeltBeregnetNaeringsinntekt",null,"fordeltSkattemessigResultatEtterKorreksjonTilordnetInnehaver",null,null,{"$f":"J144*J146/100","v":72480},{"$f":"J145","v":72480},null,1,0,null,null,100,null,null,"BeloepMedSkattemessigeEgenskaper"]
[null,"%-del til brukar","næringsspesifikasjon","beregnetNaeringsinntekt","fordeltBeregnetNaeringsinntekt",null,"andelAvFordeltSkattemessigResultatTilordnetInnehaver",null,null,{"$f":"Årsoppgjer!E231","v":100},{"$f":"J146","v":100},null,{"$f":"M142","v":1},1,null,"k",90,null,null,"ProsentMedInnkapsling"]
[null,null,null,null,null,null,null,null,null,null,null,null,{"$f":"M148","v":0},0]
["Spesifikasjon av varelager",null,null,null,null,null,null,"Jord","Skog","Anna næring",null,null,{"$f":"M149","v":0},0]
[null,"ID","næringsspesifikasjon","spesifikasjonAvOmloepsmiddel","spesifikasjonAvVarelager",null,"id",null,null,3,{"$f":"J149","v":3},null,{"$f":"N149","v":0},{"$f":"IF(J158=0,,\"1\")","v":0},null,"k",10,null,null,"Tekst"]
[null,"verditype","næringsspesifikasjon","spesifikasjonAvOmloepsmiddel","spesifikasjonAvVarelager",null,"verditype",null,null,"skattemessigVerdi",{"$f":"J150","v":"skattemessigVerdi"},null,{"$f":"N150","v":0},{"$f":"N149","v":0},null,"k",20,null,null,"VerditypeMedInnkapsling"]
[null,"Råvare og innkjøpt halvfabrikata","næringsspesifikasjon","spesifikasjonAvOmloepsmiddel","spesifikasjonAvVarelager",null,"raavareOgInnkjoeptHalvfabrikata",null,null,{"$f":"Årsoppgjer!F64","v":0},{"$f":"H151+I151+J151","v":0},null,0,0,null,"k",30,null,null,"BeloepMedSkattemessigeEgenskaper"]
[null,"Vare under tilverking","næringsspesifikasjon","spesifikasjonAvOmloepsmiddel","spesifikasjonAvVarelager",null,"vareUnderTilvirkning",null,null,{"$f":"Årsoppgjer!F65","v":0},0,null,0,0,null,"k",40,null,null,"BeloepMedSkattemessigeEgenskaper"]
[null,"Ferdig tilverka vare","næringsspesifikasjon","spesifikasjonAvOmloepsmiddel","spesifikasjonAvVarelager",null,"ferdigTilvirketVare",null,null,{"$f":"Årsoppgjer!F66","v":0},0,null,0,0,null,"k",50,null,null,"BeloepMedSkattemessigeEgenskaper"]
[null,"Innkjøpt vare for vidaresal","næringsspesifikasjon","spesifikasjonAvOmloepsmiddel","spesifikasjonAvVarelager",null,"innkjoeptVareForVideresalg",null,null,{"$f":"Årsoppgjer!F67","v":0},0,null,0,0,null,"k",60,null,null,"BeloepMedSkattemessigeEgenskaper"]
[null,"Buskap","næringsspesifikasjon","spesifikasjonAvOmloepsmiddel","spesifikasjonAvVarelager",null,"buskap",null,null,null,0,null,0,0,null,"k",70,null,null,"BeloepMedSkattemessigeEgenskaper"]
[null,"Sjølvprodusert vare nytta i eigen produksjon","næringsspesifikasjon","spesifikasjonAvOmloepsmiddel","spesifikasjonAvVarelager",null,"selvprodusertVareBenyttetIEgenProduksjon",null,null,null,0,null,0,0,null,"k",80,null,null,"BeloepMedSkattemessigeEgenskaper"]
[null,"ReinPelsdyrOgPelsdyrskinnPåLager","næringsspesifikasjon","spesifikasjonAvOmloepsmiddel","spesifikasjonAvVarelager",null,"reinPelsdyrOgPelsdyrskinnPaaLager",null,null,null,0,null,0,0,null,"k",90,null,null,"BeloepMedSkattemessigeEgenskaper"]
[null,"Sum verdi av varelager","næringsspesifikasjon","spesifikasjonAvOmloepsmiddel","spesifikasjonAvVarelager",null,"sumVerdiAvVarelager",null,null,{"$f":"Årsoppgjer!F68","v":0},0,null,0,0]
[null,null,null,null,null,null,null,null,null,null,null,null,1,0]
["Linære avskrivingar",null,null,null,null,null,null,null,null,null,null,null,{"$f":"M162","v":0},0]
[null,"id","næringsspesifikasjon","spesifikasjonAvAnleggsmiddel","lineaertavskrevetAnleggsmiddel",null,"id",null,null,null,null,null,{"$f":"M162","v":0},{"$f":"N162","v":0},101,"k",10,null,null,"Tekst"]
[null,"Objekt-id","næringsspesifikasjon","spesifikasjonAvAnleggsmiddel","lineaertavskrevetAnleggsmiddel",null,"objektidentifikator ",null,null,null,null,null,{"$f":"IF(OR(M167=1,M170=1,M174=1),1,)","v":0},0,101,"k",20,null,null,"TekstMedInnkapsling"]
[null,"Objektbeskrivelse","næringsspesifikasjon","spesifikasjonAvAnleggsmiddel","lineaertavskrevetAnleggsmiddel",null,"objektbeskrivelse",null,null,null,null,null,{"$f":"M162","v":0},0,101,"k",30,null,null,"TekstMedInnkapsling"]
[null,"Kjøpsår","næringsspesifikasjon","spesifikasjonAvAnleggsmiddel","lineaertavskrevetAnleggsmiddel",null,"ervervsdato",null,null,null,null,null,{"$f":"M162","v":0},0,101,"k",40,null,null,"XDatoMedInnkapslingÅr"]
[null,"Realisasjonsdato","næringsspesifikasjon","spesifikasjonAvAnleggsmiddel","lineaertavskrevetAnleggsmiddel",null,"realisasjonsdato",null,null,null,null,null,{"$f":"M162","v":0},0,101,"k",50,null,null,"DatoMedInnkapsling"]
[null,"Levetid","næringsspesifikasjon","spesifikasjonAvAnleggsmiddel","lineaertavskrevetAnleggsmiddel",null,"levetid",null,null,null,null,null,{"$f":"IF(K166=0,,1)","v":0},0,101,"k",250,null,null,"HeltallMedInnkapsling"]
[null,"Anskaffelseskost","næringsspesifikasjon","spesifikasjonAvAnleggsmiddel","lineaertavskrevetAnleggsmiddel",null,"anskaffelseskost",null,null,null,null,null,0,0,101,"k",230,null,null,"BeloepMedSkattemessigeEgenskaper"]
[null,"Påkosting","næringsspesifikasjon","spesifikasjonAvAnleggsmiddel","lineaertavskrevetAnleggsmiddel",null,"paakostning",null,null,null,null,null,0,0,101,"k",70,null,null,"BeloepMedSkattemessigeEgenskaper"]
[null,"justeringForÅpenbarVerdiendring","næringsspesifikasjon","spesifikasjonAvAnleggsmiddel","lineaertavskrevetAnleggsmiddel",null,"justeringForaapenbarVerdiendring",null,null,null,null,null,0,0,101,"k",240,null,null,"BeloepMedSkattemessigeEgenskaper"]
[null,"Inngåande verdi","næringsspesifikasjon","spesifikasjonAvAnleggsmiddel","lineaertavskrevetAnleggsmiddel",null,"inngaaendeVerdi",null,null,null,null,null,0,0,101,"k",60,null,null,"BeloepMedSkattemessigeEgenskaper"]
[null,"Avskriving i året","næringsspesifikasjon","spesifikasjonAvAnleggsmiddel","lineaertavskrevetAnleggsmiddel",null,"aaretsAvskrivning",null,null,null,null,null,0,0,101,"k",260,null,null,"BeloepMedSkattemessigeEgenskaper"]
[null,"verdiOverførtFraPåkostningVedRealisasjon","næringsspesifikasjon","spesifikasjonAvAnleggsmiddel","lineaertavskrevetAnleggsmiddel",null,"verdiOverfoertFraPaakostningVedRealisasjon",null,null,null,null,null,0,0,101,"k",270,null,null,"BeloepMedSkattemessigeEgenskaper"]
[null,"verdiOverførtTilDriftsmiddelVedRealisasjon","næringsspesifikasjon","spesifikasjonAvAnleggsmiddel","lineaertavskrevetAnleggsmiddel",null,"verdiOverfoertTilDriftsmiddelVedRealisasjon",null,null,null,null,null,0,0,101,"k",280,null,null,"BeloepMedSkattemessigeEgenskaper"]
[null,"Utgåande verdi","næringsspesifikasjon","spesifikasjonAvAnleggsmiddel","lineaertavskrevetAnleggsmiddel",null,"utgaaendeVerdi",null,null,null,null,null,0,0,101,"k",200,null,null,"BeloepMedSkattemessigeEgenskaper"]
[null,"Vinst overført til vinst- og tapskonto","næringsspesifikasjon","spesifikasjonAvAnleggsmiddel","lineaertavskrevetAnleggsmiddel",null,"gevinstOverfoertTilGevinstOgTapskonto",null,null,null,null,null,0,0,101,"k",210,null,null,"BeloepMedSkattemessigeEgenskaper"]
[null,"Tap overført til vinst- og tapskonto","næringsspesifikasjon","spesifikasjonAvAnleggsmiddel","lineaertavskrevetAnleggsmiddel",null,"tapOverfoertTilGevinstOgTapskonto",null,null,null,null,null,0,0,101,"k",220,null,null,"BeloepMedSkattemessigeEgenskaper"]
[null,"erstatningsbeløpVedUfrivilligRealisasjon","næringsspesifikasjon","spesifikasjonAvAnleggsmiddel","lineaertavskrevetAnleggsmiddel",null,"erstatningsbeloepVedUfrivilligRealisasjon",null,null,null,null,null,0,0,101,"k",130,null,null,"BeloepMedSkattemessigeEgenskaper"]
[null,"reinvestertBetingetSkattefriSalgsgevinst","næringsspesifikasjon","spesifikasjonAvAnleggsmiddel","lineaertavskrevetAnleggsmiddel",null,"reinvestertBetingetSkattefriSalgsgevinst",null,null,null,null,null,0,0,101,"k",140,null,null,"BeloepMedSkattemessigeEgenskaper"]
[null,"objektidentifikatorNedskrivningenMedBetingetSkattefriSalgsgevinstGjelder","næringsspesifikasjon","spesifikasjonAvAnleggsmiddel","lineaertavskrevetAnleggsmiddel",null,"objektidentifikatorNedskrivningenMedBetingetSkattefriSalgsgevinstGjelder",null,null,null,null,null,0,0,101,"k",160,null,null,"TekstMedInnkapsling"]
[null,"tilskuddTilInvesteringIDistriktene","næringsspesifikasjon","spesifikasjonAvAnleggsmiddel","lineaertavskrevetAnleggsmiddel",null,"tilskuddTilInvesteringIDistriktene",null,null,null,null,null,0,0,101,"k",170,null,null,"BeloepMedSkattemessigeEgenskaper"]
[null,"tilbakeføringAvTilskuddTilInvesteringIDistriktene","næringsspesifikasjon","spesifikasjonAvAnleggsmiddel","lineaertavskrevetAnleggsmiddel",null,"tilbakefoeringAvTilskuddTilInvesteringIDistriktene",null,null,null,null,null,0,0,101,"k",180,null,null,"BeloepMedSkattemessigeEgenskaper"]
[null,null,null,null,null,null,null,null,null,null,null,null,{"$f":"M184","v":0},0]
[null,"id","næringsspesifikasjon","spesifikasjonAvAnleggsmiddel","lineaertavskrevetAnleggsmiddel",null,"id",null,null,null,null,null,0,0,102,"k",10,null,null,"Tekst"]
[null,"Objekt-id","næringsspesifikasjon","spesifikasjonAvAnleggsmiddel","lineaertavskrevetAnleggsmiddel",null,"objektidentifikator ",null,null,null,null,null,{"$f":"IF(OR(M189=1,M192=1,M196=1),1,)","v":0},0,102,"k",20,null,null,"TekstMedInnkapsling"]
[null,"Objektbeskrivelse","næringsspesifikasjon","spesifikasjonAvAnleggsmiddel","lineaertavskrevetAnleggsmiddel",null,"objektbeskrivelse",null,null,null,null,null,{"$f":"M184","v":0},0,102,"k",30,null,null,"TekstMedInnkapsling"]
[null,"Kjøpsår","næringsspesifikasjon","spesifikasjonAvAnleggsmiddel","lineaertavskrevetAnleggsmiddel",null,"ervervsdato",null,null,null,null,null,{"$f":"M184","v":0},0,102,"k",40,null,null,"XDatoMedInnkapslingÅr"]
[null,"Realisasjonsdato","næringsspesifikasjon","spesifikasjonAvAnleggsmiddel","lineaertavskrevetAnleggsmiddel",null,"realisasjonsdato",null,null,null,null,null,{"$f":"M184","v":0},0,102,"k",50,null,null,"DatoMedInnkapsling"]
[null,"Levetid","næringsspesifikasjon","spesifikasjonAvAnleggsmiddel","lineaertavskrevetAnleggsmiddel",null,"levetid",null,null,null,null,null,{"$f":"IF(K188=0,,1)","v":0},0,102,"k",250,null,null,"HeltallMedInnkapsling"]
[null,"Anskaffelseskost","næringsspesifikasjon","spesifikasjonAvAnleggsmiddel","lineaertavskrevetAnleggsmiddel",null,"anskaffelseskost",null,null,null,null,null,0,0,102,"k",230,null,null,"BeloepMedSkattemessigeEgenskaper"]
[null,"Påkosting","næringsspesifikasjon","spesifikasjonAvAnleggsmiddel","lineaertavskrevetAnleggsmiddel",null,"paakostning",null,null,null,null,null,0,0,102,"k",70,null,null,"BeloepMedSkattemessigeEgenskaper"]
[null,"justeringForÅpenbarVerdiendring","næringsspesifikasjon","spesifikasjonAvAnleggsmiddel","lineaertavskrevetAnleggsmiddel",null,"justeringForaapenbarVerdiendring",null,null,null,null,null,0,0,102,"k",240,null,null,"BeloepMedSkattemessigeEgenskaper"]
[null,"Inngåande verdi","næringsspesifikasjon","spesifikasjonAvAnleggsmiddel","lineaertavskrevetAnleggsmiddel",null,"inngaaendeVerdi",null,null,null,null,null,0,0,102,"k",60,null,null,"BeloepMedSkattemessigeEgenskaper"]
[null,"Avskriving i året","næringsspesifikasjon","spesifikasjonAvAnleggsmiddel","lineaertavskrevetAnleggsmiddel",null,"aaretsAvskrivning",null,null,null,null,null,0,0,102,"k",260,null,null,"BeloepMedSkattemessigeEgenskaper"]
[null,"verdiOverførtFraPåkostningVedRealisasjon","næringsspesifikasjon","spesifikasjonAvAnleggsmiddel","lineaertavskrevetAnleggsmiddel",null,"verdiOverfoertFraPaakostningVedRealisasjon",null,null,null,null,null,0,0,102,"k",270,null,null,"BeloepMedSkattemessigeEgenskaper"]
[null,"verdiOverførtTilDriftsmiddelVedRealisasjon","næringsspesifikasjon","spesifikasjonAvAnleggsmiddel","lineaertavskrevetAnleggsmiddel",null,"verdiOverfoertTilDriftsmiddelVedRealisasjon",null,null,null,null,null,0,0,102,"k",280,null,null,"BeloepMedSkattemessigeEgenskaper"]
[null,"Utgåande verdi","næringsspesifikasjon","spesifikasjonAvAnleggsmiddel","lineaertavskrevetAnleggsmiddel",null,"utgaaendeVerdi",null,null,null,null,null,0,0,102,"k",200,null,null,"BeloepMedSkattemessigeEgenskaper"]
[null,"Vinst overført til vinst- og tapskonto","næringsspesifikasjon","spesifikasjonAvAnleggsmiddel","lineaertavskrevetAnleggsmiddel",null,"gevinstOverfoertTilGevinstOgTapskonto",null,null,null,null,null,0,0,102,"k",210,null,null,"BeloepMedSkattemessigeEgenskaper"]
[null,"Tap overført til vinst- og tapskonto","næringsspesifikasjon","spesifikasjonAvAnleggsmiddel","lineaertavskrevetAnleggsmiddel",null,"tapOverfoertTilGevinstOgTapskonto",null,null,null,null,null,0,0,102,"k",220,null,null,"BeloepMedSkattemessigeEgenskaper"]
[null,"erstatningsbeløpVedUfrivilligRealisasjon","næringsspesifikasjon","spesifikasjonAvAnleggsmiddel","lineaertavskrevetAnleggsmiddel",null,"erstatningsbeloepVedUfrivilligRealisasjon",null,null,null,null,null,0,0,102,"k",130,null,null,"BeloepMedSkattemessigeEgenskaper"]
[null,"reinvestertBetingetSkattefriSalgsgevinst","næringsspesifikasjon","spesifikasjonAvAnleggsmiddel","lineaertavskrevetAnleggsmiddel",null,"reinvestertBetingetSkattefriSalgsgevinst",null,null,null,null,null,0,0,102,"k",140,null,null,"BeloepMedSkattemessigeEgenskaper"]
[null,"objektidentifikatorNedskrivningenMedBetingetSkattefriSalgsgevinstGjelder","næringsspesifikasjon","spesifikasjonAvAnleggsmiddel","lineaertavskrevetAnleggsmiddel",null,"objektidentifikatorNedskrivningenMedBetingetSkattefriSalgsgevinstGjelder",null,null,null,null,null,0,0,102,"k",160,null,null,"TekstMedInnkapsling"]
[null,"tilskuddTilInvesteringIDistriktene","næringsspesifikasjon","spesifikasjonAvAnleggsmiddel","lineaertavskrevetAnleggsmiddel",null,"tilskuddTilInvesteringIDistriktene",null,null,null,null,null,0,0,102,"k",170,null,null,"BeloepMedSkattemessigeEgenskaper"]
[null,"tilbakeføringAvTilskuddTilInvesteringIDistriktene","næringsspesifikasjon","spesifikasjonAvAnleggsmiddel","lineaertavskrevetAnleggsmiddel",null,"tilbakefoeringAvTilskuddTilInvesteringIDistriktene",null,null,null,null,null,0,0,102,"k",180,null,null,"BeloepMedSkattemessigeEgenskaper"]
[null,null,null,null,null,null,null,null,null,null,null,null,{"$f":"M206","v":0},0]
[null,"id","næringsspesifikasjon","spesifikasjonAvAnleggsmiddel","lineaertavskrevetAnleggsmiddel",null,"id",null,null,null,null,null,0,0,103,"k",10,null,null,"Tekst"]
[null,"Objekt-id","næringsspesifikasjon","spesifikasjonAvAnleggsmiddel","lineaertavskrevetAnleggsmiddel",null,"objektidentifikator ",null,null,null,null,null,{"$f":"IF(OR(M211=1,M214=1,M218=1),1,)","v":0},0,103,"k",20,null,null,"TekstMedInnkapsling"]
[null,"Objektbeskrivelse","næringsspesifikasjon","spesifikasjonAvAnleggsmiddel","lineaertavskrevetAnleggsmiddel",null,"objektbeskrivelse",null,null,null,null,null,{"$f":"M206","v":0},{"$f":"M207","v":0},103,"k",30,null,null,"TekstMedInnkapsling"]
[null,"Kjøpsår","næringsspesifikasjon","spesifikasjonAvAnleggsmiddel","lineaertavskrevetAnleggsmiddel",null,"ervervsdato",null,null,null,null,null,{"$f":"M206","v":0},0,103,"k",40,null,null,"XDatoMedInnkapslingÅr"]
[null,"Realisasjonsdato","næringsspesifikasjon","spesifikasjonAvAnleggsmiddel","lineaertavskrevetAnleggsmiddel",null,"realisasjonsdato",null,null,null,null,null,{"$f":"M206","v":0},0,103,"k",50,null,null,"DatoMedInnkapsling"]
[null,"Levetid","næringsspesifikasjon","spesifikasjonAvAnleggsmiddel","lineaertavskrevetAnleggsmiddel",null,"levetid",null,null,null,null,null,{"$f":"IF(K210=0,,1)","v":0},0,103,"k",250,null,null,"HeltallMedInnkapsling"]
[null,"Anskaffelseskost","næringsspesifikasjon","spesifikasjonAvAnleggsmiddel","lineaertavskrevetAnleggsmiddel",null,"anskaffelseskost",null,null,null,null,null,0,0,103,"k",230,null,null,"BeloepMedSkattemessigeEgenskaper"]
[null,"Påkosting","næringsspesifikasjon","spesifikasjonAvAnleggsmiddel","lineaertavskrevetAnleggsmiddel",null,"paakostning",null,null,null,null,null,0,0,103,"k",70,null,null,"BeloepMedSkattemessigeEgenskaper"]
[null,"justeringForÅpenbarVerdiendring","næringsspesifikasjon","spesifikasjonAvAnleggsmiddel","lineaertavskrevetAnleggsmiddel",null,"justeringForaapenbarVerdiendring",null,null,null,null,null,0,0,103,"k",240,null,null,"BeloepMedSkattemessigeEgenskaper"]
[null,"Inngåande verdi","næringsspesifikasjon","spesifikasjonAvAnleggsmiddel","lineaertavskrevetAnleggsmiddel",null,"inngaaendeVerdi",null,null,null,null,null,0,0,103,"k",60,null,null,"BeloepMedSkattemessigeEgenskaper"]
[null,"Avskriving i året","næringsspesifikasjon","spesifikasjonAvAnleggsmiddel","lineaertavskrevetAnleggsmiddel",null,"aaretsAvskrivning",null,null,null,null,null,0,0,103,"k",260,null,null,"BeloepMedSkattemessigeEgenskaper"]
[null,"verdiOverførtFraPåkostningVedRealisasjon","næringsspesifikasjon","spesifikasjonAvAnleggsmiddel","lineaertavskrevetAnleggsmiddel",null,"verdiOverfoertFraPaakostningVedRealisasjon",null,null,null,null,null,0,0,103,"k",270,null,null,"BeloepMedSkattemessigeEgenskaper"]
[null,"verdiOverførtTilDriftsmiddelVedRealisasjon","næringsspesifikasjon","spesifikasjonAvAnleggsmiddel","lineaertavskrevetAnleggsmiddel",null,"verdiOverfoertTilDriftsmiddelVedRealisasjon",null,null,null,null,null,0,0,103,"k",280,null,null,"BeloepMedSkattemessigeEgenskaper"]
[null,"Utgåande verdi","næringsspesifikasjon","spesifikasjonAvAnleggsmiddel","lineaertavskrevetAnleggsmiddel",null,"utgaaendeVerdi",null,null,null,null,null,0,0,103,"k",200,null,null,"BeloepMedSkattemessigeEgenskaper"]
[null,"Vinst overført til vinst- og tapskonto","næringsspesifikasjon","spesifikasjonAvAnleggsmiddel","lineaertavskrevetAnleggsmiddel",null,"gevinstOverfoertTilGevinstOgTapskonto",null,null,null,null,null,0,0,103,"k",210,null,null,"BeloepMedSkattemessigeEgenskaper"]
[null,"Tap overført til vinst- og tapskonto","næringsspesifikasjon","spesifikasjonAvAnleggsmiddel","lineaertavskrevetAnleggsmiddel",null,"tapOverfoertTilGevinstOgTapskonto",null,null,null,null,null,0,0,103,"k",220,null,null,"BeloepMedSkattemessigeEgenskaper"]
[null,"erstatningsbeløpVedUfrivilligRealisasjon","næringsspesifikasjon","spesifikasjonAvAnleggsmiddel","lineaertavskrevetAnleggsmiddel",null,"erstatningsbeloepVedUfrivilligRealisasjon",null,null,null,null,null,0,0,103,"k",130,null,null,"BeloepMedSkattemessigeEgenskaper"]
[null,"reinvestertBetingetSkattefriSalgsgevinst","næringsspesifikasjon","spesifikasjonAvAnleggsmiddel","lineaertavskrevetAnleggsmiddel",null,"reinvestertBetingetSkattefriSalgsgevinst",null,null,null,null,null,0,0,103,"k",140,null,null,"BeloepMedSkattemessigeEgenskaper"]
[null,"objektidentifikatorNedskrivningenMedBetingetSkattefriSalgsgevinstGjelder","næringsspesifikasjon","spesifikasjonAvAnleggsmiddel","lineaertavskrevetAnleggsmiddel",null,"objektidentifikatorNedskrivningenMedBetingetSkattefriSalgsgevinstGjelder",null,null,null,null,null,0,0,103,"k",160,null,null,"TekstMedInnkapsling"]
[null,"tilskuddTilInvesteringIDistriktene","næringsspesifikasjon","spesifikasjonAvAnleggsmiddel","lineaertavskrevetAnleggsmiddel",null,"tilskuddTilInvesteringIDistriktene",null,null,null,null,null,0,0,103,"k",170,null,null,"BeloepMedSkattemessigeEgenskaper"]
[null,"tilbakeføringAvTilskuddTilInvesteringIDistriktene","næringsspesifikasjon","spesifikasjonAvAnleggsmiddel","lineaertavskrevetAnleggsmiddel",null,"tilbakefoeringAvTilskuddTilInvesteringIDistriktene",null,null,null,null,null,0,0,103,"k",180,null,null,"BeloepMedSkattemessigeEgenskaper"]
[null,null,null,null,null,null,null,null,null,null,null,null,{"$f":"M228","v":0},0]
[null,"id","næringsspesifikasjon","spesifikasjonAvAnleggsmiddel","lineaertavskrevetAnleggsmiddel",null,"id",null,null,null,null,null,0,0,104,"k",10,null,null,"Tekst"]
[null,"Objekt-id","næringsspesifikasjon","spesifikasjonAvAnleggsmiddel","lineaertavskrevetAnleggsmiddel",null,"objektidentifikator ",null,null,null,null,null,{"$f":"IF(OR(M233=1,M236=1,M240=1),1,)","v":0},0,104,"k",20,null,null,"TekstMedInnkapsling"]
[null,"Objektbeskrivelse","næringsspesifikasjon","spesifikasjonAvAnleggsmiddel","lineaertavskrevetAnleggsmiddel",null,"objektbeskrivelse",null,null,null,null,null,{"$f":"M228","v":0},0,104,"k",30,null,null,"TekstMedInnkapsling"]
[null,"Kjøpsår","næringsspesifikasjon","spesifikasjonAvAnleggsmiddel","lineaertavskrevetAnleggsmiddel",null,"ervervsdato",null,null,null,null,null,{"$f":"M228","v":0},0,104,"k",40,null,null,"XDatoMedInnkapslingÅr"]
[null,"Realisasjonsdato","næringsspesifikasjon","spesifikasjonAvAnleggsmiddel","lineaertavskrevetAnleggsmiddel",null,"realisasjonsdato",null,null,null,null,null,{"$f":"M228","v":0},0,104,"k",50,null,null,"DatoMedInnkapsling"]
[null,"Levetid","næringsspesifikasjon","spesifikasjonAvAnleggsmiddel","lineaertavskrevetAnleggsmiddel",null,"levetid",null,null,null,null,null,{"$f":"IF(K232=0,,1)","v":0},0,104,"k",250,null,null,"HeltallMedInnkapsling"]
[null,"Anskaffelseskost","næringsspesifikasjon","spesifikasjonAvAnleggsmiddel","lineaertavskrevetAnleggsmiddel",null,"anskaffelseskost",null,null,null,null,null,0,0,104,"k",230,null,null,"BeloepMedSkattemessigeEgenskaper"]
[null,"Påkosting","næringsspesifikasjon","spesifikasjonAvAnleggsmiddel","lineaertavskrevetAnleggsmiddel",null,"paakostning",null,null,null,null,null,0,0,104,"k",70,null,null,"BeloepMedSkattemessigeEgenskaper"]
[null,"justeringForÅpenbarVerdiendring","næringsspesifikasjon","spesifikasjonAvAnleggsmiddel","lineaertavskrevetAnleggsmiddel",null,"justeringForaapenbarVerdiendring",null,null,null,null,null,0,0,104,"k",240,null,null,"BeloepMedSkattemessigeEgenskaper"]
[null,"Inngåande verdi","næringsspesifikasjon","spesifikasjonAvAnleggsmiddel","lineaertavskrevetAnleggsmiddel",null,"inngaaendeVerdi",null,null,null,null,null,0,0,104,"k",60,null,null,"BeloepMedSkattemessigeEgenskaper"]
[null,"Avskriving i året","næringsspesifikasjon","spesifikasjonAvAnleggsmiddel","lineaertavskrevetAnleggsmiddel",null,"aaretsAvskrivning",null,null,null,null,null,0,0,104,"k",260,null,null,"BeloepMedSkattemessigeEgenskaper"]
[null,"verdiOverførtFraPåkostningVedRealisasjon","næringsspesifikasjon","spesifikasjonAvAnleggsmiddel","lineaertavskrevetAnleggsmiddel",null,"verdiOverfoertFraPaakostningVedRealisasjon",null,null,null,null,null,0,0,104,"k",270,null,null,"BeloepMedSkattemessigeEgenskaper"]
[null,"verdiOverførtTilDriftsmiddelVedRealisasjon","næringsspesifikasjon","spesifikasjonAvAnleggsmiddel","lineaertavskrevetAnleggsmiddel",null,"verdiOverfoertTilDriftsmiddelVedRealisasjon",null,null,null,null,null,0,0,104,"k",280,null,null,"BeloepMedSkattemessigeEgenskaper"]
[null,"Utgåande verdi","næringsspesifikasjon","spesifikasjonAvAnleggsmiddel","lineaertavskrevetAnleggsmiddel",null,"utgaaendeVerdi",null,null,null,null,null,0,0,104,"k",200,null,null,"BeloepMedSkattemessigeEgenskaper"]
[null,"Vinst overført til vinst- og tapskonto","næringsspesifikasjon","spesifikasjonAvAnleggsmiddel","lineaertavskrevetAnleggsmiddel",null,"gevinstOverfoertTilGevinstOgTapskonto",null,null,null,null,null,0,0,104,"k",210,null,null,"BeloepMedSkattemessigeEgenskaper"]
[null,"Tap overført til vinst- og tapskonto","næringsspesifikasjon","spesifikasjonAvAnleggsmiddel","lineaertavskrevetAnleggsmiddel",null,"tapOverfoertTilGevinstOgTapskonto",null,null,null,null,null,0,0,104,"k",220,null,null,"BeloepMedSkattemessigeEgenskaper"]
[null,"erstatningsbeløpVedUfrivilligRealisasjon","næringsspesifikasjon","spesifikasjonAvAnleggsmiddel","lineaertavskrevetAnleggsmiddel",null,"erstatningsbeloepVedUfrivilligRealisasjon",null,null,null,null,null,0,0,104,"k",130,null,null,"BeloepMedSkattemessigeEgenskaper"]
[null,"reinvestertBetingetSkattefriSalgsgevinst","næringsspesifikasjon","spesifikasjonAvAnleggsmiddel","lineaertavskrevetAnleggsmiddel",null,"reinvestertBetingetSkattefriSalgsgevinst",null,null,null,null,null,0,0,104,"k",140,null,null,"BeloepMedSkattemessigeEgenskaper"]
[null,"objektidentifikatorNedskrivningenMedBetingetSkattefriSalgsgevinstGjelder","næringsspesifikasjon","spesifikasjonAvAnleggsmiddel","lineaertavskrevetAnleggsmiddel",null,"objektidentifikatorNedskrivningenMedBetingetSkattefriSalgsgevinstGjelder",null,null,null,null,null,0,0,104,"k",160,null,null,"TekstMedInnkapsling"]
[null,"tilskuddTilInvesteringIDistriktene","næringsspesifikasjon","spesifikasjonAvAnleggsmiddel","lineaertavskrevetAnleggsmiddel",null,"tilskuddTilInvesteringIDistriktene",null,null,null,null,null,0,0,104,"k",170,null,null,"BeloepMedSkattemessigeEgenskaper"]
[null,"tilbakeføringAvTilskuddTilInvesteringIDistriktene","næringsspesifikasjon","spesifikasjonAvAnleggsmiddel","lineaertavskrevetAnleggsmiddel",null,"tilbakefoeringAvTilskuddTilInvesteringIDistriktene",null,null,null,null,null,0,0,104,"k",180,null,null,"BeloepMedSkattemessigeEgenskaper"]
[null,null,null,null,null,null,null,null,null,null,null,null,1,0]
["Saldoavskrivingar",null,null,null,null,null,null,null,null,null,null,null,1,0]
[null,"id","næringsspesifikasjon","spesifikasjonAvAnleggsmiddel","saldoavskrevetAnleggsmiddel",null,"id",null,null,null,{"$f":"K252","v":0},null,0,{"$f":"N251","v":0},1,"k",10,null,null,"Tekst"]
[null,"Saldogruppe D, personbilar, traktorar, maskiner o.l","næringsspesifikasjon","spesifikasjonAvAnleggsmiddel","saldoavskrevetAnleggsmiddel",null,"saldogruppe",null,null,null,null,null,{"$f":"IF(K267=\"Ja\",1,0)","v":0},0,1,"k",250,null,null,"SaldogruppeMedInnkapsling"]
[null,"Objekt-id","næringsspesifikasjon","spesifikasjonAvAnleggsmiddel","saldoavskrevetAnleggsmiddel",null,"objektidentifikator ",null,null,null,null,null,{"$f":"M251","v":0},0,1,"k",20,null,null,"TekstMedInnkapsling"]
[null,"Avskrivingssats  ","næringsspesifikasjon","spesifikasjonAvAnleggsmiddel","saldoavskrevetAnleggsmiddel",null,"avskrivningssats  ",null,null,null,null,null,{"$f":"M251","v":0},0,1,"k",260,null,null,"ProsentMedInnkapsling"]
[null,"InngåandeVerdi","næringsspesifikasjon","spesifikasjonAvAnleggsmiddel","saldoavskrevetAnleggsmiddel",null,"inngaaendeVerdi",null,null,null,null,null,{"$f":"M251","v":0},0,1,"k",60,null,null,"BeloepMedSkattemessigeEgenskaper"]
[null,"Nyanskaffing","næringsspesifikasjon","spesifikasjonAvAnleggsmiddel","saldoavskrevetAnleggsmiddel",null,"nyanskaffelse",null,null,null,null,null,{"$f":"IF(K255=0,,1)","v":0},0,1,"k",270,null,null,"BeloepMedSkattemessigeEgenskaper"]
[null,"Påkosting","næringsspesifikasjon","spesifikasjonAvAnleggsmiddel","saldoavskrevetAnleggsmiddel",null,"paakostning",null,null,null,null,null,{"$f":"IF(K256=0,,1)","v":0},0,1,"k",70,null,null,"BeloepMedSkattemessigeEgenskaper"]
[null,"nedskrivningPåNyanskaffelserMedBetingetSkattefriSalgsgevinstGjelder","næringsspesifikasjon","spesifikasjonAvAnleggsmiddel","saldoavskrevetAnleggsmiddel",null,"nedskrivningPaaNyanskaffelserMedBetingetSkattefriSalgsgevinstGjelder",null,null,null,null,null,{"$f":"IF(K257=0,,1)","v":0},0,1,"k",150,null,null,"BeloepMedSkattemessigeEgenskaper"]
[null,"Offentleg tilskot","næringsspesifikasjon","spesifikasjonAvAnleggsmiddel","saldoavskrevetAnleggsmiddel",null,"offentligTilskudd",null,null,null,null,null,0,0,1,"k",80,null,null,"BeloepMedSkattemessigeEgenskaper"]
[null,"Vederlag ved realisasjon og uttak","næringsspesifikasjon","spesifikasjonAvAnleggsmiddel","saldoavskrevetAnleggsmiddel",null,"vederlagVedRealisasjonOgUttak",null,null,null,null,null,0,0,1,"k",100,null,null,"BeloepMedSkattemessigeEgenskaper"]
[null,"erRealisasjonenUfrivilligOgGevinstenBetingetSkattefri","næringsspesifikasjon","spesifikasjonAvAnleggsmiddel","saldoavskrevetAnleggsmiddel",null,"erRealisasjonenUfrivilligOgGevinstenBetingetSkattefri",null,null,null,null,null,0,0,1,"k",120,null,null,"BoolskMedInnkapsling"]
[null,"Grunnlag for avskriving og inntektsføring","næringsspesifikasjon","spesifikasjonAvAnleggsmiddel","saldoavskrevetAnleggsmiddel",null,"grunnlagForAvskrivningOgInntektsfoering",null,null,null,null,null,0,0,1,"k",190,null,null,"BeloepMedSkattemessigeEgenskaper"]
[null,"Vinst overført til vinst- og tapskonto","næringsspesifikasjon","spesifikasjonAvAnleggsmiddel","saldoavskrevetAnleggsmiddel",null,"gevinstOverfoertTilGevinstOgTapskonto",null,null,null,null,null,0,0,1,"k",210,null,null,"BeloepMedSkattemessigeEgenskaper"]
[null,"Tap overført til vinst- og tapskonto","næringsspesifikasjon","spesifikasjonAvAnleggsmiddel","saldoavskrevetAnleggsmiddel",null,"tapOverfoertTilGevinstOgTapskonto",null,null,null,null,null,0,0,1,"k",220,null,null,"BeloepMedSkattemessigeEgenskaper"]
[null,"Årets avskriving","næringsspesifikasjon","spesifikasjonAvAnleggsmiddel","saldoavskrevetAnleggsmiddel",null,"aaretsAvskrivning",null,null,null,null,null,0,0,1,"k",230,null,null,"BeloepMedSkattemessigeEgenskaper"]
[null,"åretsInntektsføringAvNegativSaldo","næringsspesifikasjon","spesifikasjonAvAnleggsmiddel","saldoavskrevetAnleggsmiddel",null,"aaretsInntektsfoeringAvNegativSaldo",null,null,null,null,null,0,0,1,"k",240,null,null,"BeloepMedSkattemessigeEgenskaper"]
[null,"Utgåande verdi","næringsspesifikasjon","spesifikasjonAvAnleggsmiddel","saldoavskrevetAnleggsmiddel",null,"utgaaendeVerdi",null,null,null,null,null,{"$f":"M251","v":0},0,1,"k",200,null,null,"BeloepMedSkattemessigeEgenskaper"]
[null,"Er det fysiske driftsmidlar i utgåande verdi?","næringsspesifikasjon","spesifikasjonAvAnleggsmiddel","saldoavskrevetAnleggsmiddel",null,"erDetFysiskAnleggsmiddelIUtgaaendeVerdi",null,null,null,null,null,{"$f":"M251","v":0},0,1,"k",290,null,null,"BoolskMedInnkapsling"]
[null,null,null,null,null,null,null,null,null,null,null,null,{"$f":"M270","v":0},0]
[null,"id","næringsspesifikasjon","spesifikasjonAvAnleggsmiddel","saldoavskrevetAnleggsmiddel",null,"id",null,null,null,{"$f":"K271","v":0},null,0,{"$f":"N270","v":0},2,"k",10,null,null,"Tekst"]
[null,"Saldogruppe C, Vogntog, lastebilar, varebilar o.l.","næringsspesifikasjon","spesifikasjonAvAnleggsmiddel","saldoavskrevetAnleggsmiddel",null,"saldogruppe",null,null,null,null,null,{"$f":"IF(K286=\"Ja\",1,0)","v":0},{"$f":"M270","v":0},2,"k",250,null,null,"SaldogruppeMedInnkapsling"]
[null,"Objekt-id","næringsspesifikasjon","spesifikasjonAvAnleggsmiddel","saldoavskrevetAnleggsmiddel",null,"objektidentifikator ",null,null,null,null,null,{"$f":"M270","v":0},0,2,"k",20,null,null,"TekstMedInnkapsling"]
[null,"Avskrivingssats  ","næringsspesifikasjon","spesifikasjonAvAnleggsmiddel","saldoavskrevetAnleggsmiddel",null,"avskrivningssats  ",null,null,null,null,null,{"$f":"M270","v":0},0,2,"k",260,null,null,"ProsentMedInnkapsling"]
[null,"InngåandeVerdi","næringsspesifikasjon","spesifikasjonAvAnleggsmiddel","saldoavskrevetAnleggsmiddel",null,"inngaaendeVerdi",null,null,null,null,null,{"$f":"M270","v":0},0,2,"k",60,null,null,"BeloepMedSkattemessigeEgenskaper"]
[null,"Nyanskaffing","næringsspesifikasjon","spesifikasjonAvAnleggsmiddel","saldoavskrevetAnleggsmiddel",null,"nyanskaffelse",null,null,null,null,null,{"$f":"IF(K274=0,,1)","v":0},0,2,"k",270,null,null,"BeloepMedSkattemessigeEgenskaper"]
[null,"Påkosting","næringsspesifikasjon","spesifikasjonAvAnleggsmiddel","saldoavskrevetAnleggsmiddel",null,"paakostning",null,null,null,null,null,{"$f":"IF(K275=0,,1)","v":0},0,2,"k",70,null,null,"BeloepMedSkattemessigeEgenskaper"]
[null,"nedskrivningPåNyanskaffelserMedBetingetSkattefriSalgsgevinstGjelder","næringsspesifikasjon","spesifikasjonAvAnleggsmiddel","saldoavskrevetAnleggsmiddel",null,"nedskrivningPaaNyanskaffelserMedBetingetSkattefriSalgsgevinstGjelder",null,null,null,null,null,{"$f":"IF(K276=0,,1)","v":0},0,2,"k",150,null,null,"BeloepMedSkattemessigeEgenskaper"]
[null,"Offentleg tilskot","næringsspesifikasjon","spesifikasjonAvAnleggsmiddel","saldoavskrevetAnleggsmiddel",null,"offentligTilskudd",null,null,null,null,null,0,0,2,"k",80,null,null,"BeloepMedSkattemessigeEgenskaper"]
[null,"Vederlag ved realisasjon og uttak","næringsspesifikasjon","spesifikasjonAvAnleggsmiddel","saldoavskrevetAnleggsmiddel",null,"vederlagVedRealisasjonOgUttak",null,null,null,null,null,0,0,2,"k",100,null,null,"BeloepMedSkattemessigeEgenskaper"]
[null,"erRealisasjonenUfrivilligOgGevinstenBetingetSkattefri","næringsspesifikasjon","spesifikasjonAvAnleggsmiddel","saldoavskrevetAnleggsmiddel",null,"erRealisasjonenUfrivilligOgGevinstenBetingetSkattefri",null,null,null,null,null,0,0,2,"k",120,null,null,"BoolskMedInnkapsling"]
[null,"Grunnlag for avskriving og inntektsføring","næringsspesifikasjon","spesifikasjonAvAnleggsmiddel","saldoavskrevetAnleggsmiddel",null,"grunnlagForAvskrivningOgInntektsfoering",null,null,null,null,null,0,0,2,"k",190,null,null,"BeloepMedSkattemessigeEgenskaper"]
[null,"Vinst overført til vinst- og tapskonto","næringsspesifikasjon","spesifikasjonAvAnleggsmiddel","saldoavskrevetAnleggsmiddel",null,"gevinstOverfoertTilGevinstOgTapskonto",null,null,null,null,null,0,0,2,"k",210,null,null,"BeloepMedSkattemessigeEgenskaper"]
[null,"Tap overført til vinst- og tapskonto","næringsspesifikasjon","spesifikasjonAvAnleggsmiddel","saldoavskrevetAnleggsmiddel",null,"tapOverfoertTilGevinstOgTapskonto",null,null,null,null,null,0,0,2,"k",220,null,null,"BeloepMedSkattemessigeEgenskaper"]
[null,"Årets avskriving","næringsspesifikasjon","spesifikasjonAvAnleggsmiddel","saldoavskrevetAnleggsmiddel",null,"aaretsAvskrivning",null,null,null,null,null,0,0,2,"k",230,null,null,"BeloepMedSkattemessigeEgenskaper"]
[null,"åretsInntektsføringAvNegativSaldo","næringsspesifikasjon","spesifikasjonAvAnleggsmiddel","saldoavskrevetAnleggsmiddel",null,"aaretsInntektsfoeringAvNegativSaldo",null,null,null,null,null,0,0,2,"k",240,null,null,"BeloepMedSkattemessigeEgenskaper"]
[null,"Utgåande verdi","næringsspesifikasjon","spesifikasjonAvAnleggsmiddel","saldoavskrevetAnleggsmiddel",null,"utgaaendeVerdi",null,null,null,null,null,{"$f":"M270","v":0},0,2,"k",200,null,null,"BeloepMedSkattemessigeEgenskaper"]
[null,"Er det fysiske driftsmidlar i utgåande verdi?","næringsspesifikasjon","spesifikasjonAvAnleggsmiddel","saldoavskrevetAnleggsmiddel",null,"erDetFysiskAnleggsmiddelIUtgaaendeVerdi",null,null,null,null,null,{"$f":"M270","v":0},0,2,"k",290,null,null,"BoolskMedInnkapsling"]
[null,null,null,null,null,null,null,null,null,null,null,null,{"$f":"M289","v":0},0]
[null,"id","næringsspesifikasjon","spesifikasjonAvAnleggsmiddel","saldoavskrevetAnleggsmiddel",null,"id",null,null,null,{"$f":"K290","v":0},null,0,{"$f":"N289","v":0},3,"k",10,null,null,"Tekst"]
[null,"Saldogruppe C2, Vogntog, lastebilar, varebilar o.l. nullutslepp","næringsspesifikasjon","spesifikasjonAvAnleggsmiddel","saldoavskrevetAnleggsmiddel",null,"saldogruppe",null,null,null,null,null,{"$f":"IF(K305=\"Ja\",1,0)","v":0},0,3,"k",250,null,null,"SaldogruppeMedInnkapsling"]
[null,"Objekt-id","næringsspesifikasjon","spesifikasjonAvAnleggsmiddel","saldoavskrevetAnleggsmiddel",null,"objektidentifikator ",null,null,null,null,null,{"$f":"M289","v":0},0,3,"k",20,null,null,"TekstMedInnkapsling"]
[null,"Avskrivingssats  ","næringsspesifikasjon","spesifikasjonAvAnleggsmiddel","saldoavskrevetAnleggsmiddel",null,"avskrivningssats  ",null,null,null,null,null,{"$f":"M289","v":0},0,3,"k",260,null,null,"ProsentMedInnkapsling"]
[null,"InngåandeVerdi","næringsspesifikasjon","spesifikasjonAvAnleggsmiddel","saldoavskrevetAnleggsmiddel",null,"inngaaendeVerdi",null,null,null,null,null,{"$f":"M289","v":0},0,3,"k",60,null,null,"BeloepMedSkattemessigeEgenskaper"]
[null,"Nyanskaffing","næringsspesifikasjon","spesifikasjonAvAnleggsmiddel","saldoavskrevetAnleggsmiddel",null,"nyanskaffelse",null,null,null,null,null,{"$f":"IF(K293=0,,1)","v":0},0,3,"k",270,null,null,"BeloepMedSkattemessigeEgenskaper"]
[null,"Påkosting","næringsspesifikasjon","spesifikasjonAvAnleggsmiddel","saldoavskrevetAnleggsmiddel",null,"paakostning",null,null,null,null,null,{"$f":"IF(K294=0,,1)","v":0},0,3,"k",70,null,null,"BeloepMedSkattemessigeEgenskaper"]
[null,"nedskrivningPåNyanskaffelserMedBetingetSkattefriSalgsgevinstGjelder","næringsspesifikasjon","spesifikasjonAvAnleggsmiddel","saldoavskrevetAnleggsmiddel",null,"nedskrivningPaaNyanskaffelserMedBetingetSkattefriSalgsgevinstGjelder",null,null,null,null,null,{"$f":"IF(K295=0,,1)","v":0},0,3,"k",150,null,null,"BeloepMedSkattemessigeEgenskaper"]
[null,"Offentleg tilskot","næringsspesifikasjon","spesifikasjonAvAnleggsmiddel","saldoavskrevetAnleggsmiddel",null,"offentligTilskudd",null,null,null,null,null,0,0,3,"k",80,null,null,"BeloepMedSkattemessigeEgenskaper"]
[null,"Vederlag ved realisasjon og uttak","næringsspesifikasjon","spesifikasjonAvAnleggsmiddel","saldoavskrevetAnleggsmiddel",null,"vederlagVedRealisasjonOgUttak",null,null,null,null,null,0,0,3,"k",100,null,null,"BeloepMedSkattemessigeEgenskaper"]
[null,"erRealisasjonenUfrivilligOgGevinstenBetingetSkattefri","næringsspesifikasjon","spesifikasjonAvAnleggsmiddel","saldoavskrevetAnleggsmiddel",null,"erRealisasjonenUfrivilligOgGevinstenBetingetSkattefri",null,null,null,null,null,0,0,3,"k",120,null,null,"BoolskMedInnkapsling"]
[null,"Grunnlag for avskriving og inntektsføring","næringsspesifikasjon","spesifikasjonAvAnleggsmiddel","saldoavskrevetAnleggsmiddel",null,"grunnlagForAvskrivningOgInntektsfoering",null,null,null,null,null,0,0,3,"k",190,null,null,"BeloepMedSkattemessigeEgenskaper"]
[null,"Vinst overført til vinst- og tapskonto","næringsspesifikasjon","spesifikasjonAvAnleggsmiddel","saldoavskrevetAnleggsmiddel",null,"gevinstOverfoertTilGevinstOgTapskonto",null,null,null,null,null,0,0,3,"k",210,null,null,"BeloepMedSkattemessigeEgenskaper"]
[null,"Tap overført til vinst- og tapskonto","næringsspesifikasjon","spesifikasjonAvAnleggsmiddel","saldoavskrevetAnleggsmiddel",null,"tapOverfoertTilGevinstOgTapskonto",null,null,null,null,null,0,0,3,"k",220,null,null,"BeloepMedSkattemessigeEgenskaper"]
[null,"Årets avskriving","næringsspesifikasjon","spesifikasjonAvAnleggsmiddel","saldoavskrevetAnleggsmiddel",null,"aaretsAvskrivning",null,null,null,null,null,0,0,3,"k",230,null,null,"BeloepMedSkattemessigeEgenskaper"]
[null,"åretsInntektsføringAvNegativSaldo","næringsspesifikasjon","spesifikasjonAvAnleggsmiddel","saldoavskrevetAnleggsmiddel",null,"aaretsInntektsfoeringAvNegativSaldo",null,null,null,null,null,0,0,3,"k",240,null,null,"BeloepMedSkattemessigeEgenskaper"]
[null,"Utgåande verdi","næringsspesifikasjon","spesifikasjonAvAnleggsmiddel","saldoavskrevetAnleggsmiddel",null,"utgaaendeVerdi",null,null,null,null,null,{"$f":"M289","v":0},0,3,"k",200,null,null,"BeloepMedSkattemessigeEgenskaper"]
[null,"Er det fysiske driftsmidlar i utgåande verdi?","næringsspesifikasjon","spesifikasjonAvAnleggsmiddel","saldoavskrevetAnleggsmiddel",null,"erDetFysiskAnleggsmiddelIUtgaaendeVerdi",null,null,null,null,null,{"$f":"M289","v":0},0,3,"k",290,null,null,"BoolskMedInnkapsling"]
[null,null,null,null,null,null,null,null,null,null,null,null,{"$f":"M308","v":0},0]
[null,"id","næringsspesifikasjon","spesifikasjonAvAnleggsmiddel","saldoavskrevetAnleggsmiddel",null,"id",null,null,null,{"$f":"K309","v":0},null,0,{"$f":"N308","v":0},4,"k",10,null,null,"Tekst"]
[null,"Saldogruppe A, Kontormaskiner o.l.","næringsspesifikasjon","spesifikasjonAvAnleggsmiddel","saldoavskrevetAnleggsmiddel",null,"saldogruppe",null,null,null,null,null,{"$f":"IF(K324=\"Ja\",1,0)","v":0},0,4,"k",250,null,null,"SaldogruppeMedInnkapsling"]
[null,"Objekt-id","næringsspesifikasjon","spesifikasjonAvAnleggsmiddel","saldoavskrevetAnleggsmiddel",null,"objektidentifikator ",null,null,null,null,null,{"$f":"M308","v":0},0,4,"k",20,null,null,"TekstMedInnkapsling"]
[null,"Avskrivingssats  ","næringsspesifikasjon","spesifikasjonAvAnleggsmiddel","saldoavskrevetAnleggsmiddel",null,"avskrivningssats  ",null,null,null,null,null,{"$f":"M308","v":0},0,4,"k",260,null,null,"ProsentMedInnkapsling"]
[null,"InngåandeVerdi","næringsspesifikasjon","spesifikasjonAvAnleggsmiddel","saldoavskrevetAnleggsmiddel",null,"inngaaendeVerdi",null,null,null,null,null,{"$f":"M308","v":0},0,4,"k",60,null,null,"BeloepMedSkattemessigeEgenskaper"]
[null,"Nyanskaffing","næringsspesifikasjon","spesifikasjonAvAnleggsmiddel","saldoavskrevetAnleggsmiddel",null,"nyanskaffelse",null,null,null,null,null,{"$f":"IF(K312=0,,1)","v":0},0,4,"k",270,null,null,"BeloepMedSkattemessigeEgenskaper"]
[null,"Påkosting","næringsspesifikasjon","spesifikasjonAvAnleggsmiddel","saldoavskrevetAnleggsmiddel",null,"paakostning",null,null,null,null,null,{"$f":"IF(K313=0,,1)","v":0},0,4,"k",70,null,null,"BeloepMedSkattemessigeEgenskaper"]
[null,"nedskrivningPåNyanskaffelserMedBetingetSkattefriSalgsgevinstGjelder","næringsspesifikasjon","spesifikasjonAvAnleggsmiddel","saldoavskrevetAnleggsmiddel",null,"nedskrivningPaaNyanskaffelserMedBetingetSkattefriSalgsgevinstGjelder",null,null,null,null,null,{"$f":"IF(K314=0,,1)","v":0},0,4,"k",150,null,null,"BeloepMedSkattemessigeEgenskaper"]
[null,"Offentleg tilskot","næringsspesifikasjon","spesifikasjonAvAnleggsmiddel","saldoavskrevetAnleggsmiddel",null,"offentligTilskudd",null,null,null,null,null,0,0,4,"k",80,null,null,"BeloepMedSkattemessigeEgenskaper"]
[null,"Vederlag ved realisasjon og uttak","næringsspesifikasjon","spesifikasjonAvAnleggsmiddel","saldoavskrevetAnleggsmiddel",null,"vederlagVedRealisasjonOgUttak",null,null,null,null,null,0,0,4,"k",100,null,null,"BeloepMedSkattemessigeEgenskaper"]
[null,"erRealisasjonenUfrivilligOgGevinstenBetingetSkattefri","næringsspesifikasjon","spesifikasjonAvAnleggsmiddel","saldoavskrevetAnleggsmiddel",null,"erRealisasjonenUfrivilligOgGevinstenBetingetSkattefri",null,null,null,null,null,0,0,4,"k",120,null,null,"BoolskMedInnkapsling"]
[null,"Grunnlag for avskriving og inntektsføring","næringsspesifikasjon","spesifikasjonAvAnleggsmiddel","saldoavskrevetAnleggsmiddel",null,"grunnlagForAvskrivningOgInntektsfoering",null,null,null,null,null,0,0,4,"k",190,null,null,"BeloepMedSkattemessigeEgenskaper"]
[null,"Vinst overført til vinst- og tapskonto","næringsspesifikasjon","spesifikasjonAvAnleggsmiddel","saldoavskrevetAnleggsmiddel",null,"gevinstOverfoertTilGevinstOgTapskonto",null,null,null,null,null,0,0,4,"k",210,null,null,"BeloepMedSkattemessigeEgenskaper"]
[null,"Tap overført til vinst- og tapskonto","næringsspesifikasjon","spesifikasjonAvAnleggsmiddel","saldoavskrevetAnleggsmiddel",null,"tapOverfoertTilGevinstOgTapskonto",null,null,null,null,null,0,0,4,"k",220,null,null,"BeloepMedSkattemessigeEgenskaper"]
[null,"Årets avskriving","næringsspesifikasjon","spesifikasjonAvAnleggsmiddel","saldoavskrevetAnleggsmiddel",null,"aaretsAvskrivning",null,null,null,null,null,0,0,4,"k",230,null,null,"BeloepMedSkattemessigeEgenskaper"]
[null,"åretsInntektsføringAvNegativSaldo","næringsspesifikasjon","spesifikasjonAvAnleggsmiddel","saldoavskrevetAnleggsmiddel",null,"aaretsInntektsfoeringAvNegativSaldo",null,null,null,null,null,0,0,4,"k",240,null,null,"BeloepMedSkattemessigeEgenskaper"]
[null,"Utgåande verdi","næringsspesifikasjon","spesifikasjonAvAnleggsmiddel","saldoavskrevetAnleggsmiddel",null,"utgaaendeVerdi",null,null,null,null,null,{"$f":"M308","v":0},0,4,"k",200,null,null,"BeloepMedSkattemessigeEgenskaper"]
[null,"Er det fysiske driftsmidlar i utgåande verdi?","næringsspesifikasjon","spesifikasjonAvAnleggsmiddel","saldoavskrevetAnleggsmiddel",null,"erDetFysiskAnleggsmiddelIUtgaaendeVerdi",null,null,null,null,null,{"$f":"M308","v":0},0,4,"k",290,null,null,"BoolskMedInnkapsling"]
[null,null,null,null,null,null,null,null,null,null,null,null,{"$f":"M327","v":0},0]
[null,"id","næringsspesifikasjon","spesifikasjonAvAnleggsmiddel","saldoavskrevetAnleggsmiddel",null,"id",null,null,null,{"$f":"K328","v":0},null,0,{"$f":"N327","v":0},5,"k",10,null,null,"Tekst"]
[null,"Saldogruppe H, Bygg og anlegg mv.","næringsspesifikasjon","spesifikasjonAvAnleggsmiddel","saldoavskrevetAnleggsmiddel",null,"saldogruppe",null,null,null,null,null,{"$f":"IF(K343=\"Ja\",1,0)","v":0},0,5,"k",250,null,null,"SaldogruppeMedInnkapsling"]
[null,"Objekt-id","næringsspesifikasjon","spesifikasjonAvAnleggsmiddel","saldoavskrevetAnleggsmiddel",null,"objektidentifikator ",null,null,null,null,null,{"$f":"M327","v":0},0,5,"k",20,null,null,"TekstMedInnkapsling"]
[null,"Avskrivingssats  ","næringsspesifikasjon","spesifikasjonAvAnleggsmiddel","saldoavskrevetAnleggsmiddel",null,"avskrivningssats  ",null,null,null,null,null,{"$f":"M327","v":0},0,5,"k",260,null,null,"ProsentMedInnkapsling"]
[null,"InngåandeVerdi","næringsspesifikasjon","spesifikasjonAvAnleggsmiddel","saldoavskrevetAnleggsmiddel",null,"inngaaendeVerdi",null,null,null,null,null,{"$f":"M327","v":0},0,5,"k",60,null,null,"BeloepMedSkattemessigeEgenskaper"]
[null,"Nyanskaffing","næringsspesifikasjon","spesifikasjonAvAnleggsmiddel","saldoavskrevetAnleggsmiddel",null,"nyanskaffelse",null,null,null,null,null,{"$f":"IF(K331=0,,1)","v":0},0,5,"k",270,null,null,"BeloepMedSkattemessigeEgenskaper"]
[null,"Påkosting","næringsspesifikasjon","spesifikasjonAvAnleggsmiddel","saldoavskrevetAnleggsmiddel",null,"paakostning",null,null,null,null,null,{"$f":"IF(K332=0,,1)","v":0},{"$f":"M332","v":0},5,"k",70,null,null,"BeloepMedSkattemessigeEgenskaper"]
[null,"nedskrivningPåNyanskaffelserMedBetingetSkattefriSalgsgevinstGjelder","næringsspesifikasjon","spesifikasjonAvAnleggsmiddel","saldoavskrevetAnleggsmiddel",null,"nedskrivningPaaNyanskaffelserMedBetingetSkattefriSalgsgevinstGjelder",null,null,null,null,null,{"$f":"IF(K333=0,,1)","v":0},0,5,"k",150,null,null,"BeloepMedSkattemessigeEgenskaper"]
[null,"Offentleg tilskot","næringsspesifikasjon","spesifikasjonAvAnleggsmiddel","saldoavskrevetAnleggsmiddel",null,"offentligTilskudd",null,null,null,null,null,0,0,5,"k",80,null,null,"BeloepMedSkattemessigeEgenskaper"]
[null,"Vederlag ved realisasjon og uttak","næringsspesifikasjon","spesifikasjonAvAnleggsmiddel","saldoavskrevetAnleggsmiddel",null,"vederlagVedRealisasjonOgUttak",null,null,null,null,null,0,0,5,"k",100,null,null,"BeloepMedSkattemessigeEgenskaper"]
[null,"erRealisasjonenUfrivilligOgGevinstenBetingetSkattefri","næringsspesifikasjon","spesifikasjonAvAnleggsmiddel","saldoavskrevetAnleggsmiddel",null,"erRealisasjonenUfrivilligOgGevinstenBetingetSkattefri",null,null,null,null,null,0,0,5,"k",120,null,null,"BoolskMedInnkapsling"]
[null,"Grunnlag for avskriving og inntektsføring","næringsspesifikasjon","spesifikasjonAvAnleggsmiddel","saldoavskrevetAnleggsmiddel",null,"grunnlagForAvskrivningOgInntektsfoering",null,null,null,null,null,0,0,5,"k",190,null,null,"BeloepMedSkattemessigeEgenskaper"]
[null,"Vinst overført til vinst- og tapskonto","næringsspesifikasjon","spesifikasjonAvAnleggsmiddel","saldoavskrevetAnleggsmiddel",null,"gevinstOverfoertTilGevinstOgTapskonto",null,null,null,null,null,0,0,5,"k",210,null,null,"BeloepMedSkattemessigeEgenskaper"]
[null,"Tap overført til vinst- og tapskonto","næringsspesifikasjon","spesifikasjonAvAnleggsmiddel","saldoavskrevetAnleggsmiddel",null,"tapOverfoertTilGevinstOgTapskonto",null,null,null,null,null,0,0,5,"k",220,null,null,"BeloepMedSkattemessigeEgenskaper"]
[null,"Årets avskriving","næringsspesifikasjon","spesifikasjonAvAnleggsmiddel","saldoavskrevetAnleggsmiddel",null,"aaretsAvskrivning",null,null,null,null,null,0,0,5,"k",230,null,null,"BeloepMedSkattemessigeEgenskaper"]
[null,"åretsInntektsføringAvNegativSaldo","næringsspesifikasjon","spesifikasjonAvAnleggsmiddel","saldoavskrevetAnleggsmiddel",null,"aaretsInntektsfoeringAvNegativSaldo",null,null,null,null,null,0,0,5,"k",240,null,null,"BeloepMedSkattemessigeEgenskaper"]
[null,"Utgåande verdi","næringsspesifikasjon","spesifikasjonAvAnleggsmiddel","saldoavskrevetAnleggsmiddel",null,"utgaaendeVerdi",null,null,null,null,null,{"$f":"M327","v":0},0,5,"k",200,null,null,"BeloepMedSkattemessigeEgenskaper"]
[null,"Er det fysiske driftsmidlar i utgåande verdi?","næringsspesifikasjon","spesifikasjonAvAnleggsmiddel","saldoavskrevetAnleggsmiddel",null,"erDetFysiskAnleggsmiddelIUtgaaendeVerdi",null,null,null,null,null,{"$f":"M327","v":0},0,5,"k",290,null,null,"BoolskMedInnkapsling"]
[null,null,null,null,null,null,null,null,null,null,null,null,{"$f":"M346","v":0},0]
[null,"id","næringsspesifikasjon","spesifikasjonAvAnleggsmiddel","saldoavskrevetAnleggsmiddel",null,"id",null,null,null,{"$f":"K347","v":0},null,0,{"$f":"N346","v":0},6,"k",10,null,null,"Tekst"]
[null,"Saldogruppe H, Bygg og anlegg mv.","næringsspesifikasjon","spesifikasjonAvAnleggsmiddel","saldoavskrevetAnleggsmiddel",null,"saldogruppe",null,null,null,null,null,{"$f":"IF(K362=\"Ja\",1,0)","v":0},0,6,"k",250,null,null,"SaldogruppeMedInnkapsling"]
[null,"Objekt-id","næringsspesifikasjon","spesifikasjonAvAnleggsmiddel","saldoavskrevetAnleggsmiddel",null,"objektidentifikator ",null,null,null,null,null,{"$f":"M346","v":0},0,6,"k",20,null,null,"TekstMedInnkapsling"]
[null,"Avskrivingssats  ","næringsspesifikasjon","spesifikasjonAvAnleggsmiddel","saldoavskrevetAnleggsmiddel",null,"avskrivningssats  ",null,null,null,null,null,{"$f":"M346","v":0},0,6,"k",260,null,null,"ProsentMedInnkapsling"]
[null,"InngåandeVerdi","næringsspesifikasjon","spesifikasjonAvAnleggsmiddel","saldoavskrevetAnleggsmiddel",null,"inngaaendeVerdi",null,null,null,null,null,{"$f":"M346","v":0},0,6,"k",60,null,null,"BeloepMedSkattemessigeEgenskaper"]
[null,"Nyanskaffing","næringsspesifikasjon","spesifikasjonAvAnleggsmiddel","saldoavskrevetAnleggsmiddel",null,"nyanskaffelse",null,null,null,null,null,{"$f":"IF(K350=0,,1)","v":0},0,6,"k",270,null,null,"BeloepMedSkattemessigeEgenskaper"]
[null,"Påkosting","næringsspesifikasjon","spesifikasjonAvAnleggsmiddel","saldoavskrevetAnleggsmiddel",null,"paakostning",null,null,null,null,null,{"$f":"IF(K351=0,,1)","v":0},0,6,"k",70,null,null,"BeloepMedSkattemessigeEgenskaper"]
[null,"nedskrivningPåNyanskaffelserMedBetingetSkattefriSalgsgevinstGjelder","næringsspesifikasjon","spesifikasjonAvAnleggsmiddel","saldoavskrevetAnleggsmiddel",null,"nedskrivningPaaNyanskaffelserMedBetingetSkattefriSalgsgevinstGjelder",null,null,null,null,null,{"$f":"IF(K352=0,,1)","v":0},0,6,"k",150,null,null,"BeloepMedSkattemessigeEgenskaper"]
[null,"Offentleg tilskot","næringsspesifikasjon","spesifikasjonAvAnleggsmiddel","saldoavskrevetAnleggsmiddel",null,"offentligTilskudd",null,null,null,null,null,0,0,6,"k",80,null,null,"BeloepMedSkattemessigeEgenskaper"]
[null,"Vederlag ved realisasjon og uttak","næringsspesifikasjon","spesifikasjonAvAnleggsmiddel","saldoavskrevetAnleggsmiddel",null,"vederlagVedRealisasjonOgUttak",null,null,null,null,null,0,0,6,"k",100,null,null,"BeloepMedSkattemessigeEgenskaper"]
[null,"erRealisasjonenUfrivilligOgGevinstenBetingetSkattefri","næringsspesifikasjon","spesifikasjonAvAnleggsmiddel","saldoavskrevetAnleggsmiddel",null,"erRealisasjonenUfrivilligOgGevinstenBetingetSkattefri",null,null,null,null,null,0,0,6,"k",120,null,null,"BoolskMedInnkapsling"]
[null,"Grunnlag for avskriving og inntektsføring","næringsspesifikasjon","spesifikasjonAvAnleggsmiddel","saldoavskrevetAnleggsmiddel",null,"grunnlagForAvskrivningOgInntektsfoering",null,null,null,null,null,0,0,6,"k",190,null,null,"BeloepMedSkattemessigeEgenskaper"]
[null,"Vinst overført til vinst- og tapskonto","næringsspesifikasjon","spesifikasjonAvAnleggsmiddel","saldoavskrevetAnleggsmiddel",null,"gevinstOverfoertTilGevinstOgTapskonto",null,null,null,null,null,0,0,6,"k",210,null,null,"BeloepMedSkattemessigeEgenskaper"]
[null,"Tap overført til vinst- og tapskonto","næringsspesifikasjon","spesifikasjonAvAnleggsmiddel","saldoavskrevetAnleggsmiddel",null,"tapOverfoertTilGevinstOgTapskonto",null,null,null,null,null,0,0,6,"k",220,null,null,"BeloepMedSkattemessigeEgenskaper"]
[null,"Årets avskriving","næringsspesifikasjon","spesifikasjonAvAnleggsmiddel","saldoavskrevetAnleggsmiddel",null,"aaretsAvskrivning",null,null,null,null,null,0,0,6,"k",230,null,null,"BeloepMedSkattemessigeEgenskaper"]
[null,"åretsInntektsføringAvNegativSaldo","næringsspesifikasjon","spesifikasjonAvAnleggsmiddel","saldoavskrevetAnleggsmiddel",null,"aaretsInntektsfoeringAvNegativSaldo",null,null,null,null,null,0,0,6,"k",240,null,null,"BeloepMedSkattemessigeEgenskaper"]
[null,"Utgåande verdi","næringsspesifikasjon","spesifikasjonAvAnleggsmiddel","saldoavskrevetAnleggsmiddel",null,"utgaaendeVerdi",null,null,null,null,null,{"$f":"M346","v":0},0,6,"k",200,null,null,"BeloepMedSkattemessigeEgenskaper"]
[null,"Er det fysiske driftsmidlar i utgåande verdi?","næringsspesifikasjon","spesifikasjonAvAnleggsmiddel","saldoavskrevetAnleggsmiddel",null,"erDetFysiskAnleggsmiddelIUtgaaendeVerdi",null,null,null,null,null,{"$f":"M346","v":0},0,6,"k",290,null,null,"BoolskMedInnkapsling"]
[null,null,null,null,null,null,null,null,null,null,null,null,{"$f":"M365","v":0},0]
[null,"id","næringsspesifikasjon","spesifikasjonAvAnleggsmiddel","saldoavskrevetAnleggsmiddel",null,"id",null,null,null,{"$f":"K366","v":0},null,0,{"$f":"N365","v":0},7,"k",10,null,null,"Tekst"]
[null,"Saldogruppe H, Bygg og anlegg mv.","næringsspesifikasjon","spesifikasjonAvAnleggsmiddel","saldoavskrevetAnleggsmiddel",null,"saldogruppe",null,null,null,null,null,{"$f":"IF(K381=\"Ja\",1,0)","v":0},0,7,"k",250,null,null,"SaldogruppeMedInnkapsling"]
[null,"Objekt-id","næringsspesifikasjon","spesifikasjonAvAnleggsmiddel","saldoavskrevetAnleggsmiddel",null,"objektidentifikator ",null,null,null,null,null,{"$f":"M365","v":0},0,7,"k",20,null,null,"TekstMedInnkapsling"]
[null,"Avskrivingssats  ","næringsspesifikasjon","spesifikasjonAvAnleggsmiddel","saldoavskrevetAnleggsmiddel",null,"avskrivningssats  ",null,null,null,null,null,{"$f":"M365","v":0},0,7,"k",260,null,null,"ProsentMedInnkapsling"]
[null,"InngåandeVerdi","næringsspesifikasjon","spesifikasjonAvAnleggsmiddel","saldoavskrevetAnleggsmiddel",null,"inngaaendeVerdi",null,null,null,null,null,{"$f":"M365","v":0},0,7,"k",60,null,null,"BeloepMedSkattemessigeEgenskaper"]
[null,"Nyanskaffing","næringsspesifikasjon","spesifikasjonAvAnleggsmiddel","saldoavskrevetAnleggsmiddel",null,"nyanskaffelse",null,null,null,null,null,{"$f":"IF(K369=0,,1)","v":0},0,7,"k",270,null,null,"BeloepMedSkattemessigeEgenskaper"]
[null,"Påkosting","næringsspesifikasjon","spesifikasjonAvAnleggsmiddel","saldoavskrevetAnleggsmiddel",null,"paakostning",null,null,null,null,null,{"$f":"IF(K370=0,,1)","v":0},0,7,"k",70,null,null,"BeloepMedSkattemessigeEgenskaper"]
[null,"nedskrivningPåNyanskaffelserMedBetingetSkattefriSalgsgevinstGjelder","næringsspesifikasjon","spesifikasjonAvAnleggsmiddel","saldoavskrevetAnleggsmiddel",null,"nedskrivningPaaNyanskaffelserMedBetingetSkattefriSalgsgevinstGjelder",null,null,null,null,null,{"$f":"IF(K371=0,,1)","v":0},0,7,"k",150,null,null,"BeloepMedSkattemessigeEgenskaper"]
[null,"Offentleg tilskot","næringsspesifikasjon","spesifikasjonAvAnleggsmiddel","saldoavskrevetAnleggsmiddel",null,"offentligTilskudd",null,null,null,null,null,0,0,7,"k",80,null,null,"BeloepMedSkattemessigeEgenskaper"]
[null,"Vederlag ved realisasjon og uttak","næringsspesifikasjon","spesifikasjonAvAnleggsmiddel","saldoavskrevetAnleggsmiddel",null,"vederlagVedRealisasjonOgUttak",null,null,null,null,null,0,0,7,"k",100,null,null,"BeloepMedSkattemessigeEgenskaper"]
[null,"erRealisasjonenUfrivilligOgGevinstenBetingetSkattefri","næringsspesifikasjon","spesifikasjonAvAnleggsmiddel","saldoavskrevetAnleggsmiddel",null,"erRealisasjonenUfrivilligOgGevinstenBetingetSkattefri",null,null,null,null,null,0,0,7,"k",120,null,null,"BoolskMedInnkapsling"]
[null,"Grunnlag for avskriving og inntektsføring","næringsspesifikasjon","spesifikasjonAvAnleggsmiddel","saldoavskrevetAnleggsmiddel",null,"grunnlagForAvskrivningOgInntektsfoering",null,null,null,null,null,0,0,7,"k",190,null,null,"BeloepMedSkattemessigeEgenskaper"]
[null,"Vinst overført til vinst- og tapskonto","næringsspesifikasjon","spesifikasjonAvAnleggsmiddel","saldoavskrevetAnleggsmiddel",null,"gevinstOverfoertTilGevinstOgTapskonto",null,null,null,null,null,0,0,7,"k",210,null,null,"BeloepMedSkattemessigeEgenskaper"]
[null,"Tap overført til vinst- og tapskonto","næringsspesifikasjon","spesifikasjonAvAnleggsmiddel","saldoavskrevetAnleggsmiddel",null,"tapOverfoertTilGevinstOgTapskonto",null,null,null,null,null,0,0,7,"k",220,null,null,"BeloepMedSkattemessigeEgenskaper"]
[null,"Årets avskriving","næringsspesifikasjon","spesifikasjonAvAnleggsmiddel","saldoavskrevetAnleggsmiddel",null,"aaretsAvskrivning",null,null,null,null,null,0,0,7,"k",230,null,null,"BeloepMedSkattemessigeEgenskaper"]
[null,"åretsInntektsføringAvNegativSaldo","næringsspesifikasjon","spesifikasjonAvAnleggsmiddel","saldoavskrevetAnleggsmiddel",null,"aaretsInntektsfoeringAvNegativSaldo",null,null,null,null,null,0,0,7,"k",240,null,null,"BeloepMedSkattemessigeEgenskaper"]
[null,"Utgåande verdi","næringsspesifikasjon","spesifikasjonAvAnleggsmiddel","saldoavskrevetAnleggsmiddel",null,"utgaaendeVerdi",null,null,null,null,null,{"$f":"M365","v":0},0,7,"k",200,null,null,"BeloepMedSkattemessigeEgenskaper"]
[null,"Er det fysiske driftsmidlar i utgåande verdi?","næringsspesifikasjon","spesifikasjonAvAnleggsmiddel","saldoavskrevetAnleggsmiddel",null,"erDetFysiskAnleggsmiddelIUtgaaendeVerdi",null,null,null,null,null,{"$f":"M365","v":0},0,7,"k",290,null,null,"BoolskMedInnkapsling"]
[null,null,null,null,null,null,null,null,null,null,null,null,{"$f":"M384","v":0},0]
[null,"id","næringsspesifikasjon","spesifikasjonAvAnleggsmiddel","saldoavskrevetAnleggsmiddel",null,"id",null,null,null,{"$f":"K385","v":0},null,0,{"$f":"N384","v":0},8,"k",10,null,null,"Tekst"]
[null,"Saldogruppe H, Bygg og anlegg mv.","næringsspesifikasjon","spesifikasjonAvAnleggsmiddel","saldoavskrevetAnleggsmiddel",null,"saldogruppe",null,null,null,null,null,{"$f":"IF(K400=\"Ja\",1,0)","v":0},0,8,"k",250,null,null,"SaldogruppeMedInnkapsling"]
[null,"Objekt-id","næringsspesifikasjon","spesifikasjonAvAnleggsmiddel","saldoavskrevetAnleggsmiddel",null,"objektidentifikator ",null,null,null,null,null,{"$f":"M384","v":0},0,8,"k",20,null,null,"TekstMedInnkapsling"]
[null,"Avskrivingssats  ","næringsspesifikasjon","spesifikasjonAvAnleggsmiddel","saldoavskrevetAnleggsmiddel",null,"avskrivningssats  ",null,null,null,null,null,{"$f":"M384","v":0},0,8,"k",260,null,null,"ProsentMedInnkapsling"]
[null,"InngåandeVerdi","næringsspesifikasjon","spesifikasjonAvAnleggsmiddel","saldoavskrevetAnleggsmiddel",null,"inngaaendeVerdi",null,null,null,null,null,{"$f":"M384","v":0},0,8,"k",60,null,null,"BeloepMedSkattemessigeEgenskaper"]
[null,"Nyanskaffing","næringsspesifikasjon","spesifikasjonAvAnleggsmiddel","saldoavskrevetAnleggsmiddel",null,"nyanskaffelse",null,null,null,null,null,{"$f":"IF(K388=0,,1)","v":0},0,8,"k",270,null,null,"BeloepMedSkattemessigeEgenskaper"]
[null,"Påkosting","næringsspesifikasjon","spesifikasjonAvAnleggsmiddel","saldoavskrevetAnleggsmiddel",null,"paakostning",null,null,null,null,null,{"$f":"IF(K389=0,,1)","v":0},0,8,"k",70,null,null,"BeloepMedSkattemessigeEgenskaper"]
[null,"nedskrivningPåNyanskaffelserMedBetingetSkattefriSalgsgevinstGjelder","næringsspesifikasjon","spesifikasjonAvAnleggsmiddel","saldoavskrevetAnleggsmiddel",null,"nedskrivningPaaNyanskaffelserMedBetingetSkattefriSalgsgevinstGjelder",null,null,null,null,null,{"$f":"IF(K390=0,,1)","v":0},0,8,"k",150,null,null,"BeloepMedSkattemessigeEgenskaper"]
[null,"Offentleg tilskot","næringsspesifikasjon","spesifikasjonAvAnleggsmiddel","saldoavskrevetAnleggsmiddel",null,"offentligTilskudd",null,null,null,null,null,0,0,8,"k",80,null,null,"BeloepMedSkattemessigeEgenskaper"]
[null,"Vederlag ved realisasjon og uttak","næringsspesifikasjon","spesifikasjonAvAnleggsmiddel","saldoavskrevetAnleggsmiddel",null,"vederlagVedRealisasjonOgUttak",null,null,null,null,null,0,0,8,"k",100,null,null,"BeloepMedSkattemessigeEgenskaper"]
[null,"erRealisasjonenUfrivilligOgGevinstenBetingetSkattefri","næringsspesifikasjon","spesifikasjonAvAnleggsmiddel","saldoavskrevetAnleggsmiddel",null,"erRealisasjonenUfrivilligOgGevinstenBetingetSkattefri",null,null,null,null,null,0,0,8,"k",120,null,null,"BoolskMedInnkapsling"]
[null,"Grunnlag for avskriving og inntektsføring","næringsspesifikasjon","spesifikasjonAvAnleggsmiddel","saldoavskrevetAnleggsmiddel",null,"grunnlagForAvskrivningOgInntektsfoering",null,null,null,null,null,0,0,8,"k",190,null,null,"BeloepMedSkattemessigeEgenskaper"]
[null,"Vinst overført til vinst- og tapskonto","næringsspesifikasjon","spesifikasjonAvAnleggsmiddel","saldoavskrevetAnleggsmiddel",null,"gevinstOverfoertTilGevinstOgTapskonto",null,null,null,null,null,0,0,8,"k",210,null,null,"BeloepMedSkattemessigeEgenskaper"]
[null,"Tap overført til vinst- og tapskonto","næringsspesifikasjon","spesifikasjonAvAnleggsmiddel","saldoavskrevetAnleggsmiddel",null,"tapOverfoertTilGevinstOgTapskonto",null,null,null,null,null,0,{"$f":"M396","v":0},8,"k",220,null,null,"BeloepMedSkattemessigeEgenskaper"]
[null,"Årets avskriving","næringsspesifikasjon","spesifikasjonAvAnleggsmiddel","saldoavskrevetAnleggsmiddel",null,"aaretsAvskrivning",null,null,null,null,null,0,0,8,"k",230,null,null,"BeloepMedSkattemessigeEgenskaper"]
[null,"åretsInntektsføringAvNegativSaldo","næringsspesifikasjon","spesifikasjonAvAnleggsmiddel","saldoavskrevetAnleggsmiddel",null,"aaretsInntektsfoeringAvNegativSaldo",null,null,null,null,null,0,0,8,"k",240,null,null,"BeloepMedSkattemessigeEgenskaper"]
[null,"Utgåande verdi","næringsspesifikasjon","spesifikasjonAvAnleggsmiddel","saldoavskrevetAnleggsmiddel",null,"utgaaendeVerdi",null,null,null,null,null,{"$f":"M384","v":0},0,8,"k",200,null,null,"BeloepMedSkattemessigeEgenskaper"]
[null,"Er det fysiske driftsmidlar i utgåande verdi?","næringsspesifikasjon","spesifikasjonAvAnleggsmiddel","saldoavskrevetAnleggsmiddel",null,"erDetFysiskAnleggsmiddelIUtgaaendeVerdi",null,null,null,null,null,{"$f":"M384","v":0},0,8,"k",290,null,null,"BoolskMedInnkapsling"]
[null,null,null,null,null,null,null,null,null,null,null,null,{"$f":"M403","v":0},0]
[null,"id","næringsspesifikasjon","spesifikasjonAvAnleggsmiddel","saldoavskrevetAnleggsmiddel",null,"id",null,null,null,{"$f":"K404","v":0},null,0,{"$f":"N403","v":0},9,"k",10,null,null,"Tekst"]
[null,"Saldogruppe H, Bygg og anlegg mv.","næringsspesifikasjon","spesifikasjonAvAnleggsmiddel","saldoavskrevetAnleggsmiddel",null,"saldogruppe",null,null,null,null,null,{"$f":"IF(K419=\"Ja\",1,0)","v":0},0,9,"k",250,null,null,"SaldogruppeMedInnkapsling"]
[null,"Objekt-id","næringsspesifikasjon","spesifikasjonAvAnleggsmiddel","saldoavskrevetAnleggsmiddel",null,"objektidentifikator ",null,null,null,null,null,{"$f":"M403","v":0},0,9,"k",20,null,null,"TekstMedInnkapsling"]
[null,"Avskrivingssats  ","næringsspesifikasjon","spesifikasjonAvAnleggsmiddel","saldoavskrevetAnleggsmiddel",null,"avskrivningssats  ",null,null,null,null,null,{"$f":"M403","v":0},0,9,"k",260,null,null,"ProsentMedInnkapsling"]
[null,"InngåandeVerdi","næringsspesifikasjon","spesifikasjonAvAnleggsmiddel","saldoavskrevetAnleggsmiddel",null,"inngaaendeVerdi",null,null,null,null,null,{"$f":"M403","v":0},0,9,"k",60,null,null,"BeloepMedSkattemessigeEgenskaper"]
[null,"Nyanskaffing","næringsspesifikasjon","spesifikasjonAvAnleggsmiddel","saldoavskrevetAnleggsmiddel",null,"nyanskaffelse",null,null,null,null,null,{"$f":"IF(K407=0,,1)","v":0},0,9,"k",270,null,null,"BeloepMedSkattemessigeEgenskaper"]
[null,"Påkosting","næringsspesifikasjon","spesifikasjonAvAnleggsmiddel","saldoavskrevetAnleggsmiddel",null,"paakostning",null,null,null,null,null,{"$f":"IF(K408=0,,1)","v":0},0,9,"k",70,null,null,"BeloepMedSkattemessigeEgenskaper"]
[null,"nedskrivningPåNyanskaffelserMedBetingetSkattefriSalgsgevinstGjelder","næringsspesifikasjon","spesifikasjonAvAnleggsmiddel","saldoavskrevetAnleggsmiddel",null,"nedskrivningPaaNyanskaffelserMedBetingetSkattefriSalgsgevinstGjelder",null,null,null,null,null,{"$f":"IF(K409=0,,1)","v":0},0,9,"k",150,null,null,"BeloepMedSkattemessigeEgenskaper"]
[null,"Offentleg tilskot","næringsspesifikasjon","spesifikasjonAvAnleggsmiddel","saldoavskrevetAnleggsmiddel",null,"offentligTilskudd",null,null,null,null,null,0,0,9,"k",80,null,null,"BeloepMedSkattemessigeEgenskaper"]
[null,"Vederlag ved realisasjon og uttak","næringsspesifikasjon","spesifikasjonAvAnleggsmiddel","saldoavskrevetAnleggsmiddel",null,"vederlagVedRealisasjonOgUttak",null,null,null,null,null,0,0,9,"k",100,null,null,"BeloepMedSkattemessigeEgenskaper"]
[null,"erRealisasjonenUfrivilligOgGevinstenBetingetSkattefri","næringsspesifikasjon","spesifikasjonAvAnleggsmiddel","saldoavskrevetAnleggsmiddel",null,"erRealisasjonenUfrivilligOgGevinstenBetingetSkattefri",null,null,null,null,null,0,0,9,"k",120,null,null,"BoolskMedInnkapsling"]
[null,"Grunnlag for avskriving og inntektsføring","næringsspesifikasjon","spesifikasjonAvAnleggsmiddel","saldoavskrevetAnleggsmiddel",null,"grunnlagForAvskrivningOgInntektsfoering",null,null,null,null,null,0,0,9,"k",190,null,null,"BeloepMedSkattemessigeEgenskaper"]
[null,"Vinst overført til vinst- og tapskonto","næringsspesifikasjon","spesifikasjonAvAnleggsmiddel","saldoavskrevetAnleggsmiddel",null,"gevinstOverfoertTilGevinstOgTapskonto",null,null,null,null,null,0,0,9,"k",210,null,null,"BeloepMedSkattemessigeEgenskaper"]
[null,"Tap overført til vinst- og tapskonto","næringsspesifikasjon","spesifikasjonAvAnleggsmiddel","saldoavskrevetAnleggsmiddel",null,"tapOverfoertTilGevinstOgTapskonto",null,null,null,null,null,0,0,9,"k",220,null,null,"BeloepMedSkattemessigeEgenskaper"]
[null,"Årets avskriving","næringsspesifikasjon","spesifikasjonAvAnleggsmiddel","saldoavskrevetAnleggsmiddel",null,"aaretsAvskrivning",null,null,null,null,null,0,0,9,"k",230,null,null,"BeloepMedSkattemessigeEgenskaper"]
[null,"åretsInntektsføringAvNegativSaldo","næringsspesifikasjon","spesifikasjonAvAnleggsmiddel","saldoavskrevetAnleggsmiddel",null,"aaretsInntektsfoeringAvNegativSaldo",null,null,null,null,null,0,0,9,"k",240,null,null,"BeloepMedSkattemessigeEgenskaper"]
[null,"Utgåande verdi","næringsspesifikasjon","spesifikasjonAvAnleggsmiddel","saldoavskrevetAnleggsmiddel",null,"utgaaendeVerdi",null,null,null,null,null,{"$f":"M403","v":0},0,9,"k",200,null,null,"BeloepMedSkattemessigeEgenskaper"]
[null,"Er det fysiske driftsmidlar i utgåande verdi?","næringsspesifikasjon","spesifikasjonAvAnleggsmiddel","saldoavskrevetAnleggsmiddel",null,"erDetFysiskAnleggsmiddelIUtgaaendeVerdi",null,null,null,null,null,{"$f":"M403","v":0},0,9,"k",290,null,null,"BoolskMedInnkapsling"]
[null,null,null,null,null,null,null,null,null,null,null,null,{"$f":"M422","v":0},0]
[null,"id","næringsspesifikasjon","spesifikasjonAvAnleggsmiddel","saldoavskrevetAnleggsmiddel",null,"id",null,null,null,{"$f":"K423","v":0},null,0,{"$f":"N422","v":0},10,"k",10,null,null,"Tekst"]
[null,"Saldogruppe H, Bygg og anlegg mv.","næringsspesifikasjon","spesifikasjonAvAnleggsmiddel","saldoavskrevetAnleggsmiddel",null,"saldogruppe",null,null,null,null,null,{"$f":"IF(K438=\"Ja\",1,0)","v":0},0,10,"k",250,null,null,"SaldogruppeMedInnkapsling"]
[null,"Objekt-id","næringsspesifikasjon","spesifikasjonAvAnleggsmiddel","saldoavskrevetAnleggsmiddel",null,"objektidentifikator ",null,null,null,null,null,{"$f":"M422","v":0},0,10,"k",20,null,null,"TekstMedInnkapsling"]
[null,"Avskrivingssats  ","næringsspesifikasjon","spesifikasjonAvAnleggsmiddel","saldoavskrevetAnleggsmiddel",null,"avskrivningssats  ",null,null,null,null,null,{"$f":"M422","v":0},0,10,"k",260,null,null,"ProsentMedInnkapsling"]
[null,"InngåandeVerdi","næringsspesifikasjon","spesifikasjonAvAnleggsmiddel","saldoavskrevetAnleggsmiddel",null,"inngaaendeVerdi",null,null,null,null,null,{"$f":"M422","v":0},0,10,"k",60,null,null,"BeloepMedSkattemessigeEgenskaper"]
[null,"Nyanskaffing","næringsspesifikasjon","spesifikasjonAvAnleggsmiddel","saldoavskrevetAnleggsmiddel",null,"nyanskaffelse",null,null,null,null,null,{"$f":"IF(K426=0,,1)","v":0},0,10,"k",270,null,null,"BeloepMedSkattemessigeEgenskaper"]
[null,"Påkosting","næringsspesifikasjon","spesifikasjonAvAnleggsmiddel","saldoavskrevetAnleggsmiddel",null,"paakostning",null,null,null,null,null,{"$f":"IF(K427=0,,1)","v":0},0,10,"k",70,null,null,"BeloepMedSkattemessigeEgenskaper"]
[null,"nedskrivningPåNyanskaffelserMedBetingetSkattefriSalgsgevinstGjelder","næringsspesifikasjon","spesifikasjonAvAnleggsmiddel","saldoavskrevetAnleggsmiddel",null,"nedskrivningPaaNyanskaffelserMedBetingetSkattefriSalgsgevinstGjelder",null,null,null,null,null,{"$f":"IF(K428=0,,1)","v":0},0,10,"k",150,null,null,"BeloepMedSkattemessigeEgenskaper"]
[null,"Offentleg tilskot","næringsspesifikasjon","spesifikasjonAvAnleggsmiddel","saldoavskrevetAnleggsmiddel",null,"offentligTilskudd",null,null,null,null,null,0,0,10,"k",80,null,null,"BeloepMedSkattemessigeEgenskaper"]
[null,"Vederlag ved realisasjon og uttak","næringsspesifikasjon","spesifikasjonAvAnleggsmiddel","saldoavskrevetAnleggsmiddel",null,"vederlagVedRealisasjonOgUttak",null,null,null,null,null,0,0,10,"k",100,null,null,"BeloepMedSkattemessigeEgenskaper"]
[null,"erRealisasjonenUfrivilligOgGevinstenBetingetSkattefri","næringsspesifikasjon","spesifikasjonAvAnleggsmiddel","saldoavskrevetAnleggsmiddel",null,"erRealisasjonenUfrivilligOgGevinstenBetingetSkattefri",null,null,null,null,null,0,0,10,"k",120,null,null,"BoolskMedInnkapsling"]
[null,"Grunnlag for avskriving og inntektsføring","næringsspesifikasjon","spesifikasjonAvAnleggsmiddel","saldoavskrevetAnleggsmiddel",null,"grunnlagForAvskrivningOgInntektsfoering",null,null,null,null,null,0,0,10,"k",190,null,null,"BeloepMedSkattemessigeEgenskaper"]
[null,"Vinst overført til vinst- og tapskonto","næringsspesifikasjon","spesifikasjonAvAnleggsmiddel","saldoavskrevetAnleggsmiddel",null,"gevinstOverfoertTilGevinstOgTapskonto",null,null,null,null,null,0,0,10,"k",210,null,null,"BeloepMedSkattemessigeEgenskaper"]
[null,"Tap overført til vinst- og tapskonto","næringsspesifikasjon","spesifikasjonAvAnleggsmiddel","saldoavskrevetAnleggsmiddel",null,"tapOverfoertTilGevinstOgTapskonto",null,null,null,null,null,0,0,10,"k",220,null,null,"BeloepMedSkattemessigeEgenskaper"]
[null,"Årets avskriving","næringsspesifikasjon","spesifikasjonAvAnleggsmiddel","saldoavskrevetAnleggsmiddel",null,"aaretsAvskrivning",null,null,null,null,null,0,0,10,"k",230,null,null,"BeloepMedSkattemessigeEgenskaper"]
[null,"åretsInntektsføringAvNegativSaldo","næringsspesifikasjon","spesifikasjonAvAnleggsmiddel","saldoavskrevetAnleggsmiddel",null,"aaretsInntektsfoeringAvNegativSaldo",null,null,null,null,null,0,0,10,"k",240,null,null,"BeloepMedSkattemessigeEgenskaper"]
[null,"Utgåande verdi","næringsspesifikasjon","spesifikasjonAvAnleggsmiddel","saldoavskrevetAnleggsmiddel",null,"utgaaendeVerdi",null,null,null,null,null,{"$f":"M422","v":0},0,10,"k",200,null,null,"BeloepMedSkattemessigeEgenskaper"]
[null,"Er det fysiske driftsmidlar i utgåande verdi?","næringsspesifikasjon","spesifikasjonAvAnleggsmiddel","saldoavskrevetAnleggsmiddel",null,"erDetFysiskAnleggsmiddelIUtgaaendeVerdi",null,null,null,null,null,{"$f":"M422","v":0},0,10,"k",290,null,null,"BoolskMedInnkapsling"]
[null,null,null,null,null,null,null,null,null,null,null,null,{"$f":"M441","v":0},0]
[null,"id","næringsspesifikasjon","spesifikasjonAvAnleggsmiddel","saldoavskrevetAnleggsmiddel",null,"id",null,null,null,{"$f":"K442","v":0},null,0,{"$f":"N441","v":0},11,"k",10,null,null,"Tekst"]
[null,"Saldogruppe H, Bygg og anlegg mv.","næringsspesifikasjon","spesifikasjonAvAnleggsmiddel","saldoavskrevetAnleggsmiddel",null,"saldogruppe",null,null,null,null,null,{"$f":"IF(K457=\"Ja\",1,0)","v":0},0,11,"k",250,null,null,"SaldogruppeMedInnkapsling"]
[null,"Objekt-id","næringsspesifikasjon","spesifikasjonAvAnleggsmiddel","saldoavskrevetAnleggsmiddel",null,"objektidentifikator ",null,null,null,null,null,{"$f":"M441","v":0},0,11,"k",20,null,null,"TekstMedInnkapsling"]
[null,"Avskrivingssats  ","næringsspesifikasjon","spesifikasjonAvAnleggsmiddel","saldoavskrevetAnleggsmiddel",null,"avskrivningssats  ",null,null,null,null,null,{"$f":"M441","v":0},0,11,"k",260,null,null,"ProsentMedInnkapsling"]
[null,"InngåandeVerdi","næringsspesifikasjon","spesifikasjonAvAnleggsmiddel","saldoavskrevetAnleggsmiddel",null,"inngaaendeVerdi",null,null,null,null,null,{"$f":"M441","v":0},0,11,"k",60,null,null,"BeloepMedSkattemessigeEgenskaper"]
[null,"Nyanskaffing","næringsspesifikasjon","spesifikasjonAvAnleggsmiddel","saldoavskrevetAnleggsmiddel",null,"nyanskaffelse",null,null,null,null,null,{"$f":"IF(K445=0,,1)","v":0},0,11,"k",270,null,null,"BeloepMedSkattemessigeEgenskaper"]
[null,"Påkosting","næringsspesifikasjon","spesifikasjonAvAnleggsmiddel","saldoavskrevetAnleggsmiddel",null,"paakostning",null,null,null,null,null,{"$f":"IF(K446=0,,1)","v":0},0,11,"k",70,null,null,"BeloepMedSkattemessigeEgenskaper"]
[null,"nedskrivningPåNyanskaffelserMedBetingetSkattefriSalgsgevinstGjelder","næringsspesifikasjon","spesifikasjonAvAnleggsmiddel","saldoavskrevetAnleggsmiddel",null,"nedskrivningPaaNyanskaffelserMedBetingetSkattefriSalgsgevinstGjelder",null,null,null,null,null,{"$f":"IF(K447=0,,1)","v":0},0,11,"k",150,null,null,"BeloepMedSkattemessigeEgenskaper"]
[null,"Offentleg tilskot","næringsspesifikasjon","spesifikasjonAvAnleggsmiddel","saldoavskrevetAnleggsmiddel",null,"offentligTilskudd",null,null,null,null,null,0,0,11,"k",80,null,null,"BeloepMedSkattemessigeEgenskaper"]
[null,"Vederlag ved realisasjon og uttak","næringsspesifikasjon","spesifikasjonAvAnleggsmiddel","saldoavskrevetAnleggsmiddel",null,"vederlagVedRealisasjonOgUttak",null,null,null,null,null,0,0,11,"k",100,null,null,"BeloepMedSkattemessigeEgenskaper"]
[null,"erRealisasjonenUfrivilligOgGevinstenBetingetSkattefri","næringsspesifikasjon","spesifikasjonAvAnleggsmiddel","saldoavskrevetAnleggsmiddel",null,"erRealisasjonenUfrivilligOgGevinstenBetingetSkattefri",null,null,null,null,null,0,0,11,"k",120,null,null,"BoolskMedInnkapsling"]
[null,"Grunnlag for avskriving og inntektsføring","næringsspesifikasjon","spesifikasjonAvAnleggsmiddel","saldoavskrevetAnleggsmiddel",null,"grunnlagForAvskrivningOgInntektsfoering",null,null,null,null,null,0,0,11,"k",190,null,null,"BeloepMedSkattemessigeEgenskaper"]
[null,"Vinst overført til vinst- og tapskonto","næringsspesifikasjon","spesifikasjonAvAnleggsmiddel","saldoavskrevetAnleggsmiddel",null,"gevinstOverfoertTilGevinstOgTapskonto",null,null,null,null,null,0,0,11,"k",210,null,null,"BeloepMedSkattemessigeEgenskaper"]
[null,"Tap overført til vinst- og tapskonto","næringsspesifikasjon","spesifikasjonAvAnleggsmiddel","saldoavskrevetAnleggsmiddel",null,"tapOverfoertTilGevinstOgTapskonto",null,null,null,null,null,0,0,11,"k",220,null,null,"BeloepMedSkattemessigeEgenskaper"]
[null,"Årets avskriving","næringsspesifikasjon","spesifikasjonAvAnleggsmiddel","saldoavskrevetAnleggsmiddel",null,"aaretsAvskrivning",null,null,null,null,null,0,0,11,"k",230,null,null,"BeloepMedSkattemessigeEgenskaper"]
[null,"åretsInntektsføringAvNegativSaldo","næringsspesifikasjon","spesifikasjonAvAnleggsmiddel","saldoavskrevetAnleggsmiddel",null,"aaretsInntektsfoeringAvNegativSaldo",null,null,null,null,null,0,0,11,"k",240,null,null,"BeloepMedSkattemessigeEgenskaper"]
[null,"Utgåande verdi","næringsspesifikasjon","spesifikasjonAvAnleggsmiddel","saldoavskrevetAnleggsmiddel",null,"utgaaendeVerdi",null,null,null,null,null,{"$f":"M441","v":0},0,11,"k",200,null,null,"BeloepMedSkattemessigeEgenskaper"]
[null,"Er det fysiske driftsmidlar i utgåande verdi?","næringsspesifikasjon","spesifikasjonAvAnleggsmiddel","saldoavskrevetAnleggsmiddel",null,"erDetFysiskAnleggsmiddelIUtgaaendeVerdi",null,null,null,null,null,{"$f":"M441","v":0},0,11,"k",290,null,null,"BoolskMedInnkapsling"]
[null,null,null,null,null,null,null,null,null,null,null,null,{"$f":"M460","v":0},0]
[null,"id","næringsspesifikasjon","spesifikasjonAvAnleggsmiddel","saldoavskrevetAnleggsmiddel",null,"id",null,null,null,{"$f":"K461","v":0},null,0,{"$f":"N460","v":0},12,"k",10,null,null,"Tekst"]
[null,"Saldogruppe H, Bygg og anlegg mv.","næringsspesifikasjon","spesifikasjonAvAnleggsmiddel","saldoavskrevetAnleggsmiddel",null,"saldogruppe",null,null,null,null,null,{"$f":"IF(K476=\"Ja\",1,0)","v":0},0,12,"k",250,null,null,"SaldogruppeMedInnkapsling"]
[null,"Objekt-id","næringsspesifikasjon","spesifikasjonAvAnleggsmiddel","saldoavskrevetAnleggsmiddel",null,"objektidentifikator ",null,null,null,null,null,{"$f":"M460","v":0},{"$f":"M461","v":0},12,"k",20,null,null,"TekstMedInnkapsling"]
[null,"Avskrivingssats  ","næringsspesifikasjon","spesifikasjonAvAnleggsmiddel","saldoavskrevetAnleggsmiddel",null,"avskrivningssats  ",null,null,null,null,null,{"$f":"M460","v":0},0,12,"k",260,null,null,"ProsentMedInnkapsling"]
[null,"InngåandeVerdi","næringsspesifikasjon","spesifikasjonAvAnleggsmiddel","saldoavskrevetAnleggsmiddel",null,"inngaaendeVerdi",null,null,null,null,null,{"$f":"M460","v":0},0,12,"k",60,null,null,"BeloepMedSkattemessigeEgenskaper"]
[null,"Nyanskaffing","næringsspesifikasjon","spesifikasjonAvAnleggsmiddel","saldoavskrevetAnleggsmiddel",null,"nyanskaffelse",null,null,null,null,null,{"$f":"IF(K464=0,,1)","v":0},0,12,"k",270,null,null,"BeloepMedSkattemessigeEgenskaper"]
[null,"Påkosting","næringsspesifikasjon","spesifikasjonAvAnleggsmiddel","saldoavskrevetAnleggsmiddel",null,"paakostning",null,null,null,null,null,{"$f":"IF(K465=0,,1)","v":0},0,12,"k",70,null,null,"BeloepMedSkattemessigeEgenskaper"]
[null,"nedskrivningPåNyanskaffelserMedBetingetSkattefriSalgsgevinstGjelder","næringsspesifikasjon","spesifikasjonAvAnleggsmiddel","saldoavskrevetAnleggsmiddel",null,"nedskrivningPaaNyanskaffelserMedBetingetSkattefriSalgsgevinstGjelder",null,null,null,null,null,{"$f":"IF(K466=0,,1)","v":0},0,12,"k",150,null,null,"BeloepMedSkattemessigeEgenskaper"]
[null,"Offentleg tilskot","næringsspesifikasjon","spesifikasjonAvAnleggsmiddel","saldoavskrevetAnleggsmiddel",null,"offentligTilskudd",null,null,null,null,null,0,0,12,"k",80,null,null,"BeloepMedSkattemessigeEgenskaper"]
[null,"Vederlag ved realisasjon og uttak","næringsspesifikasjon","spesifikasjonAvAnleggsmiddel","saldoavskrevetAnleggsmiddel",null,"vederlagVedRealisasjonOgUttak",null,null,null,null,null,0,0,12,"k",100,null,null,"BeloepMedSkattemessigeEgenskaper"]
[null,"erRealisasjonenUfrivilligOgGevinstenBetingetSkattefri","næringsspesifikasjon","spesifikasjonAvAnleggsmiddel","saldoavskrevetAnleggsmiddel",null,"erRealisasjonenUfrivilligOgGevinstenBetingetSkattefri",null,null,null,null,null,0,0,12,"k",120,null,null,"BoolskMedInnkapsling"]
[null,"Grunnlag for avskriving og inntektsføring","næringsspesifikasjon","spesifikasjonAvAnleggsmiddel","saldoavskrevetAnleggsmiddel",null,"grunnlagForAvskrivningOgInntektsfoering",null,null,null,null,null,0,0,12,"k",190,null,null,"BeloepMedSkattemessigeEgenskaper"]
[null,"Vinst overført til vinst- og tapskonto","næringsspesifikasjon","spesifikasjonAvAnleggsmiddel","saldoavskrevetAnleggsmiddel",null,"gevinstOverfoertTilGevinstOgTapskonto",null,null,null,null,null,0,0,12,"k",210,null,null,"BeloepMedSkattemessigeEgenskaper"]
[null,"Tap overført til vinst- og tapskonto","næringsspesifikasjon","spesifikasjonAvAnleggsmiddel","saldoavskrevetAnleggsmiddel",null,"tapOverfoertTilGevinstOgTapskonto",null,null,null,null,null,0,0,12,"k",220,null,null,"BeloepMedSkattemessigeEgenskaper"]
[null,"Årets avskriving","næringsspesifikasjon","spesifikasjonAvAnleggsmiddel","saldoavskrevetAnleggsmiddel",null,"aaretsAvskrivning",null,null,null,null,null,0,0,12,"k",230,null,null,"BeloepMedSkattemessigeEgenskaper"]
[null,"åretsInntektsføringAvNegativSaldo","næringsspesifikasjon","spesifikasjonAvAnleggsmiddel","saldoavskrevetAnleggsmiddel",null,"aaretsInntektsfoeringAvNegativSaldo",null,null,null,null,null,0,0,12,"k",240,null,null,"BeloepMedSkattemessigeEgenskaper"]
[null,"Utgåande verdi","næringsspesifikasjon","spesifikasjonAvAnleggsmiddel","saldoavskrevetAnleggsmiddel",null,"utgaaendeVerdi",null,null,null,null,null,{"$f":"M460","v":0},0,12,"k",200,null,null,"BeloepMedSkattemessigeEgenskaper"]
[null,"Er det fysiske driftsmidlar i utgåande verdi?","næringsspesifikasjon","spesifikasjonAvAnleggsmiddel","saldoavskrevetAnleggsmiddel",null,"erDetFysiskAnleggsmiddelIUtgaaendeVerdi",null,null,null,null,null,{"$f":"M460","v":0},0,12,"k",290,null,null,"BoolskMedInnkapsling"]
[null,null,null,null,null,null,null,null,null,null,null,null,{"$f":"M479","v":0},0]
[null,"id","næringsspesifikasjon","spesifikasjonAvAnleggsmiddel","saldoavskrevetAnleggsmiddel",null,"id",null,null,null,{"$f":"K480","v":0},null,0,{"$f":"N479","v":0},13,"k",10,null,null,"Tekst"]
[null,"Saldogruppe J, Fast teknisk installasjon i bygningar","næringsspesifikasjon","spesifikasjonAvAnleggsmiddel","saldoavskrevetAnleggsmiddel",null,"saldogruppe",null,null,null,null,null,{"$f":"IF(K495=\"Ja\",1,0)","v":0},0,13,"k",250,null,null,"SaldogruppeMedInnkapsling"]
[null,"Objekt-id","næringsspesifikasjon","spesifikasjonAvAnleggsmiddel","saldoavskrevetAnleggsmiddel",null,"objektidentifikator ",null,null,null,null,null,{"$f":"M479","v":0},0,13,"k",20,null,null,"TekstMedInnkapsling"]
[null,"Avskrivingssats  ","næringsspesifikasjon","spesifikasjonAvAnleggsmiddel","saldoavskrevetAnleggsmiddel",null,"avskrivningssats  ",null,null,null,null,null,{"$f":"M479","v":0},0,13,"k",260,null,null,"ProsentMedInnkapsling"]
[null,"InngåandeVerdi","næringsspesifikasjon","spesifikasjonAvAnleggsmiddel","saldoavskrevetAnleggsmiddel",null,"inngaaendeVerdi",null,null,null,null,null,{"$f":"M479","v":0},0,13,"k",60,null,null,"BeloepMedSkattemessigeEgenskaper"]
[null,"Nyanskaffing","næringsspesifikasjon","spesifikasjonAvAnleggsmiddel","saldoavskrevetAnleggsmiddel",null,"nyanskaffelse",null,null,null,null,null,{"$f":"IF(K483=0,,1)","v":0},0,13,"k",270,null,null,"BeloepMedSkattemessigeEgenskaper"]
[null,"Påkosting","næringsspesifikasjon","spesifikasjonAvAnleggsmiddel","saldoavskrevetAnleggsmiddel",null,"paakostning",null,null,null,null,null,{"$f":"IF(K484=0,,1)","v":0},0,13,"k",70,null,null,"BeloepMedSkattemessigeEgenskaper"]
[null,"nedskrivningPåNyanskaffelserMedBetingetSkattefriSalgsgevinstGjelder","næringsspesifikasjon","spesifikasjonAvAnleggsmiddel","saldoavskrevetAnleggsmiddel",null,"nedskrivningPaaNyanskaffelserMedBetingetSkattefriSalgsgevinstGjelder",null,null,null,null,null,{"$f":"IF(K485=0,,1)","v":0},0,13,"k",150,null,null,"BeloepMedSkattemessigeEgenskaper"]
[null,"Offentleg tilskot","næringsspesifikasjon","spesifikasjonAvAnleggsmiddel","saldoavskrevetAnleggsmiddel",null,"offentligTilskudd",null,null,null,null,null,0,0,13,"k",80,null,null,"BeloepMedSkattemessigeEgenskaper"]
[null,"Vederlag ved realisasjon og uttak","næringsspesifikasjon","spesifikasjonAvAnleggsmiddel","saldoavskrevetAnleggsmiddel",null,"vederlagVedRealisasjonOgUttak",null,null,null,null,null,0,0,13,"k",100,null,null,"BeloepMedSkattemessigeEgenskaper"]
[null,"erRealisasjonenUfrivilligOgGevinstenBetingetSkattefri","næringsspesifikasjon","spesifikasjonAvAnleggsmiddel","saldoavskrevetAnleggsmiddel",null,"erRealisasjonenUfrivilligOgGevinstenBetingetSkattefri",null,null,null,null,null,0,0,13,"k",120,null,null,"BoolskMedInnkapsling"]
[null,"Grunnlag for avskriving og inntektsføring","næringsspesifikasjon","spesifikasjonAvAnleggsmiddel","saldoavskrevetAnleggsmiddel",null,"grunnlagForAvskrivningOgInntektsfoering",null,null,null,null,null,0,0,13,"k",190,null,null,"BeloepMedSkattemessigeEgenskaper"]
[null,"Vinst overført til vinst- og tapskonto","næringsspesifikasjon","spesifikasjonAvAnleggsmiddel","saldoavskrevetAnleggsmiddel",null,"gevinstOverfoertTilGevinstOgTapskonto",null,null,null,null,null,0,0,13,"k",210,null,null,"BeloepMedSkattemessigeEgenskaper"]
[null,"Tap overført til vinst- og tapskonto","næringsspesifikasjon","spesifikasjonAvAnleggsmiddel","saldoavskrevetAnleggsmiddel",null,"tapOverfoertTilGevinstOgTapskonto",null,null,null,null,null,0,0,13,"k",220,null,null,"BeloepMedSkattemessigeEgenskaper"]
[null,"Årets avskriving","næringsspesifikasjon","spesifikasjonAvAnleggsmiddel","saldoavskrevetAnleggsmiddel",null,"aaretsAvskrivning",null,null,null,null,null,0,0,13,"k",230,null,null,"BeloepMedSkattemessigeEgenskaper"]
[null,"åretsInntektsføringAvNegativSaldo","næringsspesifikasjon","spesifikasjonAvAnleggsmiddel","saldoavskrevetAnleggsmiddel",null,"aaretsInntektsfoeringAvNegativSaldo",null,null,null,null,null,0,0,13,"k",240,null,null,"BeloepMedSkattemessigeEgenskaper"]
[null,"Utgåande verdi","næringsspesifikasjon","spesifikasjonAvAnleggsmiddel","saldoavskrevetAnleggsmiddel",null,"utgaaendeVerdi",null,null,null,null,null,{"$f":"M479","v":0},0,13,"k",200,null,null,"BeloepMedSkattemessigeEgenskaper"]
[null,"Er det fysiske driftsmidlar i utgåande verdi?","næringsspesifikasjon","spesifikasjonAvAnleggsmiddel","saldoavskrevetAnleggsmiddel",null,"erDetFysiskAnleggsmiddelIUtgaaendeVerdi",null,null,null,null,null,{"$f":"M479","v":0},0,13,"k",290,null,null,"BoolskMedInnkapsling"]
[null,null,null,null,null,null,null,null,null,null,null,null,{"$f":"M498","v":0},0]
[null,"id","næringsspesifikasjon","spesifikasjonAvAnleggsmiddel","saldoavskrevetAnleggsmiddel",null,"id",null,null,null,{"$f":"K499","v":0},null,0,{"$f":"N498","v":0},14,"k",10,null,null,"Tekst"]
[null,"Saldogruppe J, Fast teknisk installasjon i bygningar","næringsspesifikasjon","spesifikasjonAvAnleggsmiddel","saldoavskrevetAnleggsmiddel",null,"saldogruppe",null,null,null,null,null,{"$f":"IF(K514=\"Ja\",1,0)","v":0},0,14,"k",250,null,null,"SaldogruppeMedInnkapsling"]
[null,"Objekt-id","næringsspesifikasjon","spesifikasjonAvAnleggsmiddel","saldoavskrevetAnleggsmiddel",null,"objektidentifikator ",null,null,null,null,null,{"$f":"M498","v":0},0,14,"k",20,null,null,"TekstMedInnkapsling"]
[null,"Avskrivingssats  ","næringsspesifikasjon","spesifikasjonAvAnleggsmiddel","saldoavskrevetAnleggsmiddel",null,"avskrivningssats  ",null,null,null,null,null,{"$f":"M498","v":0},0,14,"k",260,null,null,"ProsentMedInnkapsling"]
[null,"InngåandeVerdi","næringsspesifikasjon","spesifikasjonAvAnleggsmiddel","saldoavskrevetAnleggsmiddel",null,"inngaaendeVerdi",null,null,null,null,null,{"$f":"M498","v":0},0,14,"k",60,null,null,"BeloepMedSkattemessigeEgenskaper"]
[null,"Nyanskaffing","næringsspesifikasjon","spesifikasjonAvAnleggsmiddel","saldoavskrevetAnleggsmiddel",null,"nyanskaffelse",null,null,null,null,null,{"$f":"IF(K502=0,,1)","v":0},0,14,"k",270,null,null,"BeloepMedSkattemessigeEgenskaper"]
[null,"Påkosting","næringsspesifikasjon","spesifikasjonAvAnleggsmiddel","saldoavskrevetAnleggsmiddel",null,"paakostning",null,null,null,null,null,{"$f":"IF(K503=0,,1)","v":0},0,14,"k",70,null,null,"BeloepMedSkattemessigeEgenskaper"]
[null,"nedskrivningPåNyanskaffelserMedBetingetSkattefriSalgsgevinstGjelder","næringsspesifikasjon","spesifikasjonAvAnleggsmiddel","saldoavskrevetAnleggsmiddel",null,"nedskrivningPaaNyanskaffelserMedBetingetSkattefriSalgsgevinstGjelder",null,null,null,null,null,{"$f":"IF(K504=0,,1)","v":0},0,14,"k",150,null,null,"BeloepMedSkattemessigeEgenskaper"]
[null,"Offentleg tilskot","næringsspesifikasjon","spesifikasjonAvAnleggsmiddel","saldoavskrevetAnleggsmiddel",null,"offentligTilskudd",null,null,null,null,null,0,0,14,"k",80,null,null,"BeloepMedSkattemessigeEgenskaper"]
[null,"Vederlag ved realisasjon og uttak","næringsspesifikasjon","spesifikasjonAvAnleggsmiddel","saldoavskrevetAnleggsmiddel",null,"vederlagVedRealisasjonOgUttak",null,null,null,null,null,0,0,14,"k",100,null,null,"BeloepMedSkattemessigeEgenskaper"]
[null,"erRealisasjonenUfrivilligOgGevinstenBetingetSkattefri","næringsspesifikasjon","spesifikasjonAvAnleggsmiddel","saldoavskrevetAnleggsmiddel",null,"erRealisasjonenUfrivilligOgGevinstenBetingetSkattefri",null,null,null,null,null,0,0,14,"k",120,null,null,"BoolskMedInnkapsling"]
[null,"Grunnlag for avskriving og inntektsføring","næringsspesifikasjon","spesifikasjonAvAnleggsmiddel","saldoavskrevetAnleggsmiddel",null,"grunnlagForAvskrivningOgInntektsfoering",null,null,null,null,null,0,0,14,"k",190,null,null,"BeloepMedSkattemessigeEgenskaper"]
[null,"Vinst overført til vinst- og tapskonto","næringsspesifikasjon","spesifikasjonAvAnleggsmiddel","saldoavskrevetAnleggsmiddel",null,"gevinstOverfoertTilGevinstOgTapskonto",null,null,null,null,null,0,0,14,"k",210,null,null,"BeloepMedSkattemessigeEgenskaper"]
[null,"Tap overført til vinst- og tapskonto","næringsspesifikasjon","spesifikasjonAvAnleggsmiddel","saldoavskrevetAnleggsmiddel",null,"tapOverfoertTilGevinstOgTapskonto",null,null,null,null,null,0,0,14,"k",220,null,null,"BeloepMedSkattemessigeEgenskaper"]
[null,"Årets avskriving","næringsspesifikasjon","spesifikasjonAvAnleggsmiddel","saldoavskrevetAnleggsmiddel",null,"aaretsAvskrivning",null,null,null,null,null,0,0,14,"k",230,null,null,"BeloepMedSkattemessigeEgenskaper"]
[null,"åretsInntektsføringAvNegativSaldo","næringsspesifikasjon","spesifikasjonAvAnleggsmiddel","saldoavskrevetAnleggsmiddel",null,"aaretsInntektsfoeringAvNegativSaldo",null,null,null,null,null,0,0,14,"k",240,null,null,"BeloepMedSkattemessigeEgenskaper"]
[null,"Utgåande verdi","næringsspesifikasjon","spesifikasjonAvAnleggsmiddel","saldoavskrevetAnleggsmiddel",null,"utgaaendeVerdi",null,null,null,null,null,{"$f":"M498","v":0},0,14,"k",200,null,null,"BeloepMedSkattemessigeEgenskaper"]
[null,"Er det fysiske driftsmidlar i utgåande verdi?","næringsspesifikasjon","spesifikasjonAvAnleggsmiddel","saldoavskrevetAnleggsmiddel",null,"erDetFysiskAnleggsmiddelIUtgaaendeVerdi",null,null,null,null,null,{"$f":"M498","v":0},0,14,"k",290,null,null,"BoolskMedInnkapsling"]
[null,null,null,null,null,null,null,null,null,null,null,null,{"$f":"M517","v":0},0]
[null,"id","næringsspesifikasjon","spesifikasjonAvAnleggsmiddel","saldoavskrevetAnleggsmiddel",null,"id",null,null,null,{"$f":"K518","v":0},null,0,{"$f":"N517","v":0},15,"k",10,null,null,"Tekst"]
[null,"Saldogruppe J, Fast teknisk installasjon i bygningar","næringsspesifikasjon","spesifikasjonAvAnleggsmiddel","saldoavskrevetAnleggsmiddel",null,"saldogruppe",null,null,null,null,null,{"$f":"IF(K533=\"Ja\",1,0)","v":0},0,15,"k",250,null,null,"SaldogruppeMedInnkapsling"]
[null,"Objekt-id","næringsspesifikasjon","spesifikasjonAvAnleggsmiddel","saldoavskrevetAnleggsmiddel",null,"objektidentifikator ",null,null,null,null,null,{"$f":"M517","v":0},0,15,"k",20,null,null,"TekstMedInnkapsling"]
[null,"Avskrivingssats  ","næringsspesifikasjon","spesifikasjonAvAnleggsmiddel","saldoavskrevetAnleggsmiddel",null,"avskrivningssats  ",null,null,null,null,null,{"$f":"M517","v":0},0,15,"k",260,null,null,"ProsentMedInnkapsling"]
[null,"InngåandeVerdi","næringsspesifikasjon","spesifikasjonAvAnleggsmiddel","saldoavskrevetAnleggsmiddel",null,"inngaaendeVerdi",null,null,null,null,null,{"$f":"M517","v":0},0,15,"k",60,null,null,"BeloepMedSkattemessigeEgenskaper"]
[null,"Nyanskaffing","næringsspesifikasjon","spesifikasjonAvAnleggsmiddel","saldoavskrevetAnleggsmiddel",null,"nyanskaffelse",null,null,null,null,null,{"$f":"IF(K521=0,,1)","v":0},0,15,"k",270,null,null,"BeloepMedSkattemessigeEgenskaper"]
[null,"Påkosting","næringsspesifikasjon","spesifikasjonAvAnleggsmiddel","saldoavskrevetAnleggsmiddel",null,"paakostning",null,null,null,null,null,{"$f":"IF(K522=0,,1)","v":0},0,15,"k",70,null,null,"BeloepMedSkattemessigeEgenskaper"]
[null,"nedskrivningPåNyanskaffelserMedBetingetSkattefriSalgsgevinstGjelder","næringsspesifikasjon","spesifikasjonAvAnleggsmiddel","saldoavskrevetAnleggsmiddel",null,"nedskrivningPaaNyanskaffelserMedBetingetSkattefriSalgsgevinstGjelder",null,null,null,null,null,{"$f":"IF(K523=0,,1)","v":0},0,15,"k",150,null,null,"BeloepMedSkattemessigeEgenskaper"]
[null,"Offentleg tilskot","næringsspesifikasjon","spesifikasjonAvAnleggsmiddel","saldoavskrevetAnleggsmiddel",null,"offentligTilskudd",null,null,null,null,null,0,{"$f":"M524","v":0},15,"k",80,null,null,"BeloepMedSkattemessigeEgenskaper"]
[null,"Vederlag ved realisasjon og uttak","næringsspesifikasjon","spesifikasjonAvAnleggsmiddel","saldoavskrevetAnleggsmiddel",null,"vederlagVedRealisasjonOgUttak",null,null,null,null,null,0,0,15,"k",100,null,null,"BeloepMedSkattemessigeEgenskaper"]
[null,"erRealisasjonenUfrivilligOgGevinstenBetingetSkattefri","næringsspesifikasjon","spesifikasjonAvAnleggsmiddel","saldoavskrevetAnleggsmiddel",null,"erRealisasjonenUfrivilligOgGevinstenBetingetSkattefri",null,null,null,null,null,0,0,15,"k",120,null,null,"BoolskMedInnkapsling"]
[null,"Grunnlag for avskriving og inntektsføring","næringsspesifikasjon","spesifikasjonAvAnleggsmiddel","saldoavskrevetAnleggsmiddel",null,"grunnlagForAvskrivningOgInntektsfoering",null,null,null,null,null,0,0,15,"k",190,null,null,"BeloepMedSkattemessigeEgenskaper"]
[null,"Vinst overført til vinst- og tapskonto","næringsspesifikasjon","spesifikasjonAvAnleggsmiddel","saldoavskrevetAnleggsmiddel",null,"gevinstOverfoertTilGevinstOgTapskonto",null,null,null,null,null,0,0,15,"k",210,null,null,"BeloepMedSkattemessigeEgenskaper"]
[null,"Tap overført til vinst- og tapskonto","næringsspesifikasjon","spesifikasjonAvAnleggsmiddel","saldoavskrevetAnleggsmiddel",null,"tapOverfoertTilGevinstOgTapskonto",null,null,null,null,null,0,0,15,"k",220,null,null,"BeloepMedSkattemessigeEgenskaper"]
[null,"Årets avskriving","næringsspesifikasjon","spesifikasjonAvAnleggsmiddel","saldoavskrevetAnleggsmiddel",null,"aaretsAvskrivning",null,null,null,null,null,0,0,15,"k",230,null,null,"BeloepMedSkattemessigeEgenskaper"]
[null,"åretsInntektsføringAvNegativSaldo","næringsspesifikasjon","spesifikasjonAvAnleggsmiddel","saldoavskrevetAnleggsmiddel",null,"aaretsInntektsfoeringAvNegativSaldo",null,null,null,null,null,0,0,15,"k",240,null,null,"BeloepMedSkattemessigeEgenskaper"]
[null,"Utgåande verdi","næringsspesifikasjon","spesifikasjonAvAnleggsmiddel","saldoavskrevetAnleggsmiddel",null,"utgaaendeVerdi",null,null,null,null,null,{"$f":"M517","v":0},0,15,"k",200,null,null,"BeloepMedSkattemessigeEgenskaper"]
[null,"Er det fysiske driftsmidlar i utgåande verdi?","næringsspesifikasjon","spesifikasjonAvAnleggsmiddel","saldoavskrevetAnleggsmiddel",null,"erDetFysiskAnleggsmiddelIUtgaaendeVerdi",null,null,null,null,null,{"$f":"M517","v":0},0,15,"k",290,null,null,"BoolskMedInnkapsling"]
[null,null,null,null,null,null,null,null,null,null,null,null,{"$f":"M536","v":0},0]
[null,"id","næringsspesifikasjon","spesifikasjonAvAnleggsmiddel","saldoavskrevetAnleggsmiddel",null,"id",null,null,null,{"$f":"K537","v":0},null,0,{"$f":"N536","v":0},16,"k",10,null,null,"Tekst"]
[null,"Saldogruppe J, Fast teknisk installasjon i bygningar","næringsspesifikasjon","spesifikasjonAvAnleggsmiddel","saldoavskrevetAnleggsmiddel",null,"saldogruppe",null,null,null,null,null,{"$f":"IF(K552=\"Ja\",1,0)","v":0},0,16,"k",250,null,null,"SaldogruppeMedInnkapsling"]
[null,"Objekt-id","næringsspesifikasjon","spesifikasjonAvAnleggsmiddel","saldoavskrevetAnleggsmiddel",null,"objektidentifikator ",null,null,null,null,null,{"$f":"M536","v":0},0,16,"k",20,null,null,"TekstMedInnkapsling"]
[null,"Avskrivingssats  ","næringsspesifikasjon","spesifikasjonAvAnleggsmiddel","saldoavskrevetAnleggsmiddel",null,"avskrivningssats  ",null,null,null,null,null,{"$f":"M536","v":0},0,16,"k",260,null,null,"ProsentMedInnkapsling"]
[null,"InngåandeVerdi","næringsspesifikasjon","spesifikasjonAvAnleggsmiddel","saldoavskrevetAnleggsmiddel",null,"inngaaendeVerdi",null,null,null,null,null,{"$f":"M536","v":0},0,16,"k",60,null,null,"BeloepMedSkattemessigeEgenskaper"]
[null,"Nyanskaffing","næringsspesifikasjon","spesifikasjonAvAnleggsmiddel","saldoavskrevetAnleggsmiddel",null,"nyanskaffelse",null,null,null,null,null,{"$f":"IF(K540=0,,1)","v":0},0,16,"k",270,null,null,"BeloepMedSkattemessigeEgenskaper"]
[null,"Påkosting","næringsspesifikasjon","spesifikasjonAvAnleggsmiddel","saldoavskrevetAnleggsmiddel",null,"paakostning",null,null,null,null,null,{"$f":"IF(K541=0,,1)","v":0},0,16,"k",70,null,null,"BeloepMedSkattemessigeEgenskaper"]
[null,"nedskrivningPåNyanskaffelserMedBetingetSkattefriSalgsgevinstGjelder","næringsspesifikasjon","spesifikasjonAvAnleggsmiddel","saldoavskrevetAnleggsmiddel",null,"nedskrivningPaaNyanskaffelserMedBetingetSkattefriSalgsgevinstGjelder",null,null,null,null,null,{"$f":"IF(K542=0,,1)","v":0},0,16,"k",150,null,null,"BeloepMedSkattemessigeEgenskaper"]
[null,"Offentleg tilskot","næringsspesifikasjon","spesifikasjonAvAnleggsmiddel","saldoavskrevetAnleggsmiddel",null,"offentligTilskudd",null,null,null,null,null,0,0,16,"k",80,null,null,"BeloepMedSkattemessigeEgenskaper"]
[null,"Vederlag ved realisasjon og uttak","næringsspesifikasjon","spesifikasjonAvAnleggsmiddel","saldoavskrevetAnleggsmiddel",null,"vederlagVedRealisasjonOgUttak",null,null,null,null,null,0,0,16,"k",100,null,null,"BeloepMedSkattemessigeEgenskaper"]
[null,"erRealisasjonenUfrivilligOgGevinstenBetingetSkattefri","næringsspesifikasjon","spesifikasjonAvAnleggsmiddel","saldoavskrevetAnleggsmiddel",null,"erRealisasjonenUfrivilligOgGevinstenBetingetSkattefri",null,null,null,null,null,0,0,16,"k",120,null,null,"BoolskMedInnkapsling"]
[null,"Grunnlag for avskriving og inntektsføring","næringsspesifikasjon","spesifikasjonAvAnleggsmiddel","saldoavskrevetAnleggsmiddel",null,"grunnlagForAvskrivningOgInntektsfoering",null,null,null,null,null,0,0,16,"k",190,null,null,"BeloepMedSkattemessigeEgenskaper"]
[null,"Vinst overført til vinst- og tapskonto","næringsspesifikasjon","spesifikasjonAvAnleggsmiddel","saldoavskrevetAnleggsmiddel",null,"gevinstOverfoertTilGevinstOgTapskonto",null,null,null,null,null,0,0,16,"k",210,null,null,"BeloepMedSkattemessigeEgenskaper"]
[null,"Tap overført til vinst- og tapskonto","næringsspesifikasjon","spesifikasjonAvAnleggsmiddel","saldoavskrevetAnleggsmiddel",null,"tapOverfoertTilGevinstOgTapskonto",null,null,null,null,null,0,0,16,"k",220,null,null,"BeloepMedSkattemessigeEgenskaper"]
[null,"Årets avskriving","næringsspesifikasjon","spesifikasjonAvAnleggsmiddel","saldoavskrevetAnleggsmiddel",null,"aaretsAvskrivning",null,null,null,null,null,0,0,16,"k",230,null,null,"BeloepMedSkattemessigeEgenskaper"]
[null,"åretsInntektsføringAvNegativSaldo","næringsspesifikasjon","spesifikasjonAvAnleggsmiddel","saldoavskrevetAnleggsmiddel",null,"aaretsInntektsfoeringAvNegativSaldo",null,null,null,null,null,0,0,16,"k",240,null,null,"BeloepMedSkattemessigeEgenskaper"]
[null,"Utgåande verdi","næringsspesifikasjon","spesifikasjonAvAnleggsmiddel","saldoavskrevetAnleggsmiddel",null,"utgaaendeVerdi",null,null,null,null,null,{"$f":"M536","v":0},0,16,"k",200,null,null,"BeloepMedSkattemessigeEgenskaper"]
[null,"Er det fysiske driftsmidlar i utgåande verdi?","næringsspesifikasjon","spesifikasjonAvAnleggsmiddel","saldoavskrevetAnleggsmiddel",null,"erDetFysiskAnleggsmiddelIUtgaaendeVerdi",null,null,null,null,null,{"$f":"M536","v":0},0,16,"k",290,null,null,"BoolskMedInnkapsling"]
[null,null,null,null,null,null,null,null,null,null,null,null,{"$f":"M555","v":0},0]
[null,"id","næringsspesifikasjon","spesifikasjonAvAnleggsmiddel","saldoavskrevetAnleggsmiddel",null,"id",null,null,null,{"$f":"K556","v":0},null,0,{"$f":"N555","v":0},17,"k",10,null,null,"Tekst"]
[null,"Saldogruppe J, Fast teknisk installasjon i bygningar","næringsspesifikasjon","spesifikasjonAvAnleggsmiddel","saldoavskrevetAnleggsmiddel",null,"saldogruppe",null,null,null,null,null,{"$f":"IF(K571=\"Ja\",1,0)","v":0},0,17,"k",250,null,null,"SaldogruppeMedInnkapsling"]
[null,"Objekt-id","næringsspesifikasjon","spesifikasjonAvAnleggsmiddel","saldoavskrevetAnleggsmiddel",null,"objektidentifikator ",null,null,null,null,null,{"$f":"M555","v":0},0,17,"k",20,null,null,"TekstMedInnkapsling"]
[null,"Avskrivingssats  ","næringsspesifikasjon","spesifikasjonAvAnleggsmiddel","saldoavskrevetAnleggsmiddel",null,"avskrivningssats  ",null,null,null,null,null,{"$f":"M555","v":0},0,17,"k",260,null,null,"ProsentMedInnkapsling"]
[null,"InngåandeVerdi","næringsspesifikasjon","spesifikasjonAvAnleggsmiddel","saldoavskrevetAnleggsmiddel",null,"inngaaendeVerdi",null,null,null,null,null,{"$f":"M555","v":0},0,17,"k",60,null,null,"BeloepMedSkattemessigeEgenskaper"]
[null,"Nyanskaffing","næringsspesifikasjon","spesifikasjonAvAnleggsmiddel","saldoavskrevetAnleggsmiddel",null,"nyanskaffelse",null,null,null,null,null,{"$f":"IF(K559=0,,1)","v":0},0,17,"k",270,null,null,"BeloepMedSkattemessigeEgenskaper"]
[null,"Påkosting","næringsspesifikasjon","spesifikasjonAvAnleggsmiddel","saldoavskrevetAnleggsmiddel",null,"paakostning",null,null,null,null,null,{"$f":"IF(K560=0,,1)","v":0},0,17,"k",70,null,null,"BeloepMedSkattemessigeEgenskaper"]
[null,"nedskrivningPåNyanskaffelserMedBetingetSkattefriSalgsgevinstGjelder","næringsspesifikasjon","spesifikasjonAvAnleggsmiddel","saldoavskrevetAnleggsmiddel",null,"nedskrivningPaaNyanskaffelserMedBetingetSkattefriSalgsgevinstGjelder",null,null,null,null,null,{"$f":"IF(K561=0,,1)","v":0},0,17,"k",150,null,null,"BeloepMedSkattemessigeEgenskaper"]
[null,"Offentleg tilskot","næringsspesifikasjon","spesifikasjonAvAnleggsmiddel","saldoavskrevetAnleggsmiddel",null,"offentligTilskudd",null,null,null,null,null,0,0,17,"k",80,null,null,"BeloepMedSkattemessigeEgenskaper"]
[null,"Vederlag ved realisasjon og uttak","næringsspesifikasjon","spesifikasjonAvAnleggsmiddel","saldoavskrevetAnleggsmiddel",null,"vederlagVedRealisasjonOgUttak",null,null,null,null,null,0,0,17,"k",100,null,null,"BeloepMedSkattemessigeEgenskaper"]
[null,"erRealisasjonenUfrivilligOgGevinstenBetingetSkattefri","næringsspesifikasjon","spesifikasjonAvAnleggsmiddel","saldoavskrevetAnleggsmiddel",null,"erRealisasjonenUfrivilligOgGevinstenBetingetSkattefri",null,null,null,null,null,0,0,17,"k",120,null,null,"BoolskMedInnkapsling"]
[null,"Grunnlag for avskriving og inntektsføring","næringsspesifikasjon","spesifikasjonAvAnleggsmiddel","saldoavskrevetAnleggsmiddel",null,"grunnlagForAvskrivningOgInntektsfoering",null,null,null,null,null,0,0,17,"k",190,null,null,"BeloepMedSkattemessigeEgenskaper"]
[null,"Vinst overført til vinst- og tapskonto","næringsspesifikasjon","spesifikasjonAvAnleggsmiddel","saldoavskrevetAnleggsmiddel",null,"gevinstOverfoertTilGevinstOgTapskonto",null,null,null,null,null,0,0,17,"k",210,null,null,"BeloepMedSkattemessigeEgenskaper"]
[null,"Tap overført til vinst- og tapskonto","næringsspesifikasjon","spesifikasjonAvAnleggsmiddel","saldoavskrevetAnleggsmiddel",null,"tapOverfoertTilGevinstOgTapskonto",null,null,null,null,null,0,0,17,"k",220,null,null,"BeloepMedSkattemessigeEgenskaper"]
[null,"Årets avskriving","næringsspesifikasjon","spesifikasjonAvAnleggsmiddel","saldoavskrevetAnleggsmiddel",null,"aaretsAvskrivning",null,null,null,null,null,0,0,17,"k",230,null,null,"BeloepMedSkattemessigeEgenskaper"]
[null,"åretsInntektsføringAvNegativSaldo","næringsspesifikasjon","spesifikasjonAvAnleggsmiddel","saldoavskrevetAnleggsmiddel",null,"aaretsInntektsfoeringAvNegativSaldo",null,null,null,null,null,0,0,17,"k",240,null,null,"BeloepMedSkattemessigeEgenskaper"]
[null,"Utgåande verdi","næringsspesifikasjon","spesifikasjonAvAnleggsmiddel","saldoavskrevetAnleggsmiddel",null,"utgaaendeVerdi",null,null,null,null,null,{"$f":"M555","v":0},0,17,"k",200,null,null,"BeloepMedSkattemessigeEgenskaper"]
[null,"Er det fysiske driftsmidlar i utgåande verdi?","næringsspesifikasjon","spesifikasjonAvAnleggsmiddel","saldoavskrevetAnleggsmiddel",null,"erDetFysiskAnleggsmiddelIUtgaaendeVerdi",null,null,null,null,null,{"$f":"M555","v":0},0,17,"k",290,null,null,"BoolskMedInnkapsling"]
[null,null,null,null,null,null,null,null,null,null,null,null,{"$f":"M574","v":0},0]
[null,"id","næringsspesifikasjon","spesifikasjonAvAnleggsmiddel","saldoavskrevetAnleggsmiddel",null,"id",null,null,null,{"$f":"K575","v":0},null,0,{"$f":"N574","v":0},18,"k",10,null,null,"Tekst"]
[null,"Saldogruppe J, Fast teknisk installasjon i bygningar","næringsspesifikasjon","spesifikasjonAvAnleggsmiddel","saldoavskrevetAnleggsmiddel",null,"saldogruppe",null,null,null,null,null,{"$f":"IF(K590=\"Ja\",1,0)","v":0},0,18,"k",250,null,null,"SaldogruppeMedInnkapsling"]
[null,"Objekt-id","næringsspesifikasjon","spesifikasjonAvAnleggsmiddel","saldoavskrevetAnleggsmiddel",null,"objektidentifikator ",null,null,null,null,null,{"$f":"M574","v":0},0,18,"k",20,null,null,"TekstMedInnkapsling"]
[null,"Avskrivingssats  ","næringsspesifikasjon","spesifikasjonAvAnleggsmiddel","saldoavskrevetAnleggsmiddel",null,"avskrivningssats  ",null,null,null,null,null,{"$f":"M574","v":0},0,18,"k",260,null,null,"ProsentMedInnkapsling"]
[null,"InngåandeVerdi","næringsspesifikasjon","spesifikasjonAvAnleggsmiddel","saldoavskrevetAnleggsmiddel",null,"inngaaendeVerdi",null,null,null,null,null,{"$f":"M574","v":0},0,18,"k",60,null,null,"BeloepMedSkattemessigeEgenskaper"]
[null,"Nyanskaffing","næringsspesifikasjon","spesifikasjonAvAnleggsmiddel","saldoavskrevetAnleggsmiddel",null,"nyanskaffelse",null,null,null,null,null,{"$f":"IF(K578=0,,1)","v":0},0,18,"k",270,null,null,"BeloepMedSkattemessigeEgenskaper"]
[null,"Påkosting","næringsspesifikasjon","spesifikasjonAvAnleggsmiddel","saldoavskrevetAnleggsmiddel",null,"paakostning",null,null,null,null,null,{"$f":"IF(K579=0,,1)","v":0},0,18,"k",70,null,null,"BeloepMedSkattemessigeEgenskaper"]
[null,"nedskrivningPåNyanskaffelserMedBetingetSkattefriSalgsgevinstGjelder","næringsspesifikasjon","spesifikasjonAvAnleggsmiddel","saldoavskrevetAnleggsmiddel",null,"nedskrivningPaaNyanskaffelserMedBetingetSkattefriSalgsgevinstGjelder",null,null,null,null,null,{"$f":"IF(K580=0,,1)","v":0},0,18,"k",150,null,null,"BeloepMedSkattemessigeEgenskaper"]
[null,"Offentleg tilskot","næringsspesifikasjon","spesifikasjonAvAnleggsmiddel","saldoavskrevetAnleggsmiddel",null,"offentligTilskudd",null,null,null,null,null,0,0,18,"k",80,null,null,"BeloepMedSkattemessigeEgenskaper"]
[null,"Vederlag ved realisasjon og uttak","næringsspesifikasjon","spesifikasjonAvAnleggsmiddel","saldoavskrevetAnleggsmiddel",null,"vederlagVedRealisasjonOgUttak",null,null,null,null,null,0,0,18,"k",100,null,null,"BeloepMedSkattemessigeEgenskaper"]
[null,"erRealisasjonenUfrivilligOgGevinstenBetingetSkattefri","næringsspesifikasjon","spesifikasjonAvAnleggsmiddel","saldoavskrevetAnleggsmiddel",null,"erRealisasjonenUfrivilligOgGevinstenBetingetSkattefri",null,null,null,null,null,0,0,18,"k",120,null,null,"BoolskMedInnkapsling"]
[null,"Grunnlag for avskriving og inntektsføring","næringsspesifikasjon","spesifikasjonAvAnleggsmiddel","saldoavskrevetAnleggsmiddel",null,"grunnlagForAvskrivningOgInntektsfoering",null,null,null,null,null,0,0,18,"k",190,null,null,"BeloepMedSkattemessigeEgenskaper"]
[null,"Vinst overført til vinst- og tapskonto","næringsspesifikasjon","spesifikasjonAvAnleggsmiddel","saldoavskrevetAnleggsmiddel",null,"gevinstOverfoertTilGevinstOgTapskonto",null,null,null,null,null,0,0,18,"k",210,null,null,"BeloepMedSkattemessigeEgenskaper"]
[null,"Tap overført til vinst- og tapskonto","næringsspesifikasjon","spesifikasjonAvAnleggsmiddel","saldoavskrevetAnleggsmiddel",null,"tapOverfoertTilGevinstOgTapskonto",null,null,null,null,null,0,0,18,"k",220,null,null,"BeloepMedSkattemessigeEgenskaper"]
[null,"Årets avskriving","næringsspesifikasjon","spesifikasjonAvAnleggsmiddel","saldoavskrevetAnleggsmiddel",null,"aaretsAvskrivning",null,null,null,null,null,0,0,18,"k",230,null,null,"BeloepMedSkattemessigeEgenskaper"]
[null,"åretsInntektsføringAvNegativSaldo","næringsspesifikasjon","spesifikasjonAvAnleggsmiddel","saldoavskrevetAnleggsmiddel",null,"aaretsInntektsfoeringAvNegativSaldo",null,null,null,null,null,0,{"$f":"M588","v":0},18,"k",240,null,null,"BeloepMedSkattemessigeEgenskaper"]
[null,"Utgåande verdi","næringsspesifikasjon","spesifikasjonAvAnleggsmiddel","saldoavskrevetAnleggsmiddel",null,"utgaaendeVerdi",null,null,null,null,null,{"$f":"M574","v":0},0,18,"k",200,null,null,"BeloepMedSkattemessigeEgenskaper"]
[null,"Er det fysiske driftsmidlar i utgåande verdi?","næringsspesifikasjon","spesifikasjonAvAnleggsmiddel","saldoavskrevetAnleggsmiddel",null,"erDetFysiskAnleggsmiddelIUtgaaendeVerdi",null,null,null,null,null,{"$f":"M574","v":0},0,18,"k",290,null,null,"BoolskMedInnkapsling"]
[null,null,null,null,null,null,null,null,null,null,null,null,{"$f":"M593","v":0},0]
[null,"id","næringsspesifikasjon","spesifikasjonAvAnleggsmiddel","saldoavskrevetAnleggsmiddel",null,"id",null,null,null,{"$f":"K594","v":0},null,0,{"$f":"N593","v":0},19,"k",10,null,null,"Tekst"]
[null,"Saldogruppe J, Fast teknisk installasjon i bygningar","næringsspesifikasjon","spesifikasjonAvAnleggsmiddel","saldoavskrevetAnleggsmiddel",null,"saldogruppe",null,null,null,null,null,{"$f":"IF(K609=\"Ja\",1,0)","v":0},0,19,"k",250,null,null,"SaldogruppeMedInnkapsling"]
[null,"Objekt-id","næringsspesifikasjon","spesifikasjonAvAnleggsmiddel","saldoavskrevetAnleggsmiddel",null,"objektidentifikator ",null,null,null,null,null,{"$f":"M593","v":0},0,19,"k",20,null,null,"TekstMedInnkapsling"]
[null,"Avskrivingssats  ","næringsspesifikasjon","spesifikasjonAvAnleggsmiddel","saldoavskrevetAnleggsmiddel",null,"avskrivningssats  ",null,null,null,null,null,{"$f":"M593","v":0},0,19,"k",260,null,null,"ProsentMedInnkapsling"]
[null,"InngåandeVerdi","næringsspesifikasjon","spesifikasjonAvAnleggsmiddel","saldoavskrevetAnleggsmiddel",null,"inngaaendeVerdi",null,null,null,null,null,{"$f":"M593","v":0},0,19,"k",60,null,null,"BeloepMedSkattemessigeEgenskaper"]
[null,"Nyanskaffing","næringsspesifikasjon","spesifikasjonAvAnleggsmiddel","saldoavskrevetAnleggsmiddel",null,"nyanskaffelse",null,null,null,null,null,{"$f":"IF(K597=0,,1)","v":0},0,19,"k",270,null,null,"BeloepMedSkattemessigeEgenskaper"]
[null,"Påkosting","næringsspesifikasjon","spesifikasjonAvAnleggsmiddel","saldoavskrevetAnleggsmiddel",null,"paakostning",null,null,null,null,null,{"$f":"IF(K598=0,,1)","v":0},0,19,"k",70,null,null,"BeloepMedSkattemessigeEgenskaper"]
[null,"nedskrivningPåNyanskaffelserMedBetingetSkattefriSalgsgevinstGjelder","næringsspesifikasjon","spesifikasjonAvAnleggsmiddel","saldoavskrevetAnleggsmiddel",null,"nedskrivningPaaNyanskaffelserMedBetingetSkattefriSalgsgevinstGjelder",null,null,null,null,null,{"$f":"IF(K599=0,,1)","v":0},0,19,"k",150,null,null,"BeloepMedSkattemessigeEgenskaper"]
[null,"Offentleg tilskot","næringsspesifikasjon","spesifikasjonAvAnleggsmiddel","saldoavskrevetAnleggsmiddel",null,"offentligTilskudd",null,null,null,null,null,0,0,19,"k",80,null,null,"BeloepMedSkattemessigeEgenskaper"]
[null,"Vederlag ved realisasjon og uttak","næringsspesifikasjon","spesifikasjonAvAnleggsmiddel","saldoavskrevetAnleggsmiddel",null,"vederlagVedRealisasjonOgUttak",null,null,null,null,null,0,0,19,"k",100,null,null,"BeloepMedSkattemessigeEgenskaper"]
[null,"erRealisasjonenUfrivilligOgGevinstenBetingetSkattefri","næringsspesifikasjon","spesifikasjonAvAnleggsmiddel","saldoavskrevetAnleggsmiddel",null,"erRealisasjonenUfrivilligOgGevinstenBetingetSkattefri",null,null,null,null,null,0,0,19,"k",120,null,null,"BoolskMedInnkapsling"]
[null,"Grunnlag for avskriving og inntektsføring","næringsspesifikasjon","spesifikasjonAvAnleggsmiddel","saldoavskrevetAnleggsmiddel",null,"grunnlagForAvskrivningOgInntektsfoering",null,null,null,null,null,0,0,19,"k",190,null,null,"BeloepMedSkattemessigeEgenskaper"]
[null,"Vinst overført til vinst- og tapskonto","næringsspesifikasjon","spesifikasjonAvAnleggsmiddel","saldoavskrevetAnleggsmiddel",null,"gevinstOverfoertTilGevinstOgTapskonto",null,null,null,null,null,0,0,19,"k",210,null,null,"BeloepMedSkattemessigeEgenskaper"]
[null,"Tap overført til vinst- og tapskonto","næringsspesifikasjon","spesifikasjonAvAnleggsmiddel","saldoavskrevetAnleggsmiddel",null,"tapOverfoertTilGevinstOgTapskonto",null,null,null,null,null,0,0,19,"k",220,null,null,"BeloepMedSkattemessigeEgenskaper"]
[null,"Årets avskriving","næringsspesifikasjon","spesifikasjonAvAnleggsmiddel","saldoavskrevetAnleggsmiddel",null,"aaretsAvskrivning",null,null,null,null,null,0,0,19,"k",230,null,null,"BeloepMedSkattemessigeEgenskaper"]
[null,"åretsInntektsføringAvNegativSaldo","næringsspesifikasjon","spesifikasjonAvAnleggsmiddel","saldoavskrevetAnleggsmiddel",null,"aaretsInntektsfoeringAvNegativSaldo",null,null,null,null,null,0,0,19,"k",240,null,null,"BeloepMedSkattemessigeEgenskaper"]
[null,"Utgåande verdi","næringsspesifikasjon","spesifikasjonAvAnleggsmiddel","saldoavskrevetAnleggsmiddel",null,"utgaaendeVerdi",null,null,null,null,null,{"$f":"M593","v":0},0,19,"k",200,null,null,"BeloepMedSkattemessigeEgenskaper"]
[null,"Er det fysiske driftsmidlar i utgåande verdi?","næringsspesifikasjon","spesifikasjonAvAnleggsmiddel","saldoavskrevetAnleggsmiddel",null,"erDetFysiskAnleggsmiddelIUtgaaendeVerdi",null,null,null,null,null,{"$f":"M593","v":0},0,19,"k",290,null,null,"BoolskMedInnkapsling"]
[null,null,null,null,null,null,null,null,null,null,null,null,{"$f":"M612","v":0},0]
[null,"id","næringsspesifikasjon","spesifikasjonAvAnleggsmiddel","saldoavskrevetAnleggsmiddel",null,"id",null,null,null,{"$f":"K613","v":0},null,0,{"$f":"N612","v":0},20,"k",10,null,null,"Tekst"]
[null,"Saldogruppe D, personbilar, traktorar, maskiner o.l","næringsspesifikasjon","spesifikasjonAvAnleggsmiddel","saldoavskrevetAnleggsmiddel",null,"saldogruppe",null,null,null,null,null,{"$f":"IF(K628=\"Ja\",1,0)","v":0},0,20,"k",250,null,null,"SaldogruppeMedInnkapsling"]
[null,"Objekt-id","næringsspesifikasjon","spesifikasjonAvAnleggsmiddel","saldoavskrevetAnleggsmiddel",null,"objektidentifikator ",null,null,null,null,null,{"$f":"M612","v":0},0,20,"k",20,null,null,"TekstMedInnkapsling"]
[null,"Avskrivingssats  ","næringsspesifikasjon","spesifikasjonAvAnleggsmiddel","saldoavskrevetAnleggsmiddel",null,"avskrivningssats  ",null,null,null,null,null,{"$f":"M612","v":0},0,20,"k",260,null,null,"ProsentMedInnkapsling"]
[null,"InngåandeVerdi","næringsspesifikasjon","spesifikasjonAvAnleggsmiddel","saldoavskrevetAnleggsmiddel",null,"inngaaendeVerdi",null,null,null,null,null,{"$f":"M612","v":0},0,20,"k",60,null,null,"BeloepMedSkattemessigeEgenskaper"]
[null,"Nyanskaffing","næringsspesifikasjon","spesifikasjonAvAnleggsmiddel","saldoavskrevetAnleggsmiddel",null,"nyanskaffelse",null,null,null,null,null,{"$f":"IF(K616=0,,1)","v":0},0,20,"k",270,null,null,"BeloepMedSkattemessigeEgenskaper"]
[null,"Påkosting","næringsspesifikasjon","spesifikasjonAvAnleggsmiddel","saldoavskrevetAnleggsmiddel",null,"paakostning",null,null,null,null,null,{"$f":"IF(K617=0,,1)","v":0},0,20,"k",70,null,null,"BeloepMedSkattemessigeEgenskaper"]
[null,"nedskrivningPåNyanskaffelserMedBetingetSkattefriSalgsgevinstGjelder","næringsspesifikasjon","spesifikasjonAvAnleggsmiddel","saldoavskrevetAnleggsmiddel",null,"nedskrivningPaaNyanskaffelserMedBetingetSkattefriSalgsgevinstGjelder",null,null,null,null,null,{"$f":"IF(K618=0,,1)","v":0},0,20,"k",150,null,null,"BeloepMedSkattemessigeEgenskaper"]
[null,"Offentleg tilskot","næringsspesifikasjon","spesifikasjonAvAnleggsmiddel","saldoavskrevetAnleggsmiddel",null,"offentligTilskudd",null,null,null,null,null,0,0,20,"k",80,null,null,"BeloepMedSkattemessigeEgenskaper"]
[null,"Vederlag ved realisasjon og uttak","næringsspesifikasjon","spesifikasjonAvAnleggsmiddel","saldoavskrevetAnleggsmiddel",null,"vederlagVedRealisasjonOgUttak",null,null,null,null,null,0,0,20,"k",100,null,null,"BeloepMedSkattemessigeEgenskaper"]
[null,"erRealisasjonenUfrivilligOgGevinstenBetingetSkattefri","næringsspesifikasjon","spesifikasjonAvAnleggsmiddel","saldoavskrevetAnleggsmiddel",null,"erRealisasjonenUfrivilligOgGevinstenBetingetSkattefri",null,null,null,null,null,0,0,20,"k",120,null,null,"BoolskMedInnkapsling"]
[null,"Grunnlag for avskriving og inntektsføring","næringsspesifikasjon","spesifikasjonAvAnleggsmiddel","saldoavskrevetAnleggsmiddel",null,"grunnlagForAvskrivningOgInntektsfoering",null,null,null,null,null,0,0,20,"k",190,null,null,"BeloepMedSkattemessigeEgenskaper"]
[null,"Vinst overført til vinst- og tapskonto","næringsspesifikasjon","spesifikasjonAvAnleggsmiddel","saldoavskrevetAnleggsmiddel",null,"gevinstOverfoertTilGevinstOgTapskonto",null,null,null,null,null,0,0,20,"k",210,null,null,"BeloepMedSkattemessigeEgenskaper"]
[null,"Tap overført til vinst- og tapskonto","næringsspesifikasjon","spesifikasjonAvAnleggsmiddel","saldoavskrevetAnleggsmiddel",null,"tapOverfoertTilGevinstOgTapskonto",null,null,null,null,null,0,0,20,"k",220,null,null,"BeloepMedSkattemessigeEgenskaper"]
[null,"Årets avskriving","næringsspesifikasjon","spesifikasjonAvAnleggsmiddel","saldoavskrevetAnleggsmiddel",null,"aaretsAvskrivning",null,null,null,null,null,0,0,20,"k",230,null,null,"BeloepMedSkattemessigeEgenskaper"]
[null,"åretsInntektsføringAvNegativSaldo","næringsspesifikasjon","spesifikasjonAvAnleggsmiddel","saldoavskrevetAnleggsmiddel",null,"aaretsInntektsfoeringAvNegativSaldo",null,null,null,null,null,0,0,20,"k",240,null,null,"BeloepMedSkattemessigeEgenskaper"]
[null,"Utgåande verdi","næringsspesifikasjon","spesifikasjonAvAnleggsmiddel","saldoavskrevetAnleggsmiddel",null,"utgaaendeVerdi",null,null,null,null,null,{"$f":"M612","v":0},0,20,"k",200,null,null,"BeloepMedSkattemessigeEgenskaper"]
[null,"Er det fysiske driftsmidlar i utgåande verdi?","næringsspesifikasjon","spesifikasjonAvAnleggsmiddel","saldoavskrevetAnleggsmiddel",null,"erDetFysiskAnleggsmiddelIUtgaaendeVerdi",null,null,null,null,null,{"$f":"M612","v":0},0,20,"k",290,null,null,"BoolskMedInnkapsling"]
[null,null,null,null,null,null,null,null,null,null,null,null,{"$f":"M631","v":0},0]
[null,"id","næringsspesifikasjon","spesifikasjonAvAnleggsmiddel","saldoavskrevetAnleggsmiddel",null,"id",null,null,null,{"$f":"K632","v":0},null,0,{"$f":"N631","v":0},21,"k",10,null,null,"Tekst"]
[null,"Saldogruppe C, Vogntog, lastebilar, varebilar o.l.","næringsspesifikasjon","spesifikasjonAvAnleggsmiddel","saldoavskrevetAnleggsmiddel",null,"saldogruppe",null,null,null,null,null,{"$f":"IF(K647=\"Ja\",1,0)","v":0},0,21,"k",250,null,null,"SaldogruppeMedInnkapsling"]
[null,"Objekt-id","næringsspesifikasjon","spesifikasjonAvAnleggsmiddel","saldoavskrevetAnleggsmiddel",null,"objektidentifikator ",null,null,null,null,null,{"$f":"M631","v":0},0,21,"k",20,null,null,"TekstMedInnkapsling"]
[null,"Avskrivingssats  ","næringsspesifikasjon","spesifikasjonAvAnleggsmiddel","saldoavskrevetAnleggsmiddel",null,"avskrivningssats  ",null,null,null,null,null,{"$f":"M631","v":0},0,21,"k",260,null,null,"ProsentMedInnkapsling"]
[null,"InngåandeVerdi","næringsspesifikasjon","spesifikasjonAvAnleggsmiddel","saldoavskrevetAnleggsmiddel",null,"inngaaendeVerdi",null,null,null,null,null,{"$f":"M631","v":0},0,21,"k",60,null,null,"BeloepMedSkattemessigeEgenskaper"]
[null,"Nyanskaffing","næringsspesifikasjon","spesifikasjonAvAnleggsmiddel","saldoavskrevetAnleggsmiddel",null,"nyanskaffelse",null,null,null,null,null,{"$f":"IF(K635=0,,1)","v":0},0,21,"k",270,null,null,"BeloepMedSkattemessigeEgenskaper"]
[null,"Påkosting","næringsspesifikasjon","spesifikasjonAvAnleggsmiddel","saldoavskrevetAnleggsmiddel",null,"paakostning",null,null,null,null,null,{"$f":"IF(K636=0,,1)","v":0},0,21,"k",70,null,null,"BeloepMedSkattemessigeEgenskaper"]
[null,"nedskrivningPåNyanskaffelserMedBetingetSkattefriSalgsgevinstGjelder","næringsspesifikasjon","spesifikasjonAvAnleggsmiddel","saldoavskrevetAnleggsmiddel",null,"nedskrivningPaaNyanskaffelserMedBetingetSkattefriSalgsgevinstGjelder",null,null,null,null,null,{"$f":"IF(K637=0,,1)","v":0},0,21,"k",150,null,null,"BeloepMedSkattemessigeEgenskaper"]
[null,"Offentleg tilskot","næringsspesifikasjon","spesifikasjonAvAnleggsmiddel","saldoavskrevetAnleggsmiddel",null,"offentligTilskudd",null,null,null,null,null,0,0,21,"k",80,null,null,"BeloepMedSkattemessigeEgenskaper"]
[null,"Vederlag ved realisasjon og uttak","næringsspesifikasjon","spesifikasjonAvAnleggsmiddel","saldoavskrevetAnleggsmiddel",null,"vederlagVedRealisasjonOgUttak",null,null,null,null,null,0,0,21,"k",100,null,null,"BeloepMedSkattemessigeEgenskaper"]
[null,"erRealisasjonenUfrivilligOgGevinstenBetingetSkattefri","næringsspesifikasjon","spesifikasjonAvAnleggsmiddel","saldoavskrevetAnleggsmiddel",null,"erRealisasjonenUfrivilligOgGevinstenBetingetSkattefri",null,null,null,null,null,0,0,21,"k",120,null,null,"BoolskMedInnkapsling"]
[null,"Grunnlag for avskriving og inntektsføring","næringsspesifikasjon","spesifikasjonAvAnleggsmiddel","saldoavskrevetAnleggsmiddel",null,"grunnlagForAvskrivningOgInntektsfoering",null,null,null,null,null,0,0,21,"k",190,null,null,"BeloepMedSkattemessigeEgenskaper"]
[null,"Vinst overført til vinst- og tapskonto","næringsspesifikasjon","spesifikasjonAvAnleggsmiddel","saldoavskrevetAnleggsmiddel",null,"gevinstOverfoertTilGevinstOgTapskonto",null,null,null,null,null,0,0,21,"k",210,null,null,"BeloepMedSkattemessigeEgenskaper"]
[null,"Tap overført til vinst- og tapskonto","næringsspesifikasjon","spesifikasjonAvAnleggsmiddel","saldoavskrevetAnleggsmiddel",null,"tapOverfoertTilGevinstOgTapskonto",null,null,null,null,null,0,0,21,"k",220,null,null,"BeloepMedSkattemessigeEgenskaper"]
[null,"Årets avskriving","næringsspesifikasjon","spesifikasjonAvAnleggsmiddel","saldoavskrevetAnleggsmiddel",null,"aaretsAvskrivning",null,null,null,null,null,0,0,21,"k",230,null,null,"BeloepMedSkattemessigeEgenskaper"]
[null,"åretsInntektsføringAvNegativSaldo","næringsspesifikasjon","spesifikasjonAvAnleggsmiddel","saldoavskrevetAnleggsmiddel",null,"aaretsInntektsfoeringAvNegativSaldo",null,null,null,null,null,0,0,21,"k",240,null,null,"BeloepMedSkattemessigeEgenskaper"]
[null,"Utgåande verdi","næringsspesifikasjon","spesifikasjonAvAnleggsmiddel","saldoavskrevetAnleggsmiddel",null,"utgaaendeVerdi",null,null,null,null,null,{"$f":"M631","v":0},0,21,"k",200,null,null,"BeloepMedSkattemessigeEgenskaper"]
[null,"Er det fysiske driftsmidlar i utgåande verdi?","næringsspesifikasjon","spesifikasjonAvAnleggsmiddel","saldoavskrevetAnleggsmiddel",null,"erDetFysiskAnleggsmiddelIUtgaaendeVerdi",null,null,null,null,null,{"$f":"M631","v":0},0,21,"k",290,null,null,"BoolskMedInnkapsling"]
[null,null,null,null,null,null,null,null,null,null,null,null,{"$f":"M650","v":0},0]
[null,"id","næringsspesifikasjon","spesifikasjonAvAnleggsmiddel","saldoavskrevetAnleggsmiddel",null,"id",null,null,null,{"$f":"K651","v":0},null,0,{"$f":"N650","v":0},22,"k",10,null,null,"Tekst"]
[null,"Saldogruppe C2, Vogntog, lastebilar, varebilar o.l. nullutslepp","næringsspesifikasjon","spesifikasjonAvAnleggsmiddel","saldoavskrevetAnleggsmiddel",null,"saldogruppe",null,null,null,null,null,{"$f":"IF(K666=\"Ja\",1,0)","v":0},0,22,"k",250,null,null,"SaldogruppeMedInnkapsling"]
[null,"Objekt-id","næringsspesifikasjon","spesifikasjonAvAnleggsmiddel","saldoavskrevetAnleggsmiddel",null,"objektidentifikator ",null,null,null,null,null,{"$f":"M650","v":0},0,22,"k",20,null,null,"TekstMedInnkapsling"]
[null,"Avskrivingssats  ","næringsspesifikasjon","spesifikasjonAvAnleggsmiddel","saldoavskrevetAnleggsmiddel",null,"avskrivningssats  ",null,null,null,null,null,{"$f":"M650","v":0},0,22,"k",260,null,null,"ProsentMedInnkapsling"]
[null,"InngåandeVerdi","næringsspesifikasjon","spesifikasjonAvAnleggsmiddel","saldoavskrevetAnleggsmiddel",null,"inngaaendeVerdi",null,null,null,null,null,{"$f":"M650","v":0},{"$f":"M653","v":0},22,"k",60,null,null,"BeloepMedSkattemessigeEgenskaper"]
[null,"Nyanskaffing","næringsspesifikasjon","spesifikasjonAvAnleggsmiddel","saldoavskrevetAnleggsmiddel",null,"nyanskaffelse",null,null,null,null,null,{"$f":"IF(K654=0,,1)","v":0},0,22,"k",270,null,null,"BeloepMedSkattemessigeEgenskaper"]
[null,"Påkosting","næringsspesifikasjon","spesifikasjonAvAnleggsmiddel","saldoavskrevetAnleggsmiddel",null,"paakostning",null,null,null,null,null,{"$f":"IF(K655=0,,1)","v":0},0,22,"k",70,null,null,"BeloepMedSkattemessigeEgenskaper"]
[null,"nedskrivningPåNyanskaffelserMedBetingetSkattefriSalgsgevinstGjelder","næringsspesifikasjon","spesifikasjonAvAnleggsmiddel","saldoavskrevetAnleggsmiddel",null,"nedskrivningPaaNyanskaffelserMedBetingetSkattefriSalgsgevinstGjelder",null,null,null,null,null,{"$f":"IF(K656=0,,1)","v":0},0,22,"k",150,null,null,"BeloepMedSkattemessigeEgenskaper"]
[null,"Offentleg tilskot","næringsspesifikasjon","spesifikasjonAvAnleggsmiddel","saldoavskrevetAnleggsmiddel",null,"offentligTilskudd",null,null,null,null,null,0,0,22,"k",80,null,null,"BeloepMedSkattemessigeEgenskaper"]
[null,"Vederlag ved realisasjon og uttak","næringsspesifikasjon","spesifikasjonAvAnleggsmiddel","saldoavskrevetAnleggsmiddel",null,"vederlagVedRealisasjonOgUttak",null,null,null,null,null,0,0,22,"k",100,null,null,"BeloepMedSkattemessigeEgenskaper"]
[null,"erRealisasjonenUfrivilligOgGevinstenBetingetSkattefri","næringsspesifikasjon","spesifikasjonAvAnleggsmiddel","saldoavskrevetAnleggsmiddel",null,"erRealisasjonenUfrivilligOgGevinstenBetingetSkattefri",null,null,null,null,null,0,0,22,"k",120,null,null,"BoolskMedInnkapsling"]
[null,"Grunnlag for avskriving og inntektsføring","næringsspesifikasjon","spesifikasjonAvAnleggsmiddel","saldoavskrevetAnleggsmiddel",null,"grunnlagForAvskrivningOgInntektsfoering",null,null,null,null,null,0,0,22,"k",190,null,null,"BeloepMedSkattemessigeEgenskaper"]
[null,"Vinst overført til vinst- og tapskonto","næringsspesifikasjon","spesifikasjonAvAnleggsmiddel","saldoavskrevetAnleggsmiddel",null,"gevinstOverfoertTilGevinstOgTapskonto",null,null,null,null,null,0,0,22,"k",210,null,null,"BeloepMedSkattemessigeEgenskaper"]
[null,"Tap overført til vinst- og tapskonto","næringsspesifikasjon","spesifikasjonAvAnleggsmiddel","saldoavskrevetAnleggsmiddel",null,"tapOverfoertTilGevinstOgTapskonto",null,null,null,null,null,0,0,22,"k",220,null,null,"BeloepMedSkattemessigeEgenskaper"]
[null,"Årets avskriving","næringsspesifikasjon","spesifikasjonAvAnleggsmiddel","saldoavskrevetAnleggsmiddel",null,"aaretsAvskrivning",null,null,null,null,null,0,0,22,"k",230,null,null,"BeloepMedSkattemessigeEgenskaper"]
[null,"åretsInntektsføringAvNegativSaldo","næringsspesifikasjon","spesifikasjonAvAnleggsmiddel","saldoavskrevetAnleggsmiddel",null,"aaretsInntektsfoeringAvNegativSaldo",null,null,null,null,null,0,0,22,"k",240,null,null,"BeloepMedSkattemessigeEgenskaper"]
[null,"Utgåande verdi","næringsspesifikasjon","spesifikasjonAvAnleggsmiddel","saldoavskrevetAnleggsmiddel",null,"utgaaendeVerdi",null,null,null,null,null,{"$f":"M650","v":0},0,22,"k",200,null,null,"BeloepMedSkattemessigeEgenskaper"]
[null,"Er det fysiske driftsmidlar i utgåande verdi?","næringsspesifikasjon","spesifikasjonAvAnleggsmiddel","saldoavskrevetAnleggsmiddel",null,"erDetFysiskAnleggsmiddelIUtgaaendeVerdi",null,null,null,null,null,{"$f":"M650","v":0},0,22,"k",290,null,null,"BoolskMedInnkapsling"]
[null,null,null,null,null,null,null,null,null,null,null,null,{"$f":"M669","v":0},0]
[null,"id","næringsspesifikasjon","spesifikasjonAvAnleggsmiddel","saldoavskrevetAnleggsmiddel",null,"id",null,null,null,{"$f":"K670","v":0},null,0,{"$f":"N669","v":0},23,"k",10,null,null,"Tekst"]
[null,"Saldogruppe A, Kontormaskiner o.l.","næringsspesifikasjon","spesifikasjonAvAnleggsmiddel","saldoavskrevetAnleggsmiddel",null,"saldogruppe",null,null,null,null,null,{"$f":"IF(K685=\"Ja\",1,0)","v":0},0,23,"k",250,null,null,"SaldogruppeMedInnkapsling"]
[null,"Objekt-id","næringsspesifikasjon","spesifikasjonAvAnleggsmiddel","saldoavskrevetAnleggsmiddel",null,"objektidentifikator ",null,null,null,null,null,{"$f":"M669","v":0},0,23,"k",20,null,null,"TekstMedInnkapsling"]
[null,"Avskrivingssats  ","næringsspesifikasjon","spesifikasjonAvAnleggsmiddel","saldoavskrevetAnleggsmiddel",null,"avskrivningssats  ",null,null,null,null,null,{"$f":"M669","v":0},0,23,"k",260,null,null,"ProsentMedInnkapsling"]
[null,"InngåandeVerdi","næringsspesifikasjon","spesifikasjonAvAnleggsmiddel","saldoavskrevetAnleggsmiddel",null,"inngaaendeVerdi",null,null,null,null,null,{"$f":"M669","v":0},0,23,"k",60,null,null,"BeloepMedSkattemessigeEgenskaper"]
[null,"Nyanskaffing","næringsspesifikasjon","spesifikasjonAvAnleggsmiddel","saldoavskrevetAnleggsmiddel",null,"nyanskaffelse",null,null,null,null,null,{"$f":"IF(K673=0,,1)","v":0},0,23,"k",270,null,null,"BeloepMedSkattemessigeEgenskaper"]
[null,"Påkosting","næringsspesifikasjon","spesifikasjonAvAnleggsmiddel","saldoavskrevetAnleggsmiddel",null,"paakostning",null,null,null,null,null,{"$f":"IF(K674=0,,1)","v":0},0,23,"k",70,null,null,"BeloepMedSkattemessigeEgenskaper"]
[null,"nedskrivningPåNyanskaffelserMedBetingetSkattefriSalgsgevinstGjelder","næringsspesifikasjon","spesifikasjonAvAnleggsmiddel","saldoavskrevetAnleggsmiddel",null,"nedskrivningPaaNyanskaffelserMedBetingetSkattefriSalgsgevinstGjelder",null,null,null,null,null,{"$f":"IF(K675=0,,1)","v":0},0,23,"k",150,null,null,"BeloepMedSkattemessigeEgenskaper"]
[null,"Offentleg tilskot","næringsspesifikasjon","spesifikasjonAvAnleggsmiddel","saldoavskrevetAnleggsmiddel",null,"offentligTilskudd",null,null,null,null,null,0,0,23,"k",80,null,null,"BeloepMedSkattemessigeEgenskaper"]
[null,"Vederlag ved realisasjon og uttak","næringsspesifikasjon","spesifikasjonAvAnleggsmiddel","saldoavskrevetAnleggsmiddel",null,"vederlagVedRealisasjonOgUttak",null,null,null,null,null,0,0,23,"k",100,null,null,"BeloepMedSkattemessigeEgenskaper"]
[null,"erRealisasjonenUfrivilligOgGevinstenBetingetSkattefri","næringsspesifikasjon","spesifikasjonAvAnleggsmiddel","saldoavskrevetAnleggsmiddel",null,"erRealisasjonenUfrivilligOgGevinstenBetingetSkattefri",null,null,null,null,null,0,0,23,"k",120,null,null,"BoolskMedInnkapsling"]
[null,"Grunnlag for avskriving og inntektsføring","næringsspesifikasjon","spesifikasjonAvAnleggsmiddel","saldoavskrevetAnleggsmiddel",null,"grunnlagForAvskrivningOgInntektsfoering",null,null,null,null,null,0,0,23,"k",190,null,null,"BeloepMedSkattemessigeEgenskaper"]
[null,"Vinst overført til vinst- og tapskonto","næringsspesifikasjon","spesifikasjonAvAnleggsmiddel","saldoavskrevetAnleggsmiddel",null,"gevinstOverfoertTilGevinstOgTapskonto",null,null,null,null,null,0,0,23,"k",210,null,null,"BeloepMedSkattemessigeEgenskaper"]
[null,"Tap overført til vinst- og tapskonto","næringsspesifikasjon","spesifikasjonAvAnleggsmiddel","saldoavskrevetAnleggsmiddel",null,"tapOverfoertTilGevinstOgTapskonto",null,null,null,null,null,0,0,23,"k",220,null,null,"BeloepMedSkattemessigeEgenskaper"]
[null,"Årets avskriving","næringsspesifikasjon","spesifikasjonAvAnleggsmiddel","saldoavskrevetAnleggsmiddel",null,"aaretsAvskrivning",null,null,null,null,null,0,0,23,"k",230,null,null,"BeloepMedSkattemessigeEgenskaper"]
[null,"åretsInntektsføringAvNegativSaldo","næringsspesifikasjon","spesifikasjonAvAnleggsmiddel","saldoavskrevetAnleggsmiddel",null,"aaretsInntektsfoeringAvNegativSaldo",null,null,null,null,null,0,0,23,"k",240,null,null,"BeloepMedSkattemessigeEgenskaper"]
[null,"Utgåande verdi","næringsspesifikasjon","spesifikasjonAvAnleggsmiddel","saldoavskrevetAnleggsmiddel",null,"utgaaendeVerdi",null,null,null,null,null,{"$f":"M669","v":0},0,23,"k",200,null,null,"BeloepMedSkattemessigeEgenskaper"]
[null,"Er det fysiske driftsmidlar i utgåande verdi?","næringsspesifikasjon","spesifikasjonAvAnleggsmiddel","saldoavskrevetAnleggsmiddel",null,"erDetFysiskAnleggsmiddelIUtgaaendeVerdi",null,null,null,null,null,{"$f":"M669","v":0},0,23,"k",290,null,null,"BoolskMedInnkapsling"]
[null,null,null,null,null,null,null,null,null,null,null,null,{"$f":"M688","v":0},0]
[null,"id","næringsspesifikasjon","spesifikasjonAvAnleggsmiddel","saldoavskrevetAnleggsmiddel",null,"id",null,null,null,{"$f":"K689","v":0},null,0,{"$f":"N688","v":0},24,"k",10,null,null,"Tekst"]
[null,"Saldogruppe H, Bygg og anlegg mv.","næringsspesifikasjon","spesifikasjonAvAnleggsmiddel","saldoavskrevetAnleggsmiddel",null,"saldogruppe",null,null,null,null,null,{"$f":"IF(K704=\"Ja\",1,0)","v":0},0,24,"k",250,null,null,"SaldogruppeMedInnkapsling"]
[null,"Objekt-id","næringsspesifikasjon","spesifikasjonAvAnleggsmiddel","saldoavskrevetAnleggsmiddel",null,"objektidentifikator ",null,null,null,null,null,{"$f":"M688","v":0},0,24,"k",20,null,null,"TekstMedInnkapsling"]
[null,"Avskrivingssats  ","næringsspesifikasjon","spesifikasjonAvAnleggsmiddel","saldoavskrevetAnleggsmiddel",null,"avskrivningssats  ",null,null,null,null,null,{"$f":"M688","v":0},0,24,"k",260,null,null,"ProsentMedInnkapsling"]
[null,"InngåandeVerdi","næringsspesifikasjon","spesifikasjonAvAnleggsmiddel","saldoavskrevetAnleggsmiddel",null,"inngaaendeVerdi",null,null,null,null,null,{"$f":"M688","v":0},0,24,"k",60,null,null,"BeloepMedSkattemessigeEgenskaper"]
[null,"Nyanskaffing","næringsspesifikasjon","spesifikasjonAvAnleggsmiddel","saldoavskrevetAnleggsmiddel",null,"nyanskaffelse",null,null,null,null,null,{"$f":"IF(K692=0,,1)","v":0},0,24,"k",270,null,null,"BeloepMedSkattemessigeEgenskaper"]
[null,"Påkosting","næringsspesifikasjon","spesifikasjonAvAnleggsmiddel","saldoavskrevetAnleggsmiddel",null,"paakostning",null,null,null,null,null,{"$f":"IF(K693=0,,1)","v":0},0,24,"k",70,null,null,"BeloepMedSkattemessigeEgenskaper"]
[null,"nedskrivningPåNyanskaffelserMedBetingetSkattefriSalgsgevinstGjelder","næringsspesifikasjon","spesifikasjonAvAnleggsmiddel","saldoavskrevetAnleggsmiddel",null,"nedskrivningPaaNyanskaffelserMedBetingetSkattefriSalgsgevinstGjelder",null,null,null,null,null,{"$f":"IF(K694=0,,1)","v":0},0,24,"k",150,null,null,"BeloepMedSkattemessigeEgenskaper"]
[null,"Offentleg tilskot","næringsspesifikasjon","spesifikasjonAvAnleggsmiddel","saldoavskrevetAnleggsmiddel",null,"offentligTilskudd",null,null,null,null,null,0,0,24,"k",80,null,null,"BeloepMedSkattemessigeEgenskaper"]
[null,"Vederlag ved realisasjon og uttak","næringsspesifikasjon","spesifikasjonAvAnleggsmiddel","saldoavskrevetAnleggsmiddel",null,"vederlagVedRealisasjonOgUttak",null,null,null,null,null,0,0,24,"k",100,null,null,"BeloepMedSkattemessigeEgenskaper"]
[null,"erRealisasjonenUfrivilligOgGevinstenBetingetSkattefri","næringsspesifikasjon","spesifikasjonAvAnleggsmiddel","saldoavskrevetAnleggsmiddel",null,"erRealisasjonenUfrivilligOgGevinstenBetingetSkattefri",null,null,null,null,null,0,0,24,"k",120,null,null,"BoolskMedInnkapsling"]
[null,"Grunnlag for avskriving og inntektsføring","næringsspesifikasjon","spesifikasjonAvAnleggsmiddel","saldoavskrevetAnleggsmiddel",null,"grunnlagForAvskrivningOgInntektsfoering",null,null,null,null,null,0,0,24,"k",190,null,null,"BeloepMedSkattemessigeEgenskaper"]
[null,"Vinst overført til vinst- og tapskonto","næringsspesifikasjon","spesifikasjonAvAnleggsmiddel","saldoavskrevetAnleggsmiddel",null,"gevinstOverfoertTilGevinstOgTapskonto",null,null,null,null,null,0,0,24,"k",210,null,null,"BeloepMedSkattemessigeEgenskaper"]
[null,"Tap overført til vinst- og tapskonto","næringsspesifikasjon","spesifikasjonAvAnleggsmiddel","saldoavskrevetAnleggsmiddel",null,"tapOverfoertTilGevinstOgTapskonto",null,null,null,null,null,0,0,24,"k",220,null,null,"BeloepMedSkattemessigeEgenskaper"]
[null,"Årets avskriving","næringsspesifikasjon","spesifikasjonAvAnleggsmiddel","saldoavskrevetAnleggsmiddel",null,"aaretsAvskrivning",null,null,null,null,null,0,0,24,"k",230,null,null,"BeloepMedSkattemessigeEgenskaper"]
[null,"åretsInntektsføringAvNegativSaldo","næringsspesifikasjon","spesifikasjonAvAnleggsmiddel","saldoavskrevetAnleggsmiddel",null,"aaretsInntektsfoeringAvNegativSaldo",null,null,null,null,null,0,0,24,"k",240,null,null,"BeloepMedSkattemessigeEgenskaper"]
[null,"Utgåande verdi","næringsspesifikasjon","spesifikasjonAvAnleggsmiddel","saldoavskrevetAnleggsmiddel",null,"utgaaendeVerdi",null,null,null,null,null,{"$f":"M688","v":0},0,24,"k",200,null,null,"BeloepMedSkattemessigeEgenskaper"]
[null,"Er det fysiske driftsmidlar i utgåande verdi?","næringsspesifikasjon","spesifikasjonAvAnleggsmiddel","saldoavskrevetAnleggsmiddel",null,"erDetFysiskAnleggsmiddelIUtgaaendeVerdi",null,null,null,null,null,{"$f":"M688","v":0},0,24,"k",290,null,null,"BoolskMedInnkapsling"]
[null,null,null,null,null,null,null,null,null,null,null,null,{"$f":"M707","v":0},0]
[null,"id","næringsspesifikasjon","spesifikasjonAvAnleggsmiddel","saldoavskrevetAnleggsmiddel",null,"id",null,null,null,{"$f":"K708","v":0},null,0,{"$f":"N707","v":0},25,"k",10,null,null,"Tekst"]
[null,"Saldogruppe H, Bygg og anlegg mv.","næringsspesifikasjon","spesifikasjonAvAnleggsmiddel","saldoavskrevetAnleggsmiddel",null,"saldogruppe",null,null,null,null,null,{"$f":"IF(K723=\"Ja\",1,0)","v":0},0,25,"k",250,null,null,"SaldogruppeMedInnkapsling"]
[null,"Objekt-id","næringsspesifikasjon","spesifikasjonAvAnleggsmiddel","saldoavskrevetAnleggsmiddel",null,"objektidentifikator ",null,null,null,null,null,{"$f":"M707","v":0},0,25,"k",20,null,null,"TekstMedInnkapsling"]
[null,"Avskrivingssats  ","næringsspesifikasjon","spesifikasjonAvAnleggsmiddel","saldoavskrevetAnleggsmiddel",null,"avskrivningssats  ",null,null,null,null,null,{"$f":"M707","v":0},0,25,"k",260,null,null,"ProsentMedInnkapsling"]
[null,"InngåandeVerdi","næringsspesifikasjon","spesifikasjonAvAnleggsmiddel","saldoavskrevetAnleggsmiddel",null,"inngaaendeVerdi",null,null,null,null,null,{"$f":"M707","v":0},0,25,"k",60,null,null,"BeloepMedSkattemessigeEgenskaper"]
[null,"Nyanskaffing","næringsspesifikasjon","spesifikasjonAvAnleggsmiddel","saldoavskrevetAnleggsmiddel",null,"nyanskaffelse",null,null,null,null,null,{"$f":"IF(K711=0,,1)","v":0},0,25,"k",270,null,null,"BeloepMedSkattemessigeEgenskaper"]
[null,"Påkosting","næringsspesifikasjon","spesifikasjonAvAnleggsmiddel","saldoavskrevetAnleggsmiddel",null,"paakostning",null,null,null,null,null,{"$f":"IF(K712=0,,1)","v":0},0,25,"k",70,null,null,"BeloepMedSkattemessigeEgenskaper"]
[null,"nedskrivningPåNyanskaffelserMedBetingetSkattefriSalgsgevinstGjelder","næringsspesifikasjon","spesifikasjonAvAnleggsmiddel","saldoavskrevetAnleggsmiddel",null,"nedskrivningPaaNyanskaffelserMedBetingetSkattefriSalgsgevinstGjelder",null,null,null,null,null,{"$f":"IF(K713=0,,1)","v":0},0,25,"k",150,null,null,"BeloepMedSkattemessigeEgenskaper"]
[null,"Offentleg tilskot","næringsspesifikasjon","spesifikasjonAvAnleggsmiddel","saldoavskrevetAnleggsmiddel",null,"offentligTilskudd",null,null,null,null,null,0,0,25,"k",80,null,null,"BeloepMedSkattemessigeEgenskaper"]
[null,"Vederlag ved realisasjon og uttak","næringsspesifikasjon","spesifikasjonAvAnleggsmiddel","saldoavskrevetAnleggsmiddel",null,"vederlagVedRealisasjonOgUttak",null,null,null,null,null,0,0,25,"k",100,null,null,"BeloepMedSkattemessigeEgenskaper"]
[null,"erRealisasjonenUfrivilligOgGevinstenBetingetSkattefri","næringsspesifikasjon","spesifikasjonAvAnleggsmiddel","saldoavskrevetAnleggsmiddel",null,"erRealisasjonenUfrivilligOgGevinstenBetingetSkattefri",null,null,null,null,null,0,{"$f":"M716","v":0},25,"k",120,null,null,"BoolskMedInnkapsling"]
[null,"Grunnlag for avskriving og inntektsføring","næringsspesifikasjon","spesifikasjonAvAnleggsmiddel","saldoavskrevetAnleggsmiddel",null,"grunnlagForAvskrivningOgInntektsfoering",null,null,null,null,null,0,0,25,"k",190,null,null,"BeloepMedSkattemessigeEgenskaper"]
[null,"Vinst overført til vinst- og tapskonto","næringsspesifikasjon","spesifikasjonAvAnleggsmiddel","saldoavskrevetAnleggsmiddel",null,"gevinstOverfoertTilGevinstOgTapskonto",null,null,null,null,null,0,0,25,"k",210,null,null,"BeloepMedSkattemessigeEgenskaper"]
[null,"Tap overført til vinst- og tapskonto","næringsspesifikasjon","spesifikasjonAvAnleggsmiddel","saldoavskrevetAnleggsmiddel",null,"tapOverfoertTilGevinstOgTapskonto",null,null,null,null,null,0,0,25,"k",220,null,null,"BeloepMedSkattemessigeEgenskaper"]
[null,"Årets avskriving","næringsspesifikasjon","spesifikasjonAvAnleggsmiddel","saldoavskrevetAnleggsmiddel",null,"aaretsAvskrivning",null,null,null,null,null,0,0,25,"k",230,null,null,"BeloepMedSkattemessigeEgenskaper"]
[null,"åretsInntektsføringAvNegativSaldo","næringsspesifikasjon","spesifikasjonAvAnleggsmiddel","saldoavskrevetAnleggsmiddel",null,"aaretsInntektsfoeringAvNegativSaldo",null,null,null,null,null,0,0,25,"k",240,null,null,"BeloepMedSkattemessigeEgenskaper"]
[null,"Utgåande verdi","næringsspesifikasjon","spesifikasjonAvAnleggsmiddel","saldoavskrevetAnleggsmiddel",null,"utgaaendeVerdi",null,null,null,null,null,{"$f":"M707","v":0},0,25,"k",200,null,null,"BeloepMedSkattemessigeEgenskaper"]
[null,"Er det fysiske driftsmidlar i utgåande verdi?","næringsspesifikasjon","spesifikasjonAvAnleggsmiddel","saldoavskrevetAnleggsmiddel",null,"erDetFysiskAnleggsmiddelIUtgaaendeVerdi",null,null,null,null,null,{"$f":"M707","v":0},0,25,"k",290,null,null,"BoolskMedInnkapsling"]
[null,null,null,null,null,null,null,null,null,null,null,null,{"$f":"M726","v":0},0]
[null,"id","næringsspesifikasjon","spesifikasjonAvAnleggsmiddel","saldoavskrevetAnleggsmiddel",null,"id",null,null,null,{"$f":"K727","v":0},null,0,{"$f":"N726","v":0},26,"k",10,null,null,"Tekst"]
[null,"Saldogruppe J, Fast teknisk installasjon i bygningar","næringsspesifikasjon","spesifikasjonAvAnleggsmiddel","saldoavskrevetAnleggsmiddel",null,"saldogruppe",null,null,null,null,null,{"$f":"IF(K742=\"Ja\",1,0)","v":0},0,26,"k",250,null,null,"SaldogruppeMedInnkapsling"]
[null,"Objekt-id","næringsspesifikasjon","spesifikasjonAvAnleggsmiddel","saldoavskrevetAnleggsmiddel",null,"objektidentifikator ",null,null,null,null,null,{"$f":"M726","v":0},0,26,"k",20,null,null,"TekstMedInnkapsling"]
[null,"Avskrivingssats  ","næringsspesifikasjon","spesifikasjonAvAnleggsmiddel","saldoavskrevetAnleggsmiddel",null,"avskrivningssats  ",null,null,null,null,null,{"$f":"M726","v":0},0,26,"k",260,null,null,"ProsentMedInnkapsling"]
[null,"InngåandeVerdi","næringsspesifikasjon","spesifikasjonAvAnleggsmiddel","saldoavskrevetAnleggsmiddel",null,"inngaaendeVerdi",null,null,null,null,null,{"$f":"M726","v":0},0,26,"k",60,null,null,"BeloepMedSkattemessigeEgenskaper"]
[null,"Nyanskaffing","næringsspesifikasjon","spesifikasjonAvAnleggsmiddel","saldoavskrevetAnleggsmiddel",null,"nyanskaffelse",null,null,null,null,null,{"$f":"IF(K730=0,,1)","v":0},0,26,"k",270,null,null,"BeloepMedSkattemessigeEgenskaper"]
[null,"Påkosting","næringsspesifikasjon","spesifikasjonAvAnleggsmiddel","saldoavskrevetAnleggsmiddel",null,"paakostning",null,null,null,null,null,{"$f":"IF(K731=0,,1)","v":0},0,26,"k",70,null,null,"BeloepMedSkattemessigeEgenskaper"]
[null,"nedskrivningPåNyanskaffelserMedBetingetSkattefriSalgsgevinstGjelder","næringsspesifikasjon","spesifikasjonAvAnleggsmiddel","saldoavskrevetAnleggsmiddel",null,"nedskrivningPaaNyanskaffelserMedBetingetSkattefriSalgsgevinstGjelder",null,null,null,null,null,{"$f":"IF(K732=0,,1)","v":0},0,26,"k",150,null,null,"BeloepMedSkattemessigeEgenskaper"]
[null,"Offentleg tilskot","næringsspesifikasjon","spesifikasjonAvAnleggsmiddel","saldoavskrevetAnleggsmiddel",null,"offentligTilskudd",null,null,null,null,null,0,0,26,"k",80,null,null,"BeloepMedSkattemessigeEgenskaper"]
[null,"Vederlag ved realisasjon og uttak","næringsspesifikasjon","spesifikasjonAvAnleggsmiddel","saldoavskrevetAnleggsmiddel",null,"vederlagVedRealisasjonOgUttak",null,null,null,null,null,0,0,26,"k",100,null,null,"BeloepMedSkattemessigeEgenskaper"]
[null,"erRealisasjonenUfrivilligOgGevinstenBetingetSkattefri","næringsspesifikasjon","spesifikasjonAvAnleggsmiddel","saldoavskrevetAnleggsmiddel",null,"erRealisasjonenUfrivilligOgGevinstenBetingetSkattefri",null,null,null,null,null,0,0,26,"k",120,null,null,"BoolskMedInnkapsling"]
[null,"Grunnlag for avskriving og inntektsføring","næringsspesifikasjon","spesifikasjonAvAnleggsmiddel","saldoavskrevetAnleggsmiddel",null,"grunnlagForAvskrivningOgInntektsfoering",null,null,null,null,null,0,0,26,"k",190,null,null,"BeloepMedSkattemessigeEgenskaper"]
[null,"Vinst overført til vinst- og tapskonto","næringsspesifikasjon","spesifikasjonAvAnleggsmiddel","saldoavskrevetAnleggsmiddel",null,"gevinstOverfoertTilGevinstOgTapskonto",null,null,null,null,null,0,0,26,"k",210,null,null,"BeloepMedSkattemessigeEgenskaper"]
[null,"Tap overført til vinst- og tapskonto","næringsspesifikasjon","spesifikasjonAvAnleggsmiddel","saldoavskrevetAnleggsmiddel",null,"tapOverfoertTilGevinstOgTapskonto",null,null,null,null,null,0,0,26,"k",220,null,null,"BeloepMedSkattemessigeEgenskaper"]
[null,"Årets avskriving","næringsspesifikasjon","spesifikasjonAvAnleggsmiddel","saldoavskrevetAnleggsmiddel",null,"aaretsAvskrivning",null,null,null,null,null,0,0,26,"k",230,null,null,"BeloepMedSkattemessigeEgenskaper"]
[null,"åretsInntektsføringAvNegativSaldo","næringsspesifikasjon","spesifikasjonAvAnleggsmiddel","saldoavskrevetAnleggsmiddel",null,"aaretsInntektsfoeringAvNegativSaldo",null,null,null,null,null,0,0,26,"k",240,null,null,"BeloepMedSkattemessigeEgenskaper"]
[null,"Utgåande verdi","næringsspesifikasjon","spesifikasjonAvAnleggsmiddel","saldoavskrevetAnleggsmiddel",null,"utgaaendeVerdi",null,null,null,null,null,{"$f":"M726","v":0},0,26,"k",200,null,null,"BeloepMedSkattemessigeEgenskaper"]
[null,"Er det fysiske driftsmidlar i utgåande verdi?","næringsspesifikasjon","spesifikasjonAvAnleggsmiddel","saldoavskrevetAnleggsmiddel",null,"erDetFysiskAnleggsmiddelIUtgaaendeVerdi",null,null,null,null,null,{"$f":"M726","v":0},0,26,"k",290,null,null,"BoolskMedInnkapsling"]
[null,null,null,null,null,null,null,null,null,null,null,null,{"$f":"M745","v":0},0]
[null,"id","næringsspesifikasjon","spesifikasjonAvAnleggsmiddel","saldoavskrevetAnleggsmiddel",null,"id",null,null,null,{"$f":"K746","v":0},null,0,{"$f":"N745","v":0},27,"k",10,null,null,"Tekst"]
[null,"Saldogruppe J, Fast teknisk installasjon i bygningar","næringsspesifikasjon","spesifikasjonAvAnleggsmiddel","saldoavskrevetAnleggsmiddel",null,"saldogruppe",null,null,null,null,null,{"$f":"IF(K761=\"Ja\",1,0)","v":0},0,27,"k",250,null,null,"SaldogruppeMedInnkapsling"]
[null,"Objekt-id","næringsspesifikasjon","spesifikasjonAvAnleggsmiddel","saldoavskrevetAnleggsmiddel",null,"objektidentifikator ",null,null,null,null,null,{"$f":"M745","v":0},0,27,"k",20,null,null,"TekstMedInnkapsling"]
[null,"Avskrivingssats  ","næringsspesifikasjon","spesifikasjonAvAnleggsmiddel","saldoavskrevetAnleggsmiddel",null,"avskrivningssats  ",null,null,null,null,null,{"$f":"M745","v":0},0,27,"k",260,null,null,"ProsentMedInnkapsling"]
[null,"InngåandeVerdi","næringsspesifikasjon","spesifikasjonAvAnleggsmiddel","saldoavskrevetAnleggsmiddel",null,"inngaaendeVerdi",null,null,null,null,null,{"$f":"M745","v":0},0,27,"k",60,null,null,"BeloepMedSkattemessigeEgenskaper"]
[null,"Nyanskaffing","næringsspesifikasjon","spesifikasjonAvAnleggsmiddel","saldoavskrevetAnleggsmiddel",null,"nyanskaffelse",null,null,null,null,null,{"$f":"IF(K749=0,,1)","v":0},0,27,"k",270,null,null,"BeloepMedSkattemessigeEgenskaper"]
[null,"Påkosting","næringsspesifikasjon","spesifikasjonAvAnleggsmiddel","saldoavskrevetAnleggsmiddel",null,"paakostning",null,null,null,null,null,{"$f":"IF(K750=0,,1)","v":0},0,27,"k",70,null,null,"BeloepMedSkattemessigeEgenskaper"]
[null,"nedskrivningPåNyanskaffelserMedBetingetSkattefriSalgsgevinstGjelder","næringsspesifikasjon","spesifikasjonAvAnleggsmiddel","saldoavskrevetAnleggsmiddel",null,"nedskrivningPaaNyanskaffelserMedBetingetSkattefriSalgsgevinstGjelder",null,null,null,null,null,{"$f":"IF(K751=0,,1)","v":0},0,27,"k",150,null,null,"BeloepMedSkattemessigeEgenskaper"]
[null,"Offentleg tilskot","næringsspesifikasjon","spesifikasjonAvAnleggsmiddel","saldoavskrevetAnleggsmiddel",null,"offentligTilskudd",null,null,null,null,null,0,0,27,"k",80,null,null,"BeloepMedSkattemessigeEgenskaper"]
[null,"Vederlag ved realisasjon og uttak","næringsspesifikasjon","spesifikasjonAvAnleggsmiddel","saldoavskrevetAnleggsmiddel",null,"vederlagVedRealisasjonOgUttak",null,null,null,null,null,0,0,27,"k",100,null,null,"BeloepMedSkattemessigeEgenskaper"]
[null,"erRealisasjonenUfrivilligOgGevinstenBetingetSkattefri","næringsspesifikasjon","spesifikasjonAvAnleggsmiddel","saldoavskrevetAnleggsmiddel",null,"erRealisasjonenUfrivilligOgGevinstenBetingetSkattefri",null,null,null,null,null,0,0,27,"k",120,null,null,"BoolskMedInnkapsling"]
[null,"Grunnlag for avskriving og inntektsføring","næringsspesifikasjon","spesifikasjonAvAnleggsmiddel","saldoavskrevetAnleggsmiddel",null,"grunnlagForAvskrivningOgInntektsfoering",null,null,null,null,null,0,0,27,"k",190,null,null,"BeloepMedSkattemessigeEgenskaper"]
[null,"Vinst overført til vinst- og tapskonto","næringsspesifikasjon","spesifikasjonAvAnleggsmiddel","saldoavskrevetAnleggsmiddel",null,"gevinstOverfoertTilGevinstOgTapskonto",null,null,null,null,null,0,0,27,"k",210,null,null,"BeloepMedSkattemessigeEgenskaper"]
[null,"Tap overført til vinst- og tapskonto","næringsspesifikasjon","spesifikasjonAvAnleggsmiddel","saldoavskrevetAnleggsmiddel",null,"tapOverfoertTilGevinstOgTapskonto",null,null,null,null,null,0,0,27,"k",220,null,null,"BeloepMedSkattemessigeEgenskaper"]
[null,"Årets avskriving","næringsspesifikasjon","spesifikasjonAvAnleggsmiddel","saldoavskrevetAnleggsmiddel",null,"aaretsAvskrivning",null,null,null,null,null,0,0,27,"k",230,null,null,"BeloepMedSkattemessigeEgenskaper"]
[null,"åretsInntektsføringAvNegativSaldo","næringsspesifikasjon","spesifikasjonAvAnleggsmiddel","saldoavskrevetAnleggsmiddel",null,"aaretsInntektsfoeringAvNegativSaldo",null,null,null,null,null,0,0,27,"k",240,null,null,"BeloepMedSkattemessigeEgenskaper"]
[null,"Utgåande verdi","næringsspesifikasjon","spesifikasjonAvAnleggsmiddel","saldoavskrevetAnleggsmiddel",null,"utgaaendeVerdi",null,null,null,null,null,{"$f":"M745","v":0},0,27,"k",200,null,null,"BeloepMedSkattemessigeEgenskaper"]
[null,"Er det fysiske driftsmidlar i utgåande verdi?","næringsspesifikasjon","spesifikasjonAvAnleggsmiddel","saldoavskrevetAnleggsmiddel",null,"erDetFysiskAnleggsmiddelIUtgaaendeVerdi",null,null,null,null,null,{"$f":"M745","v":0},0,27,"k",290,null,null,"BoolskMedInnkapsling"]
[null,null,null,null,null,null,null,null,null,null,null,null,{"$f":"M764","v":0},0]
[null,"id","næringsspesifikasjon","spesifikasjonAvAnleggsmiddel","saldoavskrevetAnleggsmiddel",null,"id",null,null,null,{"$f":"K765","v":0},null,0,{"$f":"N764","v":0},28,"k",10,null,null,"Tekst"]
[null,"Saldogruppe G, Kraftanlegg","næringsspesifikasjon","spesifikasjonAvAnleggsmiddel","saldoavskrevetAnleggsmiddel",null,"saldogruppe",null,null,null,null,null,{"$f":"IF(K780=\"Ja\",1,0)","v":0},0,28,"k",250,null,null,"SaldogruppeMedInnkapsling"]
[null,"Objekt-id","næringsspesifikasjon","spesifikasjonAvAnleggsmiddel","saldoavskrevetAnleggsmiddel",null,"objektidentifikator ",null,null,null,null,null,{"$f":"M764","v":0},0,28,"k",20,null,null,"TekstMedInnkapsling"]
[null,"Avskrivingssats  ","næringsspesifikasjon","spesifikasjonAvAnleggsmiddel","saldoavskrevetAnleggsmiddel",null,"avskrivningssats  ",null,null,null,null,null,{"$f":"M764","v":0},0,28,"k",260,null,null,"ProsentMedInnkapsling"]
[null,"InngåandeVerdi","næringsspesifikasjon","spesifikasjonAvAnleggsmiddel","saldoavskrevetAnleggsmiddel",null,"inngaaendeVerdi",null,null,null,null,null,{"$f":"M764","v":0},0,28,"k",60,null,null,"BeloepMedSkattemessigeEgenskaper"]
[null,"Nyanskaffing","næringsspesifikasjon","spesifikasjonAvAnleggsmiddel","saldoavskrevetAnleggsmiddel",null,"nyanskaffelse",null,null,null,null,null,{"$f":"IF(K768=0,,1)","v":0},0,28,"k",270,null,null,"BeloepMedSkattemessigeEgenskaper"]
[null,"Påkosting","næringsspesifikasjon","spesifikasjonAvAnleggsmiddel","saldoavskrevetAnleggsmiddel",null,"paakostning",null,null,null,null,null,{"$f":"IF(K769=0,,1)","v":0},0,28,"k",70,null,null,"BeloepMedSkattemessigeEgenskaper"]
[null,"nedskrivningPåNyanskaffelserMedBetingetSkattefriSalgsgevinstGjelder","næringsspesifikasjon","spesifikasjonAvAnleggsmiddel","saldoavskrevetAnleggsmiddel",null,"nedskrivningPaaNyanskaffelserMedBetingetSkattefriSalgsgevinstGjelder",null,null,null,null,null,{"$f":"IF(K770=0,,1)","v":0},0,28,"k",150,null,null,"BeloepMedSkattemessigeEgenskaper"]
[null,"Offentleg tilskot","næringsspesifikasjon","spesifikasjonAvAnleggsmiddel","saldoavskrevetAnleggsmiddel",null,"offentligTilskudd",null,null,null,null,null,0,0,28,"k",80,null,null,"BeloepMedSkattemessigeEgenskaper"]
[null,"Vederlag ved realisasjon og uttak","næringsspesifikasjon","spesifikasjonAvAnleggsmiddel","saldoavskrevetAnleggsmiddel",null,"vederlagVedRealisasjonOgUttak",null,null,null,null,null,0,0,28,"k",100,null,null,"BeloepMedSkattemessigeEgenskaper"]
[null,"erRealisasjonenUfrivilligOgGevinstenBetingetSkattefri","næringsspesifikasjon","spesifikasjonAvAnleggsmiddel","saldoavskrevetAnleggsmiddel",null,"erRealisasjonenUfrivilligOgGevinstenBetingetSkattefri",null,null,null,null,null,0,0,28,"k",120,null,null,"BoolskMedInnkapsling"]
[null,"Grunnlag for avskriving og inntektsføring","næringsspesifikasjon","spesifikasjonAvAnleggsmiddel","saldoavskrevetAnleggsmiddel",null,"grunnlagForAvskrivningOgInntektsfoering",null,null,null,null,null,0,0,28,"k",190,null,null,"BeloepMedSkattemessigeEgenskaper"]
[null,"Vinst overført til vinst- og tapskonto","næringsspesifikasjon","spesifikasjonAvAnleggsmiddel","saldoavskrevetAnleggsmiddel",null,"gevinstOverfoertTilGevinstOgTapskonto",null,null,null,null,null,0,0,28,"k",210,null,null,"BeloepMedSkattemessigeEgenskaper"]
[null,"Tap overført til vinst- og tapskonto","næringsspesifikasjon","spesifikasjonAvAnleggsmiddel","saldoavskrevetAnleggsmiddel",null,"tapOverfoertTilGevinstOgTapskonto",null,null,null,null,null,0,0,28,"k",220,null,null,"BeloepMedSkattemessigeEgenskaper"]
[null,"Årets avskriving","næringsspesifikasjon","spesifikasjonAvAnleggsmiddel","saldoavskrevetAnleggsmiddel",null,"aaretsAvskrivning",null,null,null,null,null,0,0,28,"k",230,null,null,"BeloepMedSkattemessigeEgenskaper"]
[null,"åretsInntektsføringAvNegativSaldo","næringsspesifikasjon","spesifikasjonAvAnleggsmiddel","saldoavskrevetAnleggsmiddel",null,"aaretsInntektsfoeringAvNegativSaldo",null,null,null,null,null,0,0,28,"k",240,null,null,"BeloepMedSkattemessigeEgenskaper"]
[null,"Utgåande verdi","næringsspesifikasjon","spesifikasjonAvAnleggsmiddel","saldoavskrevetAnleggsmiddel",null,"utgaaendeVerdi",null,null,null,null,null,{"$f":"M764","v":0},0,28,"k",200,null,null,"BeloepMedSkattemessigeEgenskaper"]
[null,"Er det fysiske driftsmidlar i utgåande verdi?","næringsspesifikasjon","spesifikasjonAvAnleggsmiddel","saldoavskrevetAnleggsmiddel",null,"erDetFysiskAnleggsmiddelIUtgaaendeVerdi",null,null,null,null,null,{"$f":"M764","v":0},{"$f":"M780","v":0},28,"k",290,null,null,"BoolskMedInnkapsling"]
[null,null,null,null,null,null,null,null,null,null,null,null,{"$f":"M783","v":0},0]
[null,"id","næringsspesifikasjon","spesifikasjonAvAnleggsmiddel","saldoavskrevetAnleggsmiddel",null,"id",null,null,null,{"$f":"K784","v":29},null,0,{"$f":"N783","v":0},29,"k",10,null,null,"Tekst"]
[null,"Saldogruppe H, Bygg og anlegg mv. Anna Næring","næringsspesifikasjon","spesifikasjonAvAnleggsmiddel","saldoavskrevetAnleggsmiddel",null,"saldogruppe",null,null,null,"h",null,{"$f":"IF(K799=\"Ja\",1,0)","v":0},0,29,"k",250,null,null,"SaldogruppeMedInnkapsling"]
[null,"Objekt-id","næringsspesifikasjon","spesifikasjonAvAnleggsmiddel","saldoavskrevetAnleggsmiddel",null,"objektidentifikator ",null,null,null,29,null,{"$f":"M783","v":0},0,29,"k",20,null,null,"TekstMedInnkapsling"]
[null,"Avskrivingssats  ","næringsspesifikasjon","spesifikasjonAvAnleggsmiddel","saldoavskrevetAnleggsmiddel",null,"avskrivningssats  ",null,null,null,{"$f":"Årsoppgjer!K95","v":0},null,{"$f":"M783","v":0},0,29,"k",260,null,null,"ProsentMedInnkapsling"]
[null,"InngåandeVerdi","næringsspesifikasjon","spesifikasjonAvAnleggsmiddel","saldoavskrevetAnleggsmiddel",null,"inngaaendeVerdi",null,null,null,{"$f":"Årsoppgjer!D95","v":0},null,{"$f":"M783","v":0},0,29,"k",60,null,null,"BeloepMedSkattemessigeEgenskaper"]
[null,"Nyanskaffing","næringsspesifikasjon","spesifikasjonAvAnleggsmiddel","saldoavskrevetAnleggsmiddel",null,"nyanskaffelse",null,null,null,{"$f":"Årsoppgjer!E95","v":0},null,{"$f":"IF(K787=0,,1)","v":0},0,29,"k",270,null,null,"BeloepMedSkattemessigeEgenskaper"]
[null,"Påkosting","næringsspesifikasjon","spesifikasjonAvAnleggsmiddel","saldoavskrevetAnleggsmiddel",null,"paakostning",null,null,null,{"$f":"Årsoppgjer!F95","v":0},null,{"$f":"IF(K788=0,,1)","v":0},0,29,"k",70,null,null,"BeloepMedSkattemessigeEgenskaper"]
[null,"nedskrivningPåNyanskaffelserMedBetingetSkattefriSalgsgevinstGjelder","næringsspesifikasjon","spesifikasjonAvAnleggsmiddel","saldoavskrevetAnleggsmiddel",null,"nedskrivningPaaNyanskaffelserMedBetingetSkattefriSalgsgevinstGjelder",null,null,null,null,null,{"$f":"IF(K789=0,,1)","v":0},0,29,"k",150,null,null,"BeloepMedSkattemessigeEgenskaper"]
[null,"Offentleg tilskot","næringsspesifikasjon","spesifikasjonAvAnleggsmiddel","saldoavskrevetAnleggsmiddel",null,"offentligTilskudd",null,null,null,{"$f":"Årsoppgjer!H95","v":0},null,0,0,29,"k",80,null,null,"BeloepMedSkattemessigeEgenskaper"]
[null,"Vederlag ved realisasjon og uttak","næringsspesifikasjon","spesifikasjonAvAnleggsmiddel","saldoavskrevetAnleggsmiddel",null,"vederlagVedRealisasjonOgUttak",null,null,null,{"$f":"Årsoppgjer!G95","v":0},null,0,0,29,"k",100,null,null,"BeloepMedSkattemessigeEgenskaper"]
[null,"erRealisasjonenUfrivilligOgGevinstenBetingetSkattefri","næringsspesifikasjon","spesifikasjonAvAnleggsmiddel","saldoavskrevetAnleggsmiddel",null,"erRealisasjonenUfrivilligOgGevinstenBetingetSkattefri",null,null,null,null,null,0,0,29,"k",120,null,null,"BoolskMedInnkapsling"]
[null,"Grunnlag for avskriving og inntektsføring","næringsspesifikasjon","spesifikasjonAvAnleggsmiddel","saldoavskrevetAnleggsmiddel",null,"grunnlagForAvskrivningOgInntektsfoering",null,null,null,{"$f":"Årsoppgjer!I95","v":0},null,0,0,29,"k",190,null,null,"BeloepMedSkattemessigeEgenskaper"]
[null,"Vinst overført til vinst- og tapskonto","næringsspesifikasjon","spesifikasjonAvAnleggsmiddel","saldoavskrevetAnleggsmiddel",null,"gevinstOverfoertTilGevinstOgTapskonto",null,null,null,{"$f":"IF(Årsoppgjer!J95>0,Årsoppgjer!J95,)","v":0},null,0,0,29,"k",210,null,null,"BeloepMedSkattemessigeEgenskaper"]
[null,"Tap overført til vinst- og tapskonto","næringsspesifikasjon","spesifikasjonAvAnleggsmiddel","saldoavskrevetAnleggsmiddel",null,"tapOverfoertTilGevinstOgTapskonto",null,null,null,{"$f":"IF(Årsoppgjer!J95<0,Årsoppgjer!J95,)","v":0},null,0,0,29,"k",220,null,null,"BeloepMedSkattemessigeEgenskaper"]
[null,"Årets avskriving","næringsspesifikasjon","spesifikasjonAvAnleggsmiddel","saldoavskrevetAnleggsmiddel",null,"aaretsAvskrivning",null,null,null,{"$f":"Årsoppgjer!L95","v":0},null,0,0,29,"k",230,null,null,"BeloepMedSkattemessigeEgenskaper"]
[null,"åretsInntektsføringAvNegativSaldo","næringsspesifikasjon","spesifikasjonAvAnleggsmiddel","saldoavskrevetAnleggsmiddel",null,"aaretsInntektsfoeringAvNegativSaldo",null,null,null,null,null,0,0,29,"k",240,null,null,"BeloepMedSkattemessigeEgenskaper"]
[null,"Utgåande verdi","næringsspesifikasjon","spesifikasjonAvAnleggsmiddel","saldoavskrevetAnleggsmiddel",null,"utgaaendeVerdi",null,null,null,{"$f":"Årsoppgjer!M95","v":0},null,{"$f":"M783","v":0},0,29,"k",200,null,null,"BeloepMedSkattemessigeEgenskaper"]
[null,"Er det fysiske driftsmidlar i utgåande verdi?","næringsspesifikasjon","spesifikasjonAvAnleggsmiddel","saldoavskrevetAnleggsmiddel",null,"erDetFysiskAnleggsmiddelIUtgaaendeVerdi",null,null,null,{"$f":"IF(OR(K793>1,K798>1,K791>1),\"Ja\",\"Nei\")","v":"Nei"},null,{"$f":"M783","v":0},0,29,"k",290,null,null,"BoolskMedInnkapsling"]
[null,null,null,null,null,null,null,null,null,null,null,null,{"$f":"M802","v":0},0]
[null,"id","næringsspesifikasjon","spesifikasjonAvAnleggsmiddel","saldoavskrevetAnleggsmiddel",null,"id",null,null,null,{"$f":"K803","v":30},null,0,{"$f":"N802","v":0},30,"k",10,null,null,"Tekst"]
[null,"Saldogruppe H, Bygg og anlegg mv. Anna Næring","næringsspesifikasjon","spesifikasjonAvAnleggsmiddel","saldoavskrevetAnleggsmiddel",null,"saldogruppe",null,null,null,"h",null,{"$f":"IF(K818=\"Ja\",1,0)","v":0},0,30,"k",250,null,null,"SaldogruppeMedInnkapsling"]
[null,"Objekt-id","næringsspesifikasjon","spesifikasjonAvAnleggsmiddel","saldoavskrevetAnleggsmiddel",null,"objektidentifikator ",null,null,null,30,null,{"$f":"M802","v":0},0,30,"k",20,null,null,"TekstMedInnkapsling"]
[null,"Avskrivingssats  ","næringsspesifikasjon","spesifikasjonAvAnleggsmiddel","saldoavskrevetAnleggsmiddel",null,"avskrivningssats  ",null,null,null,{"$f":"Årsoppgjer!K96","v":0},null,{"$f":"M802","v":0},0,30,"k",260,null,null,"ProsentMedInnkapsling"]
[null,"InngåandeVerdi","næringsspesifikasjon","spesifikasjonAvAnleggsmiddel","saldoavskrevetAnleggsmiddel",null,"inngaaendeVerdi",null,null,null,{"$f":"Årsoppgjer!D96","v":0},null,{"$f":"M802","v":0},0,30,"k",60,null,null,"BeloepMedSkattemessigeEgenskaper"]
[null,"Nyanskaffing","næringsspesifikasjon","spesifikasjonAvAnleggsmiddel","saldoavskrevetAnleggsmiddel",null,"nyanskaffelse",null,null,null,{"$f":"Årsoppgjer!E96","v":0},null,{"$f":"IF(K806=0,,1)","v":0},0,30,"k",270,null,null,"BeloepMedSkattemessigeEgenskaper"]
[null,"Påkosting","næringsspesifikasjon","spesifikasjonAvAnleggsmiddel","saldoavskrevetAnleggsmiddel",null,"paakostning",null,null,null,{"$f":"Årsoppgjer!F96","v":0},null,{"$f":"IF(K807=0,,1)","v":0},0,30,"k",70,null,null,"BeloepMedSkattemessigeEgenskaper"]
[null,"nedskrivningPåNyanskaffelserMedBetingetSkattefriSalgsgevinstGjelder","næringsspesifikasjon","spesifikasjonAvAnleggsmiddel","saldoavskrevetAnleggsmiddel",null,"nedskrivningPaaNyanskaffelserMedBetingetSkattefriSalgsgevinstGjelder",null,null,null,null,null,{"$f":"IF(K808=0,,1)","v":0},0,30,"k",150,null,null,"BeloepMedSkattemessigeEgenskaper"]
[null,"Offentleg tilskot","næringsspesifikasjon","spesifikasjonAvAnleggsmiddel","saldoavskrevetAnleggsmiddel",null,"offentligTilskudd",null,null,null,{"$f":"Årsoppgjer!H96","v":0},null,0,0,30,"k",80,null,null,"BeloepMedSkattemessigeEgenskaper"]
[null,"Vederlag ved realisasjon og uttak","næringsspesifikasjon","spesifikasjonAvAnleggsmiddel","saldoavskrevetAnleggsmiddel",null,"vederlagVedRealisasjonOgUttak",null,null,null,{"$f":"Årsoppgjer!G96","v":0},null,0,0,30,"k",100,null,null,"BeloepMedSkattemessigeEgenskaper"]
[null,"erRealisasjonenUfrivilligOgGevinstenBetingetSkattefri","næringsspesifikasjon","spesifikasjonAvAnleggsmiddel","saldoavskrevetAnleggsmiddel",null,"erRealisasjonenUfrivilligOgGevinstenBetingetSkattefri",null,null,null,null,null,0,0,30,"k",120,null,null,"BoolskMedInnkapsling"]
[null,"Grunnlag for avskriving og inntektsføring","næringsspesifikasjon","spesifikasjonAvAnleggsmiddel","saldoavskrevetAnleggsmiddel",null,"grunnlagForAvskrivningOgInntektsfoering",null,null,null,{"$f":"Årsoppgjer!I96","v":0},null,0,0,30,"k",190,null,null,"BeloepMedSkattemessigeEgenskaper"]
[null,"Vinst overført til vinst- og tapskonto","næringsspesifikasjon","spesifikasjonAvAnleggsmiddel","saldoavskrevetAnleggsmiddel",null,"gevinstOverfoertTilGevinstOgTapskonto",null,null,null,{"$f":"IF(Årsoppgjer!J96>0,Årsoppgjer!J96,)","v":0},null,0,0,30,"k",210,null,null,"BeloepMedSkattemessigeEgenskaper"]
[null,"Tap overført til vinst- og tapskonto","næringsspesifikasjon","spesifikasjonAvAnleggsmiddel","saldoavskrevetAnleggsmiddel",null,"tapOverfoertTilGevinstOgTapskonto",null,null,null,{"$f":"IF(Årsoppgjer!J96<0,Årsoppgjer!J96,)","v":0},null,0,0,30,"k",220,null,null,"BeloepMedSkattemessigeEgenskaper"]
[null,"Årets avskriving","næringsspesifikasjon","spesifikasjonAvAnleggsmiddel","saldoavskrevetAnleggsmiddel",null,"aaretsAvskrivning",null,null,null,{"$f":"Årsoppgjer!L96","v":0},null,0,0,30,"k",230,null,null,"BeloepMedSkattemessigeEgenskaper"]
[null,"åretsInntektsføringAvNegativSaldo","næringsspesifikasjon","spesifikasjonAvAnleggsmiddel","saldoavskrevetAnleggsmiddel",null,"aaretsInntektsfoeringAvNegativSaldo",null,null,null,null,null,0,0,30,"k",240,null,null,"BeloepMedSkattemessigeEgenskaper"]
[null,"Utgåande verdi","næringsspesifikasjon","spesifikasjonAvAnleggsmiddel","saldoavskrevetAnleggsmiddel",null,"utgaaendeVerdi",null,null,null,{"$f":"Årsoppgjer!M96","v":0},null,{"$f":"M802","v":0},0,30,"k",200,null,null,"BeloepMedSkattemessigeEgenskaper"]
[null,"Er det fysiske driftsmidlar i utgåande verdi?","næringsspesifikasjon","spesifikasjonAvAnleggsmiddel","saldoavskrevetAnleggsmiddel",null,"erDetFysiskAnleggsmiddelIUtgaaendeVerdi",null,null,null,{"$f":"IF(OR(K812>1,K817>1,K810>1),\"Ja\",\"Nei\")","v":"Nei"},null,{"$f":"M802","v":0},0,30,"k",290,null,null,"BoolskMedInnkapsling"]
[null,null,null,null,null,null,null,null,null,null,null,null,{"$f":"M821","v":0},0]
[null,"id","næringsspesifikasjon","spesifikasjonAvAnleggsmiddel","saldoavskrevetAnleggsmiddel",null,"id",null,null,null,{"$f":"K822","v":31},null,0,{"$f":"N821","v":0},31,"k",10,null,null,"Tekst"]
[null,"Saldogruppe H, Bygg og anlegg mv. Anna Næring","næringsspesifikasjon","spesifikasjonAvAnleggsmiddel","saldoavskrevetAnleggsmiddel",null,"saldogruppe",null,null,null,"h",null,{"$f":"IF(K837=\"Ja\",1,0)","v":0},0,31,"k",250,null,null,"SaldogruppeMedInnkapsling"]
[null,"Objekt-id","næringsspesifikasjon","spesifikasjonAvAnleggsmiddel","saldoavskrevetAnleggsmiddel",null,"objektidentifikator ",null,null,null,31,null,{"$f":"M821","v":0},0,31,"k",20,null,null,"TekstMedInnkapsling"]
[null,"Avskrivingssats  ","næringsspesifikasjon","spesifikasjonAvAnleggsmiddel","saldoavskrevetAnleggsmiddel",null,"avskrivningssats  ",null,null,null,{"$f":"Årsoppgjer!K97","v":0},null,{"$f":"M821","v":0},0,31,"k",260,null,null,"ProsentMedInnkapsling"]
[null,"InngåandeVerdi","næringsspesifikasjon","spesifikasjonAvAnleggsmiddel","saldoavskrevetAnleggsmiddel",null,"inngaaendeVerdi",null,null,null,{"$f":"Årsoppgjer!D97","v":0},null,{"$f":"M821","v":0},0,31,"k",60,null,null,"BeloepMedSkattemessigeEgenskaper"]
[null,"Nyanskaffing","næringsspesifikasjon","spesifikasjonAvAnleggsmiddel","saldoavskrevetAnleggsmiddel",null,"nyanskaffelse",null,null,null,{"$f":"Årsoppgjer!E97","v":0},null,{"$f":"IF(K825=0,,1)","v":0},0,31,"k",270,null,null,"BeloepMedSkattemessigeEgenskaper"]
[null,"Påkosting","næringsspesifikasjon","spesifikasjonAvAnleggsmiddel","saldoavskrevetAnleggsmiddel",null,"paakostning",null,null,null,{"$f":"Årsoppgjer!F97","v":0},null,{"$f":"IF(K826=0,,1)","v":0},0,31,"k",70,null,null,"BeloepMedSkattemessigeEgenskaper"]
[null,"nedskrivningPåNyanskaffelserMedBetingetSkattefriSalgsgevinstGjelder","næringsspesifikasjon","spesifikasjonAvAnleggsmiddel","saldoavskrevetAnleggsmiddel",null,"nedskrivningPaaNyanskaffelserMedBetingetSkattefriSalgsgevinstGjelder",null,null,null,null,null,{"$f":"IF(K827=0,,1)","v":0},0,31,"k",150,null,null,"BeloepMedSkattemessigeEgenskaper"]
[null,"Offentleg tilskot","næringsspesifikasjon","spesifikasjonAvAnleggsmiddel","saldoavskrevetAnleggsmiddel",null,"offentligTilskudd",null,null,null,{"$f":"Årsoppgjer!H97","v":0},null,0,0,31,"k",80,null,null,"BeloepMedSkattemessigeEgenskaper"]
[null,"Vederlag ved realisasjon og uttak","næringsspesifikasjon","spesifikasjonAvAnleggsmiddel","saldoavskrevetAnleggsmiddel",null,"vederlagVedRealisasjonOgUttak",null,null,null,{"$f":"Årsoppgjer!G97","v":0},null,0,0,31,"k",100,null,null,"BeloepMedSkattemessigeEgenskaper"]
[null,"erRealisasjonenUfrivilligOgGevinstenBetingetSkattefri","næringsspesifikasjon","spesifikasjonAvAnleggsmiddel","saldoavskrevetAnleggsmiddel",null,"erRealisasjonenUfrivilligOgGevinstenBetingetSkattefri",null,null,null,null,null,0,0,31,"k",120,null,null,"BoolskMedInnkapsling"]
[null,"Grunnlag for avskriving og inntektsføring","næringsspesifikasjon","spesifikasjonAvAnleggsmiddel","saldoavskrevetAnleggsmiddel",null,"grunnlagForAvskrivningOgInntektsfoering",null,null,null,{"$f":"Årsoppgjer!I97","v":0},null,0,0,31,"k",190,null,null,"BeloepMedSkattemessigeEgenskaper"]
[null,"Vinst overført til vinst- og tapskonto","næringsspesifikasjon","spesifikasjonAvAnleggsmiddel","saldoavskrevetAnleggsmiddel",null,"gevinstOverfoertTilGevinstOgTapskonto",null,null,null,{"$f":"IF(Årsoppgjer!J97>0,Årsoppgjer!J97,)","v":0},null,0,0,31,"k",210,null,null,"BeloepMedSkattemessigeEgenskaper"]
[null,"Tap overført til vinst- og tapskonto","næringsspesifikasjon","spesifikasjonAvAnleggsmiddel","saldoavskrevetAnleggsmiddel",null,"tapOverfoertTilGevinstOgTapskonto",null,null,null,{"$f":"IF(Årsoppgjer!J97<0,Årsoppgjer!J97,)","v":0},null,0,0,31,"k",220,null,null,"BeloepMedSkattemessigeEgenskaper"]
[null,"Årets avskriving","næringsspesifikasjon","spesifikasjonAvAnleggsmiddel","saldoavskrevetAnleggsmiddel",null,"aaretsAvskrivning",null,null,null,{"$f":"Årsoppgjer!L97","v":0},null,0,0,31,"k",230,null,null,"BeloepMedSkattemessigeEgenskaper"]
[null,"åretsInntektsføringAvNegativSaldo","næringsspesifikasjon","spesifikasjonAvAnleggsmiddel","saldoavskrevetAnleggsmiddel",null,"aaretsInntektsfoeringAvNegativSaldo",null,null,null,null,null,0,0,31,"k",240,null,null,"BeloepMedSkattemessigeEgenskaper"]
[null,"Utgåande verdi","næringsspesifikasjon","spesifikasjonAvAnleggsmiddel","saldoavskrevetAnleggsmiddel",null,"utgaaendeVerdi",null,null,null,{"$f":"Årsoppgjer!M97","v":0},null,{"$f":"M821","v":0},0,31,"k",200,null,null,"BeloepMedSkattemessigeEgenskaper"]
[null,"Er det fysiske driftsmidlar i utgåande verdi?","næringsspesifikasjon","spesifikasjonAvAnleggsmiddel","saldoavskrevetAnleggsmiddel",null,"erDetFysiskAnleggsmiddelIUtgaaendeVerdi",null,null,null,{"$f":"IF(OR(K831>1,K836>1,K829>1),\"Ja\",\"Nei\")","v":"Nei"},null,{"$f":"M821","v":0},0,31,"k",290,null,null,"BoolskMedInnkapsling"]
[null,null,null,null,null,null,null,null,null,null,null,null,{"$f":"M840","v":0},0]
[null,"id","næringsspesifikasjon","spesifikasjonAvAnleggsmiddel","saldoavskrevetAnleggsmiddel",null,"id",null,null,null,{"$f":"K841","v":32},null,0,{"$f":"N840","v":0},32,"k",10,null,null,"Tekst"]
[null,"Saldogruppe H, Bygg og anlegg mv. Anna Næring","næringsspesifikasjon","spesifikasjonAvAnleggsmiddel","saldoavskrevetAnleggsmiddel",null,"saldogruppe",null,null,null,"h",null,{"$f":"IF(K856=\"Ja\",1,0)","v":0},0,32,"k",250,null,null,"SaldogruppeMedInnkapsling"]
[null,"Objekt-id","næringsspesifikasjon","spesifikasjonAvAnleggsmiddel","saldoavskrevetAnleggsmiddel",null,"objektidentifikator ",null,null,null,32,null,{"$f":"M840","v":0},0,32,"k",20,null,null,"TekstMedInnkapsling"]
[null,"Avskrivingssats  ","næringsspesifikasjon","spesifikasjonAvAnleggsmiddel","saldoavskrevetAnleggsmiddel",null,"avskrivningssats  ",null,null,null,{"$f":"Årsoppgjer!K98","v":0},null,{"$f":"M840","v":0},0,32,"k",260,null,null,"ProsentMedInnkapsling"]
[null,"InngåandeVerdi","næringsspesifikasjon","spesifikasjonAvAnleggsmiddel","saldoavskrevetAnleggsmiddel",null,"inngaaendeVerdi",null,null,null,{"$f":"Årsoppgjer!D98","v":0},null,{"$f":"M840","v":0},0,32,"k",60,null,null,"BeloepMedSkattemessigeEgenskaper"]
[null,"Nyanskaffing","næringsspesifikasjon","spesifikasjonAvAnleggsmiddel","saldoavskrevetAnleggsmiddel",null,"nyanskaffelse",null,null,null,{"$f":"Årsoppgjer!E98","v":0},null,{"$f":"IF(K844=0,,1)","v":0},{"$f":"M844","v":0},32,"k",270,null,null,"BeloepMedSkattemessigeEgenskaper"]
[null,"Påkosting","næringsspesifikasjon","spesifikasjonAvAnleggsmiddel","saldoavskrevetAnleggsmiddel",null,"paakostning",null,null,null,{"$f":"Årsoppgjer!F98","v":0},null,{"$f":"IF(K845=0,,1)","v":0},0,32,"k",70,null,null,"BeloepMedSkattemessigeEgenskaper"]
[null,"nedskrivningPåNyanskaffelserMedBetingetSkattefriSalgsgevinstGjelder","næringsspesifikasjon","spesifikasjonAvAnleggsmiddel","saldoavskrevetAnleggsmiddel",null,"nedskrivningPaaNyanskaffelserMedBetingetSkattefriSalgsgevinstGjelder",null,null,null,null,null,{"$f":"IF(K846=0,,1)","v":0},0,32,"k",150,null,null,"BeloepMedSkattemessigeEgenskaper"]
[null,"Offentleg tilskot","næringsspesifikasjon","spesifikasjonAvAnleggsmiddel","saldoavskrevetAnleggsmiddel",null,"offentligTilskudd",null,null,null,{"$f":"Årsoppgjer!H98","v":0},null,0,0,32,"k",80,null,null,"BeloepMedSkattemessigeEgenskaper"]
[null,"Vederlag ved realisasjon og uttak","næringsspesifikasjon","spesifikasjonAvAnleggsmiddel","saldoavskrevetAnleggsmiddel",null,"vederlagVedRealisasjonOgUttak",null,null,null,{"$f":"Årsoppgjer!G98","v":0},null,0,0,32,"k",100,null,null,"BeloepMedSkattemessigeEgenskaper"]
[null,"erRealisasjonenUfrivilligOgGevinstenBetingetSkattefri","næringsspesifikasjon","spesifikasjonAvAnleggsmiddel","saldoavskrevetAnleggsmiddel",null,"erRealisasjonenUfrivilligOgGevinstenBetingetSkattefri",null,null,null,null,null,0,0,32,"k",120,null,null,"BoolskMedInnkapsling"]
[null,"Grunnlag for avskriving og inntektsføring","næringsspesifikasjon","spesifikasjonAvAnleggsmiddel","saldoavskrevetAnleggsmiddel",null,"grunnlagForAvskrivningOgInntektsfoering",null,null,null,{"$f":"Årsoppgjer!I98","v":0},null,0,0,32,"k",190,null,null,"BeloepMedSkattemessigeEgenskaper"]
[null,"Vinst overført til vinst- og tapskonto","næringsspesifikasjon","spesifikasjonAvAnleggsmiddel","saldoavskrevetAnleggsmiddel",null,"gevinstOverfoertTilGevinstOgTapskonto",null,null,null,{"$f":"IF(Årsoppgjer!J98>0,Årsoppgjer!J98,)","v":0},null,0,0,32,"k",210,null,null,"BeloepMedSkattemessigeEgenskaper"]
[null,"Tap overført til vinst- og tapskonto","næringsspesifikasjon","spesifikasjonAvAnleggsmiddel","saldoavskrevetAnleggsmiddel",null,"tapOverfoertTilGevinstOgTapskonto",null,null,null,{"$f":"IF(Årsoppgjer!J98<0,Årsoppgjer!J98,)","v":0},null,0,0,32,"k",220,null,null,"BeloepMedSkattemessigeEgenskaper"]
[null,"Årets avskriving","næringsspesifikasjon","spesifikasjonAvAnleggsmiddel","saldoavskrevetAnleggsmiddel",null,"aaretsAvskrivning",null,null,null,{"$f":"Årsoppgjer!L98","v":0},null,0,0,32,"k",230,null,null,"BeloepMedSkattemessigeEgenskaper"]
[null,"åretsInntektsføringAvNegativSaldo","næringsspesifikasjon","spesifikasjonAvAnleggsmiddel","saldoavskrevetAnleggsmiddel",null,"aaretsInntektsfoeringAvNegativSaldo",null,null,null,null,null,0,0,32,"k",240,null,null,"BeloepMedSkattemessigeEgenskaper"]
[null,"Utgåande verdi","næringsspesifikasjon","spesifikasjonAvAnleggsmiddel","saldoavskrevetAnleggsmiddel",null,"utgaaendeVerdi",null,null,null,{"$f":"Årsoppgjer!M98","v":0},null,{"$f":"M840","v":0},0,32,"k",200,null,null,"BeloepMedSkattemessigeEgenskaper"]
[null,"Er det fysiske driftsmidlar i utgåande verdi?","næringsspesifikasjon","spesifikasjonAvAnleggsmiddel","saldoavskrevetAnleggsmiddel",null,"erDetFysiskAnleggsmiddelIUtgaaendeVerdi",null,null,null,{"$f":"IF(OR(K850>1,K855>1,K848>1),\"Ja\",\"Nei\")","v":"Nei"},null,{"$f":"M840","v":0},0,32,"k",290,null,null,"BoolskMedInnkapsling"]
[null,null,null,null,null,null,null,null,null,null,null,null,{"$f":"M859","v":0},0]
[null,"id","næringsspesifikasjon","spesifikasjonAvAnleggsmiddel","saldoavskrevetAnleggsmiddel",null,"id",null,null,null,{"$f":"K860","v":33},null,0,{"$f":"N859","v":0},33,"k",10,null,null,"Tekst"]
[null,"Saldogruppe J, Fast teknisk installasjon i bygningar. Anna næring","næringsspesifikasjon","spesifikasjonAvAnleggsmiddel","saldoavskrevetAnleggsmiddel",null,"saldogruppe",null,null,null,"j",null,{"$f":"IF(K875=\"Ja\",1,0)","v":0},0,33,"k",250,null,null,"SaldogruppeMedInnkapsling"]
[null,"Objekt-id","næringsspesifikasjon","spesifikasjonAvAnleggsmiddel","saldoavskrevetAnleggsmiddel",null,"objektidentifikator ",null,null,null,33,null,{"$f":"M859","v":0},0,33,"k",20,null,null,"TekstMedInnkapsling"]
[null,"Avskrivingssats  ","næringsspesifikasjon","spesifikasjonAvAnleggsmiddel","saldoavskrevetAnleggsmiddel",null,"avskrivningssats  ",null,null,null,{"$f":"Årsoppgjer!K103","v":0},null,{"$f":"M859","v":0},0,33,"k",260,null,null,"ProsentMedInnkapsling"]
[null,"InngåandeVerdi","næringsspesifikasjon","spesifikasjonAvAnleggsmiddel","saldoavskrevetAnleggsmiddel",null,"inngaaendeVerdi",null,null,null,{"$f":"Årsoppgjer!D103","v":0},null,{"$f":"M859","v":0},0,33,"k",60,null,null,"BeloepMedSkattemessigeEgenskaper"]
[null,"Nyanskaffing","næringsspesifikasjon","spesifikasjonAvAnleggsmiddel","saldoavskrevetAnleggsmiddel",null,"nyanskaffelse",null,null,null,{"$f":"Årsoppgjer!E103","v":0},null,{"$f":"IF(K863=0,,1)","v":0},0,33,"k",270,null,null,"BeloepMedSkattemessigeEgenskaper"]
[null,"Påkosting","næringsspesifikasjon","spesifikasjonAvAnleggsmiddel","saldoavskrevetAnleggsmiddel",null,"paakostning",null,null,null,{"$f":"Årsoppgjer!F103","v":0},null,{"$f":"IF(K864=0,,1)","v":0},0,33,"k",70,null,null,"BeloepMedSkattemessigeEgenskaper"]
[null,"nedskrivningPåNyanskaffelserMedBetingetSkattefriSalgsgevinstGjelder","næringsspesifikasjon","spesifikasjonAvAnleggsmiddel","saldoavskrevetAnleggsmiddel",null,"nedskrivningPaaNyanskaffelserMedBetingetSkattefriSalgsgevinstGjelder",null,null,null,null,null,{"$f":"IF(K865=0,,1)","v":0},0,33,"k",150,null,null,"BeloepMedSkattemessigeEgenskaper"]
[null,"Offentleg tilskot","næringsspesifikasjon","spesifikasjonAvAnleggsmiddel","saldoavskrevetAnleggsmiddel",null,"offentligTilskudd",null,null,null,{"$f":"Årsoppgjer!H103","v":0},null,0,0,33,"k",80,null,null,"BeloepMedSkattemessigeEgenskaper"]
[null,"Vederlag ved realisasjon og uttak","næringsspesifikasjon","spesifikasjonAvAnleggsmiddel","saldoavskrevetAnleggsmiddel",null,"vederlagVedRealisasjonOgUttak",null,null,null,{"$f":"Årsoppgjer!G103","v":0},null,0,0,33,"k",100,null,null,"BeloepMedSkattemessigeEgenskaper"]
[null,"erRealisasjonenUfrivilligOgGevinstenBetingetSkattefri","næringsspesifikasjon","spesifikasjonAvAnleggsmiddel","saldoavskrevetAnleggsmiddel",null,"erRealisasjonenUfrivilligOgGevinstenBetingetSkattefri",null,null,null,null,null,0,0,33,"k",120,null,null,"BoolskMedInnkapsling"]
[null,"Grunnlag for avskriving og inntektsføring","næringsspesifikasjon","spesifikasjonAvAnleggsmiddel","saldoavskrevetAnleggsmiddel",null,"grunnlagForAvskrivningOgInntektsfoering",null,null,null,{"$f":"Årsoppgjer!I103","v":0},null,0,0,33,"k",190,null,null,"BeloepMedSkattemessigeEgenskaper"]
[null,"Vinst overført til vinst- og tapskonto","næringsspesifikasjon","spesifikasjonAvAnleggsmiddel","saldoavskrevetAnleggsmiddel",null,"gevinstOverfoertTilGevinstOgTapskonto",null,null,null,{"$f":"IF(Årsoppgjer!J103>0,Årsoppgjer!J103,)","v":0},null,0,0,33,"k",210,null,null,"BeloepMedSkattemessigeEgenskaper"]
[null,"Tap overført til vinst- og tapskonto","næringsspesifikasjon","spesifikasjonAvAnleggsmiddel","saldoavskrevetAnleggsmiddel",null,"tapOverfoertTilGevinstOgTapskonto",null,null,null,{"$f":"IF(Årsoppgjer!J103<0,Årsoppgjer!J103,)","v":0},null,0,0,33,"k",220,null,null,"BeloepMedSkattemessigeEgenskaper"]
[null,"Årets avskriving","næringsspesifikasjon","spesifikasjonAvAnleggsmiddel","saldoavskrevetAnleggsmiddel",null,"aaretsAvskrivning",null,null,null,{"$f":"Årsoppgjer!L103","v":0},null,0,0,33,"k",230,null,null,"BeloepMedSkattemessigeEgenskaper"]
[null,"åretsInntektsføringAvNegativSaldo","næringsspesifikasjon","spesifikasjonAvAnleggsmiddel","saldoavskrevetAnleggsmiddel",null,"aaretsInntektsfoeringAvNegativSaldo",null,null,null,null,null,0,0,33,"k",240,null,null,"BeloepMedSkattemessigeEgenskaper"]
[null,"Utgåande verdi","næringsspesifikasjon","spesifikasjonAvAnleggsmiddel","saldoavskrevetAnleggsmiddel",null,"utgaaendeVerdi",null,null,null,{"$f":"Årsoppgjer!M103","v":0},null,{"$f":"M859","v":0},0,33,"k",200,null,null,"BeloepMedSkattemessigeEgenskaper"]
[null,"Er det fysiske driftsmidlar i utgåande verdi?","næringsspesifikasjon","spesifikasjonAvAnleggsmiddel","saldoavskrevetAnleggsmiddel",null,"erDetFysiskAnleggsmiddelIUtgaaendeVerdi",null,null,null,{"$f":"IF(OR(K869>1,K874>1,K867>1),\"Ja\",\"Nei\")","v":"Nei"},null,{"$f":"M859","v":0},0,33,"k",290,null,null,"BoolskMedInnkapsling"]
[null,null,null,null,null,null,null,null,null,null,null,null,{"$f":"M878","v":0},0]
[null,"id","næringsspesifikasjon","spesifikasjonAvAnleggsmiddel","saldoavskrevetAnleggsmiddel",null,"id",null,null,null,{"$f":"K879","v":34},null,0,{"$f":"N878","v":0},34,"k",10,null,null,"Tekst"]
[null,"Saldogruppe J, Fast teknisk installasjon i bygningar. Anna næring","næringsspesifikasjon","spesifikasjonAvAnleggsmiddel","saldoavskrevetAnleggsmiddel",null,"saldogruppe",null,null,null,"j",null,{"$f":"IF(K894=\"Ja\",1,0)","v":0},0,34,"k",250,null,null,"SaldogruppeMedInnkapsling"]
[null,"Objekt-id","næringsspesifikasjon","spesifikasjonAvAnleggsmiddel","saldoavskrevetAnleggsmiddel",null,"objektidentifikator ",null,null,null,34,null,{"$f":"M878","v":0},0,34,"k",20,null,null,"TekstMedInnkapsling"]
[null,"Avskrivingssats  ","næringsspesifikasjon","spesifikasjonAvAnleggsmiddel","saldoavskrevetAnleggsmiddel",null,"avskrivningssats  ",null,null,null,{"$f":"Årsoppgjer!K104","v":0},null,{"$f":"M878","v":0},0,34,"k",260,null,null,"ProsentMedInnkapsling"]
[null,"InngåandeVerdi","næringsspesifikasjon","spesifikasjonAvAnleggsmiddel","saldoavskrevetAnleggsmiddel",null,"inngaaendeVerdi",null,null,null,{"$f":"Årsoppgjer!D104","v":0},null,{"$f":"M878","v":0},0,34,"k",60,null,null,"BeloepMedSkattemessigeEgenskaper"]
[null,"Nyanskaffing","næringsspesifikasjon","spesifikasjonAvAnleggsmiddel","saldoavskrevetAnleggsmiddel",null,"nyanskaffelse",null,null,null,{"$f":"Årsoppgjer!E104","v":0},null,{"$f":"IF(K882=0,,1)","v":0},0,34,"k",270,null,null,"BeloepMedSkattemessigeEgenskaper"]
[null,"Påkosting","næringsspesifikasjon","spesifikasjonAvAnleggsmiddel","saldoavskrevetAnleggsmiddel",null,"paakostning",null,null,null,{"$f":"Årsoppgjer!F104","v":0},null,{"$f":"IF(K883=0,,1)","v":0},0,34,"k",70,null,null,"BeloepMedSkattemessigeEgenskaper"]
[null,"nedskrivningPåNyanskaffelserMedBetingetSkattefriSalgsgevinstGjelder","næringsspesifikasjon","spesifikasjonAvAnleggsmiddel","saldoavskrevetAnleggsmiddel",null,"nedskrivningPaaNyanskaffelserMedBetingetSkattefriSalgsgevinstGjelder",null,null,null,null,null,{"$f":"IF(K884=0,,1)","v":0},0,34,"k",150,null,null,"BeloepMedSkattemessigeEgenskaper"]
[null,"Offentleg tilskot","næringsspesifikasjon","spesifikasjonAvAnleggsmiddel","saldoavskrevetAnleggsmiddel",null,"offentligTilskudd",null,null,null,{"$f":"Årsoppgjer!H104","v":0},null,0,0,34,"k",80,null,null,"BeloepMedSkattemessigeEgenskaper"]
[null,"Vederlag ved realisasjon og uttak","næringsspesifikasjon","spesifikasjonAvAnleggsmiddel","saldoavskrevetAnleggsmiddel",null,"vederlagVedRealisasjonOgUttak",null,null,null,{"$f":"Årsoppgjer!G104","v":0},null,0,0,34,"k",100,null,null,"BeloepMedSkattemessigeEgenskaper"]
[null,"erRealisasjonenUfrivilligOgGevinstenBetingetSkattefri","næringsspesifikasjon","spesifikasjonAvAnleggsmiddel","saldoavskrevetAnleggsmiddel",null,"erRealisasjonenUfrivilligOgGevinstenBetingetSkattefri",null,null,null,null,null,0,0,34,"k",120,null,null,"BoolskMedInnkapsling"]
[null,"Grunnlag for avskriving og inntektsføring","næringsspesifikasjon","spesifikasjonAvAnleggsmiddel","saldoavskrevetAnleggsmiddel",null,"grunnlagForAvskrivningOgInntektsfoering",null,null,null,{"$f":"Årsoppgjer!I104","v":0},null,0,0,34,"k",190,null,null,"BeloepMedSkattemessigeEgenskaper"]
[null,"Vinst overført til vinst- og tapskonto","næringsspesifikasjon","spesifikasjonAvAnleggsmiddel","saldoavskrevetAnleggsmiddel",null,"gevinstOverfoertTilGevinstOgTapskonto",null,null,null,{"$f":"IF(Årsoppgjer!J104>0,Årsoppgjer!J104,)","v":0},null,0,0,34,"k",210,null,null,"BeloepMedSkattemessigeEgenskaper"]
[null,"Tap overført til vinst- og tapskonto","næringsspesifikasjon","spesifikasjonAvAnleggsmiddel","saldoavskrevetAnleggsmiddel",null,"tapOverfoertTilGevinstOgTapskonto",null,null,null,{"$f":"IF(Årsoppgjer!J104<0,Årsoppgjer!J104,)","v":0},null,0,0,34,"k",220,null,null,"BeloepMedSkattemessigeEgenskaper"]
[null,"Årets avskriving","næringsspesifikasjon","spesifikasjonAvAnleggsmiddel","saldoavskrevetAnleggsmiddel",null,"aaretsAvskrivning",null,null,null,{"$f":"Årsoppgjer!L104","v":0},null,0,0,34,"k",230,null,null,"BeloepMedSkattemessigeEgenskaper"]
[null,"åretsInntektsføringAvNegativSaldo","næringsspesifikasjon","spesifikasjonAvAnleggsmiddel","saldoavskrevetAnleggsmiddel",null,"aaretsInntektsfoeringAvNegativSaldo",null,null,null,null,null,0,0,34,"k",240,null,null,"BeloepMedSkattemessigeEgenskaper"]
[null,"Utgåande verdi","næringsspesifikasjon","spesifikasjonAvAnleggsmiddel","saldoavskrevetAnleggsmiddel",null,"utgaaendeVerdi",null,null,null,{"$f":"Årsoppgjer!M104","v":0},null,{"$f":"M878","v":0},0,34,"k",200,null,null,"BeloepMedSkattemessigeEgenskaper"]
[null,"Er det fysiske driftsmidlar i utgåande verdi?","næringsspesifikasjon","spesifikasjonAvAnleggsmiddel","saldoavskrevetAnleggsmiddel",null,"erDetFysiskAnleggsmiddelIUtgaaendeVerdi",null,null,null,{"$f":"IF(OR(K888>1,K893>1,K886>1),\"Ja\",\"Nei\")","v":"Nei"},null,{"$f":"M878","v":0},0,34,"k",290,null,null,"BoolskMedInnkapsling"]
[null,null,null,null,null,null,null,null,null,null,null,null,{"$f":"M897","v":0},0]
[null,"id","næringsspesifikasjon","spesifikasjonAvAnleggsmiddel","saldoavskrevetAnleggsmiddel",null,"id",null,null,null,{"$f":"K898","v":35},null,0,{"$f":"N897","v":0},35,"k",10,null,null,"Tekst"]
[null,"Saldogruppe J, Fast teknisk installasjon i bygningar. Anna næring","næringsspesifikasjon","spesifikasjonAvAnleggsmiddel","saldoavskrevetAnleggsmiddel",null,"saldogruppe",null,null,null,"j",null,{"$f":"IF(K913=\"Ja\",1,0)","v":0},0,35,"k",250,null,null,"SaldogruppeMedInnkapsling"]
[null,"Objekt-id","næringsspesifikasjon","spesifikasjonAvAnleggsmiddel","saldoavskrevetAnleggsmiddel",null,"objektidentifikator ",null,null,null,35,null,{"$f":"M897","v":0},0,35,"k",20,null,null,"TekstMedInnkapsling"]
[null,"Avskrivingssats  ","næringsspesifikasjon","spesifikasjonAvAnleggsmiddel","saldoavskrevetAnleggsmiddel",null,"avskrivningssats  ",null,null,null,{"$f":"Årsoppgjer!K105","v":0},null,{"$f":"M897","v":0},0,35,"k",260,null,null,"ProsentMedInnkapsling"]
[null,"InngåandeVerdi","næringsspesifikasjon","spesifikasjonAvAnleggsmiddel","saldoavskrevetAnleggsmiddel",null,"inngaaendeVerdi",null,null,null,{"$f":"Årsoppgjer!D105","v":0},null,{"$f":"M897","v":0},0,35,"k",60,null,null,"BeloepMedSkattemessigeEgenskaper"]
[null,"Nyanskaffing","næringsspesifikasjon","spesifikasjonAvAnleggsmiddel","saldoavskrevetAnleggsmiddel",null,"nyanskaffelse",null,null,null,{"$f":"Årsoppgjer!E105","v":0},null,{"$f":"IF(K901=0,,1)","v":0},0,35,"k",270,null,null,"BeloepMedSkattemessigeEgenskaper"]
[null,"Påkosting","næringsspesifikasjon","spesifikasjonAvAnleggsmiddel","saldoavskrevetAnleggsmiddel",null,"paakostning",null,null,null,{"$f":"Årsoppgjer!F105","v":0},null,{"$f":"IF(K902=0,,1)","v":0},0,35,"k",70,null,null,"BeloepMedSkattemessigeEgenskaper"]
[null,"nedskrivningPåNyanskaffelserMedBetingetSkattefriSalgsgevinstGjelder","næringsspesifikasjon","spesifikasjonAvAnleggsmiddel","saldoavskrevetAnleggsmiddel",null,"nedskrivningPaaNyanskaffelserMedBetingetSkattefriSalgsgevinstGjelder",null,null,null,null,null,{"$f":"IF(K903=0,,1)","v":0},0,35,"k",150,null,null,"BeloepMedSkattemessigeEgenskaper"]
[null,"Offentleg tilskot","næringsspesifikasjon","spesifikasjonAvAnleggsmiddel","saldoavskrevetAnleggsmiddel",null,"offentligTilskudd",null,null,null,{"$f":"Årsoppgjer!H105","v":0},null,0,0,35,"k",80,null,null,"BeloepMedSkattemessigeEgenskaper"]
[null,"Vederlag ved realisasjon og uttak","næringsspesifikasjon","spesifikasjonAvAnleggsmiddel","saldoavskrevetAnleggsmiddel",null,"vederlagVedRealisasjonOgUttak",null,null,null,{"$f":"Årsoppgjer!G105","v":0},null,0,0,35,"k",100,null,null,"BeloepMedSkattemessigeEgenskaper"]
[null,"erRealisasjonenUfrivilligOgGevinstenBetingetSkattefri","næringsspesifikasjon","spesifikasjonAvAnleggsmiddel","saldoavskrevetAnleggsmiddel",null,"erRealisasjonenUfrivilligOgGevinstenBetingetSkattefri",null,null,null,null,null,0,0,35,"k",120,null,null,"BoolskMedInnkapsling"]
[null,"Grunnlag for avskriving og inntektsføring","næringsspesifikasjon","spesifikasjonAvAnleggsmiddel","saldoavskrevetAnleggsmiddel",null,"grunnlagForAvskrivningOgInntektsfoering",null,null,null,{"$f":"Årsoppgjer!I105","v":0},null,0,0,35,"k",190,null,null,"BeloepMedSkattemessigeEgenskaper"]
[null,"Vinst overført til vinst- og tapskonto","næringsspesifikasjon","spesifikasjonAvAnleggsmiddel","saldoavskrevetAnleggsmiddel",null,"gevinstOverfoertTilGevinstOgTapskonto",null,null,null,{"$f":"IF(Årsoppgjer!J105>0,Årsoppgjer!J105,)","v":0},null,0,{"$f":"M908","v":0},35,"k",210,null,null,"BeloepMedSkattemessigeEgenskaper"]
[null,"Tap overført til vinst- og tapskonto","næringsspesifikasjon","spesifikasjonAvAnleggsmiddel","saldoavskrevetAnleggsmiddel",null,"tapOverfoertTilGevinstOgTapskonto",null,null,null,{"$f":"IF(Årsoppgjer!J105<0,Årsoppgjer!J105,)","v":0},null,0,0,35,"k",220,null,null,"BeloepMedSkattemessigeEgenskaper"]
[null,"Årets avskriving","næringsspesifikasjon","spesifikasjonAvAnleggsmiddel","saldoavskrevetAnleggsmiddel",null,"aaretsAvskrivning",null,null,null,{"$f":"Årsoppgjer!L105","v":0},null,0,0,35,"k",230,null,null,"BeloepMedSkattemessigeEgenskaper"]
[null,"åretsInntektsføringAvNegativSaldo","næringsspesifikasjon","spesifikasjonAvAnleggsmiddel","saldoavskrevetAnleggsmiddel",null,"aaretsInntektsfoeringAvNegativSaldo",null,null,null,null,null,0,0,35,"k",240,null,null,"BeloepMedSkattemessigeEgenskaper"]
[null,"Utgåande verdi","næringsspesifikasjon","spesifikasjonAvAnleggsmiddel","saldoavskrevetAnleggsmiddel",null,"utgaaendeVerdi",null,null,null,{"$f":"Årsoppgjer!M105","v":0},null,{"$f":"M897","v":0},0,35,"k",200,null,null,"BeloepMedSkattemessigeEgenskaper"]
[null,"Er det fysiske driftsmidlar i utgåande verdi?","næringsspesifikasjon","spesifikasjonAvAnleggsmiddel","saldoavskrevetAnleggsmiddel",null,"erDetFysiskAnleggsmiddelIUtgaaendeVerdi",null,null,null,{"$f":"IF(OR(K907>1,K912>1,K905>1),\"Ja\",\"Nei\")","v":"Nei"},null,{"$f":"M897","v":0},0,35,"k",290,null,null,"BoolskMedInnkapsling"]
[null,null,null,null,null,null,null,null,null,null,null,null,{"$f":"M916","v":0},0]
[null,"id","næringsspesifikasjon","spesifikasjonAvAnleggsmiddel","saldoavskrevetAnleggsmiddel",null,"id",null,null,null,{"$f":"K917","v":36},null,0,{"$f":"N916","v":0},36,"k",10,null,null,"Tekst"]
[null,"Saldogruppe J, Fast teknisk installasjon i bygningar. Anna næring","næringsspesifikasjon","spesifikasjonAvAnleggsmiddel","saldoavskrevetAnleggsmiddel",null,"saldogruppe",null,null,null,"j",null,{"$f":"IF(K932=\"Ja\",1,0)","v":0},0,36,"k",250,null,null,"SaldogruppeMedInnkapsling"]
[null,"Objekt-id","næringsspesifikasjon","spesifikasjonAvAnleggsmiddel","saldoavskrevetAnleggsmiddel",null,"objektidentifikator ",null,null,null,36,null,{"$f":"M916","v":0},0,36,"k",20,null,null,"TekstMedInnkapsling"]
[null,"Avskrivingssats  ","næringsspesifikasjon","spesifikasjonAvAnleggsmiddel","saldoavskrevetAnleggsmiddel",null,"avskrivningssats  ",null,null,null,{"$f":"Årsoppgjer!K106","v":0},null,{"$f":"M916","v":0},0,36,"k",260,null,null,"ProsentMedInnkapsling"]
[null,"InngåandeVerdi","næringsspesifikasjon","spesifikasjonAvAnleggsmiddel","saldoavskrevetAnleggsmiddel",null,"inngaaendeVerdi",null,null,null,{"$f":"Årsoppgjer!D106","v":0},null,{"$f":"M916","v":0},0,36,"k",60,null,null,"BeloepMedSkattemessigeEgenskaper"]
[null,"Nyanskaffing","næringsspesifikasjon","spesifikasjonAvAnleggsmiddel","saldoavskrevetAnleggsmiddel",null,"nyanskaffelse",null,null,null,{"$f":"Årsoppgjer!E106","v":0},null,{"$f":"IF(K920=0,,1)","v":0},0,36,"k",270,null,null,"BeloepMedSkattemessigeEgenskaper"]
[null,"Påkosting","næringsspesifikasjon","spesifikasjonAvAnleggsmiddel","saldoavskrevetAnleggsmiddel",null,"paakostning",null,null,null,{"$f":"Årsoppgjer!F106","v":0},null,{"$f":"IF(K921=0,,1)","v":0},0,36,"k",70,null,null,"BeloepMedSkattemessigeEgenskaper"]
[null,"nedskrivningPåNyanskaffelserMedBetingetSkattefriSalgsgevinstGjelder","næringsspesifikasjon","spesifikasjonAvAnleggsmiddel","saldoavskrevetAnleggsmiddel",null,"nedskrivningPaaNyanskaffelserMedBetingetSkattefriSalgsgevinstGjelder",null,null,null,null,null,{"$f":"IF(K922=0,,1)","v":0},0,36,"k",150,null,null,"BeloepMedSkattemessigeEgenskaper"]
[null,"Offentleg tilskot","næringsspesifikasjon","spesifikasjonAvAnleggsmiddel","saldoavskrevetAnleggsmiddel",null,"offentligTilskudd",null,null,null,{"$f":"Årsoppgjer!H106","v":0},null,0,0,36,"k",80,null,null,"BeloepMedSkattemessigeEgenskaper"]
[null,"Vederlag ved realisasjon og uttak","næringsspesifikasjon","spesifikasjonAvAnleggsmiddel","saldoavskrevetAnleggsmiddel",null,"vederlagVedRealisasjonOgUttak",null,null,null,{"$f":"Årsoppgjer!G106","v":0},null,0,0,36,"k",100,null,null,"BeloepMedSkattemessigeEgenskaper"]
[null,"erRealisasjonenUfrivilligOgGevinstenBetingetSkattefri","næringsspesifikasjon","spesifikasjonAvAnleggsmiddel","saldoavskrevetAnleggsmiddel",null,"erRealisasjonenUfrivilligOgGevinstenBetingetSkattefri",null,null,null,null,null,0,0,36,"k",120,null,null,"BoolskMedInnkapsling"]
[null,"Grunnlag for avskriving og inntektsføring","næringsspesifikasjon","spesifikasjonAvAnleggsmiddel","saldoavskrevetAnleggsmiddel",null,"grunnlagForAvskrivningOgInntektsfoering",null,null,null,{"$f":"Årsoppgjer!I106","v":0},null,0,0,36,"k",190,null,null,"BeloepMedSkattemessigeEgenskaper"]
[null,"Vinst overført til vinst- og tapskonto","næringsspesifikasjon","spesifikasjonAvAnleggsmiddel","saldoavskrevetAnleggsmiddel",null,"gevinstOverfoertTilGevinstOgTapskonto",null,null,null,{"$f":"IF(Årsoppgjer!J106>0,Årsoppgjer!J106,)","v":0},null,0,0,36,"k",210,null,null,"BeloepMedSkattemessigeEgenskaper"]
[null,"Tap overført til vinst- og tapskonto","næringsspesifikasjon","spesifikasjonAvAnleggsmiddel","saldoavskrevetAnleggsmiddel",null,"tapOverfoertTilGevinstOgTapskonto",null,null,null,{"$f":"IF(Årsoppgjer!J106<0,Årsoppgjer!J106,)","v":0},null,0,0,36,"k",220,null,null,"BeloepMedSkattemessigeEgenskaper"]
[null,"Årets avskriving","næringsspesifikasjon","spesifikasjonAvAnleggsmiddel","saldoavskrevetAnleggsmiddel",null,"aaretsAvskrivning",null,null,null,{"$f":"Årsoppgjer!L106","v":0},null,0,0,36,"k",230,null,null,"BeloepMedSkattemessigeEgenskaper"]
[null,"åretsInntektsføringAvNegativSaldo","næringsspesifikasjon","spesifikasjonAvAnleggsmiddel","saldoavskrevetAnleggsmiddel",null,"aaretsInntektsfoeringAvNegativSaldo",null,null,null,null,null,0,0,36,"k",240,null,null,"BeloepMedSkattemessigeEgenskaper"]
[null,"Utgåande verdi","næringsspesifikasjon","spesifikasjonAvAnleggsmiddel","saldoavskrevetAnleggsmiddel",null,"utgaaendeVerdi",null,null,null,{"$f":"Årsoppgjer!M106","v":0},null,{"$f":"M916","v":0},0,36,"k",200,null,null,"BeloepMedSkattemessigeEgenskaper"]
[null,"Er det fysiske driftsmidlar i utgåande verdi?","næringsspesifikasjon","spesifikasjonAvAnleggsmiddel","saldoavskrevetAnleggsmiddel",null,"erDetFysiskAnleggsmiddelIUtgaaendeVerdi",null,null,null,{"$f":"IF(OR(K926>1,K931>1,K924>1),\"Ja\",\"Nei\")","v":"Nei"},null,{"$f":"M916","v":0},0,36,"k",290,null,null,"BoolskMedInnkapsling"]
[null,null,null,null,null,null,null,null,null,null,null,null,{"$f":"M935","v":0},0]
[null,"id","næringsspesifikasjon","spesifikasjonAvAnleggsmiddel","saldoavskrevetAnleggsmiddel",null,"id",null,null,null,{"$f":"K936","v":37},null,0,{"$f":"N935","v":0},37,"k",10,null,null,"Tekst"]
[null,"Saldogruppe J, Fast teknisk installasjon i bygningar. Anna næring","næringsspesifikasjon","spesifikasjonAvAnleggsmiddel","saldoavskrevetAnleggsmiddel",null,"saldogruppe",null,null,null,"j",null,{"$f":"IF(K951=\"Ja\",1,0)","v":0},0,37,"k",250,null,null,"SaldogruppeMedInnkapsling"]
[null,"Objekt-id","næringsspesifikasjon","spesifikasjonAvAnleggsmiddel","saldoavskrevetAnleggsmiddel",null,"objektidentifikator ",null,null,null,37,null,{"$f":"M935","v":0},0,37,"k",20,null,null,"TekstMedInnkapsling"]
[null,"Avskrivingssats  ","næringsspesifikasjon","spesifikasjonAvAnleggsmiddel","saldoavskrevetAnleggsmiddel",null,"avskrivningssats  ",null,null,null,{"$f":"Årsoppgjer!K107","v":0},null,{"$f":"M935","v":0},0,37,"k",260,null,null,"ProsentMedInnkapsling"]
[null,"InngåandeVerdi","næringsspesifikasjon","spesifikasjonAvAnleggsmiddel","saldoavskrevetAnleggsmiddel",null,"inngaaendeVerdi",null,null,null,{"$f":"Årsoppgjer!D107","v":0},null,{"$f":"M935","v":0},0,37,"k",60,null,null,"BeloepMedSkattemessigeEgenskaper"]
[null,"Nyanskaffing","næringsspesifikasjon","spesifikasjonAvAnleggsmiddel","saldoavskrevetAnleggsmiddel",null,"nyanskaffelse",null,null,null,{"$f":"Årsoppgjer!E107","v":0},null,{"$f":"IF(K939=0,,1)","v":0},0,37,"k",270,null,null,"BeloepMedSkattemessigeEgenskaper"]
[null,"Påkosting","næringsspesifikasjon","spesifikasjonAvAnleggsmiddel","saldoavskrevetAnleggsmiddel",null,"paakostning",null,null,null,{"$f":"Årsoppgjer!F107","v":0},null,{"$f":"IF(K940=0,,1)","v":0},0,37,"k",70,null,null,"BeloepMedSkattemessigeEgenskaper"]
[null,"nedskrivningPåNyanskaffelserMedBetingetSkattefriSalgsgevinstGjelder","næringsspesifikasjon","spesifikasjonAvAnleggsmiddel","saldoavskrevetAnleggsmiddel",null,"nedskrivningPaaNyanskaffelserMedBetingetSkattefriSalgsgevinstGjelder",null,null,null,null,null,{"$f":"IF(K941=0,,1)","v":0},0,37,"k",150,null,null,"BeloepMedSkattemessigeEgenskaper"]
[null,"Offentleg tilskot","næringsspesifikasjon","spesifikasjonAvAnleggsmiddel","saldoavskrevetAnleggsmiddel",null,"offentligTilskudd",null,null,null,{"$f":"Årsoppgjer!H107","v":0},null,0,0,37,"k",80,null,null,"BeloepMedSkattemessigeEgenskaper"]
[null,"Vederlag ved realisasjon og uttak","næringsspesifikasjon","spesifikasjonAvAnleggsmiddel","saldoavskrevetAnleggsmiddel",null,"vederlagVedRealisasjonOgUttak",null,null,null,{"$f":"Årsoppgjer!G107","v":0},null,0,0,37,"k",100,null,null,"BeloepMedSkattemessigeEgenskaper"]
[null,"erRealisasjonenUfrivilligOgGevinstenBetingetSkattefri","næringsspesifikasjon","spesifikasjonAvAnleggsmiddel","saldoavskrevetAnleggsmiddel",null,"erRealisasjonenUfrivilligOgGevinstenBetingetSkattefri",null,null,null,null,null,0,0,37,"k",120,null,null,"BoolskMedInnkapsling"]
[null,"Grunnlag for avskriving og inntektsføring","næringsspesifikasjon","spesifikasjonAvAnleggsmiddel","saldoavskrevetAnleggsmiddel",null,"grunnlagForAvskrivningOgInntektsfoering",null,null,null,{"$f":"Årsoppgjer!I107","v":0},null,0,0,37,"k",190,null,null,"BeloepMedSkattemessigeEgenskaper"]
[null,"Vinst overført til vinst- og tapskonto","næringsspesifikasjon","spesifikasjonAvAnleggsmiddel","saldoavskrevetAnleggsmiddel",null,"gevinstOverfoertTilGevinstOgTapskonto",null,null,null,{"$f":"IF(Årsoppgjer!J107>0,Årsoppgjer!J107,)","v":0},null,0,0,37,"k",210,null,null,"BeloepMedSkattemessigeEgenskaper"]
[null,"Tap overført til vinst- og tapskonto","næringsspesifikasjon","spesifikasjonAvAnleggsmiddel","saldoavskrevetAnleggsmiddel",null,"tapOverfoertTilGevinstOgTapskonto",null,null,null,{"$f":"IF(Årsoppgjer!J107<0,Årsoppgjer!J107,)","v":0},null,0,0,37,"k",220,null,null,"BeloepMedSkattemessigeEgenskaper"]
[null,"Årets avskriving","næringsspesifikasjon","spesifikasjonAvAnleggsmiddel","saldoavskrevetAnleggsmiddel",null,"aaretsAvskrivning",null,null,null,{"$f":"Årsoppgjer!L107","v":0},null,0,0,37,"k",230,null,null,"BeloepMedSkattemessigeEgenskaper"]
[null,"åretsInntektsføringAvNegativSaldo","næringsspesifikasjon","spesifikasjonAvAnleggsmiddel","saldoavskrevetAnleggsmiddel",null,"aaretsInntektsfoeringAvNegativSaldo",null,null,null,null,null,0,0,37,"k",240,null,null,"BeloepMedSkattemessigeEgenskaper"]
[null,"Utgåande verdi","næringsspesifikasjon","spesifikasjonAvAnleggsmiddel","saldoavskrevetAnleggsmiddel",null,"utgaaendeVerdi",null,null,null,{"$f":"Årsoppgjer!M107","v":0},null,{"$f":"M935","v":0},0,37,"k",200,null,null,"BeloepMedSkattemessigeEgenskaper"]
[null,"Er det fysiske driftsmidlar i utgåande verdi?","næringsspesifikasjon","spesifikasjonAvAnleggsmiddel","saldoavskrevetAnleggsmiddel",null,"erDetFysiskAnleggsmiddelIUtgaaendeVerdi",null,null,null,{"$f":"IF(OR(K945>1,K950>1,K943>1),\"Ja\",\"Nei\")","v":"Nei"},null,{"$f":"M935","v":0},0,37,"k",290,null,null,"BoolskMedInnkapsling"]
[null,null,null,null,null,null,null,null,null,null,null,null,{"$f":"M954","v":1},0]
[null,"id","næringsspesifikasjon","spesifikasjonAvAnleggsmiddel","saldoavskrevetAnleggsmiddel",null,"id",null,null,null,{"$f":"K955","v":38},null,0,{"$f":"N954","v":1},38,"k",10,null,null,"Tekst"]
[null,"Saldogruppe D, personbilar, traktorar, maskiner o.l. Anna næring","næringsspesifikasjon","spesifikasjonAvAnleggsmiddel","saldoavskrevetAnleggsmiddel",null,"saldogruppe",null,null,null,"d",null,{"$f":"IF(K970=\"Ja\",1,0)","v":1},1,38,"k",250,null,null,"SaldogruppeMedInnkapsling"]
[null,"Objekt-id","næringsspesifikasjon","spesifikasjonAvAnleggsmiddel","saldoavskrevetAnleggsmiddel",null,"objektidentifikator ",null,null,null,38,null,{"$f":"M954","v":1},1,38,"k",20,null,null,"TekstMedInnkapsling"]
[null,"Avskrivingssats  ","næringsspesifikasjon","spesifikasjonAvAnleggsmiddel","saldoavskrevetAnleggsmiddel",null,"avskrivningssats  ",null,null,null,{"$f":"Årsoppgjer!K114","v":20},null,{"$f":"M954","v":1},1,38,"k",260,null,null,"ProsentMedInnkapsling"]
[null,"InngåandeVerdi","næringsspesifikasjon","spesifikasjonAvAnleggsmiddel","saldoavskrevetAnleggsmiddel",null,"inngaaendeVerdi",null,null,null,{"$f":"Årsoppgjer!D114","v":120000},null,{"$f":"M954","v":1},1,38,"k",60,null,null,"BeloepMedSkattemessigeEgenskaper"]
[null,"Nyanskaffing","næringsspesifikasjon","spesifikasjonAvAnleggsmiddel","saldoavskrevetAnleggsmiddel",null,"nyanskaffelse",null,null,null,{"$f":"Årsoppgjer!E114","v":0},null,{"$f":"IF(K958=0,,1)","v":0},0,38,"k",270,null,null,"BeloepMedSkattemessigeEgenskaper"]
[null,"Påkosting","næringsspesifikasjon","spesifikasjonAvAnleggsmiddel","saldoavskrevetAnleggsmiddel",null,"paakostning",null,null,null,null,null,{"$f":"IF(K959=0,,1)","v":0},0,38,"k",70,null,null,"BeloepMedSkattemessigeEgenskaper"]
[null,"nedskrivningPåNyanskaffelserMedBetingetSkattefriSalgsgevinstGjelder","næringsspesifikasjon","spesifikasjonAvAnleggsmiddel","saldoavskrevetAnleggsmiddel",null,"nedskrivningPaaNyanskaffelserMedBetingetSkattefriSalgsgevinstGjelder",null,null,null,null,null,{"$f":"IF(K960=0,,1)","v":0},0,38,"k",150,null,null,"BeloepMedSkattemessigeEgenskaper"]
[null,"Offentleg tilskot","næringsspesifikasjon","spesifikasjonAvAnleggsmiddel","saldoavskrevetAnleggsmiddel",null,"offentligTilskudd",null,null,null,null,null,0,0,38,"k",80,null,null,"BeloepMedSkattemessigeEgenskaper"]
[null,"Vederlag ved realisasjon og uttak","næringsspesifikasjon","spesifikasjonAvAnleggsmiddel","saldoavskrevetAnleggsmiddel",null,"vederlagVedRealisasjonOgUttak",null,null,null,{"$f":"Årsoppgjer!G114","v":0},null,0,0,38,"k",100,null,null,"BeloepMedSkattemessigeEgenskaper"]
[null,"erRealisasjonenUfrivilligOgGevinstenBetingetSkattefri","næringsspesifikasjon","spesifikasjonAvAnleggsmiddel","saldoavskrevetAnleggsmiddel",null,"erRealisasjonenUfrivilligOgGevinstenBetingetSkattefri",null,null,null,null,null,0,0,38,"k",120,null,null,"BoolskMedInnkapsling"]
[null,"Grunnlag for avskriving og inntektsføring","næringsspesifikasjon","spesifikasjonAvAnleggsmiddel","saldoavskrevetAnleggsmiddel",null,"grunnlagForAvskrivningOgInntektsfoering",null,null,null,{"$f":"Årsoppgjer!I114","v":120000},null,1,1,38,"k",190,null,null,"BeloepMedSkattemessigeEgenskaper"]
[null,"Vinst overført til vinst- og tapskonto","næringsspesifikasjon","spesifikasjonAvAnleggsmiddel","saldoavskrevetAnleggsmiddel",null,"gevinstOverfoertTilGevinstOgTapskonto",null,null,null,{"$f":"IF(Årsoppgjer!J114>0,Årsoppgjer!J114,)","v":0},null,0,0,38,"k",210,null,null,"BeloepMedSkattemessigeEgenskaper"]
[null,"Tap overført til vinst- og tapskonto","næringsspesifikasjon","spesifikasjonAvAnleggsmiddel","saldoavskrevetAnleggsmiddel",null,"tapOverfoertTilGevinstOgTapskonto",null,null,null,{"$f":"IF(Årsoppgjer!J114<0,Årsoppgjer!J114,)","v":0},null,0,0,38,"k",220,null,null,"BeloepMedSkattemessigeEgenskaper"]
[null,"Årets avskriving","næringsspesifikasjon","spesifikasjonAvAnleggsmiddel","saldoavskrevetAnleggsmiddel",null,"aaretsAvskrivning",null,null,null,{"$f":"Årsoppgjer!L114","v":24000},null,1,1,38,"k",230,null,null,"BeloepMedSkattemessigeEgenskaper"]
[null,"åretsInntektsføringAvNegativSaldo","næringsspesifikasjon","spesifikasjonAvAnleggsmiddel","saldoavskrevetAnleggsmiddel",null,"aaretsInntektsfoeringAvNegativSaldo",null,null,null,null,null,0,0,38,"k",240,null,null,"BeloepMedSkattemessigeEgenskaper"]
[null,"Utgåande verdi","næringsspesifikasjon","spesifikasjonAvAnleggsmiddel","saldoavskrevetAnleggsmiddel",null,"utgaaendeVerdi",null,null,null,{"$f":"Årsoppgjer!M114","v":96000},null,{"$f":"M954","v":1},1,38,"k",200,null,null,"BeloepMedSkattemessigeEgenskaper"]
[null,"Er det fysiske driftsmidlar i utgåande verdi?","næringsspesifikasjon","spesifikasjonAvAnleggsmiddel","saldoavskrevetAnleggsmiddel",null,"erDetFysiskAnleggsmiddelIUtgaaendeVerdi",null,null,null,{"$f":"IF(OR(K964>1,K969>1,K962>1),\"Ja\",\"Nei\")","v":"Ja"},null,{"$f":"M954","v":1},1,38,"k",290,null,null,"BoolskMedInnkapsling"]
[null,null,null,null,null,null,null,null,null,null,null,null,{"$f":"M973","v":1},0]
[null,"id","næringsspesifikasjon","spesifikasjonAvAnleggsmiddel","saldoavskrevetAnleggsmiddel",null,"id",null,null,null,{"$f":"K974","v":39},null,0,{"$f":"N973","v":1},39,"k",10,null,null,"Tekst"]
[null,"Saldogruppe C, Vogntog, lastebilar, varebilar o.l. Anna næring","næringsspesifikasjon","spesifikasjonAvAnleggsmiddel","saldoavskrevetAnleggsmiddel",null,"saldogruppe",null,null,null,"c",null,{"$f":"IF(K989=\"Ja\",1,0)","v":1},{"$f":"M973","v":1},39,"k",250,null,null,"SaldogruppeMedInnkapsling"]
[null,"Objekt-id","næringsspesifikasjon","spesifikasjonAvAnleggsmiddel","saldoavskrevetAnleggsmiddel",null,"objektidentifikator ",null,null,null,39,null,{"$f":"M973","v":1},1,39,"k",20,null,null,"TekstMedInnkapsling"]
[null,"Avskrivingssats  ","næringsspesifikasjon","spesifikasjonAvAnleggsmiddel","saldoavskrevetAnleggsmiddel",null,"avskrivningssats  ",null,null,null,{"$f":"Årsoppgjer!K111","v":24},null,{"$f":"M973","v":1},1,39,"k",260,null,null,"ProsentMedInnkapsling"]
[null,"InngåandeVerdi","næringsspesifikasjon","spesifikasjonAvAnleggsmiddel","saldoavskrevetAnleggsmiddel",null,"inngaaendeVerdi",null,null,null,{"$f":"Årsoppgjer!D111","v":78000},null,{"$f":"M973","v":1},1,39,"k",60,null,null,"BeloepMedSkattemessigeEgenskaper"]
[null,"Nyanskaffing","næringsspesifikasjon","spesifikasjonAvAnleggsmiddel","saldoavskrevetAnleggsmiddel",null,"nyanskaffelse",null,null,null,{"$f":"Årsoppgjer!E111","v":0},null,{"$f":"IF(K977=0,,1)","v":0},0,39,"k",270,null,null,"BeloepMedSkattemessigeEgenskaper"]
[null,"Påkosting","næringsspesifikasjon","spesifikasjonAvAnleggsmiddel","saldoavskrevetAnleggsmiddel",null,"paakostning",null,null,null,null,null,{"$f":"IF(K978=0,,1)","v":0},0,39,"k",70,null,null,"BeloepMedSkattemessigeEgenskaper"]
[null,"nedskrivningPåNyanskaffelserMedBetingetSkattefriSalgsgevinstGjelder","næringsspesifikasjon","spesifikasjonAvAnleggsmiddel","saldoavskrevetAnleggsmiddel",null,"nedskrivningPaaNyanskaffelserMedBetingetSkattefriSalgsgevinstGjelder",null,null,null,null,null,{"$f":"IF(K979=0,,1)","v":0},0,39,"k",150,null,null,"BeloepMedSkattemessigeEgenskaper"]
[null,"Offentleg tilskot","næringsspesifikasjon","spesifikasjonAvAnleggsmiddel","saldoavskrevetAnleggsmiddel",null,"offentligTilskudd",null,null,null,null,null,0,0,39,"k",80,null,null,"BeloepMedSkattemessigeEgenskaper"]
[null,"Vederlag ved realisasjon og uttak","næringsspesifikasjon","spesifikasjonAvAnleggsmiddel","saldoavskrevetAnleggsmiddel",null,"vederlagVedRealisasjonOgUttak",null,null,null,{"$f":"Årsoppgjer!G111","v":0},null,0,0,39,"k",100,null,null,"BeloepMedSkattemessigeEgenskaper"]
[null,"erRealisasjonenUfrivilligOgGevinstenBetingetSkattefri","næringsspesifikasjon","spesifikasjonAvAnleggsmiddel","saldoavskrevetAnleggsmiddel",null,"erRealisasjonenUfrivilligOgGevinstenBetingetSkattefri",null,null,null,null,null,0,0,39,"k",120,null,null,"BoolskMedInnkapsling"]
[null,"Grunnlag for avskriving og inntektsføring","næringsspesifikasjon","spesifikasjonAvAnleggsmiddel","saldoavskrevetAnleggsmiddel",null,"grunnlagForAvskrivningOgInntektsfoering",null,null,null,{"$f":"Årsoppgjer!I111","v":78000},null,1,1,39,"k",190,null,null,"BeloepMedSkattemessigeEgenskaper"]
[null,"Vinst overført til vinst- og tapskonto","næringsspesifikasjon","spesifikasjonAvAnleggsmiddel","saldoavskrevetAnleggsmiddel",null,"gevinstOverfoertTilGevinstOgTapskonto",null,null,null,{"$f":"IF(Årsoppgjer!J111>0,Årsoppgjer!J111,)","v":0},null,0,0,39,"k",210,null,null,"BeloepMedSkattemessigeEgenskaper"]
[null,"Tap overført til vinst- og tapskonto","næringsspesifikasjon","spesifikasjonAvAnleggsmiddel","saldoavskrevetAnleggsmiddel",null,"tapOverfoertTilGevinstOgTapskonto",null,null,null,{"$f":"IF(Årsoppgjer!J111<0,Årsoppgjer!J111,)","v":0},null,0,0,39,"k",220,null,null,"BeloepMedSkattemessigeEgenskaper"]
[null,"Årets avskriving","næringsspesifikasjon","spesifikasjonAvAnleggsmiddel","saldoavskrevetAnleggsmiddel",null,"aaretsAvskrivning",null,null,null,{"$f":"Årsoppgjer!L111","v":18720},null,1,1,39,"k",230,null,null,"BeloepMedSkattemessigeEgenskaper"]
[null,"åretsInntektsføringAvNegativSaldo","næringsspesifikasjon","spesifikasjonAvAnleggsmiddel","saldoavskrevetAnleggsmiddel",null,"aaretsInntektsfoeringAvNegativSaldo",null,null,null,null,null,0,0,39,"k",240,null,null,"BeloepMedSkattemessigeEgenskaper"]
[null,"Utgåande verdi","næringsspesifikasjon","spesifikasjonAvAnleggsmiddel","saldoavskrevetAnleggsmiddel",null,"utgaaendeVerdi",null,null,null,{"$f":"Årsoppgjer!M111","v":59280},null,{"$f":"M973","v":1},1,39,"k",200,null,null,"BeloepMedSkattemessigeEgenskaper"]
[null,"Er det fysiske driftsmidlar i utgåande verdi?","næringsspesifikasjon","spesifikasjonAvAnleggsmiddel","saldoavskrevetAnleggsmiddel",null,"erDetFysiskAnleggsmiddelIUtgaaendeVerdi",null,null,null,{"$f":"IF(OR(K983>1,K988>1,K981>1),\"Ja\",\"Nei\")","v":"Ja"},null,{"$f":"M973","v":1},1,39,"k",290,null,null,"BoolskMedInnkapsling"]
[null,null,null,null,null,null,null,null,null,null,null,null,{"$f":"M992","v":0},0]
[null,"id","næringsspesifikasjon","spesifikasjonAvAnleggsmiddel","saldoavskrevetAnleggsmiddel",null,"id",null,null,null,{"$f":"K993","v":40},null,0,{"$f":"N992","v":0},40,"k",10,null,null,"Tekst"]
[null,"Saldogruppe C2, Vogntog, lastebilar, varebilar o.l. nullutslepp. Anna næring","næringsspesifikasjon","spesifikasjonAvAnleggsmiddel","saldoavskrevetAnleggsmiddel",null,"saldogruppe",null,null,null,"c2",null,{"$f":"IF(K1008=\"Ja\",1,0)","v":0},0,40,"k",250,null,null,"SaldogruppeMedInnkapsling"]
[null,"Objekt-id","næringsspesifikasjon","spesifikasjonAvAnleggsmiddel","saldoavskrevetAnleggsmiddel",null,"objektidentifikator ",null,null,null,40,null,{"$f":"M992","v":0},0,40,"k",20,null,null,"TekstMedInnkapsling"]
[null,"Avskrivingssats  ","næringsspesifikasjon","spesifikasjonAvAnleggsmiddel","saldoavskrevetAnleggsmiddel",null,"avskrivningssats  ",null,null,null,{"$f":"Årsoppgjer!K112","v":0},null,{"$f":"M992","v":0},0,40,"k",260,null,null,"ProsentMedInnkapsling"]
[null,"InngåandeVerdi","næringsspesifikasjon","spesifikasjonAvAnleggsmiddel","saldoavskrevetAnleggsmiddel",null,"inngaaendeVerdi",null,null,null,{"$f":"Årsoppgjer!D112","v":0},null,{"$f":"M992","v":0},0,40,"k",60,null,null,"BeloepMedSkattemessigeEgenskaper"]
[null,"Nyanskaffing","næringsspesifikasjon","spesifikasjonAvAnleggsmiddel","saldoavskrevetAnleggsmiddel",null,"nyanskaffelse",null,null,null,{"$f":"Årsoppgjer!E112","v":0},null,{"$f":"IF(K996=0,,1)","v":0},0,40,"k",270,null,null,"BeloepMedSkattemessigeEgenskaper"]
[null,"Påkosting","næringsspesifikasjon","spesifikasjonAvAnleggsmiddel","saldoavskrevetAnleggsmiddel",null,"paakostning",null,null,null,null,null,{"$f":"IF(K997=0,,1)","v":0},0,40,"k",70,null,null,"BeloepMedSkattemessigeEgenskaper"]
[null,"nedskrivningPåNyanskaffelserMedBetingetSkattefriSalgsgevinstGjelder","næringsspesifikasjon","spesifikasjonAvAnleggsmiddel","saldoavskrevetAnleggsmiddel",null,"nedskrivningPaaNyanskaffelserMedBetingetSkattefriSalgsgevinstGjelder",null,null,null,null,null,{"$f":"IF(K998=0,,1)","v":0},0,40,"k",150,null,null,"BeloepMedSkattemessigeEgenskaper"]
[null,"Offentleg tilskot","næringsspesifikasjon","spesifikasjonAvAnleggsmiddel","saldoavskrevetAnleggsmiddel",null,"offentligTilskudd",null,null,null,null,null,0,0,40,"k",80,null,null,"BeloepMedSkattemessigeEgenskaper"]
[null,"Vederlag ved realisasjon og uttak","næringsspesifikasjon","spesifikasjonAvAnleggsmiddel","saldoavskrevetAnleggsmiddel",null,"vederlagVedRealisasjonOgUttak",null,null,null,{"$f":"Årsoppgjer!G112","v":0},null,0,0,40,"k",100,null,null,"BeloepMedSkattemessigeEgenskaper"]
[null,"erRealisasjonenUfrivilligOgGevinstenBetingetSkattefri","næringsspesifikasjon","spesifikasjonAvAnleggsmiddel","saldoavskrevetAnleggsmiddel",null,"erRealisasjonenUfrivilligOgGevinstenBetingetSkattefri",null,null,null,null,null,0,0,40,"k",120,null,null,"BoolskMedInnkapsling"]
[null,"Grunnlag for avskriving og inntektsføring","næringsspesifikasjon","spesifikasjonAvAnleggsmiddel","saldoavskrevetAnleggsmiddel",null,"grunnlagForAvskrivningOgInntektsfoering",null,null,null,{"$f":"Årsoppgjer!I112","v":0},null,0,0,40,"k",190,null,null,"BeloepMedSkattemessigeEgenskaper"]
[null,"Vinst overført til vinst- og tapskonto","næringsspesifikasjon","spesifikasjonAvAnleggsmiddel","saldoavskrevetAnleggsmiddel",null,"gevinstOverfoertTilGevinstOgTapskonto",null,null,null,{"$f":"IF(Årsoppgjer!J112>0,Årsoppgjer!J112,)","v":0},null,0,0,40,"k",210,null,null,"BeloepMedSkattemessigeEgenskaper"]
[null,"Tap overført til vinst- og tapskonto","næringsspesifikasjon","spesifikasjonAvAnleggsmiddel","saldoavskrevetAnleggsmiddel",null,"tapOverfoertTilGevinstOgTapskonto",null,null,null,{"$f":"IF(Årsoppgjer!J112<0,Årsoppgjer!J112,)","v":0},null,0,0,40,"k",220,null,null,"BeloepMedSkattemessigeEgenskaper"]
[null,"Årets avskriving","næringsspesifikasjon","spesifikasjonAvAnleggsmiddel","saldoavskrevetAnleggsmiddel",null,"aaretsAvskrivning",null,null,null,{"$f":"Årsoppgjer!L112","v":0},null,0,0,40,"k",230,null,null,"BeloepMedSkattemessigeEgenskaper"]
[null,"åretsInntektsføringAvNegativSaldo","næringsspesifikasjon","spesifikasjonAvAnleggsmiddel","saldoavskrevetAnleggsmiddel",null,"aaretsInntektsfoeringAvNegativSaldo",null,null,null,null,null,0,0,40,"k",240,null,null,"BeloepMedSkattemessigeEgenskaper"]
[null,"Utgåande verdi","næringsspesifikasjon","spesifikasjonAvAnleggsmiddel","saldoavskrevetAnleggsmiddel",null,"utgaaendeVerdi",null,null,null,{"$f":"Årsoppgjer!M112","v":0},null,{"$f":"M992","v":0},0,40,"k",200,null,null,"BeloepMedSkattemessigeEgenskaper"]
[null,"Er det fysiske driftsmidlar i utgåande verdi?","næringsspesifikasjon","spesifikasjonAvAnleggsmiddel","saldoavskrevetAnleggsmiddel",null,"erDetFysiskAnleggsmiddelIUtgaaendeVerdi",null,null,null,{"$f":"IF(OR(K1002>1,K1007>1,K1000>1),\"Ja\",\"Nei\")","v":"Nei"},null,{"$f":"M992","v":0},0,40,"k",290,null,null,"BoolskMedInnkapsling"]
[null,null,null,null,null,null,null,null,null,null,null,null,{"$f":"M1011","v":0},0]
[null,"id","næringsspesifikasjon","spesifikasjonAvAnleggsmiddel","saldoavskrevetAnleggsmiddel",null,"id",null,null,null,{"$f":"K1012","v":41},null,0,{"$f":"N1011","v":0},41,"k",10,null,null,"Tekst"]
[null,"Saldogruppe A, Kontormaskiner o.l. Anna næring","næringsspesifikasjon","spesifikasjonAvAnleggsmiddel","saldoavskrevetAnleggsmiddel",null,"saldogruppe",null,null,null,"a",null,{"$f":"IF(K1027=\"Ja\",1,0)","v":0},0,41,"k",250,null,null,"SaldogruppeMedInnkapsling"]
[null,"Objekt-id","næringsspesifikasjon","spesifikasjonAvAnleggsmiddel","saldoavskrevetAnleggsmiddel",null,"objektidentifikator ",null,null,null,41,null,{"$f":"M1011","v":0},0,41,"k",20,null,null,"TekstMedInnkapsling"]
[null,"Avskrivingssats  ","næringsspesifikasjon","spesifikasjonAvAnleggsmiddel","saldoavskrevetAnleggsmiddel",null,"avskrivningssats  ",null,null,null,{"$f":"Årsoppgjer!K110","v":0},null,{"$f":"M1011","v":0},0,41,"k",260,null,null,"ProsentMedInnkapsling"]
[null,"InngåandeVerdi","næringsspesifikasjon","spesifikasjonAvAnleggsmiddel","saldoavskrevetAnleggsmiddel",null,"inngaaendeVerdi",null,null,null,{"$f":"Årsoppgjer!D110","v":0},null,{"$f":"M1011","v":0},0,41,"k",60,null,null,"BeloepMedSkattemessigeEgenskaper"]
[null,"Nyanskaffing","næringsspesifikasjon","spesifikasjonAvAnleggsmiddel","saldoavskrevetAnleggsmiddel",null,"nyanskaffelse",null,null,null,{"$f":"Årsoppgjer!E110","v":0},null,{"$f":"IF(K1015=0,,1)","v":0},0,41,"k",270,null,null,"BeloepMedSkattemessigeEgenskaper"]
[null,"Påkosting","næringsspesifikasjon","spesifikasjonAvAnleggsmiddel","saldoavskrevetAnleggsmiddel",null,"paakostning",null,null,null,null,null,{"$f":"IF(K1016=0,,1)","v":0},0,41,"k",70,null,null,"BeloepMedSkattemessigeEgenskaper"]
[null,"nedskrivningPåNyanskaffelserMedBetingetSkattefriSalgsgevinstGjelder","næringsspesifikasjon","spesifikasjonAvAnleggsmiddel","saldoavskrevetAnleggsmiddel",null,"nedskrivningPaaNyanskaffelserMedBetingetSkattefriSalgsgevinstGjelder",null,null,null,null,null,{"$f":"IF(K1017=0,,1)","v":0},0,41,"k",150,null,null,"BeloepMedSkattemessigeEgenskaper"]
[null,"Offentleg tilskot","næringsspesifikasjon","spesifikasjonAvAnleggsmiddel","saldoavskrevetAnleggsmiddel",null,"offentligTilskudd",null,null,null,null,null,0,0,41,"k",80,null,null,"BeloepMedSkattemessigeEgenskaper"]
[null,"Vederlag ved realisasjon og uttak","næringsspesifikasjon","spesifikasjonAvAnleggsmiddel","saldoavskrevetAnleggsmiddel",null,"vederlagVedRealisasjonOgUttak",null,null,null,{"$f":"Årsoppgjer!G110","v":0},null,0,0,41,"k",100,null,null,"BeloepMedSkattemessigeEgenskaper"]
[null,"erRealisasjonenUfrivilligOgGevinstenBetingetSkattefri","næringsspesifikasjon","spesifikasjonAvAnleggsmiddel","saldoavskrevetAnleggsmiddel",null,"erRealisasjonenUfrivilligOgGevinstenBetingetSkattefri",null,null,null,null,null,0,0,41,"k",120,null,null,"BoolskMedInnkapsling"]
[null,"Grunnlag for avskriving og inntektsføring","næringsspesifikasjon","spesifikasjonAvAnleggsmiddel","saldoavskrevetAnleggsmiddel",null,"grunnlagForAvskrivningOgInntektsfoering",null,null,null,{"$f":"Årsoppgjer!I110","v":0},null,0,0,41,"k",190,null,null,"BeloepMedSkattemessigeEgenskaper"]
[null,"Vinst overført til vinst- og tapskonto","næringsspesifikasjon","spesifikasjonAvAnleggsmiddel","saldoavskrevetAnleggsmiddel",null,"gevinstOverfoertTilGevinstOgTapskonto",null,null,null,{"$f":"IF(Årsoppgjer!J110>0,Årsoppgjer!J110,)","v":0},null,0,0,41,"k",210,null,null,"BeloepMedSkattemessigeEgenskaper"]
[null,"Tap overført til vinst- og tapskonto","næringsspesifikasjon","spesifikasjonAvAnleggsmiddel","saldoavskrevetAnleggsmiddel",null,"tapOverfoertTilGevinstOgTapskonto",null,null,null,{"$f":"IF(Årsoppgjer!J110<0,Årsoppgjer!J110,)","v":0},null,0,0,41,"k",220,null,null,"BeloepMedSkattemessigeEgenskaper"]
[null,"Årets avskriving","næringsspesifikasjon","spesifikasjonAvAnleggsmiddel","saldoavskrevetAnleggsmiddel",null,"aaretsAvskrivning",null,null,null,{"$f":"Årsoppgjer!L110","v":0},null,0,0,41,"k",230,null,null,"BeloepMedSkattemessigeEgenskaper"]
[null,"åretsInntektsføringAvNegativSaldo","næringsspesifikasjon","spesifikasjonAvAnleggsmiddel","saldoavskrevetAnleggsmiddel",null,"aaretsInntektsfoeringAvNegativSaldo",null,null,null,null,null,0,0,41,"k",240,null,null,"BeloepMedSkattemessigeEgenskaper"]
[null,"Utgåande verdi","næringsspesifikasjon","spesifikasjonAvAnleggsmiddel","saldoavskrevetAnleggsmiddel",null,"utgaaendeVerdi",null,null,null,{"$f":"Årsoppgjer!M110","v":0},null,{"$f":"M1011","v":0},0,41,"k",200,null,null,"BeloepMedSkattemessigeEgenskaper"]
[null,"Er det fysiske driftsmidlar i utgåande verdi?","næringsspesifikasjon","spesifikasjonAvAnleggsmiddel","saldoavskrevetAnleggsmiddel",null,"erDetFysiskAnleggsmiddelIUtgaaendeVerdi",null,null,null,{"$f":"IF(OR(K1021>1,K1026>1,K1019>1),\"Ja\",\"Nei\")","v":"Nei"},null,{"$f":"M1011","v":0},0,41,"k",290,null,null,"BoolskMedInnkapsling"]
[null,null,null,null,null,null,null,null,null,null,null,null,{"$f":"M1030","v":0},0]
[null,"id","næringsspesifikasjon","spesifikasjonAvAnleggsmiddel","saldoavskrevetAnleggsmiddel",null,"id",null,null,null,{"$f":"K1031","v":42},null,0,{"$f":"N1030","v":0},42,"k",10,null,null,"Tekst"]
[null,"Saldogruppe I, Forretningsbygg Anna næring","næringsspesifikasjon","spesifikasjonAvAnleggsmiddel","saldoavskrevetAnleggsmiddel",null,"saldogruppe",null,null,null,"i",null,{"$f":"IF(K1046=\"Ja\",1,0)","v":0},0,42,"k",250,null,null,"SaldogruppeMedInnkapsling"]
[null,"Objekt-id","næringsspesifikasjon","spesifikasjonAvAnleggsmiddel","saldoavskrevetAnleggsmiddel",null,"objektidentifikator ",null,null,null,42,null,{"$f":"M1030","v":0},0,42,"k",20,null,null,"TekstMedInnkapsling"]
[null,"Avskrivingssats  ","næringsspesifikasjon","spesifikasjonAvAnleggsmiddel","saldoavskrevetAnleggsmiddel",null,"avskrivningssats  ",null,null,null,{"$f":"Årsoppgjer!K116","v":0},null,{"$f":"M1030","v":0},0,42,"k",260,null,null,"ProsentMedInnkapsling"]
[null,"InngåandeVerdi","næringsspesifikasjon","spesifikasjonAvAnleggsmiddel","saldoavskrevetAnleggsmiddel",null,"inngaaendeVerdi",null,null,null,{"$f":"Årsoppgjer!D116","v":0},null,{"$f":"M1030","v":0},0,42,"k",60,null,null,"BeloepMedSkattemessigeEgenskaper"]
[null,"Nyanskaffing","næringsspesifikasjon","spesifikasjonAvAnleggsmiddel","saldoavskrevetAnleggsmiddel",null,"nyanskaffelse",null,null,null,{"$f":"Årsoppgjer!E116","v":0},null,{"$f":"IF(K1034=0,,1)","v":0},0,42,"k",270,null,null,"BeloepMedSkattemessigeEgenskaper"]
[null,"Påkosting","næringsspesifikasjon","spesifikasjonAvAnleggsmiddel","saldoavskrevetAnleggsmiddel",null,"paakostning",null,null,null,null,null,{"$f":"IF(K1035=0,,1)","v":0},0,42,"k",70,null,null,"BeloepMedSkattemessigeEgenskaper"]
[null,"nedskrivningPåNyanskaffelserMedBetingetSkattefriSalgsgevinstGjelder","næringsspesifikasjon","spesifikasjonAvAnleggsmiddel","saldoavskrevetAnleggsmiddel",null,"nedskrivningPaaNyanskaffelserMedBetingetSkattefriSalgsgevinstGjelder",null,null,null,null,null,{"$f":"IF(K1036=0,,1)","v":0},{"$f":"M1036","v":0},42,"k",150,null,null,"BeloepMedSkattemessigeEgenskaper"]
[null,"Offentleg tilskot","næringsspesifikasjon","spesifikasjonAvAnleggsmiddel","saldoavskrevetAnleggsmiddel",null,"offentligTilskudd",null,null,null,null,null,0,0,42,"k",80,null,null,"BeloepMedSkattemessigeEgenskaper"]
[null,"Vederlag ved realisasjon og uttak","næringsspesifikasjon","spesifikasjonAvAnleggsmiddel","saldoavskrevetAnleggsmiddel",null,"vederlagVedRealisasjonOgUttak",null,null,null,{"$f":"Årsoppgjer!G116","v":0},null,0,0,42,"k",100,null,null,"BeloepMedSkattemessigeEgenskaper"]
[null,"erRealisasjonenUfrivilligOgGevinstenBetingetSkattefri","næringsspesifikasjon","spesifikasjonAvAnleggsmiddel","saldoavskrevetAnleggsmiddel",null,"erRealisasjonenUfrivilligOgGevinstenBetingetSkattefri",null,null,null,null,null,0,0,42,"k",120,null,null,"BoolskMedInnkapsling"]
[null,"Grunnlag for avskriving og inntektsføring","næringsspesifikasjon","spesifikasjonAvAnleggsmiddel","saldoavskrevetAnleggsmiddel",null,"grunnlagForAvskrivningOgInntektsfoering",null,null,null,{"$f":"Årsoppgjer!I116","v":0},null,0,0,42,"k",190,null,null,"BeloepMedSkattemessigeEgenskaper"]
[null,"Vinst overført til vinst- og tapskonto","næringsspesifikasjon","spesifikasjonAvAnleggsmiddel","saldoavskrevetAnleggsmiddel",null,"gevinstOverfoertTilGevinstOgTapskonto",null,null,null,{"$f":"IF(Årsoppgjer!J116>0,Årsoppgjer!J116,)","v":0},null,0,0,42,"k",210,null,null,"BeloepMedSkattemessigeEgenskaper"]
[null,"Tap overført til vinst- og tapskonto","næringsspesifikasjon","spesifikasjonAvAnleggsmiddel","saldoavskrevetAnleggsmiddel",null,"tapOverfoertTilGevinstOgTapskonto",null,null,null,{"$f":"IF(Årsoppgjer!J116<0,Årsoppgjer!J116,)","v":0},null,0,0,42,"k",220,null,null,"BeloepMedSkattemessigeEgenskaper"]
[null,"Årets avskriving","næringsspesifikasjon","spesifikasjonAvAnleggsmiddel","saldoavskrevetAnleggsmiddel",null,"aaretsAvskrivning",null,null,null,{"$f":"Årsoppgjer!L116","v":0},null,0,0,42,"k",230,null,null,"BeloepMedSkattemessigeEgenskaper"]
[null,"åretsInntektsføringAvNegativSaldo","næringsspesifikasjon","spesifikasjonAvAnleggsmiddel","saldoavskrevetAnleggsmiddel",null,"aaretsInntektsfoeringAvNegativSaldo",null,null,null,null,null,0,0,42,"k",240,null,null,"BeloepMedSkattemessigeEgenskaper"]
[null,"Utgåande verdi","næringsspesifikasjon","spesifikasjonAvAnleggsmiddel","saldoavskrevetAnleggsmiddel",null,"utgaaendeVerdi",null,null,null,{"$f":"Årsoppgjer!M116","v":0},null,{"$f":"M1030","v":0},0,42,"k",200,null,null,"BeloepMedSkattemessigeEgenskaper"]
[null,"Er det fysiske driftsmidlar i utgåande verdi?","næringsspesifikasjon","spesifikasjonAvAnleggsmiddel","saldoavskrevetAnleggsmiddel",null,"erDetFysiskAnleggsmiddelIUtgaaendeVerdi",null,null,null,{"$f":"IF(OR(K1040>1,K1045>1,K1038>1),\"Ja\",\"Nei\")","v":"Nei"},null,{"$f":"M1030","v":0},0,42,"k",290,null,null,"BoolskMedInnkapsling"]
[null,null,null,null,null,null,null,null,null,null,null,null,{"$f":"M1048","v":0},0]
[null,"Bilskjema",null,null,null,null,null,null,null,null,null,null,{"$f":"M1049","v":0},0]
[null,"Kjennemerke","næringsspesifikasjon","spesifikasjonAvAnleggsmiddel","motorkjoeretoeyINaering",null,"kjennemerke",null,null,{"$f":"Årsoppgjer!D182","v":0},{"$f":"J1049","v":0},null,{"$f":"IF(K1052+K1053+K1054+K1055>0,1,)","v":0},0,null,"k",20,null,null,"TekstMedInnkapsling"]
[null,"Første registreringsår","næringsspesifikasjon","spesifikasjonAvAnleggsmiddel","motorkjoeretoeyINaering",null,"aarForFoerstegangsregistrering",null,null,{"$f":"Årsoppgjer!E183","v":0},{"$f":"J1050","v":0},null,{"$f":"M1049","v":0},0,null,"k",30,null,null,"AarstallMedInnkapsling"]
[null,"Biltype","næringsspesifikasjon","spesifikasjonAvAnleggsmiddel","motorkjoeretoeyINaering",null,"biltype",null,null,{"$f":"Årsoppgjer!E194","v":0},0,null,{"$f":"M1050","v":0},0,null,"k",40,null,null,"BiltypeMedInnkapsling"]
[null,"Drivstoffkostnad","næringsspesifikasjon","spesifikasjonAvAnleggsmiddel","motorkjoeretoeyINaering",null,"drivstoffkostnad",null,null,{"$f":"Årsoppgjer!D195","v":0},0,null,{"$f":"IF(K1052=0,,1)","v":0},0,null,"k",60,null,null,"BeloepMedSkattemessigeEgenskaper"]
[null,"Vedlikehaldskostnad","næringsspesifikasjon","spesifikasjonAvAnleggsmiddel","motorkjoeretoeyINaering",null,"vedlikeholdskostnad",null,null,{"$f":"Årsoppgjer!D196","v":0},0,null,{"$f":"IF(K1053=0,,1)","v":0},0,null,"k",70,null,null,"BeloepMedSkattemessigeEgenskaper"]
[null,"Forsikring og avgift","næringsspesifikasjon","spesifikasjonAvAnleggsmiddel","motorkjoeretoeyINaering",null,"kostnadTilForsikringOgAvgift",null,null,{"$f":"Årsoppgjer!D197","v":0},0,null,0,0,null,"k",80,null,null,"BeloepMedSkattemessigeEgenskaper"]
[null,"Leasingleige","næringsspesifikasjon","spesifikasjonAvAnleggsmiddel","motorkjoeretoeyINaering",null,"leasingleie",null,null,{"$f":"Årsoppgjer!D198","v":0},0,null,0,0,null,"k",90,null,null,"BeloepMedSkattemessigeEgenskaper"]
[null,"Tal kilometer yrkeskøyring","næringsspesifikasjon","spesifikasjonAvAnleggsmiddel","motorkjoeretoeyINaering",null,"antallKilometerYrkeskjoering",null,null,{"$f":"Årsoppgjer!D199","v":0},0,"km",0,0,null,"k",110,null,null,"HeltallMedInnkapsling"]
[null,"Tal kilometer totalt","næringsspesifikasjon","spesifikasjonAvAnleggsmiddel","motorkjoeretoeyINaering",null,"antallKilometerKjoertIAar",null,null,{"$f":"Årsoppgjer!D200","v":0},0,"km",0,0,null,"k",120,null,null,"HeltallMedInnkapsling"]
[null,"Er yrkesbilen brukt privat?","næringsspesifikasjon","spesifikasjonAvAnleggsmiddel","motorkjoeretoeyINaering",null,"erYrkesbilenIBrukPrivat",null,null,{"$f":"Årsoppgjer!D201","v":0},0,null,{"$f":"M1049","v":0},0,null,"k",150,null,null,"BoolskMedInnkapsling"]
[null,"Tilbakeført for privat bruk","næringsspesifikasjon","spesifikasjonAvAnleggsmiddel","motorkjoeretoeyINaering",null,"tilbakefoertBilkostnadForPrivatBrukAvYrkesbil",null,null,{"$f":"Årsoppgjer!D202","v":0},0,null,0,0,null,"k",160,null,null,"BeloepMedSkattemessigeEgenskaper"]
[null,"Id","næringsspesifikasjon","spesifikasjonAvAnleggsmiddel","motorkjoeretoeyINaering",null,"id",null,null,1,1,null,{"$f":"IF(M1049=0,0,1)","v":0},{"$f":"IF(N1049=0,0,1)","v":0},null,"k",10,null,null,"Tekst"]
[null,null,null,null,null,null,null,null,null,null,null,null,{"$f":"M1062","v":0},0]
[null,"Vinst og tapskonto",null,null,null,null,null,null,null,null,null,null,{"$f":"IF(M1063+M1076+M1089=0,,1)","v":0},0]
[null,"id","næringsspesifikasjon","spesifikasjonAvAnleggsmiddel","gevinstOgTapskonto",null,"id",null,null,null,null,null,{"$f":"IF(AND(K1066=0,K1074=0,K1070=0),,1)","v":0},0,50,"k",10,null,null,"Tekst"]
[null,"Vinst- og tapskontoidentifikator","næringsspesifikasjon","spesifikasjonAvAnleggsmiddel","gevinstOgTapskonto",null,"gevinstOgTapskontoIdentifikator",null,null,null,null,null,{"$f":"M1063","v":0},0,50,"k",20,null,null,"TekstMedInnkapsling"]
[null,"Kommunenummer","næringsspesifikasjon","spesifikasjonAvAnleggsmiddel","gevinstOgTapskonto",null,"kommunenummer",null,null,null,null,null,{"$f":"M1064","v":0},0,50,"k",30,null,null,"KommunenummerMedInnkapsling"]
[null,"Inngåande verdi","næringsspesifikasjon","spesifikasjonAvAnleggsmiddel","gevinstOgTapskonto",null,"inngaaendeVerdi",null,null,null,null,null,{"$f":"M1065","v":0},0,50,"k",40,null,null,"BeloepMedSkattemessigeEgenskaper"]
[null,"Sum vinst ved realisasjon og uttak","næringsspesifikasjon","spesifikasjonAvAnleggsmiddel","gevinstOgTapskonto",null,"sumGevinstVedRealisasjonOgUttak",null,null,null,null,null,{"$f":"M1066","v":0},0,50,"k",50,null,null,"BeloepMedSkattemessigeEgenskaper"]
[null,"Sum tap ved realisasjon og uttak","næringsspesifikasjon","spesifikasjonAvAnleggsmiddel","gevinstOgTapskonto",null,"sumTapVedRealisasjonOgUttak",null,null,null,null,null,0,0,50,"k",60,null,null,"BeloepMedSkattemessigeEgenskaper"]
[null,"Vinst ved realisasjon av buskap ved opphøyr av driftsgrein","næringsspesifikasjon","spesifikasjonAvAnleggsmiddel","gevinstOgTapskonto",null,"gevinstVedRealisasjonAvHelBuskapPaaGaardsbrukVedOpphoerAvDriftsgren",null,null,null,null,null,{"$f":"IF(K1069=0,,1)","v":0},0,50,"k",70,null,null,"BeloepMedSkattemessigeEgenskaper"]
[null,"Grunnlag for årets inntekts og frådragsføring","næringsspesifikasjon","spesifikasjonAvAnleggsmiddel","gevinstOgTapskonto",null,"grunnlagForaaretsInntektsOgFradragsfoering",null,null,null,null,null,0,0,50,"k",100,null,null,"BeloepMedSkattemessigeEgenskaper"]
[null,"Årets inntekt frå vinst- og tapskonto","næringsspesifikasjon","spesifikasjonAvAnleggsmiddel","gevinstOgTapskonto",null,"inntektFraGevinstOgTapskonto",null,null,null,null,null,0,0,50,"k",120,null,null,"BeloepMedSkattemessigeEgenskaper"]
[null,"inntektsfradragFraGevinstOgTapskonto","næringsspesifikasjon","spesifikasjonAvAnleggsmiddel","gevinstOgTapskonto",null,"inntektsfradragFraGevinstOgTapskonto",null,null,null,null,null,0,0,50,"k",130,null,null,"BeloepMedSkattemessigeEgenskaper"]
[null,"%-sats for inntektsføring","næringsspesifikasjon","spesifikasjonAvAnleggsmiddel","gevinstOgTapskonto",null,"satsForInntektsfoeringOgInntektsfradrag",null,null,null,null,null,0,0,50,"k",110,null,null,"ProsentMedInnkapsling"]
[null,"utgåandeVerdi","næringsspesifikasjon","spesifikasjonAvAnleggsmiddel","gevinstOgTapskonto",null,"utgaaendeVerdi",null,null,null,null,null,0,0,50,"k",140,null,null,"BeloepMedSkattemessigeEgenskaper"]
[null,null,null,null,null,null,null,null,null,null,null,null,{"$f":"M1076","v":0},0]
[null,"id","næringsspesifikasjon","spesifikasjonAvAnleggsmiddel","gevinstOgTapskonto",null,"id",null,null,null,null,null,{"$f":"IF(AND(K1079=0,K1087=0,K1083=0),,1)","v":0},0,51,"k",10,null,null,"Tekst"]
[null,"Vinst- og tapskontoidentifikator","næringsspesifikasjon","spesifikasjonAvAnleggsmiddel","gevinstOgTapskonto",null,"gevinstOgTapskontoIdentifikator",null,null,null,null,null,{"$f":"M1076","v":0},0,51,"k",20,null,null,"TekstMedInnkapsling"]
[null,"Kommunenummer","næringsspesifikasjon","spesifikasjonAvAnleggsmiddel","gevinstOgTapskonto",null,"kommunenummer",null,null,null,null,null,{"$f":"M1077","v":0},0,51,"k",30,null,null,"KommunenummerMedInnkapsling"]
[null,"Inngåande verdi","næringsspesifikasjon","spesifikasjonAvAnleggsmiddel","gevinstOgTapskonto",null,"inngaaendeVerdi",null,null,null,null,null,{"$f":"M1078","v":0},0,51,"k",40,null,null,"BeloepMedSkattemessigeEgenskaper"]
[null,"Sum vinst ved realisasjon og uttak","næringsspesifikasjon","spesifikasjonAvAnleggsmiddel","gevinstOgTapskonto",null,"sumGevinstVedRealisasjonOgUttak",null,null,null,null,null,{"$f":"M1079","v":0},0,51,"k",50,null,null,"BeloepMedSkattemessigeEgenskaper"]
[null,"Sum tap ved realisasjon og uttak","næringsspesifikasjon","spesifikasjonAvAnleggsmiddel","gevinstOgTapskonto",null,"sumTapVedRealisasjonOgUttak",null,null,null,null,null,0,0,51,"k",60,null,null,"BeloepMedSkattemessigeEgenskaper"]
[null,"Vinst ved realisasjon av buskap ved opphøyr av driftsgrein","næringsspesifikasjon","spesifikasjonAvAnleggsmiddel","gevinstOgTapskonto",null,"gevinstVedRealisasjonAvHelBuskapPaaGaardsbrukVedOpphoerAvDriftsgren",null,null,null,null,null,{"$f":"IF(K1082=0,,1)","v":0},0,51,"k",70,null,null,"BeloepMedSkattemessigeEgenskaper"]
[null,"Grunnlag for årets inntekts og frådragsføring","næringsspesifikasjon","spesifikasjonAvAnleggsmiddel","gevinstOgTapskonto",null,"grunnlagForaaretsInntektsOgFradragsfoering",null,null,null,null,null,0,0,51,"k",100,null,null,"BeloepMedSkattemessigeEgenskaper"]
[null,"Årets inntekt frå vinst- og tapskonto","næringsspesifikasjon","spesifikasjonAvAnleggsmiddel","gevinstOgTapskonto",null,"inntektFraGevinstOgTapskonto",null,null,null,null,null,0,0,51,"k",120,null,null,"BeloepMedSkattemessigeEgenskaper"]
[null,"inntektsfradragFraGevinstOgTapskonto","næringsspesifikasjon","spesifikasjonAvAnleggsmiddel","gevinstOgTapskonto",null,"inntektsfradragFraGevinstOgTapskonto",null,null,null,null,null,0,0,51,"k",130,null,null,"BeloepMedSkattemessigeEgenskaper"]
[null,"%-sats for inntektsføring","næringsspesifikasjon","spesifikasjonAvAnleggsmiddel","gevinstOgTapskonto",null,"satsForInntektsfoeringOgInntektsfradrag",null,null,null,null,null,0,0,51,"k",110,null,null,"ProsentMedInnkapsling"]
[null,"utgåandeVerdi","næringsspesifikasjon","spesifikasjonAvAnleggsmiddel","gevinstOgTapskonto",null,"utgaaendeVerdi",null,null,null,null,null,0,0,51,"k",140,null,null,"BeloepMedSkattemessigeEgenskaper"]
[null,null,null,null,null,null,null,null,null,null,null,null,{"$f":"M1089","v":0},0]
[null,"id","næringsspesifikasjon","spesifikasjonAvAnleggsmiddel","gevinstOgTapskonto",null,"id",null,null,null,null,null,{"$f":"IF(AND(K1092=0,K1100=0,K1096=0),,1)","v":0},0,52,"k",10,null,null,"Tekst"]
[null,"Vinst- og tapskontoidentifikator","næringsspesifikasjon","spesifikasjonAvAnleggsmiddel","gevinstOgTapskonto",null,"gevinstOgTapskontoIdentifikator",null,null,null,null,null,{"$f":"M1089","v":0},0,52,"k",20,null,null,"TekstMedInnkapsling"]
[null,"Kommunenummer","næringsspesifikasjon","spesifikasjonAvAnleggsmiddel","gevinstOgTapskonto",null,"kommunenummer",null,null,null,null,null,{"$f":"M1090","v":0},0,52,"k",30,null,null,"KommunenummerMedInnkapsling"]
[null,"Inngåande verdi","næringsspesifikasjon","spesifikasjonAvAnleggsmiddel","gevinstOgTapskonto",null,"inngaaendeVerdi",null,null,null,null,null,{"$f":"M1091","v":0},0,52,"k",40,null,null,"BeloepMedSkattemessigeEgenskaper"]
[null,"Sum vinst ved realisasjon og uttak","næringsspesifikasjon","spesifikasjonAvAnleggsmiddel","gevinstOgTapskonto",null,"sumGevinstVedRealisasjonOgUttak",null,null,null,null,null,{"$f":"M1092","v":0},0,52,"k",50,null,null,"BeloepMedSkattemessigeEgenskaper"]
[null,"Sum tap ved realisasjon og uttak","næringsspesifikasjon","spesifikasjonAvAnleggsmiddel","gevinstOgTapskonto",null,"sumTapVedRealisasjonOgUttak",null,null,null,null,null,0,{"$f":"M1094","v":0},52,"k",60,null,null,"BeloepMedSkattemessigeEgenskaper"]
[null,"Vinst ved realisasjon av buskap ved opphøyr av driftsgrein","næringsspesifikasjon","spesifikasjonAvAnleggsmiddel","gevinstOgTapskonto",null,"gevinstVedRealisasjonAvHelBuskapPaaGaardsbrukVedOpphoerAvDriftsgren",null,null,null,null,null,{"$f":"IF(K1095=0,,1)","v":0},0,52,"k",70,null,null,"BeloepMedSkattemessigeEgenskaper"]
[null,"Grunnlag for årets inntekts og frådragsføring","næringsspesifikasjon","spesifikasjonAvAnleggsmiddel","gevinstOgTapskonto",null,"grunnlagForaaretsInntektsOgFradragsfoering",null,null,null,null,null,0,0,52,"k",100,null,null,"BeloepMedSkattemessigeEgenskaper"]
[null,"Årets inntekt frå vinst- og tapskonto","næringsspesifikasjon","spesifikasjonAvAnleggsmiddel","gevinstOgTapskonto",null,"inntektFraGevinstOgTapskonto",null,null,null,null,null,0,0,52,"k",120,null,null,"BeloepMedSkattemessigeEgenskaper"]
[null,"inntektsfradragFraGevinstOgTapskonto","næringsspesifikasjon","spesifikasjonAvAnleggsmiddel","gevinstOgTapskonto",null,"inntektsfradragFraGevinstOgTapskonto",null,null,null,null,null,0,0,52,"k",130,null,null,"BeloepMedSkattemessigeEgenskaper"]
[null,"%-sats for inntektsføring","næringsspesifikasjon","spesifikasjonAvAnleggsmiddel","gevinstOgTapskonto",null,"satsForInntektsfoeringOgInntektsfradrag",null,null,null,null,null,0,0,52,"k",110,null,null,"ProsentMedInnkapsling"]
[null,"utgåandeVerdi","næringsspesifikasjon","spesifikasjonAvAnleggsmiddel","gevinstOgTapskonto",null,"utgaaendeVerdi",null,null,null,null,null,0,0,52,"k",140,null,null,"BeloepMedSkattemessigeEgenskaper"]
[null,null,null,null,null,null,null,null,null,null,null,null,1,0]
["Utrekning av personinntekt",null,null,null,null,null,null,null,null,"Anna næring",null,null,1,0]
[null,"ID","næringsspesifikasjon","beregnetPersoninntekt","fordeltBeregnetPersoninntekt",null,"id",null,null,54,{"$f":"J1103","v":54},null,0,1,null,"k",10,null,null,"Tekst"]
[null,"ID-nummer for personinntekt","næringsspesifikasjon","beregnetPersoninntekt","fordeltBeregnetPersoninntekt",null,"identifikatorForFordeltBeregnetPersoninntekt",null,null,3,{"$f":"J1104","v":3},null,0,1,null,"k",20,null,null,"TekstMedInnkapsling"]
[null,"ID-nummer for næringsinntekt","næringsspesifikasjon","beregnetPersoninntekt","fordeltBeregnetPersoninntekt",null,"identifikatorForFordeltBeregnetNaeringsinntekt",null,null,3,3,null,0,1,null,"k",30,null,null,"TekstMedInnkapsling"]
[null,"Fordelt skattemessig resultat etter korreksjon","næringsspesifikasjon","beregnetPersoninntekt","fordeltBeregnetPersoninntekt",null,"fordeltSkattemessigResultatEtterKorreksjon",null,null,{"$f":"J144","v":72480},72480,null,{"$f":"IF(K1106=0,,1)","v":1},0,null,"k"]
[null,"Rentekostnad på føretaksgjeld","næringsspesifikasjon","beregnetPersoninntekt","fordeltBeregnetPersoninntekt",null,"rentekostnadPaaForetaksgjeld",null,null,{"$f":"Årsoppgjer!K176","v":0},0,null,0,0,null,"k",40,null,null,"BeloepMedSkattemessigeEgenskaper"]
[null,"Kapitalinntekt til korrigering av personinntekt","næringsspesifikasjon","beregnetPersoninntekt","fordeltBeregnetPersoninntekt",null,"kapitalinntektTilKorrigeringAvPersoninntekt",null,null,{"$f":"Årsoppgjer!N150","v":0},0,null,0,0,null,"k",50,null,null,"BeloepMedSkattemessigeEgenskaper"]
[null,"Kapitalkostnad til korrigering av personinntekt","næringsspesifikasjon","beregnetPersoninntekt","fordeltBeregnetPersoninntekt",null,"kapitalkostnadTilKorrigeringAvPersoninntekt",null,null,{"$f":"Årsoppgjer!N153","v":0},0,null,0,0,null,"k",60,null,null,"BeloepMedSkattemessigeEgenskaper"]
[null,"Vinst ved realisasjon av gardsbruk til korrigering","næringsspesifikasjon","beregnetPersoninntekt","fordeltBeregnetPersoninntekt",null,"gevinstVedRealisasjonAvAlminneligGaardsbrukEllerSkogbrukTilKorrigeringAvPersoninntekt",null,null,null,null,null,0,0,null,"k",80,null,null,"BeloepMedSkattemessigeEgenskaper"]
[null,"Skjermingsrente","næringsspesifikasjon","beregnetPersoninntekt","fordeltBeregnetPersoninntekt",null,"skjermingsrente",null,null,{"$f":"Årsoppgjer!C152","v":2.1},{"$f":"J1111","v":2.1},null,{"$f":"M1106","v":1},1,null,"k",180,null,null,"ProsentMedInnkapsling"]
[null,"Skjermingsfrådrag","næringsspesifikasjon","beregnetPersoninntekt","fordeltBeregnetPersoninntekt",null,"skjermingsfradrag",null,null,{"$f":"Årsoppgjer!J152*-1","v":3709.44},3709.44,null,1,1,null,"k",130,null,null,"BeloepMedSkattemessigeEgenskaper"]
[null,"Årets utrekna personinntekt før fordeling og samordning","næringsspesifikasjon","beregnetPersoninntekt","fordeltBeregnetPersoninntekt",null,"aaretsBeregnedePersoninntektFoerFordelingOgSamordning",null,null,{"$f":"J1106-J1107-J1108+J1109-J1110-J1112","v":68770.559999999998},68770.559999999998,null,1,1,null,"k",190,null,null,"BeloepMedSkattemessigeEgenskaperOgOverstyring"]
[null,"Tal månader med drift i året","næringsspesifikasjon","beregnetPersoninntekt","fordeltBeregnetPersoninntekt",null,"antallMaanederDrevetIAar",null,null,{"$f":"Årsoppgjer!D148","v":12},12,null,{"$f":"M1106","v":1},1,null,"k",200,null,null,"HeltallMedInnkapsling"]
[null,"Del av personinntekt på brukar i %","næringsspesifikasjon","beregnetPersoninntekt","fordeltBeregnetPersoninntekt",null,"andelAvPersoninntektTilordnetInnehaver",null,null,{"$f":"Årsoppgjer!E231","v":100},100,null,{"$f":"M1106","v":1},1,null,"k",210,null,null,"ProsentMedInnkapsling"]
[null,"Årets utrekna personinntekt før fordeling og samordning tilordna brukar","næringsspesifikasjon","beregnetPersoninntekt","fordeltBeregnetPersoninntekt",null,"aaretsBeregnedePersoninntektFoerFordelingOgSamordningTilordnetInnehaver",null,null,{"$f":"J1113*J1115/100","v":68770.559999999998},68770.559999999998,null,1,1,null,"k",220,null,null,"BeloepMedSkattemessigeEgenskaper"]
[null,null,null,null,null,null,null,null,null,null,null,null,1,0]
[null,"Skjermingsgrunnlag:",null,null,null,null,null,null,null,null,null,null,1,0]
[null,"Id","næringsspesifikasjon","beregnetPersoninntekt","fordeltBeregnetPersoninntekt","spesifikasjonAvSkjermingsgrunnlag","id",null,null,1000,{"$f":"J1119","v":1000},null,0,{"$f":"N1120","v":0},1000,"k",140,null,null,"Tekst"]
[null,"Saldogruppe A",null,"beregnetPersoninntekt","fordeltBeregnetPersoninntekt","spesifikasjonAvSkjermingsgrunnlag","skjermingsgrunnlagstype",null,null,"saldogruppeA",{"$f":"J1120","v":"saldogruppeA"},null,{"$f":"IF(AND(M1121=0,M1122=0),,1)","v":0},0,1000,"k",150,null,null,"SkjermingsgrunnlagstypeMedInnkapsling"]
[null,"Inngåande verdi",null,"beregnetPersoninntekt","fordeltBeregnetPersoninntekt","spesifikasjonAvSkjermingsgrunnlag","inngaaendeVerdi ",null,null,{"$f":"Årsoppgjer!H130","v":0},{"$f":"J1121","v":0},null,0,0,1000,"k",160,null,null,"BeloepMedSkattemessigeEgenskaper"]
[null,"Utgåande verdi",null,"beregnetPersoninntekt","fordeltBeregnetPersoninntekt","spesifikasjonAvSkjermingsgrunnlag","utgaaendeVerdi",null,null,{"$f":"Årsoppgjer!J130","v":0},0,null,0,0,1000,"k",170,null,null,"BeloepMedSkattemessigeEgenskaper"]
[null,null,null,null,null,null,null,null,null,null,null,null,{"$f":"M1125","v":1},0]
[null,"Id","næringsspesifikasjon","beregnetPersoninntekt","fordeltBeregnetPersoninntekt","spesifikasjonAvSkjermingsgrunnlag","id",null,null,1001,{"$f":"J1124","v":1001},null,0,{"$f":"N1125","v":1},1001,"k",140,null,null,"Tekst"]
[null,"Saldogruppe C",null,"beregnetPersoninntekt","fordeltBeregnetPersoninntekt","spesifikasjonAvSkjermingsgrunnlag","skjermingsgrunnlagstype",null,null,"saldogruppeC","saldogruppeC",null,{"$f":"IF(AND(M1126=0,M1127=0),,1)","v":1},1,1001,"k",150,null,null,"SkjermingsgrunnlagstypeMedInnkapsling"]
[null,"Inngåande verdi",null,"beregnetPersoninntekt","fordeltBeregnetPersoninntekt","spesifikasjonAvSkjermingsgrunnlag","inngaaendeVerdi",null,null,{"$f":"Årsoppgjer!H132","v":78000},78000,null,1,1,1001,"k",160,null,null,"BeloepMedSkattemessigeEgenskaper"]
[null,"Utgåande verdi",null,"beregnetPersoninntekt","fordeltBeregnetPersoninntekt","spesifikasjonAvSkjermingsgrunnlag","utgaaendeVerdi",null,null,{"$f":"Årsoppgjer!J132","v":59280},59280,null,1,1,1001,"k",170,null,null,"BeloepMedSkattemessigeEgenskaper"]
[null,null,null,null,null,null,null,null,null,null,null,null,{"$f":"M1130","v":0},0]
[null,"Id","næringsspesifikasjon","beregnetPersoninntekt","fordeltBeregnetPersoninntekt","spesifikasjonAvSkjermingsgrunnlag","id",null,null,1002,{"$f":"J1129","v":1002},null,0,{"$f":"N1130","v":0},1002,"k",140,null,null,"Tekst"]
[null,"Saldogruppe C2",null,"beregnetPersoninntekt","fordeltBeregnetPersoninntekt","spesifikasjonAvSkjermingsgrunnlag","skjermingsgrunnlagstype",null,null,"saldogruppeC2","saldogruppeC2",null,{"$f":"IF(AND(M1131=0,M1132=0),,1)","v":0},0,1002,"k",150,null,null,"SkjermingsgrunnlagstypeMedInnkapsling"]
[null,"Inngåande verdi",null,"beregnetPersoninntekt","fordeltBeregnetPersoninntekt","spesifikasjonAvSkjermingsgrunnlag","inngaaendeVerdi",null,null,{"$f":"Årsoppgjer!H133","v":0},0,null,0,0,1002,"k",160,null,null,"BeloepMedSkattemessigeEgenskaper"]
[null,"Utgåande verdi",null,"beregnetPersoninntekt","fordeltBeregnetPersoninntekt","spesifikasjonAvSkjermingsgrunnlag","utgaaendeVerdi",null,null,{"$f":"Årsoppgjer!J133","v":0},0,null,0,0,1002,"k",170,null,null,"BeloepMedSkattemessigeEgenskaper"]
[null,null,null,null,null,null,null,null,null,null,null,null,{"$f":"M1135","v":1},0]
[null,"Id","næringsspesifikasjon","beregnetPersoninntekt","fordeltBeregnetPersoninntekt","spesifikasjonAvSkjermingsgrunnlag","id",null,null,1003,{"$f":"J1134","v":1003},null,0,{"$f":"N1135","v":1},1003,"k",140,null,null,"Tekst"]
[null,"Saldogruppe D",null,"beregnetPersoninntekt","fordeltBeregnetPersoninntekt","spesifikasjonAvSkjermingsgrunnlag","skjermingsgrunnlagstype",null,null,"saldogruppeD","saldogruppeD",null,{"$f":"IF(AND(M1136=0,M1137=0),,1)","v":1},1,1003,"k",150,null,null,"SkjermingsgrunnlagstypeMedInnkapsling"]
[null,"Inngåande verdi",null,"beregnetPersoninntekt","fordeltBeregnetPersoninntekt","spesifikasjonAvSkjermingsgrunnlag","inngaaendeVerdi",null,null,{"$f":"Årsoppgjer!H134","v":120000},120000,null,1,1,1003,"k",160,null,null,"BeloepMedSkattemessigeEgenskaper"]
[null,"Utgåande verdi",null,"beregnetPersoninntekt","fordeltBeregnetPersoninntekt","spesifikasjonAvSkjermingsgrunnlag","utgaaendeVerdi",null,null,{"$f":"Årsoppgjer!J134","v":96000},96000,null,1,1,1003,"k",170,null,null,"BeloepMedSkattemessigeEgenskaper"]
[null,null,null,null,null,null,null,null,null,null,null,null,{"$f":"M1140","v":0},0]
[null,"Id","næringsspesifikasjon","beregnetPersoninntekt","fordeltBeregnetPersoninntekt","spesifikasjonAvSkjermingsgrunnlag","id",null,null,1004,{"$f":"J1139","v":1004},null,0,{"$f":"N1140","v":0},1004,"k",140,null,null,"Tekst"]
[null,"Saldogruppe H",null,"beregnetPersoninntekt","fordeltBeregnetPersoninntekt","spesifikasjonAvSkjermingsgrunnlag","skjermingsgrunnlagstype",null,null,"saldogruppeH","saldogruppeH",null,{"$f":"IF(AND(M1141=0,M1142=0),,1)","v":0},0,1004,"k",150,null,null,"SkjermingsgrunnlagstypeMedInnkapsling"]
[null,"Inngåande verdi",null,"beregnetPersoninntekt","fordeltBeregnetPersoninntekt","spesifikasjonAvSkjermingsgrunnlag","inngaaendeVerdi",null,null,{"$f":"Årsoppgjer!H135","v":0},0,null,0,0,1004,"k",160,null,null,"BeloepMedSkattemessigeEgenskaper"]
[null,"Utgåande verdi",null,"beregnetPersoninntekt","fordeltBeregnetPersoninntekt","spesifikasjonAvSkjermingsgrunnlag","utgaaendeVerdi",null,null,{"$f":"Årsoppgjer!J135","v":0},0,null,0,0,1004,"k",170,null,null,"BeloepMedSkattemessigeEgenskaper"]
[null,null,null,null,null,null,null,null,null,null,null,null,{"$f":"M1145","v":0},0]
[null,"Id","næringsspesifikasjon","beregnetPersoninntekt","fordeltBeregnetPersoninntekt","spesifikasjonAvSkjermingsgrunnlag","id",null,null,1005,{"$f":"J1144","v":1005},null,0,{"$f":"N1145","v":0},1005,"k",140,null,null,"Tekst"]
[null,"Saldogruppe I",null,"beregnetPersoninntekt","fordeltBeregnetPersoninntekt","spesifikasjonAvSkjermingsgrunnlag","skjermingsgrunnlagstype",null,null,"saldogruppeI","saldogruppeI",null,{"$f":"IF(AND(M1146=0,M1147=0),,1)","v":0},0,1005,"k",150,null,null,"SkjermingsgrunnlagstypeMedInnkapsling"]
[null,"Inngåande verdi",null,"beregnetPersoninntekt","fordeltBeregnetPersoninntekt","spesifikasjonAvSkjermingsgrunnlag","inngaaendeVerdi",null,null,{"$f":"Årsoppgjer!H136","v":0},0,null,0,0,1005,"k",160,null,null,"BeloepMedSkattemessigeEgenskaper"]
[null,"Utgåande verdi",null,"beregnetPersoninntekt","fordeltBeregnetPersoninntekt","spesifikasjonAvSkjermingsgrunnlag","utgaaendeVerdi",null,null,{"$f":"Årsoppgjer!J136","v":0},0,null,0,0,1005,"k",170,null,null,"BeloepMedSkattemessigeEgenskaper"]
[null,null,null,null,null,null,null,null,null,null,null,null,{"$f":"M1150","v":0},0]
[null,"Id","næringsspesifikasjon","beregnetPersoninntekt","fordeltBeregnetPersoninntekt","spesifikasjonAvSkjermingsgrunnlag","id",null,null,1006,{"$f":"J1149","v":1006},null,0,{"$f":"N1150","v":0},1006,"k",140,null,null,"Tekst"]
[null,"Saldogruppe J",null,"BeregnetPersoninntekt","fordeltBeregnetPersoninntekt","spesifikasjonAvSkjermingsgrunnlag","skjermingsgrunnlagstype",null,null,"saldogruppeJ","saldogruppeJ",null,{"$f":"IF(AND(M1151=0,M1152=0),,1)","v":0},0,1006,"k",150,null,null,"SkjermingsgrunnlagstypeMedInnkapsling"]
[null,"Inngåande verdi",null,"BeregnetPersoninntekt","fordeltBeregnetPersoninntekt","spesifikasjonAvSkjermingsgrunnlag","inngaaendeVerdi",null,null,{"$f":"Årsoppgjer!H137","v":0},0,null,0,0,1006,"k",160,null,null,"BeloepMedSkattemessigeEgenskaper"]
[null,"Utgåande verdi",null,"BeregnetPersoninntekt","fordeltBeregnetPersoninntekt","spesifikasjonAvSkjermingsgrunnlag","utgaaendeVerdi",null,null,{"$f":"Årsoppgjer!J137","v":0},0,null,0,0,1006,"k",170,null,null,"BeloepMedSkattemessigeEgenskaper"]
[null,null,null,null,null,null,null,null,null,null,null,null,{"$f":"M1155","v":0},0]
[null,"Id","næringsspesifikasjon","beregnetPersoninntekt","fordeltBeregnetPersoninntekt","spesifikasjonAvSkjermingsgrunnlag","id",null,null,1007,{"$f":"J1154","v":1007},null,0,{"$f":"N1155","v":0},1007,"k",140,null,null,"Tekst"]
[null,"Saldogruppe Linær avskriving",null,"BeregnetPersoninntekt","fordeltBeregnetPersoninntekt","spesifikasjonAvSkjermingsgrunnlag","skjermingsgrunnlagstype",null,null,"lineaertavskrevetAnleggsmiddel","lineaertavskrevetAnleggsmiddel",null,{"$f":"IF(AND(M1156=0,M1157=0),,1)","v":0},0,1007,"k",150,null,null,"SkjermingsgrunnlagstypeMedInnkapsling"]
[null,"Inngåande verdi",null,"BeregnetPersoninntekt","fordeltBeregnetPersoninntekt","spesifikasjonAvSkjermingsgrunnlag","inngaaendeVerdi",null,null,{"$f":"Årsoppgjer!H138","v":0},0,null,0,0,1007,"k",160,null,null,"BeloepMedSkattemessigeEgenskaper"]
[null,"Utgåande verdi",null,"BeregnetPersoninntekt","fordeltBeregnetPersoninntekt","spesifikasjonAvSkjermingsgrunnlag","utgaaendeVerdi",null,null,{"$f":"Årsoppgjer!J138","v":0},0,null,0,0,1007,"k",170,null,null,"BeloepMedSkattemessigeEgenskaper"]
[null,null,null,null,null,null,null,null,null,null,null,null,{"$f":"M1160","v":0},0]
[null,"Id","næringsspesifikasjon","beregnetPersoninntekt","fordeltBeregnetPersoninntekt","spesifikasjonAvSkjermingsgrunnlag","id",null,null,1008,{"$f":"J1159","v":1008},null,0,{"$f":"N1160","v":0},1008,"k",140,null,null,"Tekst"]
[null,"Saldogruppe Ikkje avskrivbar",null,"BeregnetPersoninntekt","fordeltBeregnetPersoninntekt","spesifikasjonAvSkjermingsgrunnlag","skjermingsgrunnlagstype",null,null,"ikkeAvskrivbartAnleggsmiddel","ikkeAvskrivbartAnleggsmiddel",null,{"$f":"IF(AND(M1161=0,M1162=0),,1)","v":0},0,1008,"k",150,null,null,"SkjermingsgrunnlagstypeMedInnkapsling"]
[null,"Inngåande verdi",null,"BeregnetPersoninntekt","fordeltBeregnetPersoninntekt","spesifikasjonAvSkjermingsgrunnlag","inngaaendeVerdi",null,null,{"$f":"Årsoppgjer!H139","v":0},0,null,0,0,1008,"k",160,null,null,"BeloepMedSkattemessigeEgenskaper"]
[null,"Utgåande verdi",null,"BeregnetPersoninntekt","fordeltBeregnetPersoninntekt","spesifikasjonAvSkjermingsgrunnlag","utgaaendeVerdi",null,null,{"$f":"Årsoppgjer!J139","v":0},0,null,0,0,1008,"k",170,null,null,"BeloepMedSkattemessigeEgenskaper"]
[null,null,null,null,null,null,null,null,null,null,null,null,{"$f":"M1165","v":0},0]
[null,"Id","næringsspesifikasjon","beregnetPersoninntekt","fordeltBeregnetPersoninntekt","spesifikasjonAvSkjermingsgrunnlag","id",null,null,1009,{"$f":"J1164","v":1009},null,0,{"$f":"N1165","v":0},1009,"k",140,null,null,"Tekst"]
[null,"Saldogruppe varelager",null,"BeregnetPersoninntekt","fordeltBeregnetPersoninntekt","spesifikasjonAvSkjermingsgrunnlag","skjermingsgrunnlagstype",null,null,"varelager","varelager",null,{"$f":"IF(AND(M1166=0,M1167=0),,1)","v":0},0,1009,"k",150,null,null,"SkjermingsgrunnlagstypeMedInnkapsling"]
[null,"Inngåande verdi",null,"BeregnetPersoninntekt","fordeltBeregnetPersoninntekt","spesifikasjonAvSkjermingsgrunnlag","inngaaendeVerdi",null,null,{"$f":"Årsoppgjer!H140","v":0},0,null,0,{"$f":"M1166","v":0},1009,"k",160,null,null,"BeloepMedSkattemessigeEgenskaper"]
[null,"Utgåande verdi",null,"BeregnetPersoninntekt","fordeltBeregnetPersoninntekt","spesifikasjonAvSkjermingsgrunnlag","utgaaendeVerdi",null,null,{"$f":"Årsoppgjer!J140","v":0},0,null,{"$f":"IF(K1167=0,,1)","v":0},0,1009,"k",170,null,null,"BeloepMedSkattemessigeEgenskaper"]
[null,null,null,null,null,null,null,null,null,null,null,null,{"$f":"M1170","v":0},0]
[null,"Id","næringsspesifikasjon","beregnetPersoninntekt","fordeltBeregnetPersoninntekt","spesifikasjonAvSkjermingsgrunnlag","id",null,null,1010,{"$f":"J1169","v":1010},null,0,{"$f":"N1170","v":0},1010,"k",140,null,null,"Tekst"]
[null,"Saldogruppe kundekrav",null,"BeregnetPersoninntekt","fordeltBeregnetPersoninntekt","spesifikasjonAvSkjermingsgrunnlag","skjermingsgrunnlagstype",null,null,"kundefordring","kundefordring",null,{"$f":"IF(AND(M1171=0,M1172=0),,1)","v":0},0,1010,"k",150,null,null,"SkjermingsgrunnlagstypeMedInnkapsling"]
[null,"Inngåande verdi",null,"BeregnetPersoninntekt","fordeltBeregnetPersoninntekt","spesifikasjonAvSkjermingsgrunnlag","inngaaendeVerdi",null,null,{"$f":"Årsoppgjer!H141","v":0},0,null,0,0,1010,"k",160,null,null,"BeloepMedSkattemessigeEgenskaper"]
[null,"Utgåande verdi",null,"BeregnetPersoninntekt","fordeltBeregnetPersoninntekt","spesifikasjonAvSkjermingsgrunnlag","utgaaendeVerdi",null,null,{"$f":"Årsoppgjer!J141","v":0},0,null,0,0,1010,"k",170,null,null,"BeloepMedSkattemessigeEgenskaper"]
[null,null,null,null,null,null,null,null,null,null,null,null,{"$f":"M1175","v":0},0]
[null,"Id","næringsspesifikasjon","beregnetPersoninntekt","fordeltBeregnetPersoninntekt","spesifikasjonAvSkjermingsgrunnlag","id",null,null,1011,{"$f":"J1174","v":1011},null,0,{"$f":"N1175","v":0},1011,"k",140,null,null,"Tekst"]
[null,"Saldogruppe leverandørgjeld",null,"BeregnetPersoninntekt","fordeltBeregnetPersoninntekt","spesifikasjonAvSkjermingsgrunnlag","skjermingsgrunnlagstype",null,null,"leverandoergjeld","leverandoergjeld",null,{"$f":"IF(AND(M1176=0,M1177=0),,1)","v":0},0,1011,"k",150,null,null,"SkjermingsgrunnlagstypeMedInnkapsling"]
[null,"Inngåande verdi",null,"BeregnetPersoninntekt","fordeltBeregnetPersoninntekt","spesifikasjonAvSkjermingsgrunnlag","inngaaendeVerdi",null,null,{"$f":"Årsoppgjer!H143","v":0},0,null,0,0,1011,"k",160,null,null,"BeloepMedSkattemessigeEgenskaper"]
[null,"Utgåande verdi",null,"BeregnetPersoninntekt","fordeltBeregnetPersoninntekt","spesifikasjonAvSkjermingsgrunnlag","utgaaendeVerdi",null,null,{"$f":"Årsoppgjer!J143","v":0},0,null,0,0,1011,"k",170,null,null,"BeloepMedSkattemessigeEgenskaper"]
[null,null,null,null,null,null,null,null,null,null,null,null,{"$f":"M1179","v":1},0]
[null,"Sum skjermingsgrunnlag før gjeldsfrådrag",null,"BeregnetPersoninntekt","fordeltBeregnetPersoninntekt",null,"sumSkjermingsgrunnlagFoerGjeldsfradrag",null,null,{"$f":"Årsoppgjer!J146","v":176640},176640,null,1,0,null,"k",120,null,null,"BeloepMedSkattemessigeEgenskaper"]
[null,"Id","næringsspesifikasjon","beregnetPersoninntekt","fordeltBeregnetPersoninntekt","spesifikasjonAvSkjermingsgrunnlag","id",null,null,1013,{"$f":"J1180","v":1013},null,0,{"$f":"N1181","v":0},1013,"k",140,null,null,"Tekst"]
[null,"Saldogruppe føretaksgjeld",null,"BeregnetPersoninntekt","fordeltBeregnetPersoninntekt","spesifikasjonAvSkjermingsgrunnlag","skjermingsgrunnlagstype",null,null,"foretaksgjeld","foretaksgjeld",null,{"$f":"IF(AND(M1182=0,M1183=0),,1)","v":0},0,1013,"k",150,null,null,"SkjermingsgrunnlagstypeMedInnkapsling"]
[null,"Inngåande verdi",null,"BeregnetPersoninntekt","fordeltBeregnetPersoninntekt","spesifikasjonAvSkjermingsgrunnlag","inngaaendeVerdi",null,null,{"$f":"årsgjeldsoversiktb","v":0},0,null,0,0,1013,"k",160,null,null,"BeloepMedSkattemessigeEgenskaper"]
[null,"Utgåande verdi",null,"BeregnetPersoninntekt","fordeltBeregnetPersoninntekt","spesifikasjonAvSkjermingsgrunnlag","utgaaendeVerdi",null,null,{"$f":"Årsoppgjer!I176","v":0},0,null,0,0,1013,"k",170,null,null,"BeloepMedSkattemessigeEgenskaper"]
[null,null,null,null,null,null,null,null,null,null,null,null,{"$f":"M1185","v":1},0]
[null,"Sum skjermingsgrunnlag etter gjeldsfrådrag",null,"BeregnetPersoninntekt","fordeltBeregnetPersoninntekt",null,"sumSkjermingsgrunnlagEtterGjeldsfradrag",null,null,{"$f":"Årsoppgjer!J148","v":176640},176640,null,1,0,null,"k",130,null,null,"BeloepMedSkattemessigeEgenskaper"]
[null,null,null,null,null,null,null,null,null,null,null,null,1,0]
[null,"Skogbruk",null,null,null,null,null,null,null,null,null,null,{"$f":"IF(OR(K1190>0,K1192>0),1,)","v":0},0]
[null,"Utbetalt frå skogfondkonto til føremål med skattefordel",null,"skogbruk","skogOgToemmerkonto","skogfond","utbetaltFraSkogfondkontoTilFormaalMedSkattefordel",null,null,null,null,null,{"$f":"IF(K1188=0,,1)","v":0},0,null,"k",110,null,null,"BeloepMedSkattemessigeEgenskaper"]
[null,"Innbetalt offentleg tilskot til skogfondkonto",null,"skogbruk","skogOgToemmerkonto","skogfond","innbetaltOffentligTilskuddTilSkogfondkonto",null,null,null,null,null,0,0,null,"k",130,null,null,"BeloepMedSkattemessigeEgenskaper"]
[null,"Skattefordel av skogfond",null,"skogbruk","skogOgToemmerkonto","skogfond","skattefordelAvSkogfond",null,null,null,null,null,0,0,null,"k",160,null,null,"BeloepMedSkattemessigeEgenskaper"]
[null,"Utbetalt frå skogfondkonto til føremål utan skattefordel",null,"skogbruk","skogOgToemmerkonto","skogfond","utbetaltFraSkogfondkontoTilFormaalUtenSkattefordel",null,null,null,null,null,0,0,null,"k",120,null,null,"BeloepMedSkattemessigeEgenskaper"]
[null,"Skattepliktig inntekt av skogfond",null,"skogbruk","skogOgToemmerkonto","skogfond","skattepliktigInntektAvSkogfond",null,null,null,null,null,0,0,null,"k",170,null,null,"BeloepMedSkattemessigeEgenskaper"]
[null,"ID","næringsspesifikasjon","skogbruk","skogOgToemmerkonto","skogfond","id",null,null,null,null,null,0,0,null,"k",90,null,null,"Tekst"]
[null,null,null,null,null,null,null,null,null,null,null,null,{"$f":"M1195","v":0},0]
[null,"Tømmerkonto",null,null,null,null,null,null,null,null,null,null,{"$f":"IF(AND(K1208=0,K1217=0),,1)","v":0},0]
[null,"Salsinntekt og uttak av skurtømmer, massevirke, rotsal mv",null,"skogbruk","skogOgToemmerkonto","inntektOgKostnad","salgsinntektOgUttakFraSkurtoemmerMassevirkeRotsalgMv",null,null,null,null,null,0,0,null,"k",210,null,null,"BeloepMedSkattemessigeEgenskaper"]
[null,"Salsinntekt og uttak av ved og biomasse",null,"skogbruk","skogOgToemmerkonto","inntektOgKostnad","salgsinntektOgUttakAvVedOgBiomasse",null,null,null,null,null,0,0,null,"k",220,null,null,"BeloepMedSkattemessigeEgenskaper"]
[null,"Leigeinntekter frå jakt, fiske, torvuttak mv",null,"skogbruk","skogOgToemmerkonto","inntektOgKostnad","leieinntekterFraJaktFiskeTorvuttakMv",null,null,null,null,null,0,0,null,"k",240,null,null,"BeloepMedSkattemessigeEgenskaper"]
[null,"Inntekt frå vinst og tapskonto",null,"skogbruk","skogOgToemmerkonto","inntektOgKostnad","inntektFraGevinstOgTapskonto",null,null,null,null,null,0,0,null,"k",250,null,null,"BeloepMedSkattemessigeEgenskaper"]
[null,"Inntektsfrådrag frå vinst og tapskonto",null,"skogbruk","skogOgToemmerkonto","inntektOgKostnad","inntektsfradragFraGevinstOgTapskonto",null,null,null,null,null,0,0,null,"k",260,null,null,"BeloepMedSkattemessigeEgenskaper"]
[null,"Andre driftsinntekter",null,"skogbruk","skogOgToemmerkonto","inntektOgKostnad","andredriftsinntekter",null,null,null,null,null,0,0,null,"k",230,null,null,"BeloepMedSkattemessigeEgenskaper"]
[null,"driftskostnadar",null,"skogbruk","skogOgToemmerkonto","inntektOgKostnad","driftskostnader",null,null,null,null,null,0,0,null,"k",300,null,null,"BeloepMedSkattemessigeEgenskaper"]
[null,"Andel av driftskostnadar til jakt, fiske mv",null,"skogbruk","skogOgToemmerkonto","inntektOgKostnad","andelAvdriftskostnaderTilJaktFiskeMv",null,null,null,null,null,0,0,null,"k",310,null,null,"BeloepMedSkattemessigeEgenskaper"]
[null,"Driftsresultat frå jakt, fiske og leigeinntekt",null,"skogbruk","skogOgToemmerkonto","inntektOgKostnad","driftsresultatFraJaktFiskeOgLeieinntekt",null,null,null,null,null,0,0,null,"k",320,null,null,"BeloepMedSkattemessigeEgenskaper"]
[null,"Sjablogrekna frådrag tilknytt biomasse og vedproduksjon",null,"skogbruk","skogOgToemmerkonto","inntektOgKostnad","sjablongberegnetFradragKnyttetTilBiomasseOgVedproduksjon",null,null,null,null,null,0,0,null,"k",330,null,null,"BeloepMedSkattemessigeEgenskaper"]
[null,"ID",null,"skogbruk","skogOgToemmerkonto",null,"id",null,null,null,null,null,0,0,null,"k",10,null,null,"Tekst"]
[null,"Kommunenummer",null,"skogbruk","skogOgToemmerkonto","skogfond","kommunenummer",null,null,null,null,null,0,0,null,"k",100,null,null,"KommunenummerMedInnkapsling"]
[null,"Inngåande verdi på tømmerkonto",null,"skogbruk","skogOgToemmerkonto",null,"inngaaendeVerdiPaaToemmerkonto",null,null,null,null,null,0,0,null,"k",30,null,null,"BeloepMedSkattemessigeEgenskaper"]
[null,"Driftsresultat som kan overførast til tømmerkonto",null,"skogbruk","skogOgToemmerkonto",null,"driftsresultatSomKanOverfoeresTilToemmerkonto",null,null,null,null,null,0,0,null,"k",40,null,null,"BeloepMedSkattemessigeEgenskaper"]
[null,"Del av driftsresultat som vert overført til tømmerkonto",null,"skogbruk","skogOgToemmerkonto",null,"andelAvDriftsresultatSomOverfoeresTilToemmerkonto",null,null,null,null,null,0,0,null,"k",50,null,null,"BeloepMedSkattemessigeEgenskaper"]
[null,"Inngåande verdi frå overteken tømmerkonto",null,"skogbruk","skogOgToemmerkonto",null,"inngaaendeVerdiFraErvervetToemmerkonto",null,null,null,null,null,0,0,null,"k",60,null,null,"BeloepMedSkattemessigeEgenskaper"]
[null,"Verdi på del av realisert tømmerkonto",null,"skogbruk","skogOgToemmerkonto",null,"verdiPaaAndelAvRealisertToemmerkonto",null,null,null,null,null,0,0,null,"k",70,null,null,"BeloepMedSkattemessigeEgenskaper"]
[null,"Grunnlag for inntekt og frådrag på tømmerkonto i inntektsåret",null,"skogbruk","skogOgToemmerkonto",null,"grunnlagForInntektOgFradragPaaToemmerkontoIInntektsaaret",null,null,null,null,null,0,0,null,"k",80,null,null,"BeloepMedSkattemessigeEgenskaper"]
[null,"Sats for inntektsføring og inntektsfrådrag",null,"skogbruk","skogOgToemmerkonto",null,"satsForInntektsfoeringOgInntektsfradrag",null,null,null,null,null,0,0,null,"k",340,null,null,"ProsentMedInnkapsling"]
[null,"Inntekt frå tømmerkonto",null,"skogbruk","skogOgToemmerkonto",null,"inntektFraToemmerkonto",null,null,null,null,null,0,0,null,"k",350,null,null,"BeloepMedSkattemessigeEgenskaper"]
[null,"Inntektsfrådrag frå tømmerkonto",null,"skogbruk","skogOgToemmerkonto",null,"inntektsfradragFraToemmerkonto",null,null,null,null,null,0,0,null,"k",360,null,null,"BeloepMedSkattemessigeEgenskaper"]
[null,"Utgåande verdi",null,"skogbruk","skogOgToemmerkonto",null,"utgaaendeVerdi",null,null,null,null,null,0,0,null,"k",370,null,null,"BeloepMedSkattemessigeEgenskaper"]
[null,null,null,null,null,null,null,null,null,null,null,null,0,0,null,"k",20,null,null,"TekstMedInnkapsling"]
[null,null,null,null,null,null,null,null,null,null,null,null,0,0]
[null,"Jordbruksfrådrag - til skattemelding",null,null,null,null,null,null,null,null,null,null,0,0]
[null,"Inntekter som ikkje gjev grunnlag for jordbruksfrådrag","SME","naering","saerskiltFradragINaeringsinntektForJordbrukMv","korrigeringerIGrunnlagForSaerskiltFradragForJordbrukMv","inntektSomIkkeInngaarIdriftsinntektFoerFordelingTilFraEktefelle",null,null,null,null,null,0,0]
[null,"Kostnadar som ikkje gjev grunnlag for jordbruksfrådrag","SME","naering","saerskiltFradragINaeringsinntektForJordbrukMv","korrigeringerIGrunnlagForSaerskiltFradragForJordbrukMv","kostnadSomIkkeInngaarIdriftskostnadFoerFordelingTilFraEktefelle",null,null,null,null,null,0,0]
[null,"Grunnlag for jordbruksfrådrag frå selskap/samdrift","SME","FormueOgInntektISelskapMedDeltakerfastsetting","deltakersAndelAvInntektPerNaeringstype",null,"grunnlagForBeregningAvjordbruksfradragFraSDF",null,null,null,null,null,0,0]
[null,"Totalt grunnlag for utrekning av jordbruksfrådrag","SME","naering","saerskiltFradragINaeringsinntektForJordbrukMv",null,"grunnlagForBeregningAvjordbruksfradrag",null,null,null,null,null,0,0]
[null,"Utrekna jordbruksfrådrag","SME","naering","saerskiltFradragINaeringsinntektForJordbrukMv",null,"totaltJordbruksfradragFoerFordelingTilFraEktefelle",null,null,null,null,null,0,0]
[null,"Vilkår med butid og drift oppfylt?","SME","naering","saerskiltFradragINaeringsinntektForJordbrukMv",null,"vilkaarForJordbruksfradragErOppfylt",null,null,null,null,null,0,0]
[null,"Jordbruksfrådrag - brukar","SME","naering","saerskiltFradragINaeringsinntektForJordbrukMv",null,"beloepsandelAvTotaltJordbruksfradragTilordnetInnehaver",null,null,null,null,null,0,0]
[null,null,null,null,null,null,null,null,null,null,null,null,1,0]
[null,"Direkte til skattemelding brukar:",null,null,null,null,null,null,null,null,null,null,1,0]
[null,"Id","SME","naering","naeringsinntektMv  ",null,"id",null,null,3,3,null,0,{"$f":"N1231","v":1},null,"k",70,null,null,"Tekst"]
[null,"Fordelt personinntekt frå næringsspesifikasjon","SME","naering","naeringsinntektMv  ","samordnetPersoninntekt","fordeltBeregnetPersoninntektFraNaeringsspesifikasjon",null,null,{"$f":"J1116","v":68770.559999999998},{"$f":"J1231","v":68770.559999999998},null,{"$f":"IF(J1231=0,,1)","v":1},1,null,"k",170,null,null,"BeloepSomHeltall"]
[null,"Negativ personinntekt frå tidlegare år","SME","naering","naeringsinntektMv  ","samordnetPersoninntekt","fremfoerbarNegativPersoninntektFraTidligereaar",null,null,{"$f":"(Årsoppgjer!J155*Årsoppgjer!E231/100)*-1","v":0},{"$f":"J1232","v":0},null,{"$f":"IF(J1232=0,,1)","v":0},0,null,"k",180,null,null,"BeloepSomHeltallMedSkattemessigeEgenskaper"]
[null,"Frådrag for negativ personinntekt overført frå anna verksemd","SME","naering","naeringsinntektMv  ","samordnetPersoninntekt","personinntektTilSamordningOverfoertTilDenneForekomst",null,null,{"$f":"Årsoppgjer!J156*-1","v":0},0,null,0,0,null,"k",210,null,null,"BeloepSomHeltallMedSkattemessigeEgenskaper"]
[null,"Tillegg for negativ personinntekt overført til anna verksemd","SME","naering","naeringsinntektMv  ","samordnetPersoninntekt","personinntektTilSamordningOverfoertFraDenneForekomst",null,null,{"$f":"(Årsoppgjer!J157+Årsoppgjer!J158)*-1","v":0},0,null,0,{"$f":"M1234","v":0},null,"k",200,null,null,"BeloepSomHeltallMedSkattemessigeEgenskaper"]
[null,"Personinntekt før framføring","SME","naering","naeringsinntektMv  ","samordnetPersoninntekt","personinntektFoerFremfoering",null,null,{"$f":"J1231-J1232-J1233+J1234","v":68770.559999999998},68770.559999999998,null,1,1,null,"k",220,null,null,"BeloepSomHeltallMedSkattemessigeEgenskaperMedOverstyring"]
[null,"Negativ personinntekt som kan framførast","SME","naering","naeringsinntektMv  ","samordnetPersoninntekt","aaretsFremfoerbareNegativPersoninntekt",null,null,{"$f":"IF(J1235<0,J1235,)","v":0},0,null,0,0,null,"k",230,null,null,"BeloepSomHeltallMedSkattemessigeEgenskaper"]
[null,"Personinntekt brukar","SME","naering","naeringsinntektMv  ","samordnetPersoninntekt","personinntekt",null,null,{"$f":"IF(J1235>0,J1235,)","v":68770.559999999998},68770.559999999998,null,1,1,null,"k",240,null,null,"BeloepSomHeltallMedSkattemessigeEgenskaperMedOverstyring"]
[null,"Næringstype","SME","naering","naeringsinntektMv  ",null,"naeringstype",null,null,"annenNaering",{"$f":"J1238","v":"annenNaering"},null,0,{"$f":"N1230","v":1},null,"k",100,null,null,"Naeringstype"]

{"sheet":"MVA","index":8,"n_rows":168,"n_cols":22,"rows_kept":168,"cut":false,"hidden":false,"merged":[]}
[null,"Du kan skriva inn merknad i innramma felt. Det er nyttig å gjera det dersom du skal ha tilbake mykje mva, då kan du unngå vidare spørsmål om dette frå skatteetaten. Forklar i tilfelle kva som har skjedd, f.eks \"kjøpt traktor\".",null,null,null,null,"input kode","input verdi","aktiv","repeterende","til innsending",null,null,null,null,null,null,"2023-02-08T09:01:00.330",{"$f":"NOW()","v":"2023-02-14T14:30:01.240"},"alminnelig",0,1]
["Mva-melding, Årsoppgåve",null,null,null,null,null,"aar",2022,1,null,0]
[{"$f":"Årsoppgjer!F3","v":"test"},null,null,null,null,null,"meldingskategori","alminnelig",1,null,{"$f":"K2","v":0}]
["Org.nr",{"$f":"Årsoppgjer!F9","v":0},null,null,null,null,"organisasjonsnummer",{"$f":"B4","v":0},1,null,{"$f":"K3","v":0}]
["Årsoppgåve 2022",null,null,null,null,null,"skattleggingsperiodeAar","aarlig",1,null,0]
["Kode","Tekst","Grunnlag","Sats","Mva",null,null,2022,0,null,0]
["Sal av varer og tenester i Noreg",null,null,null,null,null,null,null,0,null,0,{"$f":"MAX(Dagbok!B5:B2500)","v":3}]
[6,"Sal og uttak av varer og tenester som er unnteke frå meirverdiavg.lova",{"$f":"VRFORMEL.XLS!H57","v":0},0,{"$f":"C8*D8","v":0},null,{"$f":"A8","v":6},{"$f":"C8","v":0},{"$f":"IF(C8=0,0,1)","v":0},1,0,{"$f":"C8","v":0}]
[3,"Sal og uttak av varer og tenester (høg sats)",{"$f":"VRFORMEL.XLS!M8","v":144000},0.25,{"$f":"C9*D9","v":36000},null,{"$f":"A9","v":3},{"$f":"C9","v":144000},{"$f":"IF(C9=0,0,1)","v":1},1,0,{"$f":"C9","v":144000}]
[31,"Sal og uttak av varer og tenester (middels sats)",{"$f":"VRFORMEL.XLS!N8","v":0},0.15,{"$f":"C10*D10","v":0},null,{"$f":"A10","v":31},{"$f":"C10","v":0},0,1,0,{"$f":"C10","v":0}]
[33,"Sal og uttak av varer og tenester (låg sats)",{"$f":"VRFORMEL.XLS!O8+VRFORMEL.XLS!P8","v":0},0.12,{"$f":"C11*D11","v":0},null,{"$f":"A11","v":33},{"$f":"C11","v":0},0,1,0,{"$f":"C11","v":0}]
[5,"Sal av varer og tenester som er friteke for meirverdiavgift",{"$f":"VRFORMEL.XLS!H56","v":0},0,{"$f":"C12*D12","v":0},null,{"$f":"A12","v":5},{"$f":"C12","v":0},0,1,0,{"$f":"C12","v":0}]
["Kjøp av varer og tenester i Noreg",null,null,null,null,null,null,null,0,null,0]
[1,"Kjøp av varer og tenester med frådragsrett (høg sats)",null,0.25,{"$f":"(VRFORMEL.XLS!I8*0.25+VRFORMEL.XLS!B43)*-1","v":-7200},null,{"$f":"A14","v":1},{"$f":"E14","v":-7200},{"$f":"IF(E14=0,0,1)","v":1},1,0,{"$f":"E14","v":-7200}]
[11,"Kjøp av varer og tenester med frådragsrett (middels sats)",null,0.15,{"$f":"(VRFORMEL.XLS!J8*0.15+VRFORMEL.XLS!B44)*-1","v":0},null,{"$f":"A15","v":11},{"$f":"E15","v":0},{"$f":"IF(E15=0,0,1)","v":0},1,0,{"$f":"E15","v":0}]
[13,"Kjøp av varer og tenester med frådragsrett (låg sats)",null,0.12,{"$f":"(VRFORMEL.XLS!K8*0.12+VRFORMEL.XLS!L8*0.06+VRFORMEL.XLS!B45)*-1","v":0},null,{"$f":"A16","v":13},{"$f":"E16","v":0},{"$f":"IF(E16=0,0,1)","v":0},1,0,{"$f":"E16","v":0}]
["Kjøp av varer frå utlandet",null,null,null,null,null,null,null,0,null,0]
[81,"Kjøp av varer frå utlandet med frådragsrett (høg sats)",{"$f":"VRFORMEL.XLS!G46","v":0},0.25,{"$f":"C18*D18","v":0},null,{"$f":"A18","v":81},{"$f":"C18","v":0},0,1,0,{"$f":"C18","v":0}]
[81,"Frådrag på kjøp av varer frå utlandet (høg sats)",null,0.25,{"$f":"E18*-1","v":0},null,{"$f":"A19","v":81},{"$f":"E19","v":0},{"$f":"IF(E19=0,0,1)","v":0},1,0,{"$f":"E19","v":0}]
[83,"Kjøp av varer frå utlandet med frådragsrett (middels sats)",{"$f":"VRFORMEL.XLS!G47","v":0},0.15,{"$f":"C20*D20","v":0},null,{"$f":"A20","v":83},{"$f":"C20","v":0},0,1,0,{"$f":"C20","v":0}]
[83,"Frådrag på kjøp av varer frå utlandet (middels sats)",null,0.15,{"$f":"E20*-1","v":0},null,{"$f":"A21","v":83},{"$f":"E21","v":0},{"$f":"IF(E21=0,0,1)","v":0},1,0,{"$f":"E21","v":0}]
[null,null,null,null,null,null,null,null,{"$f":"IF(E22=0,0,1)","v":0},null,0]
[null,{"$f":"IF(E23>0,\"Sum meirverdiavgift å betala\",\"Sum meirverdiavgift til gode\")","v":"Sum meirverdiavgift å betala"},null,null,{"$f":"E8+E9+E10+E11+E12+E14+E15+E16+E18+E19+E20+E21","v":28800},null,null,null,0,null,0]
["Merknad:",null,null,null,null,null,"Merknad",{"$f":"B24","v":0},{"$f":"IF(H24=0,0,1)","v":0},null,{"$f":"K23","v":0}]
["Terminoppgåver, dersom du har 2.mnd termin for mva:"]
["Mva-melding, 1.Termin 2022",null,"Januar-februar",null,null,null,"aar",2022,1,null,0]
[{"$f":"Årsoppgjer!F3","v":"test"},null,null,null,null,null,"meldingskategori","alminnelig",1,null,{"$f":"K26","v":0}]
["Org.nr",{"$f":"Årsoppgjer!F9","v":0},null,null,null,null,"organisasjonsnummer",{"$f":"B28","v":0},1,null,{"$f":"K27","v":0}]
[{"$f":"\"Frå bilag 1 til og med bilag \"&L31","v":"Frå bilag 1 til og med bilag "},null,null,null,null,null,"skattleggingsperiodeToMaaneder","januar-februar",1,null,0]
["Kode","Tekst","Grunnlag","Sats","Mva",null,null,2022,0,null,0]
["Sal av varer og tenester i Noreg",null,null,null,null,null,null,null,0,null,0]
[6,"Sal og uttak av varer og tenester som er unnteke frå meirverdiavg.lova",{"$f":"L32","v":0},0,{"$f":"C32*D32","v":0},null,{"$f":"A32","v":6},{"$f":"C32","v":0},{"$f":"IF(C32=0,0,1)","v":0},1,0]
[3,"Sal og uttak av varer og tenester (høg sats)",{"$f":"L33","v":0},0.25,{"$f":"C33*D33","v":0},null,{"$f":"A33","v":3},{"$f":"C33","v":0},0,1,0]
[31,"Sal og uttak av varer og tenester (middels sats)",{"$f":"L34","v":0},0.15,{"$f":"C34*D34","v":0},null,{"$f":"A34","v":31},{"$f":"C34","v":0},0,1,0]
[33,"Sal og uttak av varer og tenester (låg sats)",{"$f":"L35","v":0},0.12,{"$f":"C35*D35","v":0},null,{"$f":"A35","v":33},{"$f":"C35","v":0},0,1,0]
[5,"Sal av varer og tenester som er friteke for meirverdiavgift",{"$f":"L36","v":0},0,{"$f":"C36*D36","v":0},null,{"$f":"A36","v":5},{"$f":"C36","v":0},0,1,0]
["Kjøp av varer og tenester i Noreg",null,null,null,null,null,null,null,0,null,0]
[1,"Kjøp av varer og tenester med frådragsrett (høg sats)",null,0.25,{"$f":"L38","v":0},null,{"$f":"A38","v":1},{"$f":"E38","v":0},{"$f":"IF(E38=0,0,1)","v":0},1,0]
[11,"Kjøp av varer og tenester med frådragsrett (middels sats)",null,0.15,{"$f":"L39","v":0},null,{"$f":"A39","v":11},{"$f":"E39","v":0},{"$f":"IF(E39=0,0,1)","v":0},1,0]
[13,"Kjøp av varer og tenester med frådragsrett (låg sats)",null,0.12,{"$f":"L40","v":0},null,{"$f":"A40","v":13},{"$f":"E40","v":0},{"$f":"IF(E40=0,0,1)","v":0},1,0]
["Kjøp av varer frå utlandet",null,null,null,null,null,null,null,{"$f":"IF(C41=0,0,1)","v":0},null,0]
[81,"Kjøp av varer frå utlandet med frådragsrett (høg sats)",{"$f":"L42","v":0},0.25,{"$f":"C42*D42","v":0},null,{"$f":"A42","v":81},{"$f":"C42","v":0},{"$f":"IF(C42=0,0,1)","v":0},1,0]
[81,"Frådrag på kjøp av varer frå utlandet (høg sats)",null,0.25,{"$f":"L43","v":0},null,{"$f":"A43","v":81},{"$f":"E43","v":0},{"$f":"IF(E43=0,0,1)","v":0},null,0]
[83,"Kjøp av varer frå utlandet med frådragsrett (middels sats)",{"$f":"L44","v":0},0.15,{"$f":"C44*D44","v":0},null,{"$f":"A44","v":83},{"$f":"C44","v":0},{"$f":"IF(C44=0,0,1)","v":0},1,0]
[83,"Frådrag på kjøp av varer frå utlandet (middels sats)",null,0.15,{"$f":"L45","v":0},null,{"$f":"A45","v":83},{"$f":"E45","v":0},{"$f":"IF(E45=0,0,1)","v":0},null,0]
[null,null,null,null,null,null,null,null,{"$f":"IF(E46=0,0,1)","v":0},null,0]
[null,{"$f":"IF(E47>0,\"Sum meirverdiavgift å betala\",\"Sum meirverdiavgift til gode\")","v":"Sum meirverdiavgift til gode"},null,null,{"$f":"E32+E33+E34+E35+E36+E38+E39+E40+E42+E43+E44+E45","v":0},null,null,null,0,null,0]
["Merknad:",null,null,null,null,null,"Merknad",{"$f":"B48","v":0},{"$f":"IF(H48=0,0,1)","v":0},null,{"$f":"K47","v":0}]
[]
["Mva-melding, 2.Termin 2022",null,"Mars-april",null,null,null,"aar",2022,1,null,0]
[{"$f":"Årsoppgjer!F3","v":"test"},null,null,null,null,null,"meldingskategori","alminnelig",1,null,{"$f":"K50","v":0}]
["Org.nr",{"$f":"Årsoppgjer!F9","v":0},null,null,null,null,"organisasjonsnummer",{"$f":"B52","v":0},1,null,{"$f":"K51","v":0}]
[{"$f":"\"Frå bilag \"&IF(nyterm2=0,,nyterm1+1)&\" til og med bilag \"&L55","v":"Frå bilag  til og med bilag "},null,null,null,null,null,"skattleggingsperiodeToMaaneder","mars-april",1,null,0]
["Kode","Tekst","Grunnlag","Sats","Mva",null,null,2022,0,null,0]
["Sal av varer og tenester i Noreg",null,null,null,null,null,null,null,0,null,0]
[6,"Sal og uttak av varer og tenester som er unnteke frå meirverdiavg.lova",{"$f":"IF(L56=0,,L56-C32)","v":0},0,{"$f":"C56*D56","v":0},null,{"$f":"A56","v":6},{"$f":"C56","v":0},{"$f":"IF(C56=0,0,1)","v":0},1,0]
[3,"Sal og uttak av varer og tenester (høg sats)",{"$f":"IF(L57=0,,L57-C33)","v":0},0.25,{"$f":"C57*D57","v":0},null,{"$f":"A57","v":3},{"$f":"C57","v":0},0,1,0]
[31,"Sal og uttak av varer og tenester (middels sats)",{"$f":"IF(L58=0,,L58-C34)","v":0},0.15,{"$f":"C58*D58","v":0},null,{"$f":"A58","v":31},{"$f":"C58","v":0},0,1,0]
[33,"Sal og uttak av varer og tenester (låg sats)",{"$f":"IF(L59=0,,L59-C35)","v":0},0.12,{"$f":"C59*D59","v":0},null,{"$f":"A59","v":33},{"$f":"C59","v":0},0,1,0]
[5,"Sal av varer og tenester som er friteke for meirverdiavgift",{"$f":"IF(L60=0,,L60-C36)","v":0},0,{"$f":"C60*D60","v":0},null,{"$f":"A60","v":5},{"$f":"C60","v":0},0,1,0]
["Kjøp av varer og tenester i Noreg",null,null,null,null,null,null,null,0,null,0]
[1,"Kjøp av varer og tenester med frådragsrett (høg sats)",null,0.25,{"$f":"IF(L62=0,,L62-E38)","v":0},null,{"$f":"A62","v":1},{"$f":"E62","v":0},{"$f":"IF(E62=0,0,1)","v":0},1,0]
[11,"Kjøp av varer og tenester med frådragsrett (middels sats)",null,0.15,{"$f":"IF(L63=0,,L63-E39)","v":0},null,{"$f":"A63","v":11},{"$f":"E63","v":0},{"$f":"IF(E63=0,0,1)","v":0},1,0]
[13,"Kjøp av varer og tenester med frådragsrett (låg sats)",null,0.12,{"$f":"IF(L64=0,,L64-E40)","v":0},null,{"$f":"A64","v":13},{"$f":"E64","v":0},{"$f":"IF(E64=0,0,1)","v":0},1,0]
["Kjøp av varer frå utlandet",null,null,null,null,null,null,null,{"$f":"IF(C65=0,0,1)","v":0},null,0]
[81,"Kjøp av varer frå utlandet med frådragsrett (høg sats)",{"$f":"IF(L66=0,,L66-C42)","v":0},0.25,{"$f":"C66*D66","v":0},null,{"$f":"A66","v":81},{"$f":"C66","v":0},{"$f":"IF(C66=0,0,1)","v":0},1,0]
[81,"Frådrag på kjøp av varer frå utlandet (høg sats)",null,0.25,{"$f":"IF(L67=0,,L67-E43)","v":0},null,{"$f":"A67","v":81},{"$f":"E67","v":0},{"$f":"IF(E67=0,0,1)","v":0},null,0]
[83,"Kjøp av varer frå utlandet med frådragsrett (middels sats)",{"$f":"IF(L68=0,,L68-C44)","v":0},0.15,{"$f":"C68*D68","v":0},null,{"$f":"A68","v":83},{"$f":"C68","v":0},{"$f":"IF(C68=0,0,1)","v":0},1,0]
[83,"Frådrag på kjøp av varer frå utlandet (middels sats)",null,0.15,{"$f":"IF(L69=0,,L69-E45)","v":0},null,{"$f":"A69","v":83},{"$f":"E69","v":0},{"$f":"IF(E69=0,0,1)","v":0},null,0]
[null,null,null,null,null,null,null,null,{"$f":"IF(E70=0,0,1)","v":0},null,0]
[null,{"$f":"IF(E71>0,\"Sum meirverdiavgift å betala\",\"Sum meirverdiavgift til gode\")","v":"Sum meirverdiavgift til gode"},null,null,{"$f":"E56+E57+E58+E59+E60+E62+E63+E64+E66+E67+E68+E69","v":0},null,null,null,0,null,0]
["Merknad:",null,null,null,null,null,"Merknad",{"$f":"B72","v":0},{"$f":"IF(H72=0,0,1)","v":0},null,{"$f":"K71","v":0},null,null,null,null,null,null,"2022-12-22T11:14:25.880",{"$f":"NOW()","v":"2023-02-14T14:30:01.240"}]
[]
["Mva-melding, 3.Termin 2022",null,"Mai-juni",null,null,null,"aar",2022,1,null,0]
[{"$f":"Årsoppgjer!F3","v":"test"},null,null,null,null,null,"meldingskategori","alminnelig",1,null,{"$f":"K74","v":0}]
["Org.nr",{"$f":"Årsoppgjer!F9","v":0},null,null,null,null,"organisasjonsnummer",{"$f":"B76","v":0},1,null,{"$f":"K75","v":0}]
[{"$f":"\"Frå bilag \"&IF(nyterm3=0,,nyterm2+1)&\" til og med bilag \"&L79","v":"Frå bilag  til og med bilag "},null,null,null,null,null,"skattleggingsperiodeToMaaneder","mai-juni",1,null,0]
["Kode","Tekst","Grunnlag","Sats","Mva",null,null,2022,0,null,0]
["Sal av varer og tenester i Noreg",null,null,null,null,null,null,null,0,null,0]
[6,"Sal og uttak av varer og tenester som er unnteke frå meirverdiavg.lova",{"$f":"IF(L80=0,,L80-C56-C32)","v":0},0,{"$f":"C80*D80","v":0},null,{"$f":"A80","v":6},{"$f":"C80","v":0},{"$f":"IF(C80=0,0,1)","v":0},1,0]
[3,"Sal og uttak av varer og tenester (høg sats)",{"$f":"IF(L81=0,,L81-C57-C33)","v":0},0.25,{"$f":"C81*D81","v":0},null,{"$f":"A81","v":3},{"$f":"C81","v":0},0,1,0]
[31,"Sal og uttak av varer og tenester (middels sats)",{"$f":"IF(L82=0,,L82-C58-C34)","v":0},0.15,{"$f":"C82*D82","v":0},null,{"$f":"A82","v":31},{"$f":"C82","v":0},0,1,0]
[33,"Sal og uttak av varer og tenester (låg sats)",{"$f":"IF(L83=0,,L83-C59-C35)","v":0},0.12,{"$f":"C83*D83","v":0},null,{"$f":"A83","v":33},{"$f":"C83","v":0},0,1,0]
[5,"Sal av varer og tenester som er friteke for meirverdiavgift",{"$f":"IF(L84=0,,L84-C60-C36)","v":0},0,{"$f":"C84*D84","v":0},null,{"$f":"A84","v":5},{"$f":"C84","v":0},0,1,0]
["Kjøp av varer og tenester i Noreg",null,null,null,null,null,null,null,0,null,0]
[1,"Kjøp av varer og tenester med frådragsrett (høg sats)",null,0.25,{"$f":"IF(L86=0,,L86-E62-E38)","v":0},null,{"$f":"A86","v":1},{"$f":"E86","v":0},{"$f":"IF(E86=0,0,1)","v":0},1,0]
[11,"Kjøp av varer og tenester med frådragsrett (middels sats)",null,0.15,{"$f":"IF(L87=0,,L87-E63-E39)","v":0},null,{"$f":"A87","v":11},{"$f":"E87","v":0},{"$f":"IF(E87=0,0,1)","v":0},1,0]
[13,"Kjøp av varer og tenester med frådragsrett (låg sats)",null,0.12,{"$f":"IF(L88=0,,L88-E64-E40)","v":0},null,{"$f":"A88","v":13},{"$f":"E88","v":0},{"$f":"IF(E88=0,0,1)","v":0},1,0]
["Kjøp av varer frå utlandet",null,null,null,null,null,null,null,{"$f":"IF(C89=0,0,1)","v":0},null,0]
[81,"Kjøp av varer frå utlandet med frådragsrett (høg sats)",{"$f":"IF(L90=0,,L90-C66-C42)","v":0},0.25,{"$f":"C90*D90","v":0},null,{"$f":"A90","v":81},{"$f":"C90","v":0},{"$f":"IF(C90=0,0,1)","v":0},1,0]
[81,"Frådrag på kjøp av varer frå utlandet (høg sats)",null,0.25,{"$f":"IF(L91=0,,L91-E67-E43)","v":0},null,{"$f":"A91","v":81},{"$f":"E91","v":0},{"$f":"IF(E91=0,0,1)","v":0},null,0]
[83,"Kjøp av varer frå utlandet med frådragsrett (middels sats)",{"$f":"IF(L92=0,,L92-C68-C44)","v":0},0.15,{"$f":"C92*D92","v":0},null,{"$f":"A92","v":83},{"$f":"C92","v":0},{"$f":"IF(C92=0,0,1)","v":0},1,0]
[83,"Frådrag på kjøp av varer frå utlandet (middels sats)",null,0.15,{"$f":"IF(L93=0,,L93-E69-E45)","v":0},null,{"$f":"A93","v":83},{"$f":"E93","v":0},{"$f":"IF(E93=0,0,1)","v":0},null,0]
[null,null,null,null,null,null,null,null,{"$f":"IF(E94=0,0,1)","v":0},null,0]
[null,{"$f":"IF(E95>0,\"Sum meirverdiavgift å betala\",\"Sum meirverdiavgift til gode\")","v":"Sum meirverdiavgift til gode"},null,null,{"$f":"E80+E81+E82+E83+E84+E86+E87+E88+E90+E91+E92+E93","v":0},null,null,null,0,null,0]
["Merknad:",null,null,null,null,null,"Merknad",{"$f":"B96","v":0},{"$f":"IF(H96=0,0,1)","v":0},null,{"$f":"K95","v":0}]
[]
["Mva-melding, 4.Termin 2022",null,"Juli-august",null,null,null,"aar",2022,1,null,0]
[{"$f":"Årsoppgjer!F3","v":"test"},null,null,null,null,null,"meldingskategori","alminnelig",1,null,{"$f":"K98","v":0}]
["Org.nr",{"$f":"Årsoppgjer!F9","v":0},null,null,null,null,"organisasjonsnummer",{"$f":"B100","v":0},1,null,{"$f":"K99","v":0}]
[{"$f":"\"Frå bilag \"&IF(nyterm4=0,,nyterm3+1)&\" til og med bilag \"&L103","v":"Frå bilag  til og med bilag "},null,null,null,null,null,"skattleggingsperiodeToMaaneder","juli-august",1,null,0]
["Kode","Tekst","Grunnlag","Sats","Mva",null,null,2022,0,null,0]
["Sal av varer og tenester i Noreg",null,null,null,null,null,null,null,0,null,0]
[6,"Sal og uttak av varer og tenester som er unnteke frå meirverdiavg.lova",{"$f":"IF(L104=0,,L104-C80-C56-C32)","v":0},0,{"$f":"C104*D104","v":0},null,{"$f":"A104","v":6},{"$f":"C104","v":0},{"$f":"IF(C104=0,0,1)","v":0},1,0]
[3,"Sal og uttak av varer og tenester (høg sats)",{"$f":"IF(L105=0,,L105-C81-C57-C33)","v":0},0.25,{"$f":"C105*D105","v":0},null,{"$f":"A105","v":3},{"$f":"C105","v":0},0,1,0]
[31,"Sal og uttak av varer og tenester (middels sats)",{"$f":"IF(L106=0,,L106-C82-C58-C34)","v":0},0.15,{"$f":"C106*D106","v":0},null,{"$f":"A106","v":31},{"$f":"C106","v":0},0,1,0]
[33,"Sal og uttak av varer og tenester (låg sats)",{"$f":"IF(L107=0,,L107-C83-C59-C35)","v":0},0.12,{"$f":"C107*D107","v":0},null,{"$f":"A107","v":33},{"$f":"C107","v":0},0,1,0]
[5,"Sal av varer og tenester som er friteke for meirverdiavgift",{"$f":"IF(L108=0,,L108-C84-C60-C36)","v":0},0,{"$f":"C108*D108","v":0},null,{"$f":"A108","v":5},{"$f":"C108","v":0},0,1,0]
["Kjøp av varer og tenester i Noreg",null,null,null,null,null,null,null,0,null,0]
[1,"Kjøp av varer og tenester med frådragsrett (høg sats)",null,0.25,{"$f":"IF(L110=0,,L110-E86-E62-E38)","v":0},null,{"$f":"A110","v":1},{"$f":"E110","v":0},{"$f":"IF(E110=0,0,1)","v":0},1,0]
[11,"Kjøp av varer og tenester med frådragsrett (middels sats)",null,0.15,{"$f":"IF(L111=0,,L111-E87-E63-E39)","v":0},null,{"$f":"A111","v":11},{"$f":"E111","v":0},{"$f":"IF(E111=0,0,1)","v":0},1,0]
[13,"Kjøp av varer og tenester med frådragsrett (låg sats)",null,0.12,{"$f":"IF(L112=0,,L112-E88-E64-E40)","v":0},null,{"$f":"A112","v":13},{"$f":"E112","v":0},{"$f":"IF(E112=0,0,1)","v":0},1,0]
["Kjøp av varer frå utlandet",null,null,null,null,null,null,null,{"$f":"IF(C113=0,0,1)","v":0},null,0]
[81,"Kjøp av varer frå utlandet med frådragsrett (høg sats)",{"$f":"IF(L114=0,,L114-C90-C66-C42)","v":0},0.25,{"$f":"C114*D114","v":0},null,{"$f":"A114","v":81},{"$f":"C114","v":0},{"$f":"IF(C114=0,0,1)","v":0},1,0]
[81,"Frådrag på kjøp av varer frå utlandet (høg sats)",null,0.25,{"$f":"IF(L115=0,,L115-E91-E67-E43)","v":0},null,{"$f":"A115","v":81},{"$f":"E115","v":0},{"$f":"IF(E115=0,0,1)","v":0},null,0]
[83,"Kjøp av varer frå utlandet med frådragsrett (middels sats)",{"$f":"IF(L116=0,,L116-C92-C68-C44)","v":0},0.15,{"$f":"C116*D116","v":0},null,{"$f":"A116","v":83},{"$f":"C116","v":0},{"$f":"IF(C116=0,0,1)","v":0},1,0]
[83,"Frådrag på kjøp av varer frå utlandet (middels sats)",null,0.15,{"$f":"IF(L117=0,,L117-E93-E69-E45)","v":0},null,{"$f":"A117","v":83},{"$f":"E117","v":0},{"$f":"IF(E117=0,0,1)","v":0},null,0]
[null,null,null,null,null,null,null,null,{"$f":"IF(E118=0,0,1)","v":0},null,0]
[null,{"$f":"IF(E119>0,\"Sum meirverdiavgift å betala\",\"Sum meirverdiavgift til gode\")","v":"Sum meirverdiavgift til gode"},null,null,{"$f":"E104+E105+E106+E107+E108+E110+E111+E112+E114+E115+E116+E117","v":0},null,null,null,0,null,0]
["Merknad:",null,null,null,null,null,"Merknad",{"$f":"B120","v":0},{"$f":"IF(H120=0,0,1)","v":0},null,{"$f":"K119","v":0}]
[]
["Mva-melding, 5.Termin 2022",null,"September-oktober",null,null,null,"aar",2022,1,null,0]
[{"$f":"Årsoppgjer!F3","v":"test"},null,null,null,null,null,"meldingskategori","alminnelig",1,null,{"$f":"K122","v":0}]
["Org.nr",{"$f":"Årsoppgjer!F9","v":0},null,null,null,null,"organisasjonsnummer",{"$f":"B124","v":0},1,null,{"$f":"K123","v":0}]
[{"$f":"\"Frå bilag \"&IF(nyterm5=0,,nyterm4+1)&\" til og med bilag \"&L127","v":"Frå bilag  til og med bilag "},null,null,null,null,null,"skattleggingsperiodeToMaaneder","september-oktober",1,null,0]
["Kode","Tekst","Grunnlag","Sats","Mva",null,null,2022,0,null,0]
["Sal av varer og tenester i Noreg",null,null,null,null,null,null,null,0,null,0]
[6,"Sal og uttak av varer og tenester som er unnteke frå meirverdiavg.lova",{"$f":"IF(L128=0,,L128-C104-C80-C56-C32)","v":0},0,{"$f":"C128*D128","v":0},null,{"$f":"A128","v":6},{"$f":"C128","v":0},{"$f":"IF(C128=0,0,1)","v":0},1,0]
[3,"Sal og uttak av varer og tenester (høg sats)",{"$f":"IF(L129=0,,L129-C105-C81-C57-C33)","v":0},0.25,{"$f":"C129*D129","v":0},null,{"$f":"A129","v":3},{"$f":"C129","v":0},0,1,0]
[31,"Sal og uttak av varer og tenester (middels sats)",{"$f":"IF(L130=0,,L130-C106-C82-C58-C34)","v":0},0.15,{"$f":"C130*D130","v":0},null,{"$f":"A130","v":31},{"$f":"C130","v":0},0,1,0]
[33,"Sal og uttak av varer og tenester (låg sats)",{"$f":"IF(L131=0,,L131-C107-C83-C59-C35)","v":0},0.12,{"$f":"C131*D131","v":0},null,{"$f":"A131","v":33},{"$f":"C131","v":0},0,1,0]
[5,"Sal av varer og tenester som er friteke for meirverdiavgift",{"$f":"IF(L132=0,,L132-C108-C84-C60-C36)","v":0},0,{"$f":"C132*D132","v":0},null,{"$f":"A132","v":5},{"$f":"C132","v":0},0,1,0]
["Kjøp av varer og tenester i Noreg",null,null,null,null,null,null,null,0,null,0]
[1,"Kjøp av varer og tenester med frådragsrett (høg sats)",null,0.25,{"$f":"IF(L134=0,,L134-E110-E86-E62-E38)","v":0},null,{"$f":"A134","v":1},{"$f":"E134","v":0},{"$f":"IF(E134=0,0,1)","v":0},1,0]
[11,"Kjøp av varer og tenester med frådragsrett (middels sats)",null,0.15,{"$f":"IF(L135=0,,L135-E111-E87-E63-E39)","v":0},null,{"$f":"A135","v":11},{"$f":"E135","v":0},{"$f":"IF(E135=0,0,1)","v":0},1,0]
[13,"Kjøp av varer og tenester med frådragsrett (låg sats)",null,0.12,{"$f":"IF(L136=0,,L136-E112-E88-E64-E40)","v":0},null,{"$f":"A136","v":13},{"$f":"E136","v":0},{"$f":"IF(E136=0,0,1)","v":0},1,0]
["Kjøp av varer frå utlandet",null,null,null,null,null,null,null,{"$f":"IF(C137=0,0,1)","v":0},null,0]
[81,"Kjøp av varer frå utlandet med frådragsrett (høg sats)",{"$f":"IF(L138=0,,L138-C114-C90-C66-C42)","v":0},0.25,{"$f":"C138*D138","v":0},null,{"$f":"A138","v":81},{"$f":"C138","v":0},{"$f":"IF(C138=0,0,1)","v":0},1,0]
[81,"Frådrag på kjøp av varer frå utlandet (høg sats)",null,0.25,{"$f":"IF(L139=0,,L139-E115-E91-E67-E43)","v":0},null,{"$f":"A139","v":81},{"$f":"E139","v":0},{"$f":"IF(E139=0,0,1)","v":0},null,0]
[83,"Kjøp av varer frå utlandet med frådragsrett (middels sats)",{"$f":"IF(L140=0,,L140-C116-C92-C68-C44)","v":0},0.15,{"$f":"C140*D140","v":0},null,{"$f":"A140","v":83},{"$f":"C140","v":0},{"$f":"IF(C140=0,0,1)","v":0},1,0]
[83,"Frådrag på kjøp av varer frå utlandet (middels sats)",null,0.15,{"$f":"IF(L141=0,,L141-E117-E93-E69-E45)","v":0},null,{"$f":"A141","v":83},{"$f":"E141","v":0},{"$f":"IF(E141=0,0,1)","v":0},null,0]
[null,null,null,null,null,null,null,null,{"$f":"IF(E142=0,0,1)","v":0},null,0]
[null,{"$f":"IF(E143>0,\"Sum meirverdiavgift å betala\",\"Sum meirverdiavgift til gode\")","v":"Sum meirverdiavgift til gode"},null,null,{"$f":"E128+E129+E130+E131+E132+E134+E135+E136+E138+E139+E140+E141","v":0},null,null,null,0,null,0]
["Merknad:",null,null,null,null,null,"Merknad",{"$f":"B144","v":0},{"$f":"IF(H144=0,0,1)","v":0},null,{"$f":"K143","v":0}]
[]
["Mva-melding, 6.Termin 2022",null,"November-desember",null,null,null,"aar",2022,1,null,1]
[{"$f":"Årsoppgjer!F3","v":"test"},null,null,null,null,null,"meldingskategori","alminnelig",1,null,{"$f":"K146","v":1}]
["Org.nr",{"$f":"Årsoppgjer!F9","v":0},null,null,null,null,"organisasjonsnummer",{"$f":"B148","v":0},1,null,{"$f":"K147","v":1}]
[{"$f":"\"Frå bilag \"&IF(nyterm6=0,,nyterm5+1)&\" til og med bilag \"&L151","v":"Frå bilag  til og med bilag "},null,null,null,null,null,"skattleggingsperiodeToMaaneder","november-desember",1,null,1]
["Kode","Tekst","Grunnlag","Sats","Mva",null,null,2022,0,null,1]
["Sal av varer og tenester i Noreg",null,null,null,null,null,null,null,0,null,1]
[6,"Sal og uttak av varer og tenester som er unnteke frå meirverdiavg.lova",{"$f":"IF(L152=0,,L152-C128-C104-C80-C56-C32)","v":0},0,{"$f":"C152*D152","v":0},null,{"$f":"A152","v":6},{"$f":"C152","v":0},{"$f":"IF(C152=0,0,1)","v":0},1,1]
[3,"Sal og uttak av varer og tenester (høg sats)",{"$f":"IF(L153=0,,L153-C129-C105-C81-C57-C33)","v":0},0.25,{"$f":"C153*D153","v":0},null,{"$f":"A153","v":3},{"$f":"C153","v":0},0,1,1]
[31,"Sal og uttak av varer og tenester (middels sats)",{"$f":"IF(L154=0,,L154-C130-C106-C82-C58-C34)","v":0},0.15,{"$f":"C154*D154","v":0},null,{"$f":"A154","v":31},{"$f":"C154","v":0},0,1,1]
[33,"Sal og uttak av varer og tenester (låg sats)",{"$f":"IF(L155=0,,L155-C131-C107-C83-C59-C35)","v":0},0.12,{"$f":"C155*D155","v":0},null,{"$f":"A155","v":33},{"$f":"C155","v":0},0,1,1]
[5,"Sal av varer og tenester som er friteke for meirverdiavgift",{"$f":"IF(L156=0,,L156-C132-C108-C84-C60-C36)","v":0},0,{"$f":"C156*D156","v":0},null,{"$f":"A156","v":5},{"$f":"C156","v":0},0,1,1]
["Kjøp av varer og tenester i Noreg",null,null,null,null,null,null,null,0,null,1]
[1,"Kjøp av varer og tenester med frådragsrett (høg sats)",null,0.25,{"$f":"IF(L158=0,,L158-E134-E110-E86-E62-E38)","v":0},null,{"$f":"A158","v":1},{"$f":"E158","v":0},{"$f":"IF(E158=0,0,1)","v":0},1,1]
[11,"Kjøp av varer og tenester med frådragsrett (middels sats)",null,0.15,{"$f":"IF(L159=0,,L159-E135-E111-E87-E63-E39)","v":0},null,{"$f":"A159","v":11},{"$f":"E159","v":0},{"$f":"IF(E159=0,0,1)","v":0},1,1]
[13,"Kjøp av varer og tenester med frådragsrett (låg sats)",null,0.12,{"$f":"IF(L160=0,,L160-E136-E112-E88-E64-E40)","v":0},null,{"$f":"A160","v":13},{"$f":"E160","v":0},{"$f":"IF(E160=0,0,1)","v":0},1,1]
["Kjøp av varer frå utlandet",null,null,null,null,null,null,null,{"$f":"IF(C161=0,0,1)","v":0},null,1]
[81,"Kjøp av varer frå utlandet med frådragsrett (høg sats)",{"$f":"IF(L162=0,,L162-C138-C114-C90-C66-C42)","v":0},0.25,{"$f":"C162*D162","v":0},null,{"$f":"A162","v":81},{"$f":"C162","v":0},{"$f":"IF(C162=0,0,1)","v":0},1,1]
[81,"Frådrag på kjøp av varer frå utlandet (høg sats)",null,0.25,{"$f":"IF(L163=0,,L163-E139-E115-E91-E67-E43)","v":0},null,{"$f":"A163","v":81},{"$f":"E163","v":0},{"$f":"IF(E163=0,0,1)","v":0},null,1]
[83,"Kjøp av varer frå utlandet med frådragsrett (middels sats)",{"$f":"IF(L164=0,,L164-C140-C116-C92-C68-C44)","v":0},0.15,{"$f":"C164*D164","v":0},null,{"$f":"A164","v":83},{"$f":"C164","v":0},{"$f":"IF(C164=0,0,1)","v":0},1,1]
[83,"Frådrag på kjøp av varer frå utlandet (middels sats)",null,0.15,{"$f":"IF(L165=0,,L165-E141-E117-E93-E69-E45)","v":0},null,{"$f":"A165","v":83},{"$f":"E165","v":0},{"$f":"IF(E165=0,0,1)","v":0},null,1]
[null,null,null,null,null,null,null,null,{"$f":"IF(E166=0,0,1)","v":0},null,1]
[null,{"$f":"IF(E167>0,\"Sum meirverdiavgift å betala\",\"Sum meirverdiavgift til gode\")","v":"Sum meirverdiavgift til gode"},null,null,{"$f":"E152+E153+E154+E155+E156+E158+E159+E160+E162+E163+E164+E165","v":0},null,null,null,0,null,1]
["Merknad:",null,null,null,null,null,"Merknad",{"$f":"B168","v":0},{"$f":"IF(H168=0,0,1)","v":0},null,{"$f":"K167","v":1}]

{"sheet":"Rapport","index":9,"n_rows":3344,"n_cols":22,"rows_kept":3344,"cut":false,"hidden":false,"merged":[]}
[null,null,null,null,null,null,null,null,null,null,null,null,null,null,null,null,null,"2023-01-12T14:54:12.440",{"$f":"NOW()","v":"2023-02-14T14:30:01.240"},null,0,1]
[null,"SAF-T filer frå                rekneskap"]
[]
[]
[null,"Denne funksjonen vil bli klar i løpet av 2023"]
[]
[]
[]
[]
[]
[]
[]
[]
[]
[]
[]
[]
[]
[]
[]
[]
[]
[]
[]
[]
[]
[]
[]
[]
[]
[]
[]
[]
[]
[]
[]
[]
[]
[]
[]
[]
[]
[]
[]
[]
[]
[]
[]
[]
[]
[]
[]
[]
[]
[]
[]
[]
[]
[]
[]
[]
[]
[]
[]
[]
[]
[]
[]
[]
[]
[]
[]
[]
[]
[]
[]
[]
[]
[]
[]
[]
[]
[]
[]
[]
[]
[]
[]
[]
[]
[]
[]
[]
[]
[]
[]
[]
[]
[]
["Næring","Anna","2022B"]
["namn",{"$f":"Årsoppgjer!F3","v":"test"}]
["orgnr",{"$f":"Årsoppgjer!F9","v":0}]
["type",{"$f":"Årsoppgjer!F10","v":"Tømrar"}]
["termin bilagsnumnmer",{"$f":"nyterm1","v":0},{"$f":"nyterm2","v":0},{"$f":"nyterm3","v":0},{"$f":"nyterm4","v":0},{"$f":"nyterm5","v":0},{"$f":"nyterm6","v":0}]
[{"$f":"IF(OR(C105=0,C105=\"\"),,\"kunde\")","v":"kunde"},1,{"$f":"Register!B10","v":"Diverse kundar"},{"$f":"Register!C10","v":0},{"$f":"Register!D10","v":0},null,null,null,null,null,null,null,null,200]
[{"$f":"IF(OR(C106=0,C106=\"\"),,\"kunde\")","v":"kunde"},2,{"$f":"Register!B11","v":"Arne Arnesen"},{"$f":"Register!C11","v":0},{"$f":"Register!D11","v":0},null,null,null,null,null,null,null,null,300]
[0,3,{"$f":"Register!B12","v":0},{"$f":"Register!C12","v":0},{"$f":"Register!D12","v":0},null,null,null,null,null,null,null,null,0]
[0,4,{"$f":"Register!B13","v":0},{"$f":"Register!C13","v":0},{"$f":"Register!D13","v":0},null,null,null,null,null,null,null,null,0]
[0,5,{"$f":"Register!B14","v":0},{"$f":"Register!C14","v":0},{"$f":"Register!D14","v":0},null,null,null,null,null,null,null,null,0]
[0,6,{"$f":"Register!B15","v":0},{"$f":"Register!C15","v":0},{"$f":"Register!D15","v":0}]
[0,7,{"$f":"Register!B16","v":0},{"$f":"Register!C16","v":0},{"$f":"Register!D16","v":0}]
[0,8,{"$f":"Register!B17","v":0},{"$f":"Register!C17","v":0},{"$f":"Register!D17","v":0}]
[0,9,{"$f":"Register!B18","v":0},{"$f":"Register!C18","v":0},{"$f":"Register!D18","v":0}]
[0,10,{"$f":"Register!B19","v":0},{"$f":"Register!C19","v":0},{"$f":"Register!D19","v":0}]
[0,11,{"$f":"Register!B20","v":0},{"$f":"Register!C20","v":0},{"$f":"Register!D20","v":0}]
[0,12,{"$f":"Register!B21","v":0},{"$f":"Register!C21","v":0},{"$f":"Register!D21","v":0}]
[0,13,{"$f":"Register!B22","v":0},{"$f":"Register!C22","v":0},{"$f":"Register!D22","v":0}]
[0,14,{"$f":"Register!B23","v":0},{"$f":"Register!C23","v":0},{"$f":"Register!D23","v":0}]
[0,15,{"$f":"Register!B24","v":0},{"$f":"Register!C24","v":0},{"$f":"Register!D24","v":0}]
[0,16,{"$f":"Register!B25","v":0},{"$f":"Register!C25","v":0},{"$f":"Register!D25","v":0}]
[0,17,{"$f":"Register!B26","v":0},{"$f":"Register!C26","v":0},{"$f":"Register!D26","v":0}]
[0,18,{"$f":"Register!B27","v":0},{"$f":"Register!C27","v":0},{"$f":"Register!D27","v":0}]
[0,19,{"$f":"Register!B28","v":0},{"$f":"Register!C28","v":0},{"$f":"Register!D28","v":0}]
[0,20,{"$f":"Register!B29","v":0},{"$f":"Register!C29","v":0},{"$f":"Register!D29","v":0}]
[0,21,{"$f":"Register!B30","v":0},{"$f":"Register!C30","v":0},{"$f":"Register!D30","v":0}]
[0,22,{"$f":"Register!B31","v":0},{"$f":"Register!C31","v":0},{"$f":"Register!D31","v":0}]
[0,23,{"$f":"Register!B32","v":0},{"$f":"Register!C32","v":0},{"$f":"Register!D32","v":0}]
[0,24,{"$f":"Register!B33","v":0},{"$f":"Register!C33","v":0},{"$f":"Register!D33","v":0}]
[0,25,{"$f":"Register!B34","v":0},{"$f":"Register!C34","v":0},{"$f":"Register!D34","v":0}]
[0,26,{"$f":"Register!B35","v":0},{"$f":"Register!C35","v":0},{"$f":"Register!D35","v":0}]
[0,27,{"$f":"Register!B36","v":0},{"$f":"Register!C36","v":0},{"$f":"Register!D36","v":0}]
[0,28,{"$f":"Register!B37","v":0},{"$f":"Register!C37","v":0},{"$f":"Register!D37","v":0}]
[0,29,{"$f":"Register!B38","v":0},{"$f":"Register!C38","v":0},{"$f":"Register!D38","v":0}]
[0,30,{"$f":"Register!B39","v":0},{"$f":"Register!C39","v":0},{"$f":"Register!D39","v":0}]
[0,31,{"$f":"Register!B40","v":0},{"$f":"Register!C40","v":0},{"$f":"Register!D40","v":0}]
[0,32,{"$f":"Register!B41","v":0},{"$f":"Register!C41","v":0},{"$f":"Register!D41","v":0}]
[0,33,{"$f":"Register!B42","v":0},{"$f":"Register!C42","v":0},{"$f":"Register!D42","v":0}]
[0,34,{"$f":"Register!B43","v":0},{"$f":"Register!C43","v":0},{"$f":"Register!D43","v":0}]
[0,35,{"$f":"Register!B44","v":0},{"$f":"Register!C44","v":0},{"$f":"Register!D44","v":0}]
[0,36,{"$f":"Register!B45","v":0},{"$f":"Register!C45","v":0},{"$f":"Register!D45","v":0}]
[0,37,{"$f":"Register!B46","v":0},{"$f":"Register!C46","v":0},{"$f":"Register!D46","v":0}]
[0,38,{"$f":"Register!B47","v":0},{"$f":"Register!C47","v":0},{"$f":"Register!D47","v":0}]
[0,39,{"$f":"Register!B48","v":0},{"$f":"Register!C48","v":0},{"$f":"Register!D48","v":0}]
[0,40,{"$f":"Register!B49","v":0},{"$f":"Register!C49","v":0},{"$f":"Register!D49","v":0}]
[0,41,{"$f":"Register!B50","v":0},{"$f":"Register!C50","v":0},{"$f":"Register!D50","v":0}]
[0,42,{"$f":"Register!B51","v":0},{"$f":"Register!C51","v":0},{"$f":"Register!D51","v":0}]
[0,43,{"$f":"Register!B52","v":0},{"$f":"Register!C52","v":0},{"$f":"Register!D52","v":0}]
[0,44,{"$f":"Register!B53","v":0},{"$f":"Register!C53","v":0},{"$f":"Register!D53","v":0}]
[0,45,{"$f":"Register!B54","v":0},{"$f":"Register!C54","v":0},{"$f":"Register!D54","v":0}]
[0,46,{"$f":"Register!B55","v":0},{"$f":"Register!C55","v":0},{"$f":"Register!D55","v":0}]
[0,47,{"$f":"Register!B56","v":0},{"$f":"Register!C56","v":0},{"$f":"Register!D56","v":0}]
[0,48,{"$f":"Register!B57","v":0},{"$f":"Register!C57","v":0},{"$f":"Register!D57","v":0}]
[0,49,{"$f":"Register!B58","v":0},{"$f":"Register!C58","v":0},{"$f":"Register!D58","v":0}]
[0,50,{"$f":"Register!B59","v":0},{"$f":"Register!C59","v":0},{"$f":"Register!D59","v":0}]
[0,51,{"$f":"Register!B60","v":0},{"$f":"Register!C60","v":0},{"$f":"Register!D60","v":0}]
[0,52,{"$f":"Register!B61","v":0},{"$f":"Register!C61","v":0},{"$f":"Register!D61","v":0}]
[0,53,{"$f":"Register!B62","v":0},{"$f":"Register!C62","v":0},{"$f":"Register!D62","v":0}]
[0,54,{"$f":"Register!B63","v":0},{"$f":"Register!C63","v":0},{"$f":"Register!D63","v":0}]
[0,55,{"$f":"Register!B64","v":0},{"$f":"Register!C64","v":0},{"$f":"Register!D64","v":0}]
[0,56,{"$f":"Register!B65","v":0},{"$f":"Register!C65","v":0},{"$f":"Register!D65","v":0}]
[0,57,{"$f":"Register!B66","v":0},{"$f":"Register!C66","v":0},{"$f":"Register!D66","v":0}]
[0,58,{"$f":"Register!B67","v":0},{"$f":"Register!C67","v":0},{"$f":"Register!D67","v":0}]
[0,59,{"$f":"Register!B68","v":0},{"$f":"Register!C68","v":0},{"$f":"Register!D68","v":0}]
[0,60,{"$f":"Register!B69","v":0},{"$f":"Register!C69","v":0},{"$f":"Register!D69","v":0}]
[0,61,{"$f":"Register!B70","v":0},{"$f":"Register!C70","v":0},{"$f":"Register!D70","v":0}]
[0,62,{"$f":"Register!B71","v":0},{"$f":"Register!C71","v":0},{"$f":"Register!D71","v":0}]
[0,63,{"$f":"Register!B72","v":0},{"$f":"Register!C72","v":0},{"$f":"Register!D72","v":0}]
[0,64,{"$f":"Register!B73","v":0},{"$f":"Register!C73","v":0},{"$f":"Register!D73","v":0}]
[0,65,{"$f":"Register!B74","v":0},{"$f":"Register!C74","v":0},{"$f":"Register!D74","v":0}]
[{"$f":"IF(OR(C170=0,C170=\"\"),,\"kunde\")","v":0},66,{"$f":"Register!B75","v":0},{"$f":"Register!C75","v":0},{"$f":"Register!D75","v":0}]
[0,67,{"$f":"Register!B76","v":0},{"$f":"Register!C76","v":0},{"$f":"Register!D76","v":0}]
[0,68,{"$f":"Register!B77","v":0},{"$f":"Register!C77","v":0},{"$f":"Register!D77","v":0}]
[0,69,{"$f":"Register!B78","v":0},{"$f":"Register!C78","v":0},{"$f":"Register!D78","v":0}]
[0,70,{"$f":"Register!B79","v":0},{"$f":"Register!C79","v":0},{"$f":"Register!D79","v":0}]
[0,71,{"$f":"Register!B80","v":0},{"$f":"Register!C80","v":0},{"$f":"Register!D80","v":0}]
[0,72,{"$f":"Register!B81","v":0},{"$f":"Register!C81","v":0},{"$f":"Register!D81","v":0}]
[0,73,{"$f":"Register!B82","v":0},{"$f":"Register!C82","v":0},{"$f":"Register!D82","v":0}]
[0,74,{"$f":"Register!B83","v":0},{"$f":"Register!C83","v":0},{"$f":"Register!D83","v":0}]
[0,75,{"$f":"Register!B84","v":0},{"$f":"Register!C84","v":0},{"$f":"Register!D84","v":0}]
[0,76,{"$f":"Register!B85","v":0},{"$f":"Register!C85","v":0},{"$f":"Register!D85","v":0}]
[0,77,{"$f":"Register!B86","v":0},{"$f":"Register!C86","v":0},{"$f":"Register!D86","v":0}]
[0,78,{"$f":"Register!B87","v":0},{"$f":"Register!C87","v":0},{"$f":"Register!D87","v":0}]
[0,79,{"$f":"Register!B88","v":0},{"$f":"Register!C88","v":0},{"$f":"Register!D88","v":0}]
[0,80,{"$f":"Register!B89","v":0},{"$f":"Register!C89","v":0},{"$f":"Register!D89","v":0}]
[0,81,{"$f":"Register!B90","v":0},{"$f":"Register!C90","v":0},{"$f":"Register!D90","v":0}]
[0,82,{"$f":"Register!B91","v":0},{"$f":"Register!C91","v":0},{"$f":"Register!D91","v":0}]
[0,83,{"$f":"Register!B92","v":0},{"$f":"Register!C92","v":0},{"$f":"Register!D92","v":0}]
[0,84,{"$f":"Register!B93","v":0},{"$f":"Register!C93","v":0},{"$f":"Register!D93","v":0}]
[0,85,{"$f":"Register!B94","v":0},{"$f":"Register!C94","v":0},{"$f":"Register!D94","v":0}]
[0,86,{"$f":"Register!B95","v":0},{"$f":"Register!C95","v":0},{"$f":"Register!D95","v":0}]
[0,87,{"$f":"Register!B96","v":0},{"$f":"Register!C96","v":0},{"$f":"Register!D96","v":0}]
[0,88,{"$f":"Register!B97","v":0},{"$f":"Register!C97","v":0},{"$f":"Register!D97","v":0}]
[0,89,{"$f":"Register!B98","v":0},{"$f":"Register!C98","v":0},{"$f":"Register!D98","v":0}]
[0,90,{"$f":"Register!B99","v":0},{"$f":"Register!C99","v":0},{"$f":"Register!D99","v":0}]
[0,91,{"$f":"Register!B100","v":0},{"$f":"Register!C100","v":0},{"$f":"Register!D100","v":0}]
[0,92,{"$f":"Register!B101","v":0},{"$f":"Register!C101","v":0},{"$f":"Register!D101","v":0}]
[0,93,{"$f":"Register!B102","v":0},{"$f":"Register!C102","v":0},{"$f":"Register!D102","v":0}]
[0,94,{"$f":"Register!B103","v":0},{"$f":"Register!C103","v":0},{"$f":"Register!D103","v":0}]
[0,95,{"$f":"Register!B104","v":0},{"$f":"Register!C104","v":0},{"$f":"Register!D104","v":0}]
[0,96,{"$f":"Register!B105","v":0},{"$f":"Register!C105","v":0},{"$f":"Register!D105","v":0}]
[0,97,{"$f":"Register!B106","v":0},{"$f":"Register!C106","v":0},{"$f":"Register!D106","v":0}]
[0,98,{"$f":"Register!B107","v":0},{"$f":"Register!C107","v":0},{"$f":"Register!D107","v":0}]
[0,99,{"$f":"Register!B108","v":0},{"$f":"Register!C108","v":0},{"$f":"Register!D108","v":0}]
[{"$f":"IF(OR(C204=0,C204=\"\"),,\"kunde\")","v":0},100,{"$f":"Register!B109","v":0},{"$f":"Register!C109","v":0},{"$f":"Register!D109","v":0}]
[0,101,{"$f":"Register!B110","v":0},{"$f":"Register!C110","v":0},{"$f":"Register!D110","v":0}]
[0,102,{"$f":"Register!B111","v":0},{"$f":"Register!C111","v":0},{"$f":"Register!D111","v":0}]
[0,103,{"$f":"Register!B112","v":0},{"$f":"Register!C112","v":0},{"$f":"Register!D112","v":0}]
[0,104,{"$f":"Register!B113","v":0},{"$f":"Register!C113","v":0},{"$f":"Register!D113","v":0}]
[0,105,{"$f":"Register!B114","v":0},{"$f":"Register!C114","v":0},{"$f":"Register!D114","v":0}]
[0,106,{"$f":"Register!B115","v":0},{"$f":"Register!C115","v":0},{"$f":"Register!D115","v":0}]
[0,107,{"$f":"Register!B116","v":0},{"$f":"Register!C116","v":0},{"$f":"Register!D116","v":0}]
[0,108,{"$f":"Register!B117","v":0},{"$f":"Register!C117","v":0},{"$f":"Register!D117","v":0}]
[0,109,{"$f":"Register!B118","v":0},{"$f":"Register!C118","v":0},{"$f":"Register!D118","v":0}]
[0,110,{"$f":"Register!B119","v":0},{"$f":"Register!C119","v":0},{"$f":"Register!D119","v":0}]
[0,111,{"$f":"Register!B120","v":0},{"$f":"Register!C120","v":0},{"$f":"Register!D120","v":0}]
[0,112,{"$f":"Register!B121","v":0},{"$f":"Register!C121","v":0},{"$f":"Register!D121","v":0}]
[0,113,{"$f":"Register!B122","v":0},{"$f":"Register!C122","v":0},{"$f":"Register!D122","v":0}]
[0,114,{"$f":"Register!B123","v":0},{"$f":"Register!C123","v":0},{"$f":"Register!D123","v":0}]
[0,115,{"$f":"Register!B124","v":0},{"$f":"Register!C124","v":0},{"$f":"Register!D124","v":0}]
[0,116,{"$f":"Register!B125","v":0},{"$f":"Register!C125","v":0},{"$f":"Register!D125","v":0}]
[0,117,{"$f":"Register!B126","v":0},{"$f":"Register!C126","v":0},{"$f":"Register!D126","v":0}]
[0,118,{"$f":"Register!B127","v":0},{"$f":"Register!C127","v":0},{"$f":"Register!D127","v":0}]
[0,119,{"$f":"Register!B128","v":0},{"$f":"Register!C128","v":0},{"$f":"Register!D128","v":0}]
[0,120,{"$f":"Register!B129","v":0},{"$f":"Register!C129","v":0},{"$f":"Register!D129","v":0}]
[0,121,{"$f":"Register!B130","v":0},{"$f":"Register!C130","v":0},{"$f":"Register!D130","v":0}]
[0,122,{"$f":"Register!B131","v":0},{"$f":"Register!C131","v":0},{"$f":"Register!D131","v":0}]
[0,123,{"$f":"Register!B132","v":0},{"$f":"Register!C132","v":0},{"$f":"Register!D132","v":0}]
[0,124,{"$f":"Register!B133","v":0},{"$f":"Register!C133","v":0},{"$f":"Register!D133","v":0}]
[0,125,{"$f":"Register!B134","v":0},{"$f":"Register!C134","v":0},{"$f":"Register!D134","v":0}]
[0,126,{"$f":"Register!B135","v":0},{"$f":"Register!C135","v":0},{"$f":"Register!D135","v":0}]
[0,127,{"$f":"Register!B136","v":0},{"$f":"Register!C136","v":0},{"$f":"Register!D136","v":0}]
[0,128,{"$f":"Register!B137","v":0},{"$f":"Register!C137","v":0},{"$f":"Register!D137","v":0}]
[0,129,{"$f":"Register!B138","v":0},{"$f":"Register!C138","v":0},{"$f":"Register!D138","v":0}]
[0,130,{"$f":"Register!B139","v":0},{"$f":"Register!C139","v":0},{"$f":"Register!D139","v":0}]
[0,131,{"$f":"Register!B140","v":0},{"$f":"Register!C140","v":0},{"$f":"Register!D140","v":0}]
[0,132,{"$f":"Register!B141","v":0},{"$f":"Register!C141","v":0},{"$f":"Register!D141","v":0}]
[0,133,{"$f":"Register!B142","v":0},{"$f":"Register!C142","v":0},{"$f":"Register!D142","v":0}]
[0,134,{"$f":"Register!B143","v":0},{"$f":"Register!C143","v":0},{"$f":"Register!D143","v":0}]
[0,135,{"$f":"Register!B144","v":0},{"$f":"Register!C144","v":0},{"$f":"Register!D144","v":0}]
[0,136,{"$f":"Register!B145","v":0},{"$f":"Register!C145","v":0},{"$f":"Register!D145","v":0}]
[0,137,{"$f":"Register!B146","v":0},{"$f":"Register!C146","v":0},{"$f":"Register!D146","v":0}]
[0,138,{"$f":"Register!B147","v":0},{"$f":"Register!C147","v":0},{"$f":"Register!D147","v":0}]
[0,139,{"$f":"Register!B148","v":0},{"$f":"Register!C148","v":0},{"$f":"Register!D148","v":0}]
[0,140,{"$f":"Register!B149","v":0},{"$f":"Register!C149","v":0},{"$f":"Register!D149","v":0}]
[0,141,{"$f":"Register!B150","v":0},{"$f":"Register!C150","v":0},{"$f":"Register!D150","v":0}]
[0,142,{"$f":"Register!B151","v":0},{"$f":"Register!C151","v":0},{"$f":"Register!D151","v":0}]
[0,143,{"$f":"Register!B152","v":0},{"$f":"Register!C152","v":0},{"$f":"Register!D152","v":0}]
[0,144,{"$f":"Register!B153","v":0},{"$f":"Register!C153","v":0},{"$f":"Register!D153","v":0}]
[0,145,{"$f":"Register!B154","v":0},{"$f":"Register!C154","v":0},{"$f":"Register!D154","v":0}]
[0,146,{"$f":"Register!B155","v":0},{"$f":"Register!C155","v":0},{"$f":"Register!D155","v":0}]
[0,147,{"$f":"Register!B156","v":0},{"$f":"Register!C156","v":0},{"$f":"Register!D156","v":0}]
[0,148,{"$f":"Register!B157","v":0},{"$f":"Register!C157","v":0},{"$f":"Register!D157","v":0}]
[0,149,{"$f":"Register!B158","v":0},{"$f":"Register!C158","v":0},{"$f":"Register!D158","v":0}]
[0,150,{"$f":"Register!B159","v":0},{"$f":"Register!C159","v":0},{"$f":"Register!D159","v":0}]
[0,151,{"$f":"Register!B160","v":0},{"$f":"Register!C160","v":0},{"$f":"Register!D160","v":0}]
[0,152,{"$f":"Register!B161","v":0},{"$f":"Register!C161","v":0},{"$f":"Register!D161","v":0}]
[0,153,{"$f":"Register!B162","v":0},{"$f":"Register!C162","v":0},{"$f":"Register!D162","v":0}]
[0,154,{"$f":"Register!B163","v":0},{"$f":"Register!C163","v":0},{"$f":"Register!D163","v":0}]
[0,155,{"$f":"Register!B164","v":0},{"$f":"Register!C164","v":0},{"$f":"Register!D164","v":0}]
[0,156,{"$f":"Register!B165","v":0},{"$f":"Register!C165","v":0},{"$f":"Register!D165","v":0}]
[0,157,{"$f":"Register!B166","v":0},{"$f":"Register!C166","v":0},{"$f":"Register!D166","v":0}]
[0,158,{"$f":"Register!B167","v":0},{"$f":"Register!C167","v":0},{"$f":"Register!D167","v":0}]
[0,159,{"$f":"Register!B168","v":0},{"$f":"Register!C168","v":0},{"$f":"Register!D168","v":0}]
[0,160,{"$f":"Register!B169","v":0},{"$f":"Register!C169","v":0},{"$f":"Register!D169","v":0}]
[0,161,{"$f":"Register!B170","v":0},{"$f":"Register!C170","v":0},{"$f":"Register!D170","v":0}]
[0,162,{"$f":"Register!B171","v":0},{"$f":"Register!C171","v":0},{"$f":"Register!D171","v":0}]
[0,163,{"$f":"Register!B172","v":0},{"$f":"Register!C172","v":0},{"$f":"Register!D172","v":0}]
[{"$f":"IF(OR(C268=0,C268=\"\"),,\"kunde\")","v":0},164,{"$f":"Register!B173","v":0},{"$f":"Register!C173","v":0},{"$f":"Register!D173","v":0}]
[0,165,{"$f":"Register!B174","v":0},{"$f":"Register!C174","v":0},{"$f":"Register!D174","v":0}]
[0,166,{"$f":"Register!B175","v":0},{"$f":"Register!C175","v":0},{"$f":"Register!D175","v":0}]
[0,167,{"$f":"Register!B176","v":0},{"$f":"Register!C176","v":0},{"$f":"Register!D176","v":0}]
[0,168,{"$f":"Register!B177","v":0},{"$f":"Register!C177","v":0},{"$f":"Register!D177","v":0}]
[0,169,{"$f":"Register!B178","v":0},{"$f":"Register!C178","v":0},{"$f":"Register!D178","v":0}]
[0,170,{"$f":"Register!B179","v":0},{"$f":"Register!C179","v":0},{"$f":"Register!D179","v":0}]
[0,171,{"$f":"Register!B180","v":0},{"$f":"Register!C180","v":0},{"$f":"Register!D180","v":0}]
[0,172,{"$f":"Register!B181","v":0},{"$f":"Register!C181","v":0},{"$f":"Register!D181","v":0}]
[0,173,{"$f":"Register!B182","v":0},{"$f":"Register!C182","v":0},{"$f":"Register!D182","v":0}]
[0,174,{"$f":"Register!B183","v":0},{"$f":"Register!C183","v":0},{"$f":"Register!D183","v":0}]
[0,175,{"$f":"Register!B184","v":0},{"$f":"Register!C184","v":0},{"$f":"Register!D184","v":0}]
[0,176,{"$f":"Register!B185","v":0},{"$f":"Register!C185","v":0},{"$f":"Register!D185","v":0}]
[0,177,{"$f":"Register!B186","v":0},{"$f":"Register!C186","v":0},{"$f":"Register!D186","v":0}]
[0,178,{"$f":"Register!B187","v":0},{"$f":"Register!C187","v":0},{"$f":"Register!D187","v":0}]
[0,179,{"$f":"Register!B188","v":0},{"$f":"Register!C188","v":0},{"$f":"Register!D188","v":0}]
[0,180,{"$f":"Register!B189","v":0},{"$f":"Register!C189","v":0},{"$f":"Register!D189","v":0}]
[0,181,{"$f":"Register!B190","v":0},{"$f":"Register!C190","v":0},{"$f":"Register!D190","v":0}]
[0,182,{"$f":"Register!B191","v":0},{"$f":"Register!C191","v":0},{"$f":"Register!D191","v":0}]
[0,183,{"$f":"Register!B192","v":0},{"$f":"Register!C192","v":0},{"$f":"Register!D192","v":0}]
[0,184,{"$f":"Register!B193","v":0},{"$f":"Register!C193","v":0},{"$f":"Register!D193","v":0}]
[0,185,{"$f":"Register!B194","v":0},{"$f":"Register!C194","v":0},{"$f":"Register!D194","v":0}]
[0,186,{"$f":"Register!B195","v":0},{"$f":"Register!C195","v":0},{"$f":"Register!D195","v":0}]
[0,187,{"$f":"Register!B196","v":0},{"$f":"Register!C196","v":0},{"$f":"Register!D196","v":0}]
[0,188,{"$f":"Register!B197","v":0},{"$f":"Register!C197","v":0},{"$f":"Register!D197","v":0}]
[0,189,{"$f":"Register!B198","v":0},{"$f":"Register!C198","v":0},{"$f":"Register!D198","v":0}]
[0,190,{"$f":"Register!B199","v":0},{"$f":"Register!C199","v":0},{"$f":"Register!D199","v":0}]
[0,191,{"$f":"Register!B200","v":0},{"$f":"Register!C200","v":0},{"$f":"Register!D200","v":0}]
[0,192,{"$f":"Register!B201","v":0},{"$f":"Register!C201","v":0},{"$f":"Register!D201","v":0}]
[0,193,{"$f":"Register!B202","v":0},{"$f":"Register!C202","v":0},{"$f":"Register!D202","v":0}]
[0,194,{"$f":"Register!B203","v":0},{"$f":"Register!C203","v":0},{"$f":"Register!D203","v":0}]
[0,195,{"$f":"Register!B204","v":0},{"$f":"Register!C204","v":0},{"$f":"Register!D204","v":0}]
[0,196,{"$f":"Register!B205","v":0},{"$f":"Register!C205","v":0},{"$f":"Register!D205","v":0}]
[0,197,{"$f":"Register!B206","v":0},{"$f":"Register!C206","v":0},{"$f":"Register!D206","v":0}]
[0,198,{"$f":"Register!B207","v":0},{"$f":"Register!C207","v":0},{"$f":"Register!D207","v":0}]
[0,199,{"$f":"Register!B208","v":0},{"$f":"Register!C208","v":0},{"$f":"Register!D208","v":0}]
[0,200,{"$f":"Register!B209","v":0},{"$f":"Register!C209","v":0},{"$f":"Register!D209","v":0}]
[0,201,{"$f":"Register!B210","v":0},{"$f":"Register!C210","v":0},{"$f":"Register!D210","v":0}]
[0,202,{"$f":"Register!B211","v":0},{"$f":"Register!C211","v":0},{"$f":"Register!D211","v":0}]
[0,203,{"$f":"Register!B212","v":0},{"$f":"Register!C212","v":0},{"$f":"Register!D212","v":0}]
[0,204,{"$f":"Register!B213","v":0},{"$f":"Register!C213","v":0},{"$f":"Register!D213","v":0}]
[0,205,{"$f":"Register!B214","v":0},{"$f":"Register!C214","v":0},{"$f":"Register!D214","v":0}]
[0,206,{"$f":"Register!B215","v":0},{"$f":"Register!C215","v":0},{"$f":"Register!D215","v":0}]
[0,207,{"$f":"Register!B216","v":0},{"$f":"Register!C216","v":0},{"$f":"Register!D216","v":0}]
[0,208,{"$f":"Register!B217","v":0},{"$f":"Register!C217","v":0},{"$f":"Register!D217","v":0}]
[0,209,{"$f":"Register!B218","v":0},{"$f":"Register!C218","v":0},{"$f":"Register!D218","v":0}]
[0,210,{"$f":"Register!B219","v":0},{"$f":"Register!C219","v":0},{"$f":"Register!D219","v":0}]
[0,211,{"$f":"Register!B220","v":0},{"$f":"Register!C220","v":0},{"$f":"Register!D220","v":0}]
[0,212,{"$f":"Register!B221","v":0},{"$f":"Register!C221","v":0},{"$f":"Register!D221","v":0}]
[0,213,{"$f":"Register!B222","v":0},{"$f":"Register!C222","v":0},{"$f":"Register!D222","v":0}]
[0,214,{"$f":"Register!B223","v":0},{"$f":"Register!C223","v":0},{"$f":"Register!D223","v":0}]
[0,215,{"$f":"Register!B224","v":0},{"$f":"Register!C224","v":0},{"$f":"Register!D224","v":0}]
[0,216,{"$f":"Register!B225","v":0},{"$f":"Register!C225","v":0},{"$f":"Register!D225","v":0}]
[0,217,{"$f":"Register!B226","v":0},{"$f":"Register!C226","v":0},{"$f":"Register!D226","v":0}]
[0,218,{"$f":"Register!B227","v":0},{"$f":"Register!C227","v":0},{"$f":"Register!D227","v":0}]
[0,219,{"$f":"Register!B228","v":0},{"$f":"Register!C228","v":0},{"$f":"Register!D228","v":0}]
[0,220,{"$f":"Register!B229","v":0},{"$f":"Register!C229","v":0},{"$f":"Register!D229","v":0}]
[0,221,{"$f":"Register!B230","v":0},{"$f":"Register!C230","v":0},{"$f":"Register!D230","v":0}]
[0,222,{"$f":"Register!B231","v":0},{"$f":"Register!C231","v":0},{"$f":"Register!D231","v":0}]
[0,223,{"$f":"Register!B232","v":0},{"$f":"Register!C232","v":0},{"$f":"Register!D232","v":0}]
[0,224,{"$f":"Register!B233","v":0},{"$f":"Register!C233","v":0},{"$f":"Register!D233","v":0}]
[0,225,{"$f":"Register!B234","v":0},{"$f":"Register!C234","v":0},{"$f":"Register!D234","v":0}]
[0,226,{"$f":"Register!B235","v":0},{"$f":"Register!C235","v":0},{"$f":"Register!D235","v":0}]
[0,227,{"$f":"Register!B236","v":0},{"$f":"Register!C236","v":0},{"$f":"Register!D236","v":0}]
[{"$f":"IF(OR(C332=0,C332=\"\"),,\"kunde\")","v":0},228,{"$f":"Register!B237","v":0},{"$f":"Register!C237","v":0},{"$f":"Register!D237","v":0}]
[0,229,{"$f":"Register!B238","v":0},{"$f":"Register!C238","v":0},{"$f":"Register!D238","v":0}]
[0,230,{"$f":"Register!B239","v":0},{"$f":"Register!C239","v":0},{"$f":"Register!D239","v":0}]
[0,231,{"$f":"Register!B240","v":0},{"$f":"Register!C240","v":0},{"$f":"Register!D240","v":0}]
[0,232,{"$f":"Register!B241","v":0},{"$f":"Register!C241","v":0},{"$f":"Register!D241","v":0}]
[0,233,{"$f":"Register!B242","v":0},{"$f":"Register!C242","v":0},{"$f":"Register!D242","v":0}]
[0,234,{"$f":"Register!B243","v":0},{"$f":"Register!C243","v":0},{"$f":"Register!D243","v":0}]
[0,235,{"$f":"Register!B244","v":0},{"$f":"Register!C244","v":0},{"$f":"Register!D244","v":0}]
[0,236,{"$f":"Register!B245","v":0},{"$f":"Register!C245","v":0},{"$f":"Register!D245","v":0}]
[0,237,{"$f":"Register!B246","v":0},{"$f":"Register!C246","v":0},{"$f":"Register!D246","v":0}]
[0,238,{"$f":"Register!B247","v":0},{"$f":"Register!C247","v":0},{"$f":"Register!D247","v":0}]
[0,239,{"$f":"Register!B248","v":0},{"$f":"Register!C248","v":0},{"$f":"Register!D248","v":0}]
[0,240,{"$f":"Register!B249","v":0},{"$f":"Register!C249","v":0},{"$f":"Register!D249","v":0}]
[0,241,{"$f":"Register!B250","v":0},{"$f":"Register!C250","v":0},{"$f":"Register!D250","v":0}]
[0,242,{"$f":"Register!B251","v":0},{"$f":"Register!C251","v":0},{"$f":"Register!D251","v":0}]
[0,243,{"$f":"Register!B252","v":0},{"$f":"Register!C252","v":0},{"$f":"Register!D252","v":0}]
[0,244,{"$f":"Register!B253","v":0},{"$f":"Register!C253","v":0},{"$f":"Register!D253","v":0}]
[0,245,{"$f":"Register!B254","v":0},{"$f":"Register!C254","v":0},{"$f":"Register!D254","v":0}]
[0,246,{"$f":"Register!B255","v":0},{"$f":"Register!C255","v":0},{"$f":"Register!D255","v":0}]
[0,247,{"$f":"Register!B256","v":0},{"$f":"Register!C256","v":0},{"$f":"Register!D256","v":0}]
[0,248,{"$f":"Register!B257","v":0},{"$f":"Register!C257","v":0},{"$f":"Register!D257","v":0}]
[0,249,{"$f":"Register!B258","v":0},{"$f":"Register!C258","v":0},{"$f":"Register!D258","v":0}]
[0,250,{"$f":"Register!B259","v":0},{"$f":"Register!C259","v":0},{"$f":"Register!D259","v":0}]
[0,251,{"$f":"Register!B260","v":0},{"$f":"Register!C260","v":0},{"$f":"Register!D260","v":0}]
[0,252,{"$f":"Register!B261","v":0},{"$f":"Register!C261","v":0},{"$f":"Register!D261","v":0}]
[0,253,{"$f":"Register!B262","v":0},{"$f":"Register!C262","v":0},{"$f":"Register!D262","v":0}]
[0,254,{"$f":"Register!B263","v":0},{"$f":"Register!C263","v":0},{"$f":"Register!D263","v":0}]
[0,255,{"$f":"Register!B264","v":0},{"$f":"Register!C264","v":0},{"$f":"Register!D264","v":0}]
[0,256,{"$f":"Register!B265","v":0},{"$f":"Register!C265","v":0},{"$f":"Register!D265","v":0}]
[0,257,{"$f":"Register!B266","v":0},{"$f":"Register!C266","v":0},{"$f":"Register!D266","v":0}]
[0,258,{"$f":"Register!B267","v":0},{"$f":"Register!C267","v":0},{"$f":"Register!D267","v":0}]
[0,259,{"$f":"Register!B268","v":0},{"$f":"Register!C268","v":0},{"$f":"Register!D268","v":0}]
[0,260,{"$f":"Register!B269","v":0},{"$f":"Register!C269","v":0},{"$f":"Register!D269","v":0}]
[0,261,{"$f":"Register!B270","v":0},{"$f":"Register!C270","v":0},{"$f":"Register!D270","v":0}]
[0,262,{"$f":"Register!B271","v":0},{"$f":"Register!C271","v":0},{"$f":"Register!D271","v":0}]
[0,263,{"$f":"Register!B272","v":0},{"$f":"Register!C272","v":0},{"$f":"Register!D272","v":0}]
[0,264,{"$f":"Register!B273","v":0},{"$f":"Register!C273","v":0},{"$f":"Register!D273","v":0}]
[0,265,{"$f":"Register!B274","v":0},{"$f":"Register!C274","v":0},{"$f":"Register!D274","v":0}]
[0,266,{"$f":"Register!B275","v":0},{"$f":"Register!C275","v":0},{"$f":"Register!D275","v":0}]
[0,267,{"$f":"Register!B276","v":0},{"$f":"Register!C276","v":0},{"$f":"Register!D276","v":0}]
[0,268,{"$f":"Register!B277","v":0},{"$f":"Register!C277","v":0},{"$f":"Register!D277","v":0}]
[0,269,{"$f":"Register!B278","v":0},{"$f":"Register!C278","v":0},{"$f":"Register!D278","v":0}]
[0,270,{"$f":"Register!B279","v":0},{"$f":"Register!C279","v":0},{"$f":"Register!D279","v":0}]
[0,271,{"$f":"Register!B280","v":0},{"$f":"Register!C280","v":0},{"$f":"Register!D280","v":0}]
[0,272,{"$f":"Register!B281","v":0},{"$f":"Register!C281","v":0},{"$f":"Register!D281","v":0}]
[0,273,{"$f":"Register!B282","v":0},{"$f":"Register!C282","v":0},{"$f":"Register!D282","v":0}]
[0,274,{"$f":"Register!B283","v":0},{"$f":"Register!C283","v":0},{"$f":"Register!D283","v":0}]
[0,275,{"$f":"Register!B284","v":0},{"$f":"Register!C284","v":0},{"$f":"Register!D284","v":0}]
[0,276,{"$f":"Register!B285","v":0},{"$f":"Register!C285","v":0},{"$f":"Register!D285","v":0}]
[0,277,{"$f":"Register!B286","v":0},{"$f":"Register!C286","v":0},{"$f":"Register!D286","v":0}]
[0,278,{"$f":"Register!B287","v":0},{"$f":"Register!C287","v":0},{"$f":"Register!D287","v":0}]
[0,279,{"$f":"Register!B288","v":0},{"$f":"Register!C288","v":0},{"$f":"Register!D288","v":0}]
[0,280,{"$f":"Register!B289","v":0},{"$f":"Register!C289","v":0},{"$f":"Register!D289","v":0}]
[0,281,{"$f":"Register!B290","v":0},{"$f":"Register!C290","v":0},{"$f":"Register!D290","v":0}]
[0,282,{"$f":"Register!B291","v":0},{"$f":"Register!C291","v":0},{"$f":"Register!D291","v":0}]
[0,283,{"$f":"Register!B292","v":0},{"$f":"Register!C292","v":0},{"$f":"Register!D292","v":0}]
[0,284,{"$f":"Register!B293","v":0},{"$f":"Register!C293","v":0},{"$f":"Register!D293","v":0}]
[0,285,{"$f":"Register!B294","v":0},{"$f":"Register!C294","v":0},{"$f":"Register!D294","v":0}]
[0,286,{"$f":"Register!B295","v":0},{"$f":"Register!C295","v":0},{"$f":"Register!D295","v":0}]
[0,287,{"$f":"Register!B296","v":0},{"$f":"Register!C296","v":0},{"$f":"Register!D296","v":0}]
[0,288,{"$f":"Register!B297","v":0},{"$f":"Register!C297","v":0},{"$f":"Register!D297","v":0}]
[0,289,{"$f":"Register!B298","v":0},{"$f":"Register!C298","v":0},{"$f":"Register!D298","v":0}]
[0,290,{"$f":"Register!B299","v":0},{"$f":"Register!C299","v":0},{"$f":"Register!D299","v":0}]
[0,291,{"$f":"Register!B300","v":0},{"$f":"Register!C300","v":0},{"$f":"Register!D300","v":0}]
[{"$f":"IF(OR(C396=0,C396=\"\"),,\"kunde\")","v":0},292,{"$f":"Register!B301","v":0},{"$f":"Register!C301","v":0},{"$f":"Register!D301","v":0}]
[0,293,{"$f":"Register!B302","v":0},{"$f":"Register!C302","v":0},{"$f":"Register!D302","v":0}]
[0,294,{"$f":"Register!B303","v":0},{"$f":"Register!C303","v":0},{"$f":"Register!D303","v":0}]
[0,295,{"$f":"Register!B304","v":0},{"$f":"Register!C304","v":0},{"$f":"Register!D304","v":0}]
[0,296,{"$f":"Register!B305","v":0},{"$f":"Register!C305","v":0},{"$f":"Register!D305","v":0}]
[0,297,{"$f":"Register!B306","v":0},{"$f":"Register!C306","v":0},{"$f":"Register!D306","v":0}]
[0,298,{"$f":"Register!B307","v":0},{"$f":"Register!C307","v":0},{"$f":"Register!D307","v":0}]
[0,299,{"$f":"Register!B308","v":0},{"$f":"Register!C308","v":0},{"$f":"Register!D308","v":0}]
[{"$f":"IF(OR(C404=0,C404=\"\"),,\"lev\")","v":"lev"},300,{"$f":"Register!F10","v":"Diverse leverandørar"},{"$f":"Register!H10*-1","v":0},{"$f":"Register!I10*-1","v":0},{"$f":"Register!G10","v":0}]
[{"$f":"IF(OR(C405=0,C405=\"\"),,\"lev\")","v":"lev"},301,{"$f":"Register!F11","v":"Jernia"},{"$f":"Register!H11*-1","v":0},{"$f":"Register!I11*-1","v":0},{"$f":"Register!G11","v":0}]
[{"$f":"IF(OR(C406=0,C406=\"\"),,\"lev\")","v":0},302,{"$f":"Register!F12","v":0},{"$f":"Register!H12*-1","v":0},{"$f":"Register!I12*-1","v":0},{"$f":"Register!G12","v":0}]
[{"$f":"IF(OR(C407=0,C407=\"\"),,\"lev\")","v":0},303,{"$f":"Register!F13","v":0},{"$f":"Register!H13*-1","v":0},{"$f":"Register!I13*-1","v":0},{"$f":"Register!G13","v":0}]
[0,304,{"$f":"Register!F14","v":0},{"$f":"Register!H14*-1","v":0},{"$f":"Register!I14*-1","v":0},{"$f":"Register!G14","v":0}]
[0,305,{"$f":"Register!F15","v":0},{"$f":"Register!H15*-1","v":0},{"$f":"Register!I15*-1","v":0},{"$f":"Register!G15","v":0}]
[0,306,{"$f":"Register!F16","v":0},{"$f":"Register!H16*-1","v":0},{"$f":"Register!I16*-1","v":0},{"$f":"Register!G16","v":0}]
[0,307,{"$f":"Register!F17","v":0},{"$f":"Register!H17*-1","v":0},{"$f":"Register!I17*-1","v":0},{"$f":"Register!G17","v":0}]
[0,308,{"$f":"Register!F18","v":0},{"$f":"Register!H18*-1","v":0},{"$f":"Register!I18*-1","v":0},{"$f":"Register!G18","v":0}]
[0,309,{"$f":"Register!F19","v":0},{"$f":"Register!H19*-1","v":0},{"$f":"Register!I19*-1","v":0},{"$f":"Register!G19","v":0}]
[0,310,{"$f":"Register!F20","v":0},{"$f":"Register!H20*-1","v":0},{"$f":"Register!I20*-1","v":0},{"$f":"Register!G20","v":0}]
[0,311,{"$f":"Register!F21","v":0},{"$f":"Register!H21*-1","v":0},{"$f":"Register!I21*-1","v":0},{"$f":"Register!G21","v":0}]
[0,312,{"$f":"Register!F22","v":0},{"$f":"Register!H22*-1","v":0},{"$f":"Register!I22*-1","v":0},{"$f":"Register!G22","v":0}]
[0,313,{"$f":"Register!F23","v":0},{"$f":"Register!H23*-1","v":0},{"$f":"Register!I23*-1","v":0},{"$f":"Register!G23","v":0}]
[0,314,{"$f":"Register!F24","v":0},{"$f":"Register!H24*-1","v":0},{"$f":"Register!I24*-1","v":0},{"$f":"Register!G24","v":0}]
[0,315,{"$f":"Register!F25","v":0},{"$f":"Register!H25*-1","v":0},{"$f":"Register!I25*-1","v":0},{"$f":"Register!G25","v":0}]
[0,316,{"$f":"Register!F26","v":0},{"$f":"Register!H26*-1","v":0},{"$f":"Register!I26*-1","v":0},{"$f":"Register!G26","v":0}]
[0,317,{"$f":"Register!F27","v":0},{"$f":"Register!H27*-1","v":0},{"$f":"Register!I27*-1","v":0},{"$f":"Register!G27","v":0}]
[0,318,{"$f":"Register!F28","v":0},{"$f":"Register!H28*-1","v":0},{"$f":"Register!I28*-1","v":0},{"$f":"Register!G28","v":0}]
[0,319,{"$f":"Register!F29","v":0},{"$f":"Register!H29*-1","v":0},{"$f":"Register!I29*-1","v":0},{"$f":"Register!G29","v":0}]
[0,320,{"$f":"Register!F30","v":0},{"$f":"Register!H30*-1","v":0},{"$f":"Register!I30*-1","v":0},{"$f":"Register!G30","v":0}]
[0,321,{"$f":"Register!F31","v":0},{"$f":"Register!H31*-1","v":0},{"$f":"Register!I31*-1","v":0},{"$f":"Register!G31","v":0}]
[0,322,{"$f":"Register!F32","v":0},{"$f":"Register!H32*-1","v":0},{"$f":"Register!I32*-1","v":0},{"$f":"Register!G32","v":0}]
[0,323,{"$f":"Register!F33","v":0},{"$f":"Register!H33*-1","v":0},{"$f":"Register!I33*-1","v":0},{"$f":"Register!G33","v":0}]
[0,324,{"$f":"Register!F34","v":0},{"$f":"Register!H34*-1","v":0},{"$f":"Register!I34*-1","v":0},{"$f":"Register!G34","v":0}]
[0,325,{"$f":"Register!F35","v":0},{"$f":"Register!H35*-1","v":0},{"$f":"Register!I35*-1","v":0},{"$f":"Register!G35","v":0}]
[0,326,{"$f":"Register!F36","v":0},{"$f":"Register!H36*-1","v":0},{"$f":"Register!I36*-1","v":0},{"$f":"Register!G36","v":0}]
[0,327,{"$f":"Register!F37","v":0},{"$f":"Register!H37*-1","v":0},{"$f":"Register!I37*-1","v":0},{"$f":"Register!G37","v":0}]
[0,328,{"$f":"Register!F38","v":0},{"$f":"Register!H38*-1","v":0},{"$f":"Register!I38*-1","v":0},{"$f":"Register!G38","v":0}]
[0,329,{"$f":"Register!F39","v":0},{"$f":"Register!H39*-1","v":0},{"$f":"Register!I39*-1","v":0},{"$f":"Register!G39","v":0}]
[0,330,{"$f":"Register!F40","v":0},{"$f":"Register!H40*-1","v":0},{"$f":"Register!I40*-1","v":0},{"$f":"Register!G40","v":0}]
[0,331,{"$f":"Register!F41","v":0},{"$f":"Register!H41*-1","v":0},{"$f":"Register!I41*-1","v":0},{"$f":"Register!G41","v":0}]
[0,332,{"$f":"Register!F42","v":0},{"$f":"Register!H42*-1","v":0},{"$f":"Register!I42*-1","v":0},{"$f":"Register!G42","v":0}]
[0,333,{"$f":"Register!F43","v":0},{"$f":"Register!H43*-1","v":0},{"$f":"Register!I43*-1","v":0},{"$f":"Register!G43","v":0}]
[0,334,{"$f":"Register!F44","v":0},{"$f":"Register!H44*-1","v":0},{"$f":"Register!I44*-1","v":0},{"$f":"Register!G44","v":0}]
[0,335,{"$f":"Register!F45","v":0},{"$f":"Register!H45*-1","v":0},{"$f":"Register!I45*-1","v":0},{"$f":"Register!G45","v":0}]
[0,336,{"$f":"Register!F46","v":0},{"$f":"Register!H46*-1","v":0},{"$f":"Register!I46*-1","v":0},{"$f":"Register!G46","v":0}]
[0,337,{"$f":"Register!F47","v":0},{"$f":"Register!H47*-1","v":0},{"$f":"Register!I47*-1","v":0},{"$f":"Register!G47","v":0}]
[0,338,{"$f":"Register!F48","v":0},{"$f":"Register!H48*-1","v":0},{"$f":"Register!I48*-1","v":0},{"$f":"Register!G48","v":0}]
[0,339,{"$f":"Register!F49","v":0},{"$f":"Register!H49*-1","v":0},{"$f":"Register!I49*-1","v":0},{"$f":"Register!G49","v":0}]
[0,340,{"$f":"Register!F50","v":0},{"$f":"Register!H50*-1","v":0},{"$f":"Register!I50*-1","v":0},{"$f":"Register!G50","v":0}]
[0,341,{"$f":"Register!F51","v":0},{"$f":"Register!H51*-1","v":0},{"$f":"Register!I51*-1","v":0},{"$f":"Register!G51","v":0}]
[0,342,{"$f":"Register!F52","v":0},{"$f":"Register!H52*-1","v":0},{"$f":"Register!I52*-1","v":0},{"$f":"Register!G52","v":0}]
[0,343,{"$f":"Register!F53","v":0},{"$f":"Register!H53*-1","v":0},{"$f":"Register!I53*-1","v":0},{"$f":"Register!G53","v":0}]
[0,344,{"$f":"Register!F54","v":0},{"$f":"Register!H54*-1","v":0},{"$f":"Register!I54*-1","v":0},{"$f":"Register!G54","v":0}]
[0,345,{"$f":"Register!F55","v":0},{"$f":"Register!H55*-1","v":0},{"$f":"Register!I55*-1","v":0},{"$f":"Register!G55","v":0}]
[0,346,{"$f":"Register!F56","v":0},{"$f":"Register!H56*-1","v":0},{"$f":"Register!I56*-1","v":0},{"$f":"Register!G56","v":0}]
[0,347,{"$f":"Register!F57","v":0},{"$f":"Register!H57*-1","v":0},{"$f":"Register!I57*-1","v":0},{"$f":"Register!G57","v":0}]
[0,348,{"$f":"Register!F58","v":0},{"$f":"Register!H58*-1","v":0},{"$f":"Register!I58*-1","v":0},{"$f":"Register!G58","v":0}]
[0,349,{"$f":"Register!F59","v":0},{"$f":"Register!H59*-1","v":0},{"$f":"Register!I59*-1","v":0},{"$f":"Register!G59","v":0}]
[0,350,{"$f":"Register!F60","v":0},{"$f":"Register!H60*-1","v":0},{"$f":"Register!I60*-1","v":0},{"$f":"Register!G60","v":0}]
[0,351,{"$f":"Register!F61","v":0},{"$f":"Register!H61*-1","v":0},{"$f":"Register!I61*-1","v":0},{"$f":"Register!G61","v":0}]
[0,352,{"$f":"Register!F62","v":0},{"$f":"Register!H62*-1","v":0},{"$f":"Register!I62*-1","v":0},{"$f":"Register!G62","v":0}]
[0,353,{"$f":"Register!F63","v":0},{"$f":"Register!H63*-1","v":0},{"$f":"Register!I63*-1","v":0},{"$f":"Register!G63","v":0}]
[0,354,{"$f":"Register!F64","v":0},{"$f":"Register!H64*-1","v":0},{"$f":"Register!I64*-1","v":0},{"$f":"Register!G64","v":0}]
[0,355,{"$f":"Register!F65","v":0},{"$f":"Register!H65*-1","v":0},{"$f":"Register!I65*-1","v":0},{"$f":"Register!G65","v":0}]
[0,356,{"$f":"Register!F66","v":0},{"$f":"Register!H66*-1","v":0},{"$f":"Register!I66*-1","v":0},{"$f":"Register!G66","v":0}]
[0,357,{"$f":"Register!F67","v":0},{"$f":"Register!H67*-1","v":0},{"$f":"Register!I67*-1","v":0},{"$f":"Register!G67","v":0}]
[0,358,{"$f":"Register!F68","v":0},{"$f":"Register!H68*-1","v":0},{"$f":"Register!I68*-1","v":0},{"$f":"Register!G68","v":0}]
[0,359,{"$f":"Register!F69","v":0},{"$f":"Register!H69*-1","v":0},{"$f":"Register!I69*-1","v":0},{"$f":"Register!G69","v":0}]
[0,360,{"$f":"Register!F70","v":0},{"$f":"Register!H70*-1","v":0},{"$f":"Register!I70*-1","v":0},{"$f":"Register!G70","v":0}]
[0,361,{"$f":"Register!F71","v":0},{"$f":"Register!H71*-1","v":0},{"$f":"Register!I71*-1","v":0},{"$f":"Register!G71","v":0}]
[0,362,{"$f":"Register!F72","v":0},{"$f":"Register!H72*-1","v":0},{"$f":"Register!I72*-1","v":0},{"$f":"Register!G72","v":0}]
[0,363,{"$f":"Register!F73","v":0},{"$f":"Register!H73*-1","v":0},{"$f":"Register!I73*-1","v":0},{"$f":"Register!G73","v":0}]
[0,364,{"$f":"Register!F74","v":0},{"$f":"Register!H74*-1","v":0},{"$f":"Register!I74*-1","v":0},{"$f":"Register!G74","v":0}]
[0,365,{"$f":"Register!F75","v":0},{"$f":"Register!H75*-1","v":0},{"$f":"Register!I75*-1","v":0},{"$f":"Register!G75","v":0}]
[0,366,{"$f":"Register!F76","v":0},{"$f":"Register!H76*-1","v":0},{"$f":"Register!I76*-1","v":0},{"$f":"Register!G76","v":0}]
[{"$f":"IF(OR(C471=0,C471=\"\"),,\"lev\")","v":0},367,{"$f":"Register!F77","v":0},{"$f":"Register!H77*-1","v":0},{"$f":"Register!I77*-1","v":0},{"$f":"Register!G77","v":0}]
[0,368,{"$f":"Register!F78","v":0},{"$f":"Register!H78*-1","v":0},{"$f":"Register!I78*-1","v":0},{"$f":"Register!G78","v":0}]
[0,369,{"$f":"Register!F79","v":0},{"$f":"Register!H79*-1","v":0},{"$f":"Register!I79*-1","v":0},{"$f":"Register!G79","v":0}]
[0,370,{"$f":"Register!F80","v":0},{"$f":"Register!H80*-1","v":0},{"$f":"Register!I80*-1","v":0},{"$f":"Register!G80","v":0}]
[0,371,{"$f":"Register!F81","v":0},{"$f":"Register!H81*-1","v":0},{"$f":"Register!I81*-1","v":0},{"$f":"Register!G81","v":0}]
[0,372,{"$f":"Register!F82","v":0},{"$f":"Register!H82*-1","v":0},{"$f":"Register!I82*-1","v":0},{"$f":"Register!G82","v":0}]
[0,373,{"$f":"Register!F83","v":0},{"$f":"Register!H83*-1","v":0},{"$f":"Register!I83*-1","v":0},{"$f":"Register!G83","v":0}]
[0,374,{"$f":"Register!F84","v":0},{"$f":"Register!H84*-1","v":0},{"$f":"Register!I84*-1","v":0},{"$f":"Register!G84","v":0}]
[0,375,{"$f":"Register!F85","v":0},{"$f":"Register!H85*-1","v":0},{"$f":"Register!I85*-1","v":0},{"$f":"Register!G85","v":0}]
[0,376,{"$f":"Register!F86","v":0},{"$f":"Register!H86*-1","v":0},{"$f":"Register!I86*-1","v":0},{"$f":"Register!G86","v":0}]
[0,377,{"$f":"Register!F87","v":0},{"$f":"Register!H87*-1","v":0},{"$f":"Register!I87*-1","v":0},{"$f":"Register!G87","v":0}]
[0,378,{"$f":"Register!F88","v":0},{"$f":"Register!H88*-1","v":0},{"$f":"Register!I88*-1","v":0},{"$f":"Register!G88","v":0}]
[0,379,{"$f":"Register!F89","v":0},{"$f":"Register!H89*-1","v":0},{"$f":"Register!I89*-1","v":0},{"$f":"Register!G89","v":0}]
[0,380,{"$f":"Register!F90","v":0},{"$f":"Register!H90*-1","v":0},{"$f":"Register!I90*-1","v":0},{"$f":"Register!G90","v":0}]
[0,381,{"$f":"Register!F91","v":0},{"$f":"Register!H91*-1","v":0},{"$f":"Register!I91*-1","v":0},{"$f":"Register!G91","v":0}]
[0,382,{"$f":"Register!F92","v":0},{"$f":"Register!H92*-1","v":0},{"$f":"Register!I92*-1","v":0},{"$f":"Register!G92","v":0}]
[0,383,{"$f":"Register!F93","v":0},{"$f":"Register!H93*-1","v":0},{"$f":"Register!I93*-1","v":0},{"$f":"Register!G93","v":0}]
[0,384,{"$f":"Register!F94","v":0},{"$f":"Register!H94*-1","v":0},{"$f":"Register!I94*-1","v":0},{"$f":"Register!G94","v":0}]
[0,385,{"$f":"Register!F95","v":0},{"$f":"Register!H95*-1","v":0},{"$f":"Register!I95*-1","v":0},{"$f":"Register!G95","v":0}]
[0,386,{"$f":"Register!F96","v":0},{"$f":"Register!H96*-1","v":0},{"$f":"Register!I96*-1","v":0},{"$f":"Register!G96","v":0}]
[0,387,{"$f":"Register!F97","v":0},{"$f":"Register!H97*-1","v":0},{"$f":"Register!I97*-1","v":0},{"$f":"Register!G97","v":0}]
[0,388,{"$f":"Register!F98","v":0},{"$f":"Register!H98*-1","v":0},{"$f":"Register!I98*-1","v":0},{"$f":"Register!G98","v":0}]
[0,389,{"$f":"Register!F99","v":0},{"$f":"Register!H99*-1","v":0},{"$f":"Register!I99*-1","v":0},{"$f":"Register!G99","v":0}]
[0,390,{"$f":"Register!F100","v":0},{"$f":"Register!H100*-1","v":0},{"$f":"Register!I100*-1","v":0},{"$f":"Register!G100","v":0}]
[0,391,{"$f":"Register!F101","v":0},{"$f":"Register!H101*-1","v":0},{"$f":"Register!I101*-1","v":0},{"$f":"Register!G101","v":0}]
[0,392,{"$f":"Register!F102","v":0},{"$f":"Register!H102*-1","v":0},{"$f":"Register!I102*-1","v":0},{"$f":"Register!G102","v":0}]
[0,393,{"$f":"Register!F103","v":0},{"$f":"Register!H103*-1","v":0},{"$f":"Register!I103*-1","v":0},{"$f":"Register!G103","v":0}]
[0,394,{"$f":"Register!F104","v":0},{"$f":"Register!H104*-1","v":0},{"$f":"Register!I104*-1","v":0},{"$f":"Register!G104","v":0}]
[0,395,{"$f":"Register!F105","v":0},{"$f":"Register!H105*-1","v":0},{"$f":"Register!I105*-1","v":0},{"$f":"Register!G105","v":0}]
[{"$f":"IF(OR(C500=0,C500=\"\"),,\"lev\")","v":0},396,{"$f":"Register!F106","v":0},{"$f":"Register!H106*-1","v":0},{"$f":"Register!I106*-1","v":0},{"$f":"Register!G106","v":0}]
[0,397,{"$f":"Register!F107","v":0},{"$f":"Register!H107*-1","v":0},{"$f":"Register!I107*-1","v":0},{"$f":"Register!G107","v":0}]
[0,398,{"$f":"Register!F108","v":0},{"$f":"Register!H108*-1","v":0},{"$f":"Register!I108*-1","v":0},{"$f":"Register!G108","v":0}]
[0,399,{"$f":"Register!F109","v":0},{"$f":"Register!H109*-1","v":0},{"$f":"Register!I109*-1","v":0},{"$f":"Register!G109","v":0}]
[0,400,{"$f":"Register!F110","v":0},{"$f":"Register!H110*-1","v":0},{"$f":"Register!I110*-1","v":0},{"$f":"Register!G110","v":0}]
[0,401,{"$f":"Register!F111","v":0},{"$f":"Register!H111*-1","v":0},{"$f":"Register!I111*-1","v":0},{"$f":"Register!G111","v":0}]
[0,402,{"$f":"Register!F112","v":0},{"$f":"Register!H112*-1","v":0},{"$f":"Register!I112*-1","v":0},{"$f":"Register!G112","v":0}]
[0,403,{"$f":"Register!F113","v":0},{"$f":"Register!H113*-1","v":0},{"$f":"Register!I113*-1","v":0},{"$f":"Register!G113","v":0}]
[0,404,{"$f":"Register!F114","v":0},{"$f":"Register!H114*-1","v":0},{"$f":"Register!I114*-1","v":0},{"$f":"Register!G114","v":0}]
[0,405,{"$f":"Register!F115","v":0},{"$f":"Register!H115*-1","v":0},{"$f":"Register!I115*-1","v":0},{"$f":"Register!G115","v":0}]
[0,406,{"$f":"Register!F116","v":0},{"$f":"Register!H116*-1","v":0},{"$f":"Register!I116*-1","v":0},{"$f":"Register!G116","v":0}]
[0,407,{"$f":"Register!F117","v":0},{"$f":"Register!H117*-1","v":0},{"$f":"Register!I117*-1","v":0},{"$f":"Register!G117","v":0}]
[0,408,{"$f":"Register!F118","v":0},{"$f":"Register!H118*-1","v":0},{"$f":"Register!I118*-1","v":0},{"$f":"Register!G118","v":0}]
[0,409,{"$f":"Register!F119","v":0},{"$f":"Register!H119*-1","v":0},{"$f":"Register!I119*-1","v":0},{"$f":"Register!G119","v":0}]
[0,410,{"$f":"Register!F120","v":0},{"$f":"Register!H120*-1","v":0},{"$f":"Register!I120*-1","v":0},{"$f":"Register!G120","v":0}]
[0,411,{"$f":"Register!F121","v":0},{"$f":"Register!H121*-1","v":0},{"$f":"Register!I121*-1","v":0},{"$f":"Register!G121","v":0}]
[0,412,{"$f":"Register!F122","v":0},{"$f":"Register!H122*-1","v":0},{"$f":"Register!I122*-1","v":0},{"$f":"Register!G122","v":0}]
[0,413,{"$f":"Register!F123","v":0},{"$f":"Register!H123*-1","v":0},{"$f":"Register!I123*-1","v":0},{"$f":"Register!G123","v":0}]
[0,414,{"$f":"Register!F124","v":0},{"$f":"Register!H124*-1","v":0},{"$f":"Register!I124*-1","v":0},{"$f":"Register!G124","v":0}]
[0,415,{"$f":"Register!F125","v":0},{"$f":"Register!H125*-1","v":0},{"$f":"Register!I125*-1","v":0},{"$f":"Register!G125","v":0}]
[0,416,{"$f":"Register!F126","v":0},{"$f":"Register!H126*-1","v":0},{"$f":"Register!I126*-1","v":0},{"$f":"Register!G126","v":0}]
[0,417,{"$f":"Register!F127","v":0},{"$f":"Register!H127*-1","v":0},{"$f":"Register!I127*-1","v":0},{"$f":"Register!G127","v":0}]
[0,418,{"$f":"Register!F128","v":0},{"$f":"Register!H128*-1","v":0},{"$f":"Register!I128*-1","v":0},{"$f":"Register!G128","v":0}]
[0,419,{"$f":"Register!F129","v":0},{"$f":"Register!H129*-1","v":0},{"$f":"Register!I129*-1","v":0},{"$f":"Register!G129","v":0}]
[0,420,{"$f":"Register!F130","v":0},{"$f":"Register!H130*-1","v":0},{"$f":"Register!I130*-1","v":0},{"$f":"Register!G130","v":0}]
[0,421,{"$f":"Register!F131","v":0},{"$f":"Register!H131*-1","v":0},{"$f":"Register!I131*-1","v":0},{"$f":"Register!G131","v":0}]
[0,422,{"$f":"Register!F132","v":0},{"$f":"Register!H132*-1","v":0},{"$f":"Register!I132*-1","v":0},{"$f":"Register!G132","v":0}]
[0,423,{"$f":"Register!F133","v":0},{"$f":"Register!H133*-1","v":0},{"$f":"Register!I133*-1","v":0},{"$f":"Register!G133","v":0}]
[0,424,{"$f":"Register!F134","v":0},{"$f":"Register!H134*-1","v":0},{"$f":"Register!I134*-1","v":0},{"$f":"Register!G134","v":0}]
[0,425,{"$f":"Register!F135","v":0},{"$f":"Register!H135*-1","v":0},{"$f":"Register!I135*-1","v":0},{"$f":"Register!G135","v":0}]
[0,426,{"$f":"Register!F136","v":0},{"$f":"Register!H136*-1","v":0},{"$f":"Register!I136*-1","v":0},{"$f":"Register!G136","v":0}]
[0,427,{"$f":"Register!F137","v":0},{"$f":"Register!H137*-1","v":0},{"$f":"Register!I137*-1","v":0},{"$f":"Register!G137","v":0}]
[0,428,{"$f":"Register!F138","v":0},{"$f":"Register!H138*-1","v":0},{"$f":"Register!I138*-1","v":0},{"$f":"Register!G138","v":0}]
[0,429,{"$f":"Register!F139","v":0},{"$f":"Register!H139*-1","v":0},{"$f":"Register!I139*-1","v":0},{"$f":"Register!G139","v":0}]
[0,430,{"$f":"Register!F140","v":0},{"$f":"Register!H140*-1","v":0},{"$f":"Register!I140*-1","v":0},{"$f":"Register!G140","v":0}]
[0,431,{"$f":"Register!F141","v":0},{"$f":"Register!H141*-1","v":0},{"$f":"Register!I141*-1","v":0},{"$f":"Register!G141","v":0}]
[0,432,{"$f":"Register!F142","v":0},{"$f":"Register!H142*-1","v":0},{"$f":"Register!I142*-1","v":0},{"$f":"Register!G142","v":0}]
[0,433,{"$f":"Register!F143","v":0},{"$f":"Register!H143*-1","v":0},{"$f":"Register!I143*-1","v":0},{"$f":"Register!G143","v":0}]
[0,434,{"$f":"Register!F144","v":0},{"$f":"Register!H144*-1","v":0},{"$f":"Register!I144*-1","v":0},{"$f":"Register!G144","v":0}]
[0,435,{"$f":"Register!F145","v":0},{"$f":"Register!H145*-1","v":0},{"$f":"Register!I145*-1","v":0},{"$f":"Register!G145","v":0}]
[0,436,{"$f":"Register!F146","v":0},{"$f":"Register!H146*-1","v":0},{"$f":"Register!I146*-1","v":0},{"$f":"Register!G146","v":0}]
[0,437,{"$f":"Register!F147","v":0},{"$f":"Register!H147*-1","v":0},{"$f":"Register!I147*-1","v":0},{"$f":"Register!G147","v":0}]
[0,438,{"$f":"Register!F148","v":0},{"$f":"Register!H148*-1","v":0},{"$f":"Register!I148*-1","v":0},{"$f":"Register!G148","v":0}]
[0,439,{"$f":"Register!F149","v":0},{"$f":"Register!H149*-1","v":0},{"$f":"Register!I149*-1","v":0},{"$f":"Register!G149","v":0}]
[0,440,{"$f":"Register!F150","v":0},{"$f":"Register!H150*-1","v":0},{"$f":"Register!I150*-1","v":0},{"$f":"Register!G150","v":0}]
[0,441,{"$f":"Register!F151","v":0},{"$f":"Register!H151*-1","v":0},{"$f":"Register!I151*-1","v":0},{"$f":"Register!G151","v":0}]
[0,442,{"$f":"Register!F152","v":0},{"$f":"Register!H152*-1","v":0},{"$f":"Register!I152*-1","v":0},{"$f":"Register!G152","v":0}]
[0,443,{"$f":"Register!F153","v":0},{"$f":"Register!H153*-1","v":0},{"$f":"Register!I153*-1","v":0},{"$f":"Register!G153","v":0}]
[0,444,{"$f":"Register!F154","v":0},{"$f":"Register!H154*-1","v":0},{"$f":"Register!I154*-1","v":0},{"$f":"Register!G154","v":0}]
[0,445,{"$f":"Register!F155","v":0},{"$f":"Register!H155*-1","v":0},{"$f":"Register!I155*-1","v":0},{"$f":"Register!G155","v":0}]
[0,446,{"$f":"Register!F156","v":0},{"$f":"Register!H156*-1","v":0},{"$f":"Register!I156*-1","v":0},{"$f":"Register!G156","v":0}]
[0,447,{"$f":"Register!F157","v":0},{"$f":"Register!H157*-1","v":0},{"$f":"Register!I157*-1","v":0},{"$f":"Register!G157","v":0}]
[0,448,{"$f":"Register!F158","v":0},{"$f":"Register!H158*-1","v":0},{"$f":"Register!I158*-1","v":0},{"$f":"Register!G158","v":0}]
[0,449,{"$f":"Register!F159","v":0},{"$f":"Register!H159*-1","v":0},{"$f":"Register!I159*-1","v":0},{"$f":"Register!G159","v":0}]
[0,450,{"$f":"Register!F160","v":0},{"$f":"Register!H160*-1","v":0},{"$f":"Register!I160*-1","v":0},{"$f":"Register!G160","v":0}]
[0,451,{"$f":"Register!F161","v":0},{"$f":"Register!H161*-1","v":0},{"$f":"Register!I161*-1","v":0},{"$f":"Register!G161","v":0}]
[0,452,{"$f":"Register!F162","v":0},{"$f":"Register!H162*-1","v":0},{"$f":"Register!I162*-1","v":0},{"$f":"Register!G162","v":0}]
[0,453,{"$f":"Register!F163","v":0},{"$f":"Register!H163*-1","v":0},{"$f":"Register!I163*-1","v":0},{"$f":"Register!G163","v":0}]
[0,454,{"$f":"Register!F164","v":0},{"$f":"Register!H164*-1","v":0},{"$f":"Register!I164*-1","v":0},{"$f":"Register!G164","v":0}]
[0,455,{"$f":"Register!F165","v":0},{"$f":"Register!H165*-1","v":0},{"$f":"Register!I165*-1","v":0},{"$f":"Register!G165","v":0}]
[0,456,{"$f":"Register!F166","v":0},{"$f":"Register!H166*-1","v":0},{"$f":"Register!I166*-1","v":0},{"$f":"Register!G166","v":0}]
[0,457,{"$f":"Register!F167","v":0},{"$f":"Register!H167*-1","v":0},{"$f":"Register!I167*-1","v":0},{"$f":"Register!G167","v":0}]
[0,458,{"$f":"Register!F168","v":0},{"$f":"Register!H168*-1","v":0},{"$f":"Register!I168*-1","v":0},{"$f":"Register!G168","v":0}]
[0,459,{"$f":"Register!F169","v":0},{"$f":"Register!H169*-1","v":0},{"$f":"Register!I169*-1","v":0},{"$f":"Register!G169","v":0}]
[{"$f":"IF(OR(C564=0,C564=\"\"),,\"lev\")","v":0},460,{"$f":"Register!F170","v":0},{"$f":"Register!H170*-1","v":0},{"$f":"Register!I170*-1","v":0},{"$f":"Register!G170","v":0}]
[0,461,{"$f":"Register!F171","v":0},{"$f":"Register!H171*-1","v":0},{"$f":"Register!I171*-1","v":0},{"$f":"Register!G171","v":0}]
[0,462,{"$f":"Register!F172","v":0},{"$f":"Register!H172*-1","v":0},{"$f":"Register!I172*-1","v":0},{"$f":"Register!G172","v":0}]
[0,463,{"$f":"Register!F173","v":0},{"$f":"Register!H173*-1","v":0},{"$f":"Register!I173*-1","v":0},{"$f":"Register!G173","v":0}]
[0,464,{"$f":"Register!F174","v":0},{"$f":"Register!H174*-1","v":0},{"$f":"Register!I174*-1","v":0},{"$f":"Register!G174","v":0}]
[0,465,{"$f":"Register!F175","v":0},{"$f":"Register!H175*-1","v":0},{"$f":"Register!I175*-1","v":0},{"$f":"Register!G175","v":0}]
[0,466,{"$f":"Register!F176","v":0},{"$f":"Register!H176*-1","v":0},{"$f":"Register!I176*-1","v":0},{"$f":"Register!G176","v":0}]
[0,467,{"$f":"Register!F177","v":0},{"$f":"Register!H177*-1","v":0},{"$f":"Register!I177*-1","v":0},{"$f":"Register!G177","v":0}]
[0,468,{"$f":"Register!F178","v":0},{"$f":"Register!H178*-1","v":0},{"$f":"Register!I178*-1","v":0},{"$f":"Register!G178","v":0}]
[0,469,{"$f":"Register!F179","v":0},{"$f":"Register!H179*-1","v":0},{"$f":"Register!I179*-1","v":0},{"$f":"Register!G179","v":0}]
[0,470,{"$f":"Register!F180","v":0},{"$f":"Register!H180*-1","v":0},{"$f":"Register!I180*-1","v":0},{"$f":"Register!G180","v":0}]
[0,471,{"$f":"Register!F181","v":0},{"$f":"Register!H181*-1","v":0},{"$f":"Register!I181*-1","v":0},{"$f":"Register!G181","v":0}]
[0,472,{"$f":"Register!F182","v":0},{"$f":"Register!H182*-1","v":0},{"$f":"Register!I182*-1","v":0},{"$f":"Register!G182","v":0}]
[0,473,{"$f":"Register!F183","v":0},{"$f":"Register!H183*-1","v":0},{"$f":"Register!I183*-1","v":0},{"$f":"Register!G183","v":0}]
[0,474,{"$f":"Register!F184","v":0},{"$f":"Register!H184*-1","v":0},{"$f":"Register!I184*-1","v":0},{"$f":"Register!G184","v":0}]
[0,475,{"$f":"Register!F185","v":0},{"$f":"Register!H185*-1","v":0},{"$f":"Register!I185*-1","v":0},{"$f":"Register!G185","v":0}]
[0,476,{"$f":"Register!F186","v":0},{"$f":"Register!H186*-1","v":0},{"$f":"Register!I186*-1","v":0},{"$f":"Register!G186","v":0}]
[0,477,{"$f":"Register!F187","v":0},{"$f":"Register!H187*-1","v":0},{"$f":"Register!I187*-1","v":0},{"$f":"Register!G187","v":0}]
[0,478,{"$f":"Register!F188","v":0},{"$f":"Register!H188*-1","v":0},{"$f":"Register!I188*-1","v":0},{"$f":"Register!G188","v":0}]
[0,479,{"$f":"Register!F189","v":0},{"$f":"Register!H189*-1","v":0},{"$f":"Register!I189*-1","v":0},{"$f":"Register!G189","v":0}]
[0,480,{"$f":"Register!F190","v":0},{"$f":"Register!H190*-1","v":0},{"$f":"Register!I190*-1","v":0},{"$f":"Register!G190","v":0}]
[0,481,{"$f":"Register!F191","v":0},{"$f":"Register!H191*-1","v":0},{"$f":"Register!I191*-1","v":0},{"$f":"Register!G191","v":0}]
[0,482,{"$f":"Register!F192","v":0},{"$f":"Register!H192*-1","v":0},{"$f":"Register!I192*-1","v":0},{"$f":"Register!G192","v":0}]
[0,483,{"$f":"Register!F193","v":0},{"$f":"Register!H193*-1","v":0},{"$f":"Register!I193*-1","v":0},{"$f":"Register!G193","v":0}]
[0,484,{"$f":"Register!F194","v":0},{"$f":"Register!H194*-1","v":0},{"$f":"Register!I194*-1","v":0},{"$f":"Register!G194","v":0}]
[0,485,{"$f":"Register!F195","v":0},{"$f":"Register!H195*-1","v":0},{"$f":"Register!I195*-1","v":0},{"$f":"Register!G195","v":0}]
[0,486,{"$f":"Register!F196","v":0},{"$f":"Register!H196*-1","v":0},{"$f":"Register!I196*-1","v":0},{"$f":"Register!G196","v":0}]
[0,487,{"$f":"Register!F197","v":0},{"$f":"Register!H197*-1","v":0},{"$f":"Register!I197*-1","v":0},{"$f":"Register!G197","v":0}]
[0,488,{"$f":"Register!F198","v":0},{"$f":"Register!H198*-1","v":0},{"$f":"Register!I198*-1","v":0},{"$f":"Register!G198","v":0}]
[0,489,{"$f":"Register!F199","v":0},{"$f":"Register!H199*-1","v":0},{"$f":"Register!I199*-1","v":0},{"$f":"Register!G199","v":0}]
[0,490,{"$f":"Register!F200","v":0},{"$f":"Register!H200*-1","v":0},{"$f":"Register!I200*-1","v":0},{"$f":"Register!G200","v":0}]
[0,491,{"$f":"Register!F201","v":0},{"$f":"Register!H201*-1","v":0},{"$f":"Register!I201*-1","v":0},{"$f":"Register!G201","v":0}]
[0,492,{"$f":"Register!F202","v":0},{"$f":"Register!H202*-1","v":0},{"$f":"Register!I202*-1","v":0},{"$f":"Register!G202","v":0}]
[0,493,{"$f":"Register!F203","v":0},{"$f":"Register!H203*-1","v":0},{"$f":"Register!I203*-1","v":0},{"$f":"Register!G203","v":0}]
[0,494,{"$f":"Register!F204","v":0},{"$f":"Register!H204*-1","v":0},{"$f":"Register!I204*-1","v":0},{"$f":"Register!G204","v":0}]
[0,495,{"$f":"Register!F205","v":0},{"$f":"Register!H205*-1","v":0},{"$f":"Register!I205*-1","v":0},{"$f":"Register!G205","v":0}]
[0,496,{"$f":"Register!F206","v":0},{"$f":"Register!H206*-1","v":0},{"$f":"Register!I206*-1","v":0},{"$f":"Register!G206","v":0}]
[0,497,{"$f":"Register!F207","v":0},{"$f":"Register!H207*-1","v":0},{"$f":"Register!I207*-1","v":0},{"$f":"Register!G207","v":0}]
[0,498,{"$f":"Register!F208","v":0},{"$f":"Register!H208*-1","v":0},{"$f":"Register!I208*-1","v":0},{"$f":"Register!G208","v":0}]
[0,499,{"$f":"Register!F209","v":0},{"$f":"Register!H209*-1","v":0},{"$f":"Register!I209*-1","v":0},{"$f":"Register!G209","v":0}]
[0,500,{"$f":"Register!F210","v":0},{"$f":"Register!H210*-1","v":0},{"$f":"Register!I210*-1","v":0},{"$f":"Register!G210","v":0}]
[0,501,{"$f":"Register!F211","v":0},{"$f":"Register!H211*-1","v":0},{"$f":"Register!I211*-1","v":0},{"$f":"Register!G211","v":0}]
[0,502,{"$f":"Register!F212","v":0},{"$f":"Register!H212*-1","v":0},{"$f":"Register!I212*-1","v":0},{"$f":"Register!G212","v":0}]
[0,503,{"$f":"Register!F213","v":0},{"$f":"Register!H213*-1","v":0},{"$f":"Register!I213*-1","v":0},{"$f":"Register!G213","v":0}]
[0,504,{"$f":"Register!F214","v":0},{"$f":"Register!H214*-1","v":0},{"$f":"Register!I214*-1","v":0},{"$f":"Register!G214","v":0}]
[0,505,{"$f":"Register!F215","v":0},{"$f":"Register!H215*-1","v":0},{"$f":"Register!I215*-1","v":0},{"$f":"Register!G215","v":0}]
[0,506,{"$f":"Register!F216","v":0},{"$f":"Register!H216*-1","v":0},{"$f":"Register!I216*-1","v":0},{"$f":"Register!G216","v":0}]
[0,507,{"$f":"Register!F217","v":0},{"$f":"Register!H217*-1","v":0},{"$f":"Register!I217*-1","v":0},{"$f":"Register!G217","v":0}]
[0,508,{"$f":"Register!F218","v":0},{"$f":"Register!H218*-1","v":0},{"$f":"Register!I218*-1","v":0},{"$f":"Register!G218","v":0}]
[0,509,{"$f":"Register!F219","v":0},{"$f":"Register!H219*-1","v":0},{"$f":"Register!I219*-1","v":0},{"$f":"Register!G219","v":0}]
[0,510,{"$f":"Register!F220","v":0},{"$f":"Register!H220*-1","v":0},{"$f":"Register!I220*-1","v":0},{"$f":"Register!G220","v":0}]
[0,511,{"$f":"Register!F221","v":0},{"$f":"Register!H221*-1","v":0},{"$f":"Register!I221*-1","v":0},{"$f":"Register!G221","v":0}]
[0,512,{"$f":"Register!F222","v":0},{"$f":"Register!H222*-1","v":0},{"$f":"Register!I222*-1","v":0},{"$f":"Register!G222","v":0}]
[0,513,{"$f":"Register!F223","v":0},{"$f":"Register!H223*-1","v":0},{"$f":"Register!I223*-1","v":0},{"$f":"Register!G223","v":0}]
[0,514,{"$f":"Register!F224","v":0},{"$f":"Register!H224*-1","v":0},{"$f":"Register!I224*-1","v":0},{"$f":"Register!G224","v":0}]
[0,515,{"$f":"Register!F225","v":0},{"$f":"Register!H225*-1","v":0},{"$f":"Register!I225*-1","v":0},{"$f":"Register!G225","v":0}]
[0,516,{"$f":"Register!F226","v":0},{"$f":"Register!H226*-1","v":0},{"$f":"Register!I226*-1","v":0},{"$f":"Register!G226","v":0}]
[0,517,{"$f":"Register!F227","v":0},{"$f":"Register!H227*-1","v":0},{"$f":"Register!I227*-1","v":0},{"$f":"Register!G227","v":0}]
[0,518,{"$f":"Register!F228","v":0},{"$f":"Register!H228*-1","v":0},{"$f":"Register!I228*-1","v":0},{"$f":"Register!G228","v":0}]
[0,519,{"$f":"Register!F229","v":0},{"$f":"Register!H229*-1","v":0},{"$f":"Register!I229*-1","v":0},{"$f":"Register!G229","v":0}]
[0,520,{"$f":"Register!F230","v":0},{"$f":"Register!H230*-1","v":0},{"$f":"Register!I230*-1","v":0},{"$f":"Register!G230","v":0}]
[0,521,{"$f":"Register!F231","v":0},{"$f":"Register!H231*-1","v":0},{"$f":"Register!I231*-1","v":0},{"$f":"Register!G231","v":0}]
[0,522,{"$f":"Register!F232","v":0},{"$f":"Register!H232*-1","v":0},{"$f":"Register!I232*-1","v":0},{"$f":"Register!G232","v":0}]
[0,523,{"$f":"Register!F233","v":0},{"$f":"Register!H233*-1","v":0},{"$f":"Register!I233*-1","v":0},{"$f":"Register!G233","v":0}]
[{"$f":"IF(OR(C628=0,C628=\"\"),,\"lev\")","v":0},524,{"$f":"Register!F234","v":0},{"$f":"Register!H234*-1","v":0},{"$f":"Register!I234*-1","v":0},{"$f":"Register!G234","v":0}]
[{"$f":"IF(OR(C629=0,C629=\"\"),,\"lev\")","v":0},525,{"$f":"Register!F235","v":0},{"$f":"Register!H235*-1","v":0},{"$f":"Register!I235*-1","v":0},{"$f":"Register!G235","v":0}]
[{"$f":"IF(OR(C630=0,C630=\"\"),,\"lev\")","v":0},526,{"$f":"Register!F236","v":0},{"$f":"Register!H236*-1","v":0},{"$f":"Register!I236*-1","v":0},{"$f":"Register!G236","v":0}]
[{"$f":"IF(OR(C631=0,C631=\"\"),,\"lev\")","v":0},527,{"$f":"Register!F237","v":0},{"$f":"Register!H237*-1","v":0},{"$f":"Register!I237*-1","v":0},{"$f":"Register!G237","v":0}]
[{"$f":"IF(OR(C632=0,C632=\"\"),,\"lev\")","v":0},528,{"$f":"Register!F238","v":0},{"$f":"Register!H238*-1","v":0},{"$f":"Register!I238*-1","v":0},{"$f":"Register!G238","v":0}]
[0,529,{"$f":"Register!F239","v":0},{"$f":"Register!H239*-1","v":0},{"$f":"Register!I239*-1","v":0},{"$f":"Register!G239","v":0}]
[0,530,{"$f":"Register!F240","v":0},{"$f":"Register!H240*-1","v":0},{"$f":"Register!I240*-1","v":0},{"$f":"Register!G240","v":0}]
[0,531,{"$f":"Register!F241","v":0},{"$f":"Register!H241*-1","v":0},{"$f":"Register!I241*-1","v":0},{"$f":"Register!G241","v":0}]
[0,532,{"$f":"Register!F242","v":0},{"$f":"Register!H242*-1","v":0},{"$f":"Register!I242*-1","v":0},{"$f":"Register!G242","v":0}]
[0,533,{"$f":"Register!F243","v":0},{"$f":"Register!H243*-1","v":0},{"$f":"Register!I243*-1","v":0},{"$f":"Register!G243","v":0}]
[0,534,{"$f":"Register!F244","v":0},{"$f":"Register!H244*-1","v":0},{"$f":"Register!I244*-1","v":0},{"$f":"Register!G244","v":0}]
[0,535,{"$f":"Register!F245","v":0},{"$f":"Register!H245*-1","v":0},{"$f":"Register!I245*-1","v":0},{"$f":"Register!G245","v":0}]
[0,536,{"$f":"Register!F246","v":0},{"$f":"Register!H246*-1","v":0},{"$f":"Register!I246*-1","v":0},{"$f":"Register!G246","v":0}]
[0,537,{"$f":"Register!F247","v":0},{"$f":"Register!H247*-1","v":0},{"$f":"Register!I247*-1","v":0},{"$f":"Register!G247","v":0}]
[0,538,{"$f":"Register!F248","v":0},{"$f":"Register!H248*-1","v":0},{"$f":"Register!I248*-1","v":0},{"$f":"Register!G248","v":0}]
[0,539,{"$f":"Register!F249","v":0},{"$f":"Register!H249*-1","v":0},{"$f":"Register!I249*-1","v":0},{"$f":"Register!G249","v":0}]
[0,540,{"$f":"Register!F250","v":0},{"$f":"Register!H250*-1","v":0},{"$f":"Register!I250*-1","v":0},{"$f":"Register!G250","v":0}]
[0,541,{"$f":"Register!F251","v":0},{"$f":"Register!H251*-1","v":0},{"$f":"Register!I251*-1","v":0},{"$f":"Register!G251","v":0}]
[0,542,{"$f":"Register!F252","v":0},{"$f":"Register!H252*-1","v":0},{"$f":"Register!I252*-1","v":0},{"$f":"Register!G252","v":0}]
[0,543,{"$f":"Register!F253","v":0},{"$f":"Register!H253*-1","v":0},{"$f":"Register!I253*-1","v":0},{"$f":"Register!G253","v":0}]
[0,544,{"$f":"Register!F254","v":0},{"$f":"Register!H254*-1","v":0},{"$f":"Register!I254*-1","v":0},{"$f":"Register!G254","v":0}]
[0,545,{"$f":"Register!F255","v":0},{"$f":"Register!H255*-1","v":0},{"$f":"Register!I255*-1","v":0},{"$f":"Register!G255","v":0}]
[0,546,{"$f":"Register!F256","v":0},{"$f":"Register!H256*-1","v":0},{"$f":"Register!I256*-1","v":0},{"$f":"Register!G256","v":0}]
[0,547,{"$f":"Register!F257","v":0},{"$f":"Register!H257*-1","v":0},{"$f":"Register!I257*-1","v":0},{"$f":"Register!G257","v":0}]
[0,548,{"$f":"Register!F258","v":0},{"$f":"Register!H258*-1","v":0},{"$f":"Register!I258*-1","v":0},{"$f":"Register!G258","v":0}]
[0,549,{"$f":"Register!F259","v":0},{"$f":"Register!H259*-1","v":0},{"$f":"Register!I259*-1","v":0},{"$f":"Register!G259","v":0}]
[0,550,{"$f":"Register!F260","v":0},{"$f":"Register!H260*-1","v":0},{"$f":"Register!I260*-1","v":0},{"$f":"Register!G260","v":0}]
[0,551,{"$f":"Register!F261","v":0},{"$f":"Register!H261*-1","v":0},{"$f":"Register!I261*-1","v":0},{"$f":"Register!G261","v":0}]
[0,552,{"$f":"Register!F262","v":0},{"$f":"Register!H262*-1","v":0},{"$f":"Register!I262*-1","v":0},{"$f":"Register!G262","v":0}]
[0,553,{"$f":"Register!F263","v":0},{"$f":"Register!H263*-1","v":0},{"$f":"Register!I263*-1","v":0},{"$f":"Register!G263","v":0}]
[0,554,{"$f":"Register!F264","v":0},{"$f":"Register!H264*-1","v":0},{"$f":"Register!I264*-1","v":0},{"$f":"Register!G264","v":0}]
[0,555,{"$f":"Register!F265","v":0},{"$f":"Register!H265*-1","v":0},{"$f":"Register!I265*-1","v":0},{"$f":"Register!G265","v":0}]
[0,556,{"$f":"Register!F266","v":0},{"$f":"Register!H266*-1","v":0},{"$f":"Register!I266*-1","v":0},{"$f":"Register!G266","v":0}]
[0,557,{"$f":"Register!F267","v":0},{"$f":"Register!H267*-1","v":0},{"$f":"Register!I267*-1","v":0},{"$f":"Register!G267","v":0}]
[0,558,{"$f":"Register!F268","v":0},{"$f":"Register!H268*-1","v":0},{"$f":"Register!I268*-1","v":0},{"$f":"Register!G268","v":0}]
[0,559,{"$f":"Register!F269","v":0},{"$f":"Register!H269*-1","v":0},{"$f":"Register!I269*-1","v":0},{"$f":"Register!G269","v":0}]
[0,560,{"$f":"Register!F270","v":0},{"$f":"Register!H270*-1","v":0},{"$f":"Register!I270*-1","v":0},{"$f":"Register!G270","v":0}]
[0,561,{"$f":"Register!F271","v":0},{"$f":"Register!H271*-1","v":0},{"$f":"Register!I271*-1","v":0},{"$f":"Register!G271","v":0}]
[0,562,{"$f":"Register!F272","v":0},{"$f":"Register!H272*-1","v":0},{"$f":"Register!I272*-1","v":0},{"$f":"Register!G272","v":0}]
[0,563,{"$f":"Register!F273","v":0},{"$f":"Register!H273*-1","v":0},{"$f":"Register!I273*-1","v":0},{"$f":"Register!G273","v":0}]
[0,564,{"$f":"Register!F274","v":0},{"$f":"Register!H274*-1","v":0},{"$f":"Register!I274*-1","v":0},{"$f":"Register!G274","v":0}]
[0,565,{"$f":"Register!F275","v":0},{"$f":"Register!H275*-1","v":0},{"$f":"Register!I275*-1","v":0},{"$f":"Register!G275","v":0}]
[0,566,{"$f":"Register!F276","v":0},{"$f":"Register!H276*-1","v":0},{"$f":"Register!I276*-1","v":0},{"$f":"Register!G276","v":0}]
[0,567,{"$f":"Register!F277","v":0},{"$f":"Register!H277*-1","v":0},{"$f":"Register!I277*-1","v":0},{"$f":"Register!G277","v":0}]
[0,568,{"$f":"Register!F278","v":0},{"$f":"Register!H278*-1","v":0},{"$f":"Register!I278*-1","v":0},{"$f":"Register!G278","v":0}]
[0,569,{"$f":"Register!F279","v":0},{"$f":"Register!H279*-1","v":0},{"$f":"Register!I279*-1","v":0},{"$f":"Register!G279","v":0}]
[0,570,{"$f":"Register!F280","v":0},{"$f":"Register!H280*-1","v":0},{"$f":"Register!I280*-1","v":0},{"$f":"Register!G280","v":0}]
[0,571,{"$f":"Register!F281","v":0},{"$f":"Register!H281*-1","v":0},{"$f":"Register!I281*-1","v":0},{"$f":"Register!G281","v":0}]
[0,572,{"$f":"Register!F282","v":0},{"$f":"Register!H282*-1","v":0},{"$f":"Register!I282*-1","v":0},{"$f":"Register!G282","v":0}]
[0,573,{"$f":"Register!F283","v":0},{"$f":"Register!H283*-1","v":0},{"$f":"Register!I283*-1","v":0},{"$f":"Register!G283","v":0}]
[0,574,{"$f":"Register!F284","v":0},{"$f":"Register!H284*-1","v":0},{"$f":"Register!I284*-1","v":0},{"$f":"Register!G284","v":0}]
[0,575,{"$f":"Register!F285","v":0},{"$f":"Register!H285*-1","v":0},{"$f":"Register!I285*-1","v":0},{"$f":"Register!G285","v":0}]
[{"$f":"IF(OR(C680=0,C680=\"\"),,\"lev\")","v":0},576,{"$f":"Register!F286","v":0},{"$f":"Register!H286*-1","v":0},{"$f":"Register!I286*-1","v":0},{"$f":"Register!G286","v":0}]
[{"$f":"IF(OR(C681=0,C681=\"\"),,\"lev\")","v":0},577,{"$f":"Register!F287","v":0},{"$f":"Register!H287*-1","v":0},{"$f":"Register!I287*-1","v":0},{"$f":"Register!G287","v":0}]
[{"$f":"IF(OR(C682=0,C682=\"\"),,\"lev\")","v":0},578,{"$f":"Register!F288","v":0},{"$f":"Register!H288*-1","v":0},{"$f":"Register!I288*-1","v":0},{"$f":"Register!G288","v":0}]
[0,579,{"$f":"Register!F289","v":0},{"$f":"Register!H289*-1","v":0},{"$f":"Register!I289*-1","v":0},{"$f":"Register!G289","v":0}]
[0,580,{"$f":"Register!F290","v":0},{"$f":"Register!H290*-1","v":0},{"$f":"Register!I290*-1","v":0},{"$f":"Register!G290","v":0}]
[0,581,{"$f":"Register!F291","v":0},{"$f":"Register!H291*-1","v":0},{"$f":"Register!I291*-1","v":0},{"$f":"Register!G291","v":0}]
[0,582,{"$f":"Register!F292","v":0},{"$f":"Register!H292*-1","v":0},{"$f":"Register!I292*-1","v":0},{"$f":"Register!G292","v":0}]
[0,583,{"$f":"Register!F293","v":0},{"$f":"Register!H293*-1","v":0},{"$f":"Register!I293*-1","v":0},{"$f":"Register!G293","v":0}]
[0,584,{"$f":"Register!F294","v":0},{"$f":"Register!H294*-1","v":0},{"$f":"Register!I294*-1","v":0},{"$f":"Register!G294","v":0}]
[0,585,{"$f":"Register!F295","v":0},{"$f":"Register!H295*-1","v":0},{"$f":"Register!I295*-1","v":0},{"$f":"Register!G295","v":0}]
[0,586,{"$f":"Register!F296","v":0},{"$f":"Register!H296*-1","v":0},{"$f":"Register!I296*-1","v":0},{"$f":"Register!G296","v":0}]
[0,587,{"$f":"Register!F297","v":0},{"$f":"Register!H297*-1","v":0},{"$f":"Register!I297*-1","v":0},{"$f":"Register!G297","v":0}]
[0,588,{"$f":"Register!F298","v":0},{"$f":"Register!H298*-1","v":0},{"$f":"Register!I298*-1","v":0},{"$f":"Register!G298","v":0}]
[0,589,{"$f":"Register!F299","v":0},{"$f":"Register!H299*-1","v":0},{"$f":"Register!I299*-1","v":0},{"$f":"Register!G299","v":0}]
[0,590,{"$f":"Register!F300","v":0},{"$f":"Register!H300*-1","v":0},{"$f":"Register!I300*-1","v":0},{"$f":"Register!G300","v":0}]
[0,591,{"$f":"Register!F301","v":0},{"$f":"Register!H301*-1","v":0},{"$f":"Register!I301*-1","v":0},{"$f":"Register!G301","v":0}]
[0,592,{"$f":"Register!F302","v":0},{"$f":"Register!H302*-1","v":0},{"$f":"Register!I302*-1","v":0},{"$f":"Register!G302","v":0}]
[0,593,{"$f":"Register!F303","v":0},{"$f":"Register!H303*-1","v":0},{"$f":"Register!I303*-1","v":0},{"$f":"Register!G303","v":0}]
[0,594,{"$f":"Register!F304","v":0},{"$f":"Register!H304*-1","v":0},{"$f":"Register!I304*-1","v":0},{"$f":"Register!G304","v":0}]
[0,595,{"$f":"Register!F305","v":0},{"$f":"Register!H305*-1","v":0},{"$f":"Register!I305*-1","v":0},{"$f":"Register!G305","v":0}]
[0,596,{"$f":"Register!F306","v":0},{"$f":"Register!H306*-1","v":0},{"$f":"Register!I306*-1","v":0},{"$f":"Register!G306","v":0}]
[0,597,{"$f":"Register!F307","v":0},{"$f":"Register!H307*-1","v":0},{"$f":"Register!I307*-1","v":0},{"$f":"Register!G307","v":0}]
[0,598,{"$f":"Register!F308","v":0},{"$f":"Register!H308*-1","v":0},{"$f":"Register!I308*-1","v":0},{"$f":"Register!G308","v":0}]
[0,599,{"$f":"Register!F309","v":0},{"$f":"Register!H309*-1","v":0},{"$f":"Register!I309*-1","v":0},{"$f":"Register!G309","v":0}]
[{"$f":"IF(AND(D704=0,E704=0),,\"status\")","v":0},1000,"Forsking og utvikling",0,0]
[{"$f":"IF(AND(D705=0,E705=0),,\"status\")","v":0},1020,"Immatr.eigedeler",0,0]
[0,1080,"Goodwill (saldogruppe b)",{"$f":"Årsoppgjer!C40","v":0},{"$f":"Nær.spes!K91","v":0}]
[0,1105,"Forr.bygg (saldogruppe i)",{"$f":"Årsoppgjer!C41","v":0},{"$f":"Nær.spes!K92","v":0}]
[0,1115,"Bygg og anl (saldogr h)",{"$f":"Årsoppgjer!C42","v":0},{"$f":"Nær.spes!K93","v":0}]
[0,1117,"Elektroteknisk utrustning i kraftføretak mv.",0,0]
[0,1120,"Fast teknisk install(saldogr j)",{"$f":"Årsoppgjer!C43","v":0},{"$f":"Nær.spes!K95","v":0}]
[0,1130,"Bygg og anl under arbeid",{"$f":"Årsoppgjer!C44","v":0},{"$f":"Nær.spes!K96","v":0}]
[0,1140,"Jord- og skogverdiar",{"$f":"Årsoppgjer!C46","v":0},{"$f":"Nær.spes!K97","v":0}]
[0,1150,"Tomter og andre g.areal",{"$f":"Årsoppgjer!C47","v":0},{"$f":"Nær.spes!K98","v":0}]
[0,1160,"Bustad inkl tomter, hytter",{"$f":"Årsoppgjer!C48","v":0},{"$f":"Nær.spes!K99","v":0}]
["status",1205,"Mask, persbilar,(sgr d)",{"$f":"Årsoppgjer!C49","v":120000},{"$f":"Nær.spes!K100","v":96000}]
[0,1221,"Skip, riggar (saldogr e)",0,0]
["status",1238,"Vare-,lastebilar, mv (sgr c)",{"$f":"Årsoppgjer!C51","v":78000},{"$f":"Nær.spes!K103","v":59280}]
[0,1239,"Varebilar med nullutslepp(gr c2)",{"$f":"Årsoppgjer!C52","v":0},{"$f":"Nær.spes!K104","v":0}]
[0,1280,"Kontormask (saldogr a)",{"$f":"Årsoppgjer!C53","v":0},{"$f":"Nær.spes!K105","v":0}]
[0,1295,"Driftsmidlar som avskrivast lineært",{"$f":"Årsoppgjer!C55","v":0},{"$f":"Nær.spes!K107","v":0}]
[0,1298,"Negativ tømmerkonto",0,0]
[0,1296,"Neg vinst- og tapskonto",{"$f":"Årsoppgjer!C56","v":0},{"$f":"Nær.spes!K108","v":0}]
[0,1390,"Forskotsleige leasing",{"$f":"Årsoppgjer!H39","v":0},{"$f":"Nær.spes!K110","v":0}]
[0,1400,"Varelager ",{"$f":"Årsoppgjer!C57","v":0},{"$f":"Nær.spes!K112","v":0}]
[null,1401,"Sjølvprodusert vare nytta i eigen produksjon i jordbruk",0,0]
[0,1500,"Kundekrav",{"$f":"Årsoppgjer!C58","v":0},{"$f":"Nær.spes!K114","v":0}]
[0,1570,"Andre krav",{"$f":"Årsoppgjer!H38","v":0},{"$f":"Nær.spes!K116","v":0}]
[0,1920,"Bankinnskot",{"$f":"Årsoppgjer!H45","v":0},{"$f":"Nær.spes!K117","v":0}]
[0,1950,"Bankinnskot for skattetrekk",0,0]
["status",2050,"Annan eigenkapital",{"$f":"Årsoppgjer!H49*-1","v":0},{"$f":"Nær.spes!K130*-1","v":-126480}]
[0,2095,"Negativ saldo",0,0]
[0,2096,"Positiv vinst- og tapskonto",{"$f":"Årsoppgjer!H53*-1","v":0},{"$f":"Nær.spes!K132*-1","v":0}]
[0,2098,"Positiv tømmerkonto",0,0]
[0,2220,"Gjeld til kredittinstitusjonar",{"$f":"Register!C6*-1","v":0},{"$f":"Nær.spes!K120*-1","v":0}]
[0,2380,"Kassakreditt",{"$f":"Årsoppgjer!M41*-1","v":0},{"$f":"Nær.spes!K123*-1","v":0}]
[0,2400,"Leverandørgjeld",{"$f":"Årsoppgjer!M42*-1","v":0},{"$f":"Nær.spes!K124*-1","v":0}]
[0,2600,"Skattetrekk og andre trekk",{"$f":"Register!C4*-1","v":0},{"$f":"Nær.spes!K125*-1","v":0}]
["status",2740,"Oppgjerskonto mva",{"$f":"Register!C2*-1","v":-36000},{"$f":"Nær.spes!K126*-1","v":-28800}]
[0,2770,"Skuldig arbeidsgjevaravgift",{"$f":"Register!C5*-1","v":0},{"$f":"Nær.spes!K127*-1","v":0}]
[0,2949,"Løn, feriepengar o.l.",{"$f":"Register!C3*-1","v":0},{"$f":"Nær.spes!K128*-1","v":0}]
[]
["DAGBOK","2022-12-31"]
[{"$f":"IF(E743=0,,$B$742)","v":0},{"$f":"IF(A743>0,2500,)","v":0},{"$f":"IF(E743=0,,4010)","v":0},"Varelagerendring",{"$f":"Årsoppgjer!H56-Årsoppgjer!F64+Årsoppgjer!H59-Årsoppgjer!F67","v":0}]
[0,{"$f":"IF(A744>0,2500,)","v":0},{"$f":"IF(E744=0,,4295)","v":0},"Varelagerendring",{"$f":"Årsoppgjer!H57-Årsoppgjer!F65+Årsoppgjer!H58-Årsoppgjer!F66","v":0}]
[0,0,{"$f":"IF(E745=0,,1495)","v":0},"Varelagerendring",{"$f":"(E743+E744)*-1","v":0}]
[0,0,{"$f":"IF(E746=0,,1131)","v":0},"Overført til ferdig, gruppe h",{"$f":"Årsoppgjer!L91*-1","v":0}]
[0,0,{"$f":"IF(E747=0,,1116)","v":0},"Overført frå under arbeid",{"$f":"E746*-1","v":0}]
[0,0,{"$f":"IF(E748=0,,1131)","v":0},"Overført til ferdig, gruppe j",{"$f":"Årsoppgjer!L92*-1","v":0}]
[0,0,{"$f":"IF(E749=0,,1121)","v":0},"Overført frå under arbeid",{"$f":"E748*-1","v":0}]
[0,0,{"$f":"IF(E750=0,,1281)","v":0},"Overføring til tap- og vinstkt",{"$f":"Årsoppgjer!J110","v":0}]
[0,0,{"$f":"IF(E751=0,,1240)","v":0},"Overføring til tap- og vinstkt",{"$f":"Årsoppgjer!J112","v":0}]
[0,0,{"$f":"IF(E752=0,,1206)","v":0},"Overføring til tap- og vinstkt",{"$f":"Årsoppgjer!J114","v":0}]
[0,0,{"$f":"IF(E753=0,,1116)","v":0},"Avskriving",{"$f":"Årsoppgjer!L99*-1","v":0}]
[0,0,{"$f":"IF(E754=0,,1121)","v":0},"Avskriving",{"$f":"Årsoppgjer!L108*-1","v":0}]
[0,0,{"$f":"IF(E755=0,,1281)","v":0},"Avskriving",{"$f":"Årsoppgjer!L110*-1","v":0}]
[44926,2500,{"$f":"IF(E756=0,,1240)","v":1240},"Avskriving",{"$f":"Årsoppgjer!L111*-1","v":-18720}]
[0,0,{"$f":"IF(E757=0,,1243)","v":0},"Avskriving",{"$f":"Årsoppgjer!L112*-1","v":0}]
[44926,2500,{"$f":"IF(E758=0,,1206)","v":1206},"Avskriving",{"$f":"Årsoppgjer!L114*-1","v":-24000}]
[0,0,{"$f":"IF(E759=0,,1106)","v":0},"Avskriving",{"$f":"Årsoppgjer!L116*-1","v":0}]
[0,0,{"$f":"IF(E760=0,,1295)","v":0},"Kostnadsfordelt",{"$f":"Årsoppgjer!J125*-1","v":0}]
[0,0,{"$f":"IF(E761=0,,6401)","v":0},"Andre leigekostnader",{"$f":"E760*-1","v":0}]
[44926,2500,{"$f":"IF(E762=0,,6000)","v":6000},"Avskriving",{"$f":"(E753+E754+E755+E757+E758+E756+E759)*-1","v":42720}]
[0,0,{"$f":"IF(E763=0,,2096)","v":0},"Inntektsføring frå pos v/t-konto",{"$f":"VRFORMEL.XLS!H70*-1","v":0}]
[0,0,{"$f":"IF(E764=0,,1299)","v":0},"Utgiftsføring frå neg v/t-konto",{"$f":"VRFORMEL.XLS!G156*-1","v":0}]
[0,0,{"$f":"IF(E765=0,,1500)","v":0},"Årets reskontroføring",{"$f":"(D726-E726)*-1","v":0}]
[0,0,{"$f":"IF(E766=0,,2400)","v":0},"Årets reskontroføring",{"$f":"(D736-E736)*-1","v":0}]
[44926,2500,{"$f":"IF(E767=0,,2740)","v":2740},"Utgåande mva årsoppgåve",{"$f":"(MVA!E9+MVA!E10+MVA!E11)-E769-E771-E773-E775-E777-E779","v":36000}]
[44926,2500,2740,"Inngåande mva årsoppgåve",{"$f":"(MVA!E14+MVA!E15+MVA!E16)-E770-E772-E774-E776-E778-E780","v":-7200}]
[0,{"$f":"B104","v":0},0,"Utgåande mva 1.termin",{"$f":"MVA!E33+MVA!E34+MVA!E35","v":0}]
[0,{"$f":"B104","v":0},0,"Inngåande mva 1.termin",{"$f":"(MVA!E38+MVA!E39+MVA!E40)","v":0}]
[0,{"$f":"C104","v":0},0,"Utgåande mva 2.termin",{"$f":"MVA!E57+MVA!E58+MVA!E59","v":0}]
[0,{"$f":"C104","v":0},0,"Inngåande mva 2.termin",{"$f":"MVA!E62+MVA!E63+MVA!E64","v":0}]
[0,{"$f":"D104","v":0},0,"Utgåande mva 3.termin",{"$f":"MVA!E81+MVA!E82+MVA!E83","v":0}]
[0,{"$f":"D104","v":0},{"$f":"IF(E774=0,,2740)","v":0},"Inngåande mva 3.termin",{"$f":"MVA!E86+MVA!E87+MVA!E88","v":0}]
[0,{"$f":"E104","v":0},0,"Utgåande mva 4.termin",{"$f":"MVA!E105+MVA!E106+MVA!E107","v":0}]
[0,{"$f":"E104","v":0},0,"Inngåande mva 4.termin",{"$f":"MVA!E110+MVA!E111+MVA!E112","v":0}]
[0,{"$f":"F104","v":0},0,"Utgåande mva 5.termin",{"$f":"MVA!E129+MVA!E130+MVA!E131","v":0}]
[0,{"$f":"F104","v":0},0,"Inngåande mva 5.termin",{"$f":"MVA!E134+MVA!E135+MVA!E136","v":0}]
[0,{"$f":"G104","v":0},0,"Utgåande mva 6.termin",{"$f":"MVA!E153+MVA!E154+MVA!E155","v":0}]
[0,{"$f":"G104","v":0},{"$f":"IF(E780=0,,2740)","v":0},"Inngåande mva 6.termin",{"$f":"MVA!E158+MVA!E159+MVA!E160","v":0}]
[44926,2500,{"$f":"IF(E781=0,,8920)","v":8920},"Årsoppgjer",{"$f":"Nær.spes!J5","v":72480}]
["0",2500,null,"Årsoppgjer",null,null,null,{"$f":"A781","v":44926},"p",null,{"$f":"E781","v":72480}]
[]
[]
[]
[]
[]
[]
[]
[]
[]
[]
[]
[]
[]
[]
[]
[]
[]
[]
[]
[]
[]
[]
[]
[]
[]
[]
[]
[]
[]
[]
[]
[]
[]
[]
[]
[]
[]
[]
[]
[]
[]
[]
[]
[]
[]
[]
[]
[]
[]
[]
[]
[]
[]
[]
[]
[]
[]
[]
[]
[]
[]
[]
[]
[]
[]
[]
[]
[null,0,3000,"Salsinntekt og uttak, avg.pliktig",null,210000,null,0,0,210000,0]
[null,0,4005,"Varekostnad",75000,null,null,0,0,-75000,0]
[null,0,1239,"Vare-, lastebilar, bussar mv  (saldogr c)",120000,null,null,0,0,-120000,0]
[null,0,null,0,null,null,null,0,0,0,0]
[null,0,null,0,null,null,null,0,0,0,0]
[null,0,null,0,null,null,null,0,0,0,0]
[null,0,null,0,null,null,null,0,0,0,0]
[null,0,null,0,null,null,null,0,0,0,0]
[null,0,null,0,null,null,null,0,0,0,0]
[null,0,null,0,null,null,null,0,0,0,0]
[null,0,null,0,null,null,null,0,0,0,0]
[null,0,null,0,null,null,null,0,0,0,0]
[null,0,null,0,null,null,null,0,0,0,0]
[null,0,null,0,null,null,null,0,0,0,0]
[null,0,null,0,null,null,null,0,0,0,0]
[null,0,null,0,null,null,null,0,0,0,0]
[null,0,null,0,null,null,null,0,0,0,0]
[null,0,null,0,null,null,null,0,0,0,0]
[null,0,null,0,null,null,null,0,0,0,0]
[null,0,null,0,null,null,null,0,0,0,0]
[null,0,null,0,null,null,null,0,0,0,0]
[null,0,null,0,null,null,null,0,0,0,0]
[null,0,null,0,null,null,null,0,0,0,0]
[null,0,null,0,null,null,null,0,0,0,0]
[null,0,null,0,null,null,null,0,0,0,0]
[null,0,null,0,null,null,null,0,0,0,0]
[null,0,null,0,null,null,null,0,0,0,0]
[null,0,null,0,null,null,null,0,0,0,0]
[null,0,null,0,null,null,null,0,0,0,0]
[null,0,null,0,null,null,null,0,0,0,0]
[null,0,null,0,null,null,null,0,0,0,0]
[null,0,null,0,null,null,null,0,0,0,0]
[null,0,null,0,null,null,null,0,0,0,0]
[null,0,null,0,null,null,null,0,0,0,0]
[null,0,null,0,null,null,null,0,0,0,0]
[null,0,null,0,null,null,null,0,0,0,0]
[null,0,null,0,null,null,null,0,0,0,0]
[null,0,null,0,null,null,null,0,0,0,0]
[null,0,null,0,null,null,null,0,0,0,0]
[null,0,null,0,null,null,null,0,0,0,0]
[null,0,null,0,null,null,null,0,0,0,0]
[null,0,null,0,null,null,null,0,0,0,0]
[null,0,null,0,null,null,null,0,0,0,0]
[null,0,null,0,null,null,null,0,0,0,0]
[null,0,null,0,null,null,null,0,0,0,0]
[null,0,null,0,null,null,null,0,0,0,0]
[null,0,null,0,null,null,null,0,0,0,0]
[null,0,null,0,null,null,null,0,0,0,0]
[null,0,null,0,null,null,null,0,0,0,0]
[null,0,null,0,null,null,null,0,0,0,0]
[null,0,null,0,null,null,null,0,0,0,0]
[null,0,null,0,null,null,null,0,0,0,0]
[null,0,null,0,null,null,null,0,0,0,0]
[null,0,null,0,null,null,null,0,0,0,0]
[null,0,null,0,null,null,null,0,0,0,0]
[null,0,null,0,null,null,null,0,0,0,0]
[null,0,null,0,null,null,null,0,0,0,0]
[null,0,null,0,null,null,null,0,0,0,0]
[null,0,null,0,null,null,null,0,0,0,0]
[null,0,null,0,null,null,null,0,0,0,0]
[null,0,null,0,null,null,null,0,0,0,0]
[null,0,null,0,null,null,null,0,0,0,0]
[null,0,null,0,null,null,null,0,0,0,0]
[null,0,null,0,null,null,null,0,0,0,0]
[null,0,null,0,null,null,null,0,0,0,0]
[null,0,null,0,null,null,null,0,0,0,0]
[null,0,null,0,null,null,null,0,0,0,0]
[null,0,null,0,null,null,null,0,0,0,0]
[null,0,null,0,null,null,null,0,0,0,0]
[null,0,null,0,null,null,null,0,0,0,0]
[null,0,null,0,null,null,null,0,0,0,0]
[null,0,null,0,null,null,null,0,0,0,0]
[null,0,null,0,null,null,null,0,0,0,0]
[null,0,null,0,null,null,null,0,0,0,0]
[null,0,null,0,null,null,null,0,0,0,0]
[null,0,null,0,null,null,null,0,0,0,0]
[null,0,null,0,null,null,null,0,0,0,0]
[null,0,null,0,null,null,null,0,0,0,0]
[null,0,null,0,null,null,null,0,0,0,0]
[null,0,null,0,null,null,null,0,0,0,0]
[null,0,null,0,null,null,null,0,0,0,0]
[null,0,null,0,null,null,null,0,0,0,0]
[null,0,null,0,null,null,null,0,0,0,0]
[null,0,null,0,null,null,null,0,0,0,0]
[null,0,null,0,null,null,null,0,0,0,0]
[null,0,null,0,null,null,null,0,0,0,0]
[null,0,null,0,null,null,null,0,0,0,0]
[null,0,null,0,null,null,null,0,0,0,0]
[null,0,null,0,null,null,null,0,0,0,0]
[null,0,null,0,null,null,null,0,0,0,0]
[null,0,null,0,null,null,null,0,0,0,0]
[null,0,null,0,null,null,null,0,0,0,0]
[null,0,null,0,null,null,null,0,0,0,0]
[null,0,null,0,null,null,null,0,0,0,0]
[null,0,null,0,null,null,null,0,0,0,0]
[null,0,null,0,null,null,null,0,0,0,0]
[null,0,null,0,null,null,null,0,0,0,0]
[null,0,null,0,null,null,null,0,0,0,0]
[null,0,null,0,null,null,null,0,0,0,0]
[null,0,null,0,null,null,null,0,0,0,0]
[null,0,null,0,null,null,null,0,0,0,0]
[null,0,null,0,null,null,null,0,0,0,0]
[null,0,null,0,null,null,null,0,0,0,0]
[null,0,null,0,null,null,null,0,0,0,0]
[null,0,null,0,null,null,null,0,0,0,0]
[null,0,null,0,null,null,null,0,0,0,0]
[null,0,null,0,null,null,null,0,0,0,0]
[null,0,null,0,null,null,null,0,0,0,0]
[null,0,null,0,null,null,null,0,0,0,0]
[null,0,null,0,null,null,null,0,0,0,0]
[null,0,null,0,null,null,null,0,0,0,0]
[null,0,null,0,null,null,null,0,0,0,0]
[null,0,null,0,null,null,null,0,0,0,0]
[null,0,null,0,null,null,null,0,0,0,0]
[null,0,null,0,null,null,null,0,0,0,0]
[null,0,null,0,null,null,null,0,0,0,0]
[null,0,null,0,null,null,null,0,0,0,0]
[null,0,null,0,null,null,null,0,0,0,0]
[null,0,null,0,null,null,null,0,0,0,0]
[null,0,null,0,null,null,null,0,0,0,0]
[null,0,null,0,null,null,null,0,0,0,0]
[null,0,null,0,null,null,null,0,0,0,0]
[null,0,null,0,null,null,null,0,0,0,0]
[null,0,null,0,null,null,null,0,0,0,0]
[null,0,null,0,null,null,null,0,0,0,0]
[null,0,null,0,null,null,null,0,0,0,0]
[null,0,null,0,null,null,null,0,0,0,0]
[null,0,null,0,null,null,null,0,0,0,0]
[null,0,null,0,null,null,null,0,0,0,0]
[null,0,null,0,null,null,null,0,0,0,0]
[null,0,null,0,null,null,null,0,0,0,0]
[null,0,null,0,null,null,null,0,0,0,0]
[null,0,null,0,null,null,null,0,0,0,0]
[null,0,null,0,null,null,null,0,0,0,0]
[null,0,null,0,null,null,null,0,0,0,0]
[null,0,null,0,null,null,null,0,0,0,0]
[null,0,null,0,null,null,null,0,0,0,0]
[null,0,null,0,null,null,null,0,0,0,0]
[null,0,null,0,null,null,null,0,0,0,0]
[null,0,null,0,null,null,null,0,0,0,0]
[null,0,null,0,null,null,null,0,0,0,0]
[null,0,null,0,null,null,null,0,0,0,0]
[null,0,null,0,null,null,null,0,0,0,0]
[null,0,null,0,null,null,null,0,0,0,0]
[null,0,null,0,null,null,null,0,0,0,0]
[null,0,null,0,null,null,null,0,0,0,0]
[null,0,null,0,null,null,null,0,0,0,0]
[null,0,null,0,null,null,null,0,0,0,0]
[null,0,null,0,null,null,null,0,0,0,0]
[null,0,null,0,null,null,null,0,0,0,0]
[null,0,null,0,null,null,null,0,0,0,0]
[null,0,null,0,null,null,null,0,0,0,0]
[null,0,null,0,null,null,null,0,0,0,0]
[null,0,null,0,null,null,null,0,0,0,0]
[null,0,null,0,null,null,null,0,0,0,0]
[null,0,null,0,null,null,null,0,0,0,0]
[null,0,null,0,null,null,null,0,0,0,0]
[null,0,null,0,null,null,null,0,0,0,0]
[null,0,null,0,null,null,null,0,0,0,0]
[null,0,null,0,null,null,null,0,0,0,0]
[null,0,null,0,null,null,null,0,0,0,0]
[null,0,null,0,null,null,null,0,0,0,0]
[null,0,null,0,null,null,null,0,0,0,0]
[null,0,null,0,null,null,null,0,0,0,0]
[null,0,null,0,null,null,null,0,0,0,0]
[null,0,null,0,null,null,null,0,0,0,0]
[null,0,null,0,null,null,null,0,0,0,0]
[null,0,null,0,null,null,null,0,0,0,0]
[null,0,null,0,null,null,null,0,0,0,0]
[null,0,null,0,null,null,null,0,0,0,0]
[null,0,null,0,null,null,null,0,0,0,0]
[null,0,null,0,null,null,null,0,0,0,0]
[null,0,null,0,null,null,null,0,0,0,0]
[null,0,null,0,null,null,null,0,0,0,0]
[null,0,null,0,null,null,null,0,0,0,0]
[null,0,null,0,null,null,null,0,0,0,0]
[null,0,null,0,null,null,null,0,0,0,0]
[null,0,null,0,null,null,null,0,0,0,0]
[null,0,null,0,null,null,null,0,0,0,0]
[null,0,null,0,null,null,null,0,0,0,0]
[null,0,null,0,null,null,null,0,0,0,0]
[null,0,null,0,null,null,null,0,0,0,0]
[null,0,null,0,null,null,null,0,0,0,0]
[null,0,null,0,null,null,null,0,0,0,0]
[null,0,null,0,null,null,null,0,0,0,0]
[null,0,null,0,null,null,null,0,0,0,0]
[null,0,null,0,null,null,null,0,0,0,0]
[null,0,null,0,null,null,null,0,0,0,0]
[null,0,null,0,null,null,null,0,0,0,0]
[null,0,null,0,null,null,null,0,0,0,0]
[null,0,null,0,null,null,null,0,0,0,0]
[null,0,null,0,null,null,null,0,0,0,0]
[null,0,null,0,null,null,null,0,0,0,0]
[null,0,null,0,null,null,null,0,0,0,0]
[null,0,null,0,null,null,null,0,0,0,0]
[null,0,null,0,null,null,null,0,0,0,0]
[null,0,null,0,null,null,null,0,0,0,0]
[null,0,null,0,null,null,null,0,0,0,0]
[null,0,null,0,null,null,null,0,0,0,0]
[null,0,null,0,null,null,null,0,0,0,0]
[null,0,null,0,null,null,null,0,0,0,0]
[null,0,null,0,null,null,null,0,0,0,0]
[null,0,null,0,null,null,null,0,0,0,0]
[null,0,null,0,null,null,null,0,0,0,0]
[null,0,null,0,null,null,null,0,0,0,0]
[null,0,null,0,null,null,null,0,0,0,0]
[null,0,null,0,null,null,null,0,0,0,0]
[null,0,null,0,null,null,null,0,0,0,0]
[null,0,null,0,null,null,null,0,0,0,0]
[null,0,null,0,null,null,null,0,0,0,0]
[null,0,null,0,null,null,null,0,0,0,0]
[null,0,null,0,null,null,null,0,0,0,0]
[null,0,null,0,null,null,null,0,0,0,0]
[null,0,null,0,null,null,null,0,0,0,0]
[null,0,null,0,null,null,null,0,0,0,0]
[null,0,null,0,null,null,null,0,0,0,0]
[null,0,null,0,null,null,null,0,0,0,0]
[null,0,null,0,null,null,null,0,0,0,0]
[null,0,null,0,null,null,null,0,0,0,0]
[null,0,null,0,null,null,null,0,0,0,0]
[null,0,null,0,null,null,null,0,0,0,0]
[null,0,null,0,null,null,null,0,0,0,0]
[null,0,null,0,null,null,null,0,0,0,0]
[null,0,null,0,null,null,null,0,0,0,0]
[null,0,null,0,null,null,null,0,0,0,0]
[null,0,null,0,null,null,null,0,0,0,0]
[null,0,null,0,null,null,null,0,0,0,0]
[null,0,null,0,null,null,null,0,0,0,0]
[null,0,null,0,null,null,null,0,0,0,0]
[null,0,null,0,null,null,null,0,0,0,0]
[null,0,null,0,null,null,null,0,0,0,0]
[null,0,null,0,null,null,null,0,0,0,0]
[null,0,null,0,null,null,null,0,0,0,0]
[null,0,null,0,null,null,null,0,0,0,0]
[null,0,null,0,null,null,null,0,0,0,0]
[null,0,null,0,null,null,null,0,0,0,0]
[null,0,null,0,null,null,null,0,0,0,0]
[null,0,null,0,null,null,null,0,0,0,0]
[null,0,null,0,null,null,null,0,0,0,0]
[null,0,null,0,null,null,null,0,0,0,0]
[null,0,null,0,null,null,null,0,0,0,0]
[null,0,null,0,null,null,null,0,0,0,0]
[null,0,null,0,null,null,null,0,0,0,0]
[null,0,null,0,null,null,null,0,0,0,0]
[null,0,null,0,null,null,null,0,0,0,0]
[null,0,null,0,null,null,null,0,0,0,0]
[null,0,null,0,null,null,null,0,0,0,0]
[null,0,null,0,null,null,null,0,0,0,0]
[null,0,null,0,null,null,null,0,0,0,0]
[null,0,null,0,null,null,null,0,0,0,0]
[null,0,null,0,null,null,null,0,0,0,0]
[null,0,null,0,null,null,null,0,0,0,0]
[null,0,null,0,null,null,null,0,0,0,0]
[null,0,null,0,null,null,null,0,0,0,0]
[null,0,null,0,null,null,null,0,0,0,0]
[null,0,null,0,null,null,null,0,0,0,0]
[null,0,null,0,null,null,null,0,0,0,0]
[null,0,null,0,null,null,null,0,0,0,0]
[null,0,null,0,null,null,null,0,0,0,0]
[null,0,null,0,null,null,null,0,0,0,0]
[null,0,null,0,null,null,null,0,0,0,0]
[null,0,null,0,null,null,null,0,0,0,0]
[null,0,null,0,null,null,null,0,0,0,0]
[null,0,null,0,null,null,null,0,0,0,0]
[null,0,null,0,null,null,null,0,0,0,0]
[null,0,null,0,null,null,null,0,0,0,0]
[null,0,null,0,null,null,null,0,0,0,0]
[null,0,null,0,null,null,null,0,0,0,0]
[null,0,null,0,null,null,null,0,0,0,0]
[null,0,null,0,null,null,null,0,0,0,0]
[null,0,null,0,null,null,null,0,0,0,0]
[null,0,null,0,null,null,null,0,0,0,0]
[null,0,null,0,null,null,null,0,0,0,0]
[null,0,null,0,null,null,null,0,0,0,0]
[null,0,null,0,null,null,null,0,0,0,0]
[null,0,null,0,null,null,null,0,0,0,0]
[null,0,null,0,null,null,null,0,0,0,0]
[null,0,null,0,null,null,null,0,0,0,0]
[null,0,null,0,null,null,null,0,0,0,0]
[null,0,null,0,null,null,null,0,0,0,0]
[null,0,null,0,null,null,null,0,0,0,0]
[null,0,null,0,null,null,null,0,0,0,0]
[null,0,null,0,null,null,null,0,0,0,0]
[null,0,null,0,null,null,null,0,0,0,0]
[null,0,null,0,null,null,null,0,0,0,0]
[null,0,null,0,null,null,null,0,0,0,0]
[null,0,null,0,null,null,null,0,0,0,0]
[null,0,null,0,null,null,null,0,0,0,0]
[null,0,null,0,null,null,null,0,0,0,0]
[null,0,null,0,null,null,null,0,0,0,0]
[null,0,null,0,null,null,null,0,0,0,0]
[null,0,null,0,null,null,null,0,0,0,0]
[null,0,null,0,null,null,null,0,0,0,0]
[null,0,null,0,null,null,null,0,0,0,0]
[null,0,null,0,null,null,null,0,0,0,0]
[null,0,null,0,null,null,null,0,0,0,0]
[null,0,null,0,null,null,null,0,0,0,0]
[null,0,null,0,null,null,null,0,0,0,0]
[null,0,null,0,null,null,null,0,0,0,0]
[null,0,null,0,null,null,null,0,0,0,0]
[null,0,null,0,null,null,null,0,0,0,0]
[null,0,null,0,null,null,null,0,0,0,0]
[null,0,null,0,null,null,null,0,0,0,0]
[null,0,null,0,null,null,null,0,0,0,0]
[null,0,null,0,null,null,null,0,0,0,0]
[null,0,null,0,null,null,null,0,0,0,0]
[null,0,null,0,null,null,null,0,0,0,0]
[null,0,null,0,null,null,null,0,0,0,0]
[null,0,null,0,null,null,null,0,0,0,0]
[null,0,null,0,null,null,null,0,0,0,0]
[null,0,null,0,null,null,null,0,0,0,0]
[null,0,null,0,null,null,null,0,0,0,0]
[null,0,null,0,null,null,null,0,0,0,0]
[null,0,null,0,null,null,null,0,0,0,0]
[null,0,null,0,null,null,null,0,0,0,0]
[null,0,null,0,null,null,null,0,0,0,0]
[null,0,null,0,null,null,null,0,0,0,0]
[null,0,null,0,null,null,null,0,0,0,0]
[null,0,null,0,null,null,null,0,0,0,0]
[null,0,null,0,null,null,null,0,0,0,0]
[null,0,null,0,null,null,null,0,0,0,0]
[null,0,null,0,null,null,null,0,0,0,0]
[null,0,null,0,null,null,null,0,0,0,0]
[null,0,null,0,null,null,null,0,0,0,0]
[null,0,null,0,null,null,null,0,0,0,0]
[null,0,null,0,null,null,null,0,0,0,0]
[null,0,null,0,null,null,null,0,0,0,0]
[null,0,null,0,null,null,null,0,0,0,0]
[null,0,null,0,null,null,null,0,0,0,0]
[null,0,null,0,null,null,null,0,0,0,0]
[null,0,null,0,null,null,null,0,0,0,0]
[null,0,null,0,null,null,null,0,0,0,0]
[null,0,null,0,null,null,null,0,0,0,0]
[null,0,null,0,null,null,null,0,0,0,0]
[null,0,null,0,null,null,null,0,0,0,0]
[null,0,null,0,null,null,null,0,0,0,0]
[null,0,null,0,null,null,null,0,0,0,0]
[null,0,null,0,null,null,null,0,0,0,0]
[null,0,null,0,null,null,null,0,0,0,0]
[null,0,null,0,null,null,null,0,0,0,0]
[null,0,null,0,null,null,null,0,0,0,0]
[null,0,null,0,null,null,null,0,0,0,0]
[null,0,null,0,null,null,null,0,0,0,0]
[null,0,null,0,null,null,null,0,0,0,0]
[null,0,null,0,null,null,null,0,0,0,0]
[null,0,null,0,null,null,null,0,0,0,0]
[null,0,null,0,null,null,null,0,0,0,0]
[null,0,null,0,null,null,null,0,0,0,0]
[null,0,null,0,null,null,null,0,0,0,0]
[null,0,null,0,null,null,null,0,0,0,0]
[null,0,null,0,null,null,null,0,0,0,0]
[null,0,null,0,null,null,null,0,0,0,0]
[null,0,null,0,null,null,null,0,0,0,0]
[null,0,null,0,null,null,null,0,0,0,0]
[null,0,null,0,null,null,null,0,0,0,0]
[null,0,null,0,null,null,null,0,0,0,0]
[null,0,null,0,null,null,null,0,0,0,0]
[null,0,null,0,null,null,null,0,0,0,0]
[null,0,null,0,null,null,null,0,0,0,0]
[null,0,null,0,null,null,null,0,0,0,0]
[null,0,null,0,null,null,null,0,0,0,0]
[null,0,null,0,null,null,null,0,0,0,0]
[null,0,null,0,null,null,null,0,0,0,0]
[null,0,null,0,null,null,null,0,0,0,0]
[null,0,null,0,null,null,null,0,0,0,0]
[null,0,null,0,null,null,null,0,0,0,0]
[null,0,null,0,null,null,null,0,0,0,0]
[null,0,null,0,null,null,null,0,0,0,0]
[null,0,null,0,null,null,null,0,0,0,0]
[null,0,null,0,null,null,null,0,0,0,0]
[null,0,null,0,null,null,null,0,0,0,0]
[null,0,null,0,null,null,null,0,0,0,0]
[null,0,null,0,null,null,null,0,0,0,0]
[null,0,null,0,null,null,null,0,0,0,0]
[null,0,null,0,null,null,null,0,0,0,0]
[null,0,null,0,null,null,null,0,0,0,0]
[null,0,null,0,null,null,null,0,0,0,0]
[null,0,null,0,null,null,null,0,0,0,0]
[null,0,null,0,null,null,null,0,0,0,0]
[null,0,null,0,null,null,null,0,0,0,0]
[null,0,null,0,null,null,null,0,0,0,0]
[null,0,null,0,null,null,null,0,0,0,0]
[null,0,null,0,null,null,null,0,0,0,0]
[null,0,null,0,null,null,null,0,0,0,0]
[null,0,null,0,null,null,null,0,0,0,0]
[null,0,null,0,null,null,null,0,0,0,0]
[null,0,null,0,null,null,null,0,0,0,0]
[null,0,null,0,null,null,null,0,0,0,0]
[null,0,null,0,null,null,null,0,0,0,0]
[null,0,null,0,null,null,null,0,0,0,0]
[null,0,null,0,null,null,null,0,0,0,0]
[null,0,null,0,null,null,null,0,0,0,0]
[null,0,null,0,null,null,null,0,0,0,0]
[null,0,null,0,null,null,null,0,0,0,0]
[null,0,null,0,null,null,null,0,0,0,0]
[null,0,null,0,null,null,null,0,0,0,0]
[null,0,null,0,null,null,null,0,0,0,0]
[null,0,null,0,null,null,null,0,0,0,0]
[null,0,null,0,null,null,null,0,0,0,0]
[null,0,null,0,null,null,null,0,0,0,0]
[null,0,null,0,null,null,null,0,0,0,0]
[null,0,null,0,null,null,null,0,0,0,0]
[null,0,null,0,null,null,null,0,0,0,0]
[null,0,null,0,null,null,null,0,0,0,0]
[null,0,null,0,null,null,null,0,0,0,0]
[null,0,null,0,null,null,null,0,0,0,0]
[null,0,null,0,null,null,null,0,0,0,0]
[null,0,null,0,null,null,null,0,0,0,0]
[null,0,null,0,null,null,null,0,0,0,0]
[null,0,null,0,null,null,null,0,0,0,0]
[null,0,null,0,null,null,null,0,0,0,0]
[null,0,null,0,null,null,null,0,0,0,0]
[null,0,null,0,null,null,null,0,0,0,0]
[null,0,null,0,null,null,null,0,0,0,0]
[null,0,null,0,null,null,null,0,0,0,0]
[null,0,null,0,null,null,null,0,0,0,0]
[null,0,null,0,null,null,null,0,0,0,0]
[null,0,null,0,null,null,null,0,0,0,0]
[null,0,null,0,null,null,null,0,0,0,0]
[null,0,null,0,null,null,null,0,0,0,0]
[null,0,null,0,null,null,null,0,0,0,0]
[null,0,null,0,null,null,null,0,0,0,0]
[null,0,null,0,null,null,null,0,0,0,0]
[null,0,null,0,null,null,null,0,0,0,0]
[null,0,null,0,null,null,null,0,0,0,0]
[null,0,null,0,null,null,null,0,0,0,0]
[null,0,null,0,null,null,null,0,0,0,0]
[null,0,null,0,null,null,null,0,0,0,0]
[null,0,null,0,null,null,null,0,0,0,0]
[null,0,null,0,null,null,null,0,0,0,0]
[null,0,null,0,null,null,null,0,0,0,0]
[null,0,null,0,null,null,null,0,0,0,0]
[null,0,null,0,null,null,null,0,0,0,0]
[null,0,null,0,null,null,null,0,0,0,0]
[null,0,null,0,null,null,null,0,0,0,0]
[null,0,null,0,null,null,null,0,0,0,0]
[null,0,null,0,null,null,null,0,0,0,0]
[null,0,null,0,null,null,null,0,0,0,0]
[null,0,null,0,null,null,null,0,0,0,0]
[null,0,null,0,null,null,null,0,0,0,0]
[null,0,null,0,null,null,null,0,0,0,0]
[null,0,null,0,null,null,null,0,0,0,0]
[null,0,null,0,null,null,null,0,0,0,0]
[null,0,null,0,null,null,null,0,0,0,0]
[null,0,null,0,null,null,null,0,0,0,0]
[null,0,null,0,null,null,null,0,0,0,0]
[null,0,null,0,null,null,null,0,0,0,0]
[null,0,null,0,null,null,null,0,0,0,0]
[null,0,null,0,null,null,null,0,0,0,0]
[null,0,null,0,null,null,null,0,0,0,0]
[null,0,null,0,null,null,null,0,0,0,0]
[null,0,null,0,null,null,null,0,0,0,0]
[null,0,null,0,null,null,null,0,0,0,0]
[null,0,null,0,null,null,null,0,0,0,0]
[null,0,null,0,null,null,null,0,0,0,0]
[null,0,null,0,null,null,null,0,0,0,0]
[null,0,null,0,null,null,null,0,0,0,0]
[null,0,null,0,null,null,null,0,0,0,0]
[null,0,null,0,null,null,null,0,0,0,0]
[null,0,null,0,null,null,null,0,0,0,0]
[null,0,null,0,null,null,null,0,0,0,0]
[null,0,null,0,null,null,null,0,0,0,0]
[null,0,null,0,null,null,null,0,0,0,0]
[null,0,null,0,null,null,null,0,0,0,0]
[null,0,null,0,null,null,null,0,0,0,0]
[null,0,null,0,null,null,null,0,0,0,0]
[null,0,null,0,null,null,null,0,0,0,0]
[null,0,null,0,null,null,null,0,0,0,0]
[null,0,null,0,null,null,null,0,0,0,0]
[null,0,null,0,null,null,null,0,0,0,0]
[null,0,null,0,null,null,null,0,0,0,0]
[null,0,null,0,null,null,null,0,0,0,0]
[null,0,null,0,null,null,null,0,0,0,0]
[null,0,null,0,null,null,null,0,0,0,0]
[null,0,null,0,null,null,null,0,0,0,0]
[null,0,null,0,null,null,null,0,0,0,0]
[null,0,null,0,null,null,null,0,0,0,0]
[null,0,null,0,null,null,null,0,0,0,0]
[null,0,null,0,null,null,null,0,0,0,0]
[null,0,null,0,null,null,null,0,0,0,0]
[null,0,null,0,null,null,null,0,0,0,0]
[null,0,null,0,null,null,null,0,0,0,0]
[null,0,null,0,null,null,null,0,0,0,0]
[null,0,null,0,null,null,null,0,0,0,0]
[null,0,null,0,null,null,null,0,0,0,0]
[null,0,null,0,null,null,null,0,0,0,0]
[null,0,null,0,null,null,null,0,0,0,0]
[null,0,null,0,null,null,null,0,0,0,0]
[null,0,null,0,null,null,null,0,0,0,0]
[null,0,null,0,null,null,null,0,0,0,0]
[null,0,null,0,null,null,null,0,0,0,0]
[null,0,null,0,null,null,null,0,0,0,0]
[null,0,null,0,null,null,null,0,0,0,0]
[null,0,null,0,null,null,null,0,0,0,0]
[null,0,null,0,null,null,null,0,0,0,0]
[null,0,null,0,null,null,null,0,0,0,0]
[null,0,null,0,null,null,null,0,0,0,0]
[null,0,null,0,null,null,null,0,0,0,0]
[null,0,null,0,null,null,null,0,0,0,0]
[null,0,null,0,null,null,null,0,0,0,0]
[null,0,null,0,null,null,null,0,0,0,0]
[null,0,null,0,null,null,null,0,0,0,0]
[null,0,null,0,null,null,null,0,0,0,0]
[null,0,null,0,null,null,null,0,0,0,0]
[null,0,null,0,null,null,null,0,0,0,0]
[null,0,null,0,null,null,null,0,0,0,0]
[null,0,null,0,null,null,null,0,0,0,0]
[null,0,null,0,null,null,null,0,0,0,0]
[null,0,null,0,null,null,null,0,0,0,0]
[null,0,null,0,null,null,null,0,0,0,0]
[null,0,null,0,null,null,null,0,0,0,0]
[null,0,null,0,null,null,null,0,0,0,0]
[null,0,null,0,null,null,null,0,0,0,0]
[null,0,null,0,null,null,null,0,0,0,0]
[null,0,null,0,null,null,null,0,0,0,0]
[null,0,null,0,null,null,null,0,0,0,0]
[null,0,null,0,null,null,null,0,0,0,0]
[null,0,null,0,null,null,null,0,0,0,0]
[null,0,null,0,null,null,null,0,0,0,0]
[null,0,null,0,null,null,null,0,0,0,0]
[null,0,null,0,null,null,null,0,0,0,0]
[null,0,null,0,null,null,null,0,0,0,0]
[null,0,null,0,null,null,null,0,0,0,0]
[null,0,null,0,null,null,null,0,0,0,0]
[null,0,null,0,null,null,null,0,0,0,0]
[null,0,null,0,null,null,null,0,0,0,0]
[null,0,null,0,null,null,null,0,0,0,0]
[null,0,null,0,null,null,null,0,0,0,0]
[null,0,null,0,null,null,null,0,0,0,0]
[null,0,null,0,null,null,null,0,0,0,0]
[null,0,null,0,null,null,null,0,0,0,0]
[null,0,null,0,null,null,null,0,0,0,0]
[null,0,null,0,null,null,null,0,0,0,0]
[null,0,null,0,null,null,null,0,0,0,0]
[null,0,null,0,null,null,null,0,0,0,0]
[null,0,null,0,null,null,null,0,0,0,0]
[null,0,null,0,null,null,null,0,0,0,0]
[null,0,null,0,null,null,null,0,0,0,0]
[null,0,null,0,null,null,null,0,0,0,0]
[null,0,null,0,null,null,null,0,0,0,0]
[null,0,null,0,null,null,null,0,0,0,0]
[null,0,null,0,null,null,null,0,0,0,0]
[null,0,null,0,null,null,null,0,0,0,0]
[null,0,null,0,null,null,null,0,0,0,0]
[null,0,null,0,null,null,null,0,0,0,0]
[null,0,null,0,null,null,null,0,0,0,0]
[null,0,null,0,null,null,null,0,0,0,0]
[null,0,null,0,null,null,null,0,0,0,0]
[null,0,null,0,null,null,null,0,0,0,0]
[null,0,null,0,null,null,null,0,0,0,0]
[null,0,null,0,null,null,null,0,0,0,0]
[null,0,null,0,null,null,null,0,0,0,0]
[null,0,null,0,null,null,null,0,0,0,0]
[null,0,null,0,null,null,null,0,0,0,0]
[null,0,null,0,null,null,null,0,0,0,0]
[null,0,null,0,null,null,null,0,0,0,0]
[null,0,null,0,null,null,null,0,0,0,0]
[null,0,null,0,null,null,null,0,0,0,0]
[null,0,null,0,null,null,null,0,0,0,0]
[null,0,null,0,null,null,null,0,0,0,0]
[null,0,null,0,null,null,null,0,0,0,0]
[null,0,null,0,null,null,null,0,0,0,0]
[null,0,null,0,null,null,null,0,0,0,0]
[null,0,null,0,null,null,null,0,0,0,0]
[null,0,null,0,null,null,null,0,0,0,0]
[null,0,null,0,null,null,null,0,0,0,0]
[null,0,null,0,null,null,null,0,0,0,0]
[null,0,null,0,null,null,null,0,0,0,0]
[null,0,null,0,null,null,null,0,0,0,0]
[null,0,null,0,null,null,null,0,0,0,0]
[null,0,null,0,null,null,null,0,0,0,0]
[null,0,null,0,null,null,null,0,0,0,0]
[null,0,null,0,null,null,null,0,0,0,0]
[null,0,null,0,null,null,null,0,0,0,0]
[null,0,null,0,null,null,null,0,0,0,0]
[null,0,null,0,null,null,null,0,0,0,0]
[null,0,null,0,null,null,null,0,0,0,0]
[null,0,null,0,null,null,null,0,0,0,0]
[null,0,null,0,null,null,null,0,0,0,0]
[null,0,null,0,null,null,null,0,0,0,0]
[null,0,null,0,null,null,null,0,0,0,0]
[null,0,null,0,null,null,null,0,0,0,0]
[null,0,null,0,null,null,null,0,0,0,0]
[null,0,null,0,null,null,null,0,0,0,0]
[null,0,null,0,null,null,null,0,0,0,0]
[null,0,null,0,null,null,null,0,0,0,0]
[null,0,null,0,null,null,null,0,0,0,0]
[null,0,null,0,null,null,null,0,0,0,0]
[null,0,null,0,null,null,null,0,0,0,0]
[null,0,null,0,null,null,null,0,0,0,0]
[null,0,null,0,null,null,null,0,0,0,0]
[null,0,null,0,null,null,null,0,0,0,0]
[null,0,null,0,null,null,null,0,0,0,0]
[null,0,null,0,null,null,null,0,0,0,0]
[null,0,null,0,null,null,null,0,0,0,0]
[null,0,null,0,null,null,null,0,0,0,0]
[null,0,null,0,null,null,null,0,0,0,0]
[null,0,null,0,null,null,null,0,0,0,0]
[null,0,null,0,null,null,null,0,0,0,0]
[null,0,null,0,null,null,null,0,0,0,0]
[null,0,null,0,null,null,null,0,0,0,0]
[null,0,null,0,null,null,null,0,0,0,0]
[null,0,null,0,null,null,null,0,0,0,0]
[null,0,null,0,null,null,null,0,0,0,0]
[null,0,null,0,null,null,null,0,0,0,0]
[null,0,null,0,null,null,null,0,0,0,0]
[null,0,null,0,null,null,null,0,0,0,0]
[null,0,null,0,null,null,null,0,0,0,0]
[null,0,null,0,null,null,null,0,0,0,0]
[null,0,null,0,null,null,null,0,0,0,0]
[null,0,null,0,null,null,null,0,0,0,0]
[null,0,null,0,null,null,null,0,0,0,0]
[null,0,null,0,null,null,null,0,0,0,0]
[null,0,null,0,null,null,null,0,0,0,0]
[null,0,null,0,null,null,null,0,0,0,0]
[null,0,null,0,null,null,null,0,0,0,0]
[null,0,null,0,null,null,null,0,0,0,0]
[null,0,null,0,null,null,null,0,0,0,0]
[null,0,null,0,null,null,null,0,0,0,0]
[null,0,null,0,null,null,null,0,0,0,0]
[null,0,null,0,null,null,null,0,0,0,0]
[null,0,null,0,null,null,null,0,0,0,0]
[null,0,null,0,null,null,null,0,0,0,0]
[null,0,null,0,null,null,null,0,0,0,0]
[null,0,null,0,null,null,null,0,0,0,0]
[null,0,null,0,null,null,null,0,0,0,0]
[null,0,null,0,null,null,null,0,0,0,0]
[null,0,null,0,null,null,null,0,0,0,0]
[null,0,null,0,null,null,null,0,0,0,0]
[null,0,null,0,null,null,null,0,0,0,0]
[null,0,null,0,null,null,null,0,0,0,0]
[null,0,null,0,null,null,null,0,0,0,0]
[null,0,null,0,null,null,null,0,0,0,0]
[null,0,null,0,null,null,null,0,0,0,0]
[null,0,null,0,null,null,null,0,0,0,0]
[null,0,null,0,null,null,null,0,0,0,0]
[null,0,null,0,null,null,null,0,0,0,0]
[null,0,null,0,null,null,null,0,0,0,0]
[null,0,null,0,null,null,null,0,0,0,0]
[null,0,null,0,null,null,null,0,0,0,0]
[null,0,null,0,null,null,null,0,0,0,0]
[null,0,null,0,null,null,null,0,0,0,0]
[null,0,null,0,null,null,null,0,0,0,0]
[null,0,null,0,null,null,null,0,0,0,0]
[null,0,null,0,null,null,null,0,0,0,0]
[null,0,null,0,null,null,null,0,0,0,0]
[null,0,null,0,null,null,null,0,0,0,0]
[null,0,null,0,null,null,null,0,0,0,0]
[null,0,null,0,null,null,null,0,0,0,0]
[null,0,null,0,null,null,null,0,0,0,0]
[null,0,null,0,null,null,null,0,0,0,0]
[null,0,null,0,null,null,null,0,0,0,0]
[null,0,null,0,null,null,null,0,0,0,0]
[null,0,null,0,null,null,null,0,0,0,0]
[null,0,null,0,null,null,null,0,0,0,0]
[null,0,null,0,null,null,null,0,0,0,0]
[null,0,null,0,null,null,null,0,0,0,0]
[null,0,null,0,null,null,null,0,0,0,0]
[null,0,null,0,null,null,null,0,0,0,0]
[null,0,null,0,null,null,null,0,0,0,0]
[null,0,null,0,null,null,null,0,0,0,0]
[null,0,null,0,null,null,null,0,0,0,0]
[null,0,null,0,null,null,null,0,0,0,0]
[null,0,null,0,null,null,null,0,0,0,0]
[null,0,null,0,null,null,null,0,0,0,0]
[null,0,null,0,null,null,null,0,0,0,0]
[null,0,null,0,null,null,null,0,0,0,0]
[null,0,null,0,null,null,null,0,0,0,0]
[null,0,null,0,null,null,null,0,0,0,0]
[null,0,null,0,null,null,null,0,0,0,0]
[null,0,null,0,null,null,null,0,0,0,0]
[null,0,null,0,null,null,null,0,0,0,0]
[null,0,null,0,null,null,null,0,0,0,0]
[null,0,null,0,null,null,null,0,0,0,0]
[null,0,null,0,null,null,null,0,0,0,0]
[null,0,null,0,null,null,null,0,0,0,0]
[null,0,null,0,null,null,null,0,0,0,0]
[null,0,null,0,null,null,null,0,0,0,0]
[null,0,null,0,null,null,null,0,0,0,0]
[null,0,null,0,null,null,null,0,0,0,0]
[null,0,null,0,null,null,null,0,0,0,0]
[null,0,null,0,null,null,null,0,0,0,0]
[null,0,null,0,null,null,null,0,0,0,0]
[null,0,null,0,null,null,null,0,0,0,0]
[null,0,null,0,null,null,null,0,0,0,0]
[null,0,null,0,null,null,null,0,0,0,0]
[null,0,null,0,null,null,null,0,0,0,0]
[null,0,null,0,null,null,null,0,0,0,0]
[null,0,null,0,null,null,null,0,0,0,0]
[null,0,null,0,null,null,null,0,0,0,0]
[null,0,null,0,null,null,null,0,0,0,0]
[null,0,null,0,null,null,null,0,0,0,0]
[null,0,null,0,null,null,null,0,0,0,0]
[null,0,null,0,null,null,null,0,0,0,0]
[null,0,null,0,null,null,null,0,0,0,0]
[null,0,null,0,null,null,null,0,0,0,0]
[null,0,null,0,null,null,null,0,0,0,0]
[null,0,null,0,null,null,null,0,0,0,0]
[null,0,null,0,null,null,null,0,0,0,0]
[null,0,null,0,null,null,null,0,0,0,0]
[null,0,null,0,null,null,null,0,0,0,0]
[null,0,null,0,null,null,null,0,0,0,0]
[null,0,null,0,null,null,null,0,0,0,0]
[null,0,null,0,null,null,null,0,0,0,0]
[null,0,null,0,null,null,null,0,0,0,0]
[null,0,null,0,null,null,null,0,0,0,0]
[null,0,null,0,null,null,null,0,0,0,0]
[null,0,null,0,null,null,null,0,0,0,0]
[null,0,null,0,null,null,null,0,0,0,0]
[null,0,null,0,null,null,null,0,0,0,0]
[null,0,null,0,null,null,null,0,0,0,0]
[null,0,null,0,null,null,null,0,0,0,0]
[null,0,null,0,null,null,null,0,0,0,0]
[null,0,null,0,null,null,null,0,0,0,0]
[null,0,null,0,null,null,null,0,0,0,0]
[null,0,null,0,null,null,null,0,0,0,0]
[null,0,null,0,null,null,null,0,0,0,0]
[null,0,null,0,null,null,null,0,0,0,0]
[null,0,null,0,null,null,null,0,0,0,0]
[null,0,null,0,null,null,null,0,0,0,0]
[null,0,null,0,null,null,null,0,0,0,0]
[null,0,null,0,null,null,null,0,0,0,0]
[null,0,null,0,null,null,null,0,0,0,0]
[null,0,null,0,null,null,null,0,0,0,0]
[null,0,null,0,null,null,null,0,0,0,0]
[null,0,null,0,null,null,null,0,0,0,0]
[null,0,null,0,null,null,null,0,0,0,0]
[null,0,null,0,null,null,null,0,0,0,0]
[null,0,null,0,null,null,null,0,0,0,0]
[null,0,null,0,null,null,null,0,0,0,0]
[null,0,null,0,null,null,null,0,0,0,0]
[null,0,null,0,null,null,null,0,0,0,0]
[null,0,null,0,null,null,null,0,0,0,0]
[null,0,null,0,null,null,null,0,0,0,0]
[null,0,null,0,null,null,null,0,0,0,0]
[null,0,null,0,null,null,null,0,0,0,0]
[null,0,null,0,null,null,null,0,0,0,0]
[null,0,null,0,null,null,null,0,0,0,0]
[null,0,null,0,null,null,null,0,0,0,0]
[null,0,null,0,null,null,null,0,0,0,0]
[null,0,null,0,null,null,null,0,0,0,0]
[null,0,null,0,null,null,null,0,0,0,0]
[null,0,null,0,null,null,null,0,0,0,0]
[null,0,null,0,null,null,null,0,0,0,0]
[null,0,null,0,null,null,null,0,0,0,0]
[null,0,null,0,null,null,null,0,0,0,0]
[null,0,null,0,null,null,null,0,0,0,0]
[null,0,null,0,null,null,null,0,0,0,0]
[null,0,null,0,null,null,null,0,0,0,0]
[null,0,null,0,null,null,null,0,0,0,0]
[null,0,null,0,null,null,null,0,0,0,0]
[null,0,null,0,null,null,null,0,0,0,0]
[null,0,null,0,null,null,null,0,0,0,0]
[null,0,null,0,null,null,null,0,0,0,0]
[null,0,null,0,null,null,null,0,0,0,0]
[null,0,null,0,null,null,null,0,0,0,0]
[null,0,null,0,null,null,null,0,0,0,0]
[null,0,null,0,null,null,null,0,0,0,0]
[null,0,null,0,null,null,null,0,0,0,0]
[null,0,null,0,null,null,null,0,0,0,0]
[null,0,null,0,null,null,null,0,0,0,0]
[null,0,null,0,null,null,null,0,0,0,0]
[null,0,null,0,null,null,null,0,0,0,0]
[null,0,null,0,null,null,null,0,0,0,0]
[null,0,null,0,null,null,null,0,0,0,0]
[null,0,null,0,null,null,null,0,0,0,0]
[null,0,null,0,null,null,null,0,0,0,0]
[null,0,null,0,null,null,null,0,0,0,0]
[null,0,null,0,null,null,null,0,0,0,0]
[null,0,null,0,null,null,null,0,0,0,0]
[null,0,null,0,null,null,null,0,0,0,0]
[null,0,null,0,null,null,null,0,0,0,0]
[null,0,null,0,null,null,null,0,0,0,0]
[null,0,null,0,null,null,null,0,0,0,0]
[null,0,null,0,null,null,null,0,0,0,0]
[null,0,null,0,null,null,null,0,0,0,0]
[null,0,null,0,null,null,null,0,0,0,0]
[null,0,null,0,null,null,null,0,0,0,0]
[null,0,null,0,null,null,null,0,0,0,0]
[null,0,null,0,null,null,null,0,0,0,0]
[null,0,null,0,null,null,null,0,0,0,0]
[null,0,null,0,null,null,null,0,0,0,0]
[null,0,null,0,null,null,null,0,0,0,0]
[null,0,null,0,null,null,null,0,0,0,0]
[null,0,null,0,null,null,null,0,0,0,0]
[null,0,null,0,null,null,null,0,0,0,0]
[null,0,null,0,null,null,null,0,0,0,0]
[null,0,null,0,null,null,null,0,0,0,0]
[null,0,null,0,null,null,null,0,0,0,0]
[null,0,null,0,null,null,null,0,0,0,0]
[null,0,null,0,null,null,null,0,0,0,0]
[null,0,null,0,null,null,null,0,0,0,0]
[null,0,null,0,null,null,null,0,0,0,0]
[null,0,null,0,null,null,null,0,0,0,0]
[null,0,null,0,null,null,null,0,0,0,0]
[null,0,null,0,null,null,null,0,0,0,0]
[null,0,null,0,null,null,null,0,0,0,0]
[null,0,null,0,null,null,null,0,0,0,0]
[null,0,null,0,null,null,null,0,0,0,0]
[null,0,null,0,null,null,null,0,0,0,0]
[null,0,null,0,null,null,null,0,0,0,0]
[null,0,null,0,null,null,null,0,0,0,0]
[null,0,null,0,null,null,null,0,0,0,0]
[null,0,null,0,null,null,null,0,0,0,0]
[null,0,null,0,null,null,null,0,0,0,0]
[null,0,null,0,null,null,null,0,0,0,0]
[null,0,null,0,null,null,null,0,0,0,0]
[null,0,null,0,null,null,null,0,0,0,0]
[null,0,null,0,null,null,null,0,0,0,0]
[null,0,null,0,null,null,null,0,0,0,0]
[null,0,null,0,null,null,null,0,0,0,0]
[null,0,null,0,null,null,null,0,0,0,0]
[null,0,null,0,null,null,null,0,0,0,0]
[null,0,null,0,null,null,null,0,0,0,0]
[null,0,null,0,null,null,null,0,0,0,0]
[null,0,null,0,null,null,null,0,0,0,0]
[null,0,null,0,null,null,null,0,0,0,0]
[null,0,null,0,null,null,null,0,0,0,0]
[null,0,null,0,null,null,null,0,0,0,0]
[null,0,null,0,null,null,null,0,0,0,0]
[null,0,null,0,null,null,null,0,0,0,0]
[null,0,null,0,null,null,null,0,0,0,0]
[null,0,null,0,null,null,null,0,0,0,0]
[null,0,null,0,null,null,null,0,0,0,0]
[null,0,null,0,null,null,null,0,0,0,0]
[null,0,null,0,null,null,null,0,0,0,0]
[null,0,null,0,null,null,null,0,0,0,0]
[null,0,null,0,null,null,null,0,0,0,0]
[null,0,null,0,null,null,null,0,0,0,0]
[null,0,null,0,null,null,null,0,0,0,0]
[null,0,null,0,null,null,null,0,0,0,0]
[null,0,null,0,null,null,null,0,0,0,0]
[null,0,null,0,null,null,null,0,0,0,0]
[null,0,null,0,null,null,null,0,0,0,0]
[null,0,null,0,null,null,null,0,0,0,0]
[null,0,null,0,null,null,null,0,0,0,0]
[null,0,null,0,null,null,null,0,0,0,0]
[null,0,null,0,null,null,null,0,0,0,0]
[null,0,null,0,null,null,null,0,0,0,0]
[null,0,null,0,null,null,null,0,0,0,0]
[null,0,null,0,null,null,null,0,0,0,0]
[null,0,null,0,null,null,null,0,0,0,0]
[null,0,null,0,null,null,null,0,0,0,0]
[null,0,null,0,null,null,null,0,0,0,0]
[null,0,null,0,null,null,null,0,0,0,0]
[null,0,null,0,null,null,null,0,0,0,0]
[null,0,null,0,null,null,null,0,0,0,0]
[null,0,null,0,null,null,null,0,0,0,0]
[null,0,null,0,null,null,null,0,0,0,0]
[null,0,null,0,null,null,null,0,0,0,0]
[null,0,null,0,null,null,null,0,0,0,0]
[null,0,null,0,null,null,null,0,0,0,0]
[null,0,null,0,null,null,null,0,0,0,0]
[null,0,null,0,null,null,null,0,0,0,0]
[null,0,null,0,null,null,null,0,0,0,0]
[null,0,null,0,null,null,null,0,0,0,0]
[null,0,null,0,null,null,null,0,0,0,0]
[null,0,null,0,null,null,null,0,0,0,0]
[null,0,null,0,null,null,null,0,0,0,0]
[null,0,null,0,null,null,null,0,0,0,0]
[null,0,null,0,null,null,null,0,0,0,0]
[null,0,null,0,null,null,null,0,0,0,0]
[null,0,null,0,null,null,null,0,0,0,0]
[null,0,null,0,null,null,null,0,0,0,0]
[null,0,null,0,null,null,null,0,0,0,0]
[null,0,null,0,null,null,null,0,0,0,0]
[null,0,null,0,null,null,null,0,0,0,0]
[null,0,null,0,null,null,null,0,0,0,0]
[null,0,null,0,null,null,null,0,0,0,0]
[null,0,null,0,null,null,null,0,0,0,0]
[null,0,null,0,null,null,null,0,0,0,0]
[null,0,null,0,null,null,null,0,0,0,0]
[null,0,null,0,null,null,null,0,0,0,0]
[null,0,null,0,null,null,null,0,0,0,0]
[null,0,null,0,null,null,null,0,0,0,0]
[null,0,null,0,null,null,null,0,0,0,0]
[null,0,null,0,null,null,null,0,0,0,0]
[null,0,null,0,null,null,null,0,0,0,0]
[null,0,null,0,null,null,null,0,0,0,0]
[null,0,null,0,null,null,null,0,0,0,0]
[null,0,null,0,null,null,null,0,0,0,0]
[null,0,null,0,null,null,null,0,0,0,0]
[null,0,null,0,null,null,null,0,0,0,0]
[null,0,null,0,null,null,null,0,0,0,0]
[null,0,null,0,null,null,null,0,0,0,0]
[null,0,null,0,null,null,null,0,0,0,0]
[null,0,null,0,null,null,null,0,0,0,0]
[null,0,null,0,null,null,null,0,0,0,0]
[null,0,null,0,null,null,null,0,0,0,0]
[null,0,null,0,null,null,null,0,0,0,0]
[null,0,null,0,null,null,null,0,0,0,0]
[null,0,null,0,null,null,null,0,0,0,0]
[null,0,null,0,null,null,null,0,0,0,0]
[null,0,null,0,null,null,null,0,0,0,0]
[null,0,null,0,null,null,null,0,0,0,0]
[null,0,null,0,null,null,null,0,0,0,0]
[null,0,null,0,null,null,null,0,0,0,0]
[null,0,null,0,null,null,null,0,0,0,0]
[null,0,null,0,null,null,null,0,0,0,0]
[null,0,null,0,null,null,null,0,0,0,0]
[null,0,null,0,null,null,null,0,0,0,0]
[null,0,null,0,null,null,null,0,0,0,0]
[null,0,null,0,null,null,null,0,0,0,0]
[null,0,null,0,null,null,null,0,0,0,0]
[null,0,null,0,null,null,null,0,0,0,0]
[null,0,null,0,null,null,null,0,0,0,0]
[null,0,null,0,null,null,null,0,0,0,0]
[null,0,null,0,null,null,null,0,0,0,0]
[null,0,null,0,null,null,null,0,0,0,0]
[null,0,null,0,null,null,null,0,0,0,0]
[null,0,null,0,null,null,null,0,0,0,0]
[null,0,null,0,null,null,null,0,0,0,0]
[null,0,null,0,null,null,null,0,0,0,0]
[null,0,null,0,null,null,null,0,0,0,0]
[null,0,null,0,null,null,null,0,0,0,0]
[null,0,null,0,null,null,null,0,0,0,0]
[null,0,null,0,null,null,null,0,0,0,0]
[null,0,null,0,null,null,null,0,0,0,0]
[null,0,null,0,null,null,null,0,0,0,0]
[null,0,null,0,null,null,null,0,0,0,0]
[null,0,null,0,null,null,null,0,0,0,0]
[null,0,null,0,null,null,null,0,0,0,0]
[null,0,null,0,null,null,null,0,0,0,0]
[null,0,null,0,null,null,null,0,0,0,0]
[null,0,null,0,null,null,null,0,0,0,0]
[null,0,null,0,null,null,null,0,0,0,0]
[null,0,null,0,null,null,null,0,0,0,0]
[null,0,null,0,null,null,null,0,0,0,0]
[null,0,null,0,null,null,null,0,0,0,0]
[null,0,null,0,null,null,null,0,0,0,0]
[null,0,null,0,null,null,null,0,0,0,0]
[null,0,null,0,null,null,null,0,0,0,0]
[null,0,null,0,null,null,null,0,0,0,0]
[null,0,null,0,null,null,null,0,0,0,0]
[null,0,null,0,null,null,null,0,0,0,0]
[null,0,null,0,null,null,null,0,0,0,0]
[null,0,null,0,null,null,null,0,0,0,0]
[null,0,null,0,null,null,null,0,0,0,0]
[null,0,null,0,null,null,null,0,0,0,0]
[null,0,null,0,null,null,null,0,0,0,0]
[null,0,null,0,null,null,null,0,0,0,0]
[null,0,null,0,null,null,null,0,0,0,0]
[null,0,null,0,null,null,null,0,0,0,0]
[null,0,null,0,null,null,null,0,0,0,0]
[null,0,null,0,null,null,null,0,0,0,0]
[null,0,null,0,null,null,null,0,0,0,0]
[null,0,null,0,null,null,null,0,0,0,0]
[null,0,null,0,null,null,null,0,0,0,0]
[null,0,null,0,null,null,null,0,0,0,0]
[null,0,null,0,null,null,null,0,0,0,0]
[null,0,null,0,null,null,null,0,0,0,0]
[null,0,null,0,null,null,null,0,0,0,0]
[null,0,null,0,null,null,null,0,0,0,0]
[null,0,null,0,null,null,null,0,0,0,0]
[null,0,null,0,null,null,null,0,0,0,0]
[null,0,null,0,null,null,null,0,0,0,0]
[null,0,null,0,null,null,null,0,0,0,0]
[null,0,null,0,null,null,null,0,0,0,0]
[null,0,null,0,null,null,null,0,0,0,0]
[null,0,null,0,null,null,null,0,0,0,0]
[null,0,null,0,null,null,null,0,0,0,0]
[null,0,null,0,null,null,null,0,0,0,0]
[null,0,null,0,null,null,null,0,0,0,0]
[null,0,null,0,null,null,null,0,0,0,0]
[null,0,null,0,null,null,null,0,0,0,0]
[null,0,null,0,null,null,null,0,0,0,0]
[null,0,null,0,null,null,null,0,0,0,0]
[null,0,null,0,null,null,null,0,0,0,0]
[null,0,null,0,null,null,null,0,0,0,0]
[null,0,null,0,null,null,null,0,0,0,0]
[null,0,null,0,null,null,null,0,0,0,0]
[null,0,null,0,null,null,null,0,0,0,0]
[null,0,null,0,null,null,null,0,0,0,0]
[null,0,null,0,null,null,null,0,0,0,0]
[null,0,null,0,null,null,null,0,0,0,0]
[null,0,null,0,null,null,null,0,0,0,0]
[null,0,null,0,null,null,null,0,0,0,0]
[null,0,null,0,null,null,null,0,0,0,0]
[null,0,null,0,null,null,null,0,0,0,0]
[null,0,null,0,null,null,null,0,0,0,0]
[null,0,null,0,null,null,null,0,0,0,0]
[null,0,null,0,null,null,null,0,0,0,0]
[null,0,null,0,null,null,null,0,0,0,0]
[null,0,null,0,null,null,null,0,0,0,0]
[null,0,null,0,null,null,null,0,0,0,0]
[null,0,null,0,null,null,null,0,0,0,0]
[null,0,null,0,null,null,null,0,0,0,0]
[null,0,null,0,null,null,null,0,0,0,0]
[null,0,null,0,null,null,null,0,0,0,0]
[null,0,null,0,null,null,null,0,0,0,0]
[null,0,null,0,null,null,null,0,0,0,0]
[null,0,null,0,null,null,null,0,0,0,0]
[null,0,null,0,null,null,null,0,0,0,0]
[null,0,null,0,null,null,null,0,0,0,0]
[null,0,null,0,null,null,null,0,0,0,0]
[null,0,null,0,null,null,null,0,0,0,0]
[null,0,null,0,null,null,null,0,0,0,0]
[null,0,null,0,null,null,null,0,0,0,0]
[null,0,null,0,null,null,null,0,0,0,0]
[null,0,null,0,null,null,null,0,0,0,0]
[null,0,null,0,null,null,null,0,0,0,0]
[null,0,null,0,null,null,null,0,0,0,0]
[null,0,null,0,null,null,null,0,0,0,0]
[null,0,null,0,null,null,null,0,0,0,0]
[null,0,null,0,null,null,null,0,0,0,0]
[null,0,null,0,null,null,null,0,0,0,0]
[null,0,null,0,null,null,null,0,0,0,0]
[null,0,null,0,null,null,null,0,0,0,0]
[null,0,null,0,null,null,null,0,0,0,0]
[null,0,null,0,null,null,null,0,0,0,0]
[null,0,null,0,null,null,null,0,0,0,0]
[null,0,null,0,null,null,null,0,0,0,0]
[null,0,null,0,null,null,null,0,0,0,0]
[null,0,null,0,null,null,null,0,0,0,0]
[null,0,null,0,null,null,null,0,0,0,0]
[null,0,null,0,null,null,null,0,0,0,0]
[null,0,null,0,null,null,null,0,0,0,0]
[null,0,null,0,null,null,null,0,0,0,0]
[null,0,null,0,null,null,null,0,0,0,0]
[null,0,null,0,null,null,null,0,0,0,0]
[null,0,null,0,null,null,null,0,0,0,0]
[null,0,null,0,null,null,null,0,0,0,0]
[null,0,null,0,null,null,null,0,0,0,0]
[null,0,null,0,null,null,null,0,0,0,0]
[null,0,null,0,null,null,null,0,0,0,0]
[null,0,null,0,null,null,null,0,0,0,0]
[null,0,null,0,null,null,null,0,0,0,0]
[null,0,null,0,null,null,null,0,0,0,0]
[null,0,null,0,null,null,null,0,0,0,0]
[null,0,null,0,null,null,null,0,0,0,0]
[null,0,null,0,null,null,null,0,0,0,0]
[null,0,null,0,null,null,null,0,0,0,0]
[null,0,null,0,null,null,null,0,0,0,0]
[null,0,null,0,null,null,null,0,0,0,0]
[null,0,null,0,null,null,null,0,0,0,0]
[null,0,null,0,null,null,null,0,0,0,0]
[null,0,null,0,null,null,null,0,0,0,0]
[null,0,null,0,null,null,null,0,0,0,0]
[null,0,null,0,null,null,null,0,0,0,0]
[null,0,null,0,null,null,null,0,0,0,0]
[null,0,null,0,null,null,null,0,0,0,0]
[null,0,null,0,null,null,null,0,0,0,0]
[null,0,null,0,null,null,null,0,0,0,0]
[null,0,null,0,null,null,null,0,0,0,0]
[null,0,null,0,null,null,null,0,0,0,0]
[null,0,null,0,null,null,null,0,0,0,0]
[null,0,null,0,null,null,null,0,0,0,0]
[null,0,null,0,null,null,null,0,0,0,0]
[null,0,null,0,null,null,null,0,0,0,0]
[null,0,null,0,null,null,null,0,0,0,0]
[null,0,null,0,null,null,null,0,0,0,0]
[null,0,null,0,null,null,null,0,0,0,0]
[null,0,null,0,null,null,null,0,0,0,0]
[null,0,null,0,null,null,null,0,0,0,0]
[null,0,null,0,null,null,null,0,0,0,0]
[null,0,null,0,null,null,null,0,0,0,0]
[null,0,null,0,null,null,null,0,0,0,0]
[null,0,null,0,null,null,null,0,0,0,0]
[null,0,null,0,null,null,null,0,0,0,0]
[null,0,null,0,null,null,null,0,0,0,0]
[null,0,null,0,null,null,null,0,0,0,0]
[null,0,null,0,null,null,null,0,0,0,0]
[null,0,null,0,null,null,null,0,0,0,0]
[null,0,null,0,null,null,null,0,0,0,0]
[null,0,null,0,null,null,null,0,0,0,0]
[null,0,null,0,null,null,null,0,0,0,0]
[null,0,null,0,null,null,null,0,0,0,0]
[null,0,null,0,null,null,null,0,0,0,0]
[null,0,null,0,null,null,null,0,0,0,0]
[null,0,null,0,null,null,null,0,0,0,0]
[null,0,null,0,null,null,null,0,0,0,0]
[null,0,null,0,null,null,null,0,0,0,0]
[null,0,null,0,null,null,null,0,0,0,0]
[null,0,null,0,null,null,null,0,0,0,0]
[null,0,null,0,null,null,null,0,0,0,0]
[null,0,null,0,null,null,null,0,0,0,0]
[null,0,null,0,null,null,null,0,0,0,0]
[null,0,null,0,null,null,null,0,0,0,0]
[null,0,null,0,null,null,null,0,0,0,0]
[null,0,null,0,null,null,null,0,0,0,0]
[null,0,null,0,null,null,null,0,0,0,0]
[null,0,null,0,null,null,null,0,0,0,0]
[null,0,null,0,null,null,null,0,0,0,0]
[null,0,null,0,null,null,null,0,0,0,0]
[null,0,null,0,null,null,null,0,0,0,0]
[null,0,null,0,null,null,null,0,0,0,0]
[null,0,null,0,null,null,null,0,0,0,0]
[null,0,null,0,null,null,null,0,0,0,0]
[null,0,null,0,null,null,null,0,0,0,0]
[null,0,null,0,null,null,null,0,0,0,0]
[null,0,null,0,null,null,null,0,0,0,0]
[null,0,null,0,null,null,null,0,0,0,0]
[null,0,null,0,null,null,null,0,0,0,0]
[null,0,null,0,null,null,null,0,0,0,0]
[null,0,null,0,null,null,null,0,0,0,0]
[null,0,null,0,null,null,null,0,0,0,0]
[null,0,null,0,null,null,null,0,0,0,0]
[null,0,null,0,null,null,null,0,0,0,0]
[null,0,null,0,null,null,null,0,0,0,0]
[null,0,null,0,null,null,null,0,0,0,0]
[null,0,null,0,null,null,null,0,0,0,0]
[null,0,null,0,null,null,null,0,0,0,0]
[null,0,null,0,null,null,null,0,0,0,0]
[null,0,null,0,null,null,null,0,0,0,0]
[null,0,null,0,null,null,null,0,0,0,0]
[null,0,null,0,null,null,null,0,0,0,0]
[null,0,null,0,null,null,null,0,0,0,0]
[null,0,null,0,null,null,null,0,0,0,0]
[null,0,null,0,null,null,null,0,0,0,0]
[null,0,null,0,null,null,null,0,0,0,0]
[null,0,null,0,null,null,null,0,0,0,0]
[null,0,null,0,null,null,null,0,0,0,0]
[null,0,null,0,null,null,null,0,0,0,0]
[null,0,null,0,null,null,null,0,0,0,0]
[null,0,null,0,null,null,null,0,0,0,0]
[null,0,null,0,null,null,null,0,0,0,0]
[null,0,null,0,null,null,null,0,0,0,0]
[null,0,null,0,null,null,null,0,0,0,0]
[null,0,null,0,null,null,null,0,0,0,0]
[null,0,null,0,null,null,null,0,0,0,0]
[null,0,null,0,null,null,null,0,0,0,0]
[null,0,null,0,null,null,null,0,0,0,0]
[null,0,null,0,null,null,null,0,0,0,0]
[null,0,null,0,null,null,null,0,0,0,0]
[null,0,null,0,null,null,null,0,0,0,0]
[null,0,null,0,null,null,null,0,0,0,0]
[null,0,null,0,null,null,null,0,0,0,0]
[null,0,null,0,null,null,null,0,0,0,0]
[null,0,null,0,null,null,null,0,0,0,0]
[null,0,null,0,null,null,null,0,0,0,0]
[null,0,null,0,null,null,null,0,0,0,0]
[null,0,null,0,null,null,null,0,0,0,0]
[null,0,null,0,null,null,null,0,0,0,0]
[null,0,null,0,null,null,null,0,0,0,0]
[null,0,null,0,null,null,null,0,0,0,0]
[null,0,null,0,null,null,null,0,0,0,0]
[null,0,null,0,null,null,null,0,0,0,0]
[null,0,null,0,null,null,null,0,0,0,0]
[null,0,null,0,null,null,null,0,0,0,0]
[null,0,null,0,null,null,null,0,0,0,0]
[null,0,null,0,null,null,null,0,0,0,0]
[null,0,null,0,null,null,null,0,0,0,0]
[null,0,null,0,null,null,null,0,0,0,0]
[null,0,null,0,null,null,null,0,0,0,0]
[null,0,null,0,null,null,null,0,0,0,0]
[null,0,null,0,null,null,null,0,0,0,0]
[null,0,null,0,null,null,null,0,0,0,0]
[null,0,null,0,null,null,null,0,0,0,0]
[null,0,null,0,null,null,null,0,0,0,0]
[null,0,null,0,null,null,null,0,0,0,0]
[null,0,null,0,null,null,null,0,0,0,0]
[null,0,null,0,null,null,null,0,0,0,0]
[null,0,null,0,null,null,null,0,0,0,0]
[null,0,null,0,null,null,null,0,0,0,0]
[null,0,null,0,null,null,null,0,0,0,0]
[null,0,null,0,null,null,null,0,0,0,0]
[null,0,null,0,null,null,null,0,0,0,0]
[null,0,null,0,null,null,null,0,0,0,0]
[null,0,null,0,null,null,null,0,0,0,0]
[null,0,null,0,null,null,null,0,0,0,0]
[null,0,null,0,null,null,null,0,0,0,0]
[null,0,null,0,null,null,null,0,0,0,0]
[null,0,null,0,null,null,null,0,0,0,0]
[null,0,null,0,null,null,null,0,0,0,0]
[null,0,null,0,null,null,null,0,0,0,0]
[null,0,null,0,null,null,null,0,0,0,0]
[null,0,null,0,null,null,null,0,0,0,0]
[null,0,null,0,null,null,null,0,0,0,0]
[null,0,null,0,null,null,null,0,0,0,0]
[null,0,null,0,null,null,null,0,0,0,0]
[null,0,null,0,null,null,null,0,0,0,0]
[null,0,null,0,null,null,null,0,0,0,0]
[null,0,null,0,null,null,null,0,0,0,0]
[null,0,null,0,null,null,null,0,0,0,0]
[null,0,null,0,null,null,null,0,0,0,0]
[null,0,null,0,null,null,null,0,0,0,0]
[null,0,null,0,null,null,null,0,0,0,0]
[null,0,null,0,null,null,null,0,0,0,0]
[null,0,null,0,null,null,null,0,0,0,0]
[null,0,null,0,null,null,null,0,0,0,0]
[null,0,null,0,null,null,null,0,0,0,0]
[null,0,null,0,null,null,null,0,0,0,0]
[null,0,null,0,null,null,null,0,0,0,0]
[null,0,null,0,null,null,null,0,0,0,0]
[null,0,null,0,null,null,null,0,0,0,0]
[null,0,null,0,null,null,null,0,0,0,0]
[null,0,null,0,null,null,null,0,0,0,0]
[null,0,null,0,null,null,null,0,0,0,0]
[null,0,null,0,null,null,null,0,0,0,0]
[null,0,null,0,null,null,null,0,0,0,0]
[null,0,null,0,null,null,null,0,0,0,0]
[null,0,null,0,null,null,null,0,0,0,0]
[null,0,null,0,null,null,null,0,0,0,0]
[null,0,null,0,null,null,null,0,0,0,0]
[null,0,null,0,null,null,null,0,0,0,0]
[null,0,null,0,null,null,null,0,0,0,0]
[null,0,null,0,null,null,null,0,0,0,0]
[null,0,null,0,null,null,null,0,0,0,0]
[null,0,null,0,null,null,null,0,0,0,0]
[null,0,null,0,null,null,null,0,0,0,0]
[null,0,null,0,null,null,null,0,0,0,0]
[null,0,null,0,null,null,null,0,0,0,0]
[null,0,null,0,null,null,null,0,0,0,0]
[null,0,null,0,null,null,null,0,0,0,0]
[null,0,null,0,null,null,null,0,0,0,0]
[null,0,null,0,null,null,null,0,0,0,0]
[null,0,null,0,null,null,null,0,0,0,0]
[null,0,null,0,null,null,null,0,0,0,0]
[null,0,null,0,null,null,null,0,0,0,0]
[null,0,null,0,null,null,null,0,0,0,0]
[null,0,null,0,null,null,null,0,0,0,0]
[null,0,null,0,null,null,null,0,0,0,0]
[null,0,null,0,null,null,null,0,0,0,0]
[null,0,null,0,null,null,null,0,0,0,0]
[null,0,null,0,null,null,null,0,0,0,0]
[null,0,null,0,null,null,null,0,0,0,0]
[null,0,null,0,null,null,null,0,0,0,0]
[null,0,null,0,null,null,null,0,0,0,0]
[null,0,null,0,null,null,null,0,0,0,0]
[null,0,null,0,null,null,null,0,0,0,0]
[null,0,null,0,null,null,null,0,0,0,0]
[null,0,null,0,null,null,null,0,0,0,0]
[null,0,null,0,null,null,null,0,0,0,0]
[null,0,null,0,null,null,null,0,0,0,0]
[null,0,null,0,null,null,null,0,0,0,0]
[null,0,null,0,null,null,null,0,0,0,0]
[null,0,null,0,null,null,null,0,0,0,0]
[null,0,null,0,null,null,null,0,0,0,0]
[null,0,null,0,null,null,null,0,0,0,0]
[null,0,null,0,null,null,null,0,0,0,0]
[null,0,null,0,null,null,null,0,0,0,0]
[null,0,null,0,null,null,null,0,0,0,0]
[null,0,null,0,null,null,null,0,0,0,0]
[null,0,null,0,null,null,null,0,0,0,0]
[null,0,null,0,null,null,null,0,0,0,0]
[null,0,null,0,null,null,null,0,0,0,0]
[null,0,null,0,null,null,null,0,0,0,0]
[null,0,null,0,null,null,null,0,0,0,0]
[null,0,null,0,null,null,null,0,0,0,0]
[null,0,null,0,null,null,null,0,0,0,0]
[null,0,null,0,null,null,null,0,0,0,0]
[null,0,null,0,null,null,null,0,0,0,0]
[null,0,null,0,null,null,null,0,0,0,0]
[null,0,null,0,null,null,null,0,0,0,0]
[null,0,null,0,null,null,null,0,0,0,0]
[null,0,null,0,null,null,null,0,0,0,0]
[null,0,null,0,null,null,null,0,0,0,0]
[null,0,null,0,null,null,null,0,0,0,0]
[null,0,null,0,null,null,null,0,0,0,0]
[null,0,null,0,null,null,null,0,0,0,0]
[null,0,null,0,null,null,null,0,0,0,0]
[null,0,null,0,null,null,null,0,0,0,0]
[null,0,null,0,null,null,null,0,0,0,0]
[null,0,null,0,null,null,null,0,0,0,0]
[null,0,null,0,null,null,null,0,0,0,0]
[null,0,null,0,null,null,null,0,0,0,0]
[null,0,null,0,null,null,null,0,0,0,0]
[null,0,null,0,null,null,null,0,0,0,0]
[null,0,null,0,null,null,null,0,0,0,0]
[null,0,null,0,null,null,null,0,0,0,0]
[null,0,null,0,null,null,null,0,0,0,0]
[null,0,null,0,null,null,null,0,0,0,0]
[null,0,null,0,null,null,null,0,0,0,0]
[null,0,null,0,null,null,null,0,0,0,0]
[null,0,null,0,null,null,null,0,0,0,0]
[null,0,null,0,null,null,null,0,0,0,0]
[null,0,null,0,null,null,null,0,0,0,0]
[null,0,null,0,null,null,null,0,0,0,0]
[null,0,null,0,null,null,null,0,0,0,0]
[null,0,null,0,null,null,null,0,0,0,0]
[null,0,null,0,null,null,null,0,0,0,0]
[null,0,null,0,null,null,null,0,0,0,0]
[null,0,null,0,null,null,null,0,0,0,0]
[null,0,null,0,null,null,null,0,0,0,0]
[null,0,null,0,null,null,null,0,0,0,0]
[null,0,null,0,null,null,null,0,0,0,0]
[null,0,null,0,null,null,null,0,0,0,0]
[null,0,null,0,null,null,null,0,0,0,0]
[null,0,null,0,null,null,null,0,0,0,0]
[null,0,null,0,null,null,null,0,0,0,0]
[null,0,null,0,null,null,null,0,0,0,0]
[null,0,null,0,null,null,null,0,0,0,0]
[null,0,null,0,null,null,null,0,0,0,0]
[null,0,null,0,null,null,null,0,0,0,0]
[null,0,null,0,null,null,null,0,0,0,0]
[null,0,null,0,null,null,null,0,0,0,0]
[null,0,null,0,null,null,null,0,0,0,0]
[null,0,null,0,null,null,null,0,0,0,0]
[null,0,null,0,null,null,null,0,0,0,0]
[null,0,null,0,null,null,null,0,0,0,0]
[null,0,null,0,null,null,null,0,0,0,0]
[null,0,null,0,null,null,null,0,0,0,0]
[null,0,null,0,null,null,null,0,0,0,0]
[null,0,null,0,null,null,null,0,0,0,0]
[null,0,null,0,null,null,null,0,0,0,0]
[null,0,null,0,null,null,null,0,0,0,0]
[null,0,null,0,null,null,null,0,0,0,0]
[null,0,null,0,null,null,null,0,0,0,0]
[null,0,null,0,null,null,null,0,0,0,0]
[null,0,null,0,null,null,null,0,0,0,0]
[null,0,null,0,null,null,null,0,0,0,0]
[null,0,null,0,null,null,null,0,0,0,0]
[null,0,null,0,null,null,null,0,0,0,0]
[null,0,null,0,null,null,null,0,0,0,0]
[null,0,null,0,null,null,null,0,0,0,0]
[null,0,null,0,null,null,null,0,0,0,0]
[null,0,null,0,null,null,null,0,0,0,0]
[null,0,null,0,null,null,null,0,0,0,0]
[null,0,null,0,null,null,null,0,0,0,0]
[null,0,null,0,null,null,null,0,0,0,0]
[null,0,null,0,null,null,null,0,0,0,0]
[null,0,null,0,null,null,null,0,0,0,0]
[null,0,null,0,null,null,null,0,0,0,0]
[null,0,null,0,null,null,null,0,0,0,0]
[null,0,null,0,null,null,null,0,0,0,0]
[null,0,null,0,null,null,null,0,0,0,0]
[null,0,null,0,null,null,null,0,0,0,0]
[null,0,null,0,null,null,null,0,0,0,0]
[null,0,null,0,null,null,null,0,0,0,0]
[null,0,null,0,null,null,null,0,0,0,0]
[null,0,null,0,null,null,null,0,0,0,0]
[null,0,null,0,null,null,null,0,0,0,0]
[null,0,null,0,null,null,null,0,0,0,0]
[null,0,null,0,null,null,null,0,0,0,0]
[null,0,null,0,null,null,null,0,0,0,0]
[null,0,null,0,null,null,null,0,0,0,0]
[null,0,null,0,null,null,null,0,0,0,0]
[null,0,null,0,null,null,null,0,0,0,0]
[null,0,null,0,null,null,null,0,0,0,0]
[null,0,null,0,null,null,null,0,0,0,0]
[null,0,null,0,null,null,null,0,0,0,0]
[null,0,null,0,null,null,null,0,0,0,0]
[null,0,null,0,null,null,null,0,0,0,0]
[null,0,null,0,null,null,null,0,0,0,0]
[null,0,null,0,null,null,null,0,0,0,0]
[null,0,null,0,null,null,null,0,0,0,0]
[null,0,null,0,null,null,null,0,0,0,0]
[null,0,null,0,null,null,null,0,0,0,0]
[null,0,null,0,null,null,null,0,0,0,0]
[null,0,null,0,null,null,null,0,0,0,0]
[null,0,null,0,null,null,null,0,0,0,0]
[null,0,null,0,null,null,null,0,0,0,0]
[null,0,null,0,null,null,null,0,0,0,0]
[null,0,null,0,null,null,null,0,0,0,0]
[null,0,null,0,null,null,null,0,0,0,0]
[null,0,null,0,null,null,null,0,0,0,0]
[null,0,null,0,null,null,null,0,0,0,0]
[null,0,null,0,null,null,null,0,0,0,0]
[null,0,null,0,null,null,null,0,0,0,0]
[null,0,null,0,null,null,null,0,0,0,0]
[null,0,null,0,null,null,null,0,0,0,0]
[null,0,null,0,null,null,null,0,0,0,0]
[null,0,null,0,null,null,null,0,0,0,0]
[null,0,null,0,null,null,null,0,0,0,0]
[null,0,null,0,null,null,null,0,0,0,0]
[null,0,null,0,null,null,null,0,0,0,0]
[null,0,null,0,null,null,null,0,0,0,0]
[null,0,null,0,null,null,null,0,0,0,0]
[null,0,null,0,null,null,null,0,0,0,0]
[null,0,null,0,null,null,null,0,0,0,0]
[null,0,null,0,null,null,null,0,0,0,0]
[null,0,null,0,null,null,null,0,0,0,0]
[null,0,null,0,null,null,null,0,0,0,0]
[null,0,null,0,null,null,null,0,0,0,0]
[null,0,null,0,null,null,null,0,0,0,0]
[null,0,null,0,null,null,null,0,0,0,0]
[null,0,null,0,null,null,null,0,0,0,0]
[null,0,null,0,null,null,null,0,0,0,0]
[null,0,null,0,null,null,null,0,0,0,0]
[null,0,null,0,null,null,null,0,0,0,0]
[null,0,null,0,null,null,null,0,0,0,0]
[null,0,null,0,null,null,null,0,0,0,0]
[null,0,null,0,null,null,null,0,0,0,0]
[null,0,null,0,null,null,null,0,0,0,0]
[null,0,null,0,null,null,null,0,0,0,0]
[null,0,null,0,null,null,null,0,0,0,0]
[null,0,null,0,null,null,null,0,0,0,0]
[null,0,null,0,null,null,null,0,0,0,0]
[null,0,null,0,null,null,null,0,0,0,0]
[null,0,null,0,null,null,null,0,0,0,0]
[null,0,null,0,null,null,null,0,0,0,0]
[null,0,null,0,null,null,null,0,0,0,0]
[null,0,null,0,null,null,null,0,0,0,0]
[null,0,null,0,null,null,null,0,0,0,0]
[null,0,null,0,null,null,null,0,0,0,0]
[null,0,null,0,null,null,null,0,0,0,0]
[null,0,null,0,null,null,null,0,0,0,0]
[null,0,null,0,null,null,null,0,0,0,0]
[null,0,null,0,null,null,null,0,0,0,0]
[null,0,null,0,null,null,null,0,0,0,0]
[null,0,null,0,null,null,null,0,0,0,0]
[null,0,null,0,null,null,null,0,0,0,0]
[null,0,null,0,null,null,null,0,0,0,0]
[null,0,null,0,null,null,null,0,0,0,0]
[null,0,null,0,null,null,null,0,0,0,0]
[null,0,null,0,null,null,null,0,0,0,0]
[null,0,null,0,null,null,null,0,0,0,0]
[null,0,null,0,null,null,null,0,0,0,0]
[null,0,null,0,null,null,null,0,0,0,0]
[null,0,null,0,null,null,null,0,0,0,0]
[null,0,null,0,null,null,null,0,0,0,0]
[null,0,null,0,null,null,null,0,0,0,0]
[null,0,null,0,null,null,null,0,0,0,0]
[null,0,null,0,null,null,null,0,0,0,0]
[null,0,null,0,null,null,null,0,0,0,0]
[null,0,null,0,null,null,null,0,0,0,0]
[null,0,null,0,null,null,null,0,0,0,0]
[null,0,null,0,null,null,null,0,0,0,0]
[null,0,null,0,null,null,null,0,0,0,0]
[null,0,null,0,null,null,null,0,0,0,0]
[null,0,null,0,null,null,null,0,0,0,0]
[null,0,null,0,null,null,null,0,0,0,0]
[null,0,null,0,null,null,null,0,0,0,0]
[null,0,null,0,null,null,null,0,0,0,0]
[null,0,null,0,null,null,null,0,0,0,0]
[null,0,null,0,null,null,null,0,0,0,0]
[null,0,null,0,null,null,null,0,0,0,0]
[null,0,null,0,null,null,null,0,0,0,0]
[null,0,null,0,null,null,null,0,0,0,0]
[null,0,null,0,null,null,null,0,0,0,0]
[null,0,null,0,null,null,null,0,0,0,0]
[null,0,null,0,null,null,null,0,0,0,0]
[null,0,null,0,null,null,null,0,0,0,0]
[null,0,null,0,null,null,null,0,0,0,0]
[null,0,null,0,null,null,null,0,0,0,0]
[null,0,null,0,null,null,null,0,0,0,0]
[null,0,null,0,null,null,null,0,0,0,0]
[null,0,null,0,null,null,null,0,0,0,0]
[null,0,null,0,null,null,null,0,0,0,0]
[null,0,null,0,null,null,null,0,0,0,0]
[null,0,null,0,null,null,null,0,0,0,0]
[null,0,null,0,null,null,null,0,0,0,0]
[null,0,null,0,null,null,null,0,0,0,0]
[null,0,null,0,null,null,null,0,0,0,0]
[null,0,null,0,null,null,null,0,0,0,0]
[null,0,null,0,null,null,null,0,0,0,0]
[null,0,null,0,null,null,null,0,0,0,0]
[null,0,null,0,null,null,null,0,0,0,0]
[null,0,null,0,null,null,null,0,0,0,0]
[null,0,null,0,null,null,null,0,0,0,0]
[null,0,null,0,null,null,null,0,0,0,0]
[null,0,null,0,null,null,null,0,0,0,0]
[null,0,null,0,null,null,null,0,0,0,0]
[null,0,null,0,null,null,null,0,0,0,0]
[null,0,null,0,null,null,null,0,0,0,0]
[null,0,null,0,null,null,null,0,0,0,0]
[null,0,null,0,null,null,null,0,0,0,0]
[null,0,null,0,null,null,null,0,0,0,0]
[null,0,null,0,null,null,null,0,0,0,0]
[null,0,null,0,null,null,null,0,0,0,0]
[null,0,null,0,null,null,null,0,0,0,0]
[null,0,null,0,null,null,null,0,0,0,0]
[null,0,null,0,null,null,null,0,0,0,0]
[null,0,null,0,null,null,null,0,0,0,0]
[null,0,null,0,null,null,null,0,0,0,0]
[null,0,null,0,null,null,null,0,0,0,0]
[null,0,null,0,null,null,null,0,0,0,0]
[null,0,null,0,null,null,null,0,0,0,0]
[null,0,null,0,null,null,null,0,0,0,0]
[null,0,null,0,null,null,null,0,0,0,0]
[null,0,null,0,null,null,null,0,0,0,0]
[null,0,null,0,null,null,null,0,0,0,0]
[null,0,null,0,null,null,null,0,0,0,0]
[null,0,null,0,null,null,null,0,0,0,0]
[null,0,null,0,null,null,null,0,0,0,0]
[null,0,null,0,null,null,null,0,0,0,0]
[null,0,null,0,null,null,null,0,0,0,0]
[null,0,null,0,null,null,null,0,0,0,0]
[null,0,null,0,null,null,null,0,0,0,0]
[null,0,null,0,null,null,null,0,0,0,0]
[null,0,null,0,null,null,null,0,0,0,0]
[null,0,null,0,null,null,null,0,0,0,0]
[null,0,null,0,null,null,null,0,0,0,0]
[null,0,null,0,null,null,null,0,0,0,0]
[null,0,null,0,null,null,null,0,0,0,0]
[null,0,null,0,null,null,null,0,0,0,0]
[null,0,null,0,null,null,null,0,0,0,0]
[null,0,null,0,null,null,null,0,0,0,0]
[null,0,null,0,null,null,null,0,0,0,0]
[null,0,null,0,null,null,null,0,0,0,0]
[null,0,null,0,null,null,null,0,0,0,0]
[null,0,null,0,null,null,null,0,0,0,0]
[null,0,null,0,null,null,null,0,0,0,0]
[null,0,null,0,null,null,null,0,0,0,0]
[null,0,null,0,null,null,null,0,0,0,0]
[null,0,null,0,null,null,null,0,0,0,0]
[null,0,null,0,null,null,null,0,0,0,0]
[null,0,null,0,null,null,null,0,0,0,0]
[null,0,null,0,null,null,null,0,0,0,0]
[null,0,null,0,null,null,null,0,0,0,0]
[null,0,null,0,null,null,null,0,0,0,0]
[null,0,null,0,null,null,null,0,0,0,0]
[null,0,null,0,null,null,null,0,0,0,0]
[null,0,null,0,null,null,null,0,0,0,0]
[null,0,null,0,null,null,null,0,0,0,0]
[null,0,null,0,null,null,null,0,0,0,0]
[null,0,null,0,null,null,null,0,0,0,0]
[null,0,null,0,null,null,null,0,0,0,0]
[null,0,null,0,null,null,null,0,0,0,0]
[null,0,null,0,null,null,null,0,0,0,0]
[null,0,null,0,null,null,null,0,0,0,0]
[null,0,null,0,null,null,null,0,0,0,0]
[null,0,null,0,null,null,null,0,0,0,0]
[null,0,null,0,null,null,null,0,0,0,0]
[null,0,null,0,null,null,null,0,0,0,0]
[null,0,null,0,null,null,null,0,0,0,0]
[null,0,null,0,null,null,null,0,0,0,0]
[null,0,null,0,null,null,null,0,0,0,0]
[null,0,null,0,null,null,null,0,0,0,0]
[null,0,null,0,null,null,null,0,0,0,0]
[null,0,null,0,null,null,null,0,0,0,0]
[null,0,null,0,null,null,null,0,0,0,0]
[null,0,null,0,null,null,null,0,0,0,0]
[null,0,null,0,null,null,null,0,0,0,0]
[null,0,null,0,null,null,null,0,0,0,0]
[null,0,null,0,null,null,null,0,0,0,0]
[null,0,null,0,null,null,null,0,0,0,0]
[null,0,null,0,null,null,null,0,0,0,0]
[null,0,null,0,null,null,null,0,0,0,0]
[null,0,null,0,null,null,null,0,0,0,0]
[null,0,null,0,null,null,null,0,0,0,0]
[null,0,null,0,null,null,null,0,0,0,0]
[null,0,null,0,null,null,null,0,0,0,0]
[null,0,null,0,null,null,null,0,0,0,0]
[null,0,null,0,null,null,null,0,0,0,0]
[null,0,null,0,null,null,null,0,0,0,0]
[null,0,null,0,null,null,null,0,0,0,0]
[null,0,null,0,null,null,null,0,0,0,0]
[null,0,null,0,null,null,null,0,0,0,0]
[null,0,null,0,null,null,null,0,0,0,0]
[null,0,null,0,null,null,null,0,0,0,0]
[null,0,null,0,null,null,null,0,0,0,0]
[null,0,null,0,null,null,null,0,0,0,0]
[null,0,null,0,null,null,null,0,0,0,0]
[null,0,null,0,null,null,null,0,0,0,0]
[null,0,null,0,null,null,null,0,0,0,0]
[null,0,null,0,null,null,null,0,0,0,0]
[null,0,null,0,null,null,null,0,0,0,0]
[null,0,null,0,null,null,null,0,0,0,0]
[null,0,null,0,null,null,null,0,0,0,0]
[null,0,null,0,null,null,null,0,0,0,0]
[null,0,null,0,null,null,null,0,0,0,0]
[null,0,null,0,null,null,null,0,0,0,0]
[null,0,null,0,null,null,null,0,0,0,0]
[null,0,null,0,null,null,null,0,0,0,0]
[null,0,null,0,null,null,null,0,0,0,0]
[null,0,null,0,null,null,null,0,0,0,0]
[null,0,null,0,null,null,null,0,0,0,0]
[null,0,null,0,null,null,null,0,0,0,0]
[null,0,null,0,null,null,null,0,0,0,0]
[null,0,null,0,null,null,null,0,0,0,0]
[null,0,null,0,null,null,null,0,0,0,0]
[null,0,null,0,null,null,null,0,0,0,0]
[null,0,null,0,null,null,null,0,0,0,0]
[null,0,null,0,null,null,null,0,0,0,0]
[null,0,null,0,null,null,null,0,0,0,0]
[null,0,null,0,null,null,null,0,0,0,0]
[null,0,null,0,null,null,null,0,0,0,0]
[null,0,null,0,null,null,null,0,0,0,0]
[null,0,null,0,null,null,null,0,0,0,0]
[null,0,null,0,null,null,null,0,0,0,0]
[null,0,null,0,null,null,null,0,0,0,0]
[null,0,null,0,null,null,null,0,0,0,0]
[null,0,null,0,null,null,null,0,0,0,0]
[null,0,null,0,null,null,null,0,0,0,0]
[null,0,null,0,null,null,null,0,0,0,0]
[null,0,null,0,null,null,null,0,0,0,0]
[null,0,null,0,null,null,null,0,0,0,0]
[null,0,null,0,null,null,null,0,0,0,0]
[null,0,null,0,null,null,null,0,0,0,0]
[null,0,null,0,null,null,null,0,0,0,0]
[null,0,null,0,null,null,null,0,0,0,0]
[null,0,null,0,null,null,null,0,0,0,0]
[null,0,null,0,null,null,null,0,0,0,0]
[null,0,null,0,null,null,null,0,0,0,0]
[null,0,null,0,null,null,null,0,0,0,0]
[null,0,null,0,null,null,null,0,0,0,0]
[null,0,null,0,null,null,null,0,0,0,0]
[null,0,null,0,null,null,null,0,0,0,0]
[null,0,null,0,null,null,null,0,0,0,0]
[null,0,null,0,null,null,null,0,0,0,0]
[null,0,null,0,null,null,null,0,0,0,0]
[null,0,null,0,null,null,null,0,0,0,0]
[null,0,null,0,null,null,null,0,0,0,0]
[null,0,null,0,null,null,null,0,0,0,0]
[null,0,null,0,null,null,null,0,0,0,0]
[null,0,null,0,null,null,null,0,0,0,0]
[null,0,null,0,null,null,null,0,0,0,0]
[null,0,null,0,null,null,null,0,0,0,0]
[null,0,null,0,null,null,null,0,0,0,0]
[null,0,null,0,null,null,null,0,0,0,0]
[null,0,null,0,null,null,null,0,0,0,0]
[null,0,null,0,null,null,null,0,0,0,0]
[null,0,null,0,null,null,null,0,0,0,0]
[null,0,null,0,null,null,null,0,0,0,0]
[null,0,null,0,null,null,null,0,0,0,0]
[null,0,null,0,null,null,null,0,0,0,0]
[null,0,null,0,null,null,null,0,0,0,0]
[null,0,null,0,null,null,null,0,0,0,0]
[null,0,null,0,null,null,null,0,0,0,0]
[null,0,null,0,null,null,null,0,0,0,0]
[null,0,null,0,null,null,null,0,0,0,0]
[null,0,null,0,null,null,null,0,0,0,0]
[null,0,null,0,null,null,null,0,0,0,0]
[null,0,null,0,null,null,null,0,0,0,0]
[null,0,null,0,null,null,null,0,0,0,0]
[null,0,null,0,null,null,null,0,0,0,0]
[null,0,null,0,null,null,null,0,0,0,0]
[null,0,null,0,null,null,null,0,0,0,0]
[null,0,null,0,null,null,null,0,0,0,0]
[null,0,null,0,null,null,null,0,0,0,0]
[null,0,null,0,null,null,null,0,0,0,0]
[null,0,null,0,null,null,null,0,0,0,0]
[null,0,null,0,null,null,null,0,0,0,0]
[null,0,null,0,null,null,null,0,0,0,0]
[null,0,null,0,null,null,null,0,0,0,0]
[null,0,null,0,null,null,null,0,0,0,0]
[null,0,null,0,null,null,null,0,0,0,0]
[null,0,null,0,null,null,null,0,0,0,0]
[null,0,null,0,null,null,null,0,0,0,0]
[null,0,null,0,null,null,null,0,0,0,0]
[null,0,null,0,null,null,null,0,0,0,0]
[null,0,null,0,null,null,null,0,0,0,0]
[null,0,null,0,null,null,null,0,0,0,0]
[null,0,null,0,null,null,null,0,0,0,0]
[null,0,null,0,null,null,null,0,0,0,0]
[null,0,null,0,null,null,null,0,0,0,0]
[null,0,null,0,null,null,null,0,0,0,0]
[null,0,null,0,null,null,null,0,0,0,0]
[null,0,null,0,null,null,null,0,0,0,0]
[null,0,null,0,null,null,null,0,0,0,0]
[null,0,null,0,null,null,null,0,0,0,0]
[null,0,null,0,null,null,null,0,0,0,0]
[null,0,null,0,null,null,null,0,0,0,0]
[null,0,null,0,null,null,null,0,0,0,0]
[null,0,null,0,null,null,null,0,0,0,0]
[null,0,null,0,null,null,null,0,0,0,0]
[null,0,null,0,null,null,null,0,0,0,0]
[null,0,null,0,null,null,null,0,0,0,0]
[null,0,null,0,null,null,null,0,0,0,0]
[null,0,null,0,null,null,null,0,0,0,0]
[null,0,null,0,null,null,null,0,0,0,0]
[null,0,null,0,null,null,null,0,0,0,0]
[null,0,null,0,null,null,null,0,0,0,0]
[null,0,null,0,null,null,null,0,0,0,0]
[null,0,null,0,null,null,null,0,0,0,0]
[null,0,null,0,null,null,null,0,0,0,0]
[null,0,null,0,null,null,null,0,0,0,0]
[null,0,null,0,null,null,null,0,0,0,0]
[null,0,null,0,null,null,null,0,0,0,0]
[null,0,null,0,null,null,null,0,0,0,0]
[null,0,null,0,null,null,null,0,0,0,0]
[null,0,null,0,null,null,null,0,0,0,0]
[null,0,null,0,null,null,null,0,0,0,0]
[null,0,null,0,null,null,null,0,0,0,0]
[null,0,null,0,null,null,null,0,0,0,0]
[null,0,null,0,null,null,null,0,0,0,0]
[null,0,null,0,null,null,null,0,0,0,0]
[null,0,null,0,null,null,null,0,0,0,0]
[null,0,null,0,null,null,null,0,0,0,0]
[null,0,null,0,null,null,null,0,0,0,0]
[null,0,null,0,null,null,null,0,0,0,0]
[null,0,null,0,null,null,null,0,0,0,0]
[null,0,null,0,null,null,null,0,0,0,0]
[null,0,null,0,null,null,null,0,0,0,0]
[null,0,null,0,null,null,null,0,0,0,0]
[null,0,null,0,null,null,null,0,0,0,0]
[null,0,null,0,null,null,null,0,0,0,0]
[null,0,null,0,null,null,null,0,0,0,0]
[null,0,null,0,null,null,null,0,0,0,0]
[null,0,null,0,null,null,null,0,0,0,0]
[null,0,null,0,null,null,null,0,0,0,0]
[null,0,null,0,null,null,null,0,0,0,0]
[null,0,null,0,null,null,null,0,0,0,0]
[null,0,null,0,null,null,null,0,0,0,0]
[null,0,null,0,null,null,null,0,0,0,0]
[null,0,null,0,null,null,null,0,0,0,0]
[null,0,null,0,null,null,null,0,0,0,0]
[null,0,null,0,null,null,null,0,0,0,0]
[null,0,null,0,null,null,null,0,0,0,0]
[null,0,null,0,null,null,null,0,0,0,0]
[null,0,null,0,null,null,null,0,0,0,0]
[null,0,null,0,null,null,null,0,0,0,0]
[null,0,null,0,null,null,null,0,0,0,0]
[null,0,null,0,null,null,null,0,0,0,0]
[null,0,null,0,null,null,null,0,0,0,0]
[null,0,null,0,null,null,null,0,0,0,0]
[null,0,null,0,null,null,null,0,0,0,0]
[null,0,null,0,null,null,null,0,0,0,0]
[null,0,null,0,null,null,null,0,0,0,0]
[null,0,null,0,null,null,null,0,0,0,0]
[null,0,null,0,null,null,null,0,0,0,0]
[null,0,null,0,null,null,null,0,0,0,0]
[null,0,null,0,null,null,null,0,0,0,0]
[null,0,null,0,null,null,null,0,0,0,0]
[null,0,null,0,null,null,null,0,0,0,0]
[null,0,null,0,null,null,null,0,0,0,0]
[null,0,null,0,null,null,null,0,0,0,0]
[null,0,null,0,null,null,null,0,0,0,0]
[null,0,null,0,null,null,null,0,0,0,0]
[null,0,null,0,null,null,null,0,0,0,0]
[null,0,null,0,null,null,null,0,0,0,0]
[null,0,null,0,null,null,null,0,0,0,0]
[null,0,null,0,null,null,null,0,0,0,0]
[null,0,null,0,null,null,null,0,0,0,0]
[null,0,null,0,null,null,null,0,0,0,0]
[null,0,null,0,null,null,null,0,0,0,0]
[null,0,null,0,null,null,null,0,0,0,0]
[null,0,null,0,null,null,null,0,0,0,0]
[null,0,null,0,null,null,null,0,0,0,0]
[null,0,null,0,null,null,null,0,0,0,0]
[null,0,null,0,null,null,null,0,0,0,0]
[null,0,null,0,null,null,null,0,0,0,0]
[null,0,null,0,null,null,null,0,0,0,0]
[null,0,null,0,null,null,null,0,0,0,0]
[null,0,null,0,null,null,null,0,0,0,0]
[null,0,null,0,null,null,null,0,0,0,0]
[null,0,null,0,null,null,null,0,0,0,0]
[null,0,null,0,null,null,null,0,0,0,0]
[null,0,null,0,null,null,null,0,0,0,0]
[null,0,null,0,null,null,null,0,0,0,0]
[null,0,null,0,null,null,null,0,0,0,0]
[null,0,null,0,null,null,null,0,0,0,0]
[null,0,null,0,null,null,null,0,0,0,0]
[null,0,null,0,null,null,null,0,0,0,0]
[null,0,null,0,null,null,null,0,0,0,0]
[null,0,null,0,null,null,null,0,0,0,0]
[null,0,null,0,null,null,null,0,0,0,0]
[null,0,null,0,null,null,null,0,0,0,0]
[null,0,null,0,null,null,null,0,0,0,0]
[null,0,null,0,null,null,null,0,0,0,0]
[null,0,null,0,null,null,null,0,0,0,0]
[null,0,null,0,null,null,null,0,0,0,0]
[null,0,null,0,null,null,null,0,0,0,0]
[null,0,null,0,null,null,null,0,0,0,0]
[null,0,null,0,null,null,null,0,0,0,0]
[null,0,null,0,null,null,null,0,0,0,0]
[null,0,null,0,null,null,null,0,0,0,0]
[null,0,null,0,null,null,null,0,0,0,0]
[null,0,null,0,null,null,null,0,0,0,0]
[null,0,null,0,null,null,null,0,0,0,0]
[null,0,null,0,null,null,null,0,0,0,0]
[null,0,null,0,null,null,null,0,0,0,0]
[null,0,null,0,null,null,null,0,0,0,0]
[null,0,null,0,null,null,null,0,0,0,0]
[null,0,null,0,null,null,null,0,0,0,0]
[null,0,null,0,null,null,null,0,0,0,0]
[null,0,null,0,null,null,null,0,0,0,0]
[null,0,null,0,null,null,null,0,0,0,0]
[null,0,null,0,null,null,null,0,0,0,0]
[null,0,null,0,null,null,null,0,0,0,0]
[null,0,null,0,null,null,null,0,0,0,0]
[null,0,null,0,null,null,null,0,0,0,0]
[null,0,null,0,null,null,null,0,0,0,0]
[null,0,null,0,null,null,null,0,0,0,0]
[null,0,null,0,null,null,null,0,0,0,0]
[null,0,null,0,null,null,null,0,0,0,0]
[null,0,null,0,null,null,null,0,0,0,0]
[null,0,null,0,null,null,null,0,0,0,0]
[null,0,null,0,null,null,null,0,0,0,0]
[null,0,null,0,null,null,null,0,0,0,0]
[null,0,null,0,null,null,null,0,0,0,0]
[null,0,null,0,null,null,null,0,0,0,0]
[null,0,null,0,null,null,null,0,0,0,0]
[null,0,null,0,null,null,null,0,0,0,0]
[null,0,null,0,null,null,null,0,0,0,0]
[null,0,null,0,null,null,null,0,0,0,0]
[null,0,null,0,null,null,null,0,0,0,0]
[null,0,null,0,null,null,null,0,0,0,0]
[null,0,null,0,null,null,null,0,0,0,0]
[null,0,null,0,null,null,null,0,0,0,0]
[null,0,null,0,null,null,null,0,0,0,0]
[null,0,null,0,null,null,null,0,0,0,0]
[null,0,null,0,null,null,null,0,0,0,0]
[null,0,null,0,null,null,null,0,0,0,0]
[null,0,null,0,null,null,null,0,0,0,0]
[null,0,null,0,null,null,null,0,0,0,0]
[null,0,null,0,null,null,null,0,0,0,0]
[null,0,null,0,null,null,null,0,0,0,0]
[null,0,null,0,null,null,null,0,0,0,0]
[null,0,null,0,null,null,null,0,0,0,0]
[null,0,null,0,null,null,null,0,0,0,0]
[null,0,null,0,null,null,null,0,0,0,0]
[null,0,null,0,null,null,null,0,0,0,0]
[null,0,null,0,null,null,null,0,0,0,0]
[null,0,null,0,null,null,null,0,0,0,0]
[null,0,null,0,null,null,null,0,0,0,0]
[null,0,null,0,null,null,null,0,0,0,0]
[null,0,null,0,null,null,null,0,0,0,0]
[null,0,null,0,null,null,null,0,0,0,0]
[null,0,null,0,null,null,null,0,0,0,0]
[null,0,null,0,null,null,null,0,0,0,0]
[null,0,null,0,null,null,null,0,0,0,0]
[null,0,null,0,null,null,null,0,0,0,0]
[null,0,null,0,null,null,null,0,0,0,0]
[null,0,null,0,null,null,null,0,0,0,0]
[null,0,null,0,null,null,null,0,0,0,0]
[null,0,null,0,null,null,null,0,0,0,0]
[null,0,null,0,null,null,null,0,0,0,0]
[null,0,null,0,null,null,null,0,0,0,0]
[null,0,null,0,null,null,null,0,0,0,0]
[null,0,null,0,null,null,null,0,0,0,0]
[null,0,null,0,null,null,null,0,0,0,0]
[null,0,null,0,null,null,null,0,0,0,0]
[null,0,null,0,null,null,null,0,0,0,0]
[null,0,null,0,null,null,null,0,0,0,0]
[null,0,null,0,null,null,null,0,0,0,0]
[null,0,null,0,null,null,null,0,0,0,0]
[null,0,null,0,null,null,null,0,0,0,0]
[null,0,null,0,null,null,null,0,0,0,0]
[null,0,null,0,null,null,null,0,0,0,0]
[null,0,null,0,null,null,null,0,0,0,0]
[null,0,null,0,null,null,null,0,0,0,0]
[null,0,null,0,null,null,null,0,0,0,0]
[null,0,null,0,null,null,null,0,0,0,0]
[null,0,null,0,null,null,null,0,0,0,0]
[null,0,null,0,null,null,null,0,0,0,0]
[null,0,null,0,null,null,null,0,0,0,0]
[null,0,null,0,null,null,null,0,0,0,0]
[null,0,null,0,null,null,null,0,0,0,0]
[null,0,null,0,null,null,null,0,0,0,0]
[null,0,null,0,null,null,null,0,0,0,0]
[null,0,null,0,null,null,null,0,0,0,0]
[null,0,null,0,null,null,null,0,0,0,0]
[null,0,null,0,null,null,null,0,0,0,0]
[null,0,null,0,null,null,null,0,0,0,0]
[null,0,null,0,null,null,null,0,0,0,0]
[null,0,null,0,null,null,null,0,0,0,0]
[null,0,null,0,null,null,null,0,0,0,0]
[null,0,null,0,null,null,null,0,0,0,0]
[null,0,null,0,null,null,null,0,0,0,0]
[null,0,null,0,null,null,null,0,0,0,0]
[null,0,null,0,null,null,null,0,0,0,0]
[null,0,null,0,null,null,null,0,0,0,0]
[null,0,null,0,null,null,null,0,0,0,0]
[null,0,null,0,null,null,null,0,0,0,0]
[null,0,null,0,null,null,null,0,0,0,0]
[null,0,null,0,null,null,null,0,0,0,0]
[null,0,null,0,null,null,null,0,0,0,0]
[null,0,null,0,null,null,null,0,0,0,0]
[null,0,null,0,null,null,null,0,0,0,0]
[null,0,null,0,null,null,null,0,0,0,0]
[null,0,null,0,null,null,null,0,0,0,0]
[null,0,null,0,null,null,null,0,0,0,0]
[null,0,null,0,null,null,null,0,0,0,0]
[null,0,null,0,null,null,null,0,0,0,0]
[null,0,null,0,null,null,null,0,0,0,0]
[null,0,null,0,null,null,null,0,0,0,0]
[null,0,null,0,null,null,null,0,0,0,0]
[null,0,null,0,null,null,null,0,0,0,0]
[null,0,null,0,null,null,null,0,0,0,0]
[null,0,null,0,null,null,null,0,0,0,0]
[null,0,null,0,null,null,null,0,0,0,0]
[null,0,null,0,null,null,null,0,0,0,0]
[null,0,null,0,null,null,null,0,0,0,0]
[null,0,null,0,null,null,null,0,0,0,0]
[null,0,null,0,null,null,null,0,0,0,0]
[null,0,null,0,null,null,null,0,0,0,0]
[null,0,null,0,null,null,null,0,0,0,0]
[null,0,null,0,null,null,null,0,0,0,0]
[null,0,null,0,null,null,null,0,0,0,0]
[null,0,null,0,null,null,null,0,0,0,0]
[null,0,null,0,null,null,null,0,0,0,0]
[null,0,null,0,null,null,null,0,0,0,0]
[null,0,null,0,null,null,null,0,0,0,0]
[null,0,null,0,null,null,null,0,0,0,0]
[null,0,null,0,null,null,null,0,0,0,0]
[null,0,null,0,null,null,null,0,0,0,0]
[null,0,null,0,null,null,null,0,0,0,0]
[null,0,null,0,null,null,null,0,0,0,0]
[null,0,null,0,null,null,null,0,0,0,0]
[null,0,null,0,null,null,null,0,0,0,0]
[null,0,null,0,null,null,null,0,0,0,0]
[null,0,null,0,null,null,null,0,0,0,0]
[null,0,null,0,null,null,null,0,0,0,0]
[null,0,null,0,null,null,null,0,0,0,0]
[null,0,null,0,null,null,null,0,0,0,0]
[null,0,null,0,null,null,null,0,0,0,0]
[null,0,null,0,null,null,null,0,0,0,0]
[null,0,null,0,null,null,null,0,0,0,0]
[null,0,null,0,null,null,null,0,0,0,0]
[null,0,null,0,null,null,null,0,0,0,0]
[null,0,null,0,null,null,null,0,0,0,0]
[null,0,null,0,null,null,null,0,0,0,0]
[null,0,null,0,null,null,null,0,0,0,0]
[null,0,null,0,null,null,null,0,0,0,0]
[null,0,null,0,null,null,null,0,0,0,0]
[null,0,null,0,null,null,null,0,0,0,0]
[null,0,null,0,null,null,null,0,0,0,0]
[null,0,null,0,null,null,null,0,0,0,0]
[null,0,null,0,null,null,null,0,0,0,0]
[null,0,null,0,null,null,null,0,0,0,0]
[null,0,null,0,null,null,null,0,0,0,0]
[null,0,null,0,null,null,null,0,0,0,0]
[null,0,null,0,null,null,null,0,0,0,0]
[null,0,null,0,null,null,null,0,0,0,0]
[null,0,null,0,null,null,null,0,0,0,0]
[null,0,null,0,null,null,null,0,0,0,0]
[null,0,null,0,null,null,null,0,0,0,0]
[null,0,null,0,null,null,null,0,0,0,0]
[null,0,null,0,null,null,null,0,0,0,0]
[null,0,null,0,null,null,null,0,0,0,0]
[null,0,null,0,null,null,null,0,0,0,0]
[null,0,null,0,null,null,null,0,0,0,0]
[null,0,null,0,null,null,null,0,0,0,0]
[null,0,null,0,null,null,null,0,0,0,0]
[null,0,null,0,null,null,null,0,0,0,0]
[null,0,null,0,null,null,null,0,0,0,0]
[null,0,null,0,null,null,null,0,0,0,0]
[null,0,null,0,null,null,null,0,0,0,0]
[null,0,null,0,null,null,null,0,0,0,0]
[null,0,null,0,null,null,null,0,0,0,0]
[null,0,null,0,null,null,null,0,0,0,0]
[null,0,null,0,null,null,null,0,0,0,0]
[null,0,null,0,null,null,null,0,0,0,0]
[null,0,null,0,null,null,null,0,0,0,0]
[null,0,null,0,null,null,null,0,0,0,0]
[null,0,null,0,null,null,null,0,0,0,0]
[null,0,null,0,null,null,null,0,0,0,0]
[null,0,null,0,null,null,null,0,0,0,0]
[null,0,null,0,null,null,null,0,0,0,0]
[null,0,null,0,null,null,null,0,0,0,0]
[null,0,null,0,null,null,null,0,0,0,0]
[null,0,null,0,null,null,null,0,0,0,0]
[null,0,null,0,null,null,null,0,0,0,0]
[null,0,null,0,null,null,null,0,0,0,0]
[null,0,null,0,null,null,null,0,0,0,0]
[null,0,null,0,null,null,null,0,0,0,0]
[null,0,null,0,null,null,null,0,0,0,0]
[null,0,null,0,null,null,null,0,0,0,0]
[null,0,null,0,null,null,null,0,0,0,0]
[null,0,null,0,null,null,null,0,0,0,0]
[null,0,null,0,null,null,null,0,0,0,0]
[null,0,null,0,null,null,null,0,0,0,0]
[null,0,null,0,null,null,null,0,0,0,0]
[null,0,null,0,null,null,null,0,0,0,0]
[null,0,null,0,null,null,null,0,0,0,0]
[null,0,null,0,null,null,null,0,0,0,0]
[null,0,null,0,null,null,null,0,0,0,0]
[null,0,null,0,null,null,null,0,0,0,0]
[null,0,null,0,null,null,null,0,0,0,0]
[null,0,null,0,null,null,null,0,0,0,0]
[null,0,null,0,null,null,null,0,0,0,0]
[null,0,null,0,null,null,null,0,0,0,0]
[null,0,null,0,null,null,null,0,0,0,0]
[null,0,null,0,null,null,null,0,0,0,0]
[null,0,null,0,null,null,null,0,0,0,0]
[null,0,null,0,null,null,null,0,0,0,0]
[null,0,null,0,null,null,null,0,0,0,0]
[null,0,null,0,null,null,null,0,0,0,0]
[null,0,null,0,null,null,null,0,0,0,0]
[null,0,null,0,null,null,null,0,0,0,0]
[null,0,null,0,null,null,null,0,0,0,0]
[null,0,null,0,null,null,null,0,0,0,0]
[null,0,null,0,null,null,null,0,0,0,0]
[null,0,null,0,null,null,null,0,0,0,0]
[null,0,null,0,null,null,null,0,0,0,0]
[null,0,null,0,null,null,null,0,0,0,0]
[null,0,null,0,null,null,null,0,0,0,0]
[null,0,null,0,null,null,null,0,0,0,0]
[null,0,null,0,null,null,null,0,0,0,0]
[null,0,null,0,null,null,null,0,0,0,0]
[null,0,null,0,null,null,null,0,0,0,0]
[null,0,null,0,null,null,null,0,0,0,0]
[null,0,null,0,null,null,null,0,0,0,0]
[null,0,null,0,null,null,null,0,0,0,0]
[null,0,null,0,null,null,null,0,0,0,0]
[null,0,null,0,null,null,null,0,0,0,0]
[null,0,null,0,null,null,null,0,0,0,0]
[null,0,null,0,null,null,null,0,0,0,0]
[null,0,null,0,null,null,null,0,0,0,0]
[null,0,null,0,null,null,null,0,0,0,0]
[null,0,null,0,null,null,null,0,0,0,0]
[null,0,null,0,null,null,null,0,0,0,0]
[null,0,null,0,null,null,null,0,0,0,0]
[null,0,null,0,null,null,null,0,0,0,0]
[null,0,null,0,null,null,null,0,0,0,0]
[null,0,null,0,null,null,null,0,0,0,0]
[null,0,null,0,null,null,null,0,0,0,0]
[null,0,null,0,null,null,null,0,0,0,0]
[null,0,null,0,null,null,null,0,0,0,0]
[null,0,null,0,null,null,null,0,0,0,0]
[null,0,null,0,null,null,null,0,0,0,0]
[null,0,null,0,null,null,null,0,0,0,0]
[null,0,null,0,null,null,null,0,0,0,0]
[null,0,null,0,null,null,null,0,0,0,0]
[null,0,null,0,null,null,null,0,0,0,0]
[null,0,null,0,null,null,null,0,0,0,0]
[null,0,null,0,null,null,null,0,0,0,0]
[null,0,null,0,null,null,null,0,0,0,0]
[null,0,null,0,null,null,null,0,0,0,0]
[null,0,null,0,null,null,null,0,0,0,0]
[null,0,null,0,null,null,null,0,0,0,0]
[null,0,null,0,null,null,null,0,0,0,0]
[null,0,null,0,null,null,null,0,0,0,0]
[null,0,null,0,null,null,null,0,0,0,0]
[null,0,null,0,null,null,null,0,0,0,0]
[null,0,null,0,null,null,null,0,0,0,0]
[null,0,null,0,null,null,null,0,0,0,0]
[null,0,null,0,null,null,null,0,0,0,0]
[null,0,null,0,null,null,null,0,0,0,0]
[null,0,null,0,null,null,null,0,0,0,0]
[null,0,null,0,null,null,null,0,0,0,0]
[null,0,null,0,null,null,null,0,0,0,0]
[null,0,null,0,null,null,null,0,0,0,0]
[null,0,null,0,null,null,null,0,0,0,0]
[null,0,null,0,null,null,null,0,0,0,0]
[null,0,null,0,null,null,null,0,0,0,0]
[null,0,null,0,null,null,null,0,0,0,0]
[null,0,null,0,null,null,null,0,0,0,0]
[null,0,null,0,null,null,null,0,0,0,0]
[null,0,null,0,null,null,null,0,0,0,0]
[null,0,null,0,null,null,null,0,0,0,0]
[null,0,null,0,null,null,null,0,0,0,0]
[null,0,null,0,null,null,null,0,0,0,0]
[null,0,null,0,null,null,null,0,0,0,0]
[null,0,null,0,null,null,null,0,0,0,0]
[null,0,null,0,null,null,null,0,0,0,0]
[null,0,null,0,null,null,null,0,0,0,0]
[null,0,null,0,null,null,null,0,0,0,0]
[null,0,null,0,null,null,null,0,0,0,0]
[null,0,null,0,null,null,null,0,0,0,0]
[null,0,null,0,null,null,null,0,0,0,0]
[null,0,null,0,null,null,null,0,0,0,0]
[null,0,null,0,null,null,null,0,0,0,0]
[null,0,null,0,null,null,null,0,0,0,0]
[null,0,null,0,null,null,null,0,0,0,0]
[null,0,null,0,null,null,null,0,0,0,0]
[null,0,null,0,null,null,null,0,0,0,0]
[null,0,null,0,null,null,null,0,0,0,0]
[null,0,null,0,null,null,null,0,0,0,0]
[null,0,null,0,null,null,null,0,0,0,0]
[null,0,null,0,null,null,null,0,0,0,0]
[null,0,null,0,null,null,null,0,0,0,0]
[null,0,null,0,null,null,null,0,0,0,0]
[null,0,null,0,null,null,null,0,0,0,0]
[null,0,null,0,null,null,null,0,0,0,0]
[null,0,null,0,null,null,null,0,0,0,0]
[null,0,null,0,null,null,null,0,0,0,0]
[null,0,null,0,null,null,null,0,0,0,0]
[null,0,null,0,null,null,null,0,0,0,0]
[null,0,null,0,null,null,null,0,0,0,0]
[null,0,null,0,null,null,null,0,0,0,0]
[null,0,null,0,null,null,null,0,0,0,0]
[null,0,null,0,null,null,null,0,0,0,0]
[null,0,null,0,null,null,null,0,0,0,0]
[null,0,null,0,null,null,null,0,0,0,0]
[null,0,null,0,null,null,null,0,0,0,0]
[null,0,null,0,null,null,null,0,0,0,0]
[null,0,null,0,null,null,null,0,0,0,0]
[null,0,null,0,null,null,null,0,0,0,0]
[null,0,null,0,null,null,null,0,0,0,0]
[null,0,null,0,null,null,null,0,0,0,0]
[null,0,null,0,null,null,null,0,0,0,0]
[null,0,null,0,null,null,null,0,0,0,0]
[null,0,null,0,null,null,null,0,0,0,0]
[null,0,null,0,null,null,null,0,0,0,0]
[null,0,null,0,null,null,null,0,0,0,0]
[null,0,null,0,null,null,null,0,0,0,0]
[null,0,null,0,null,null,null,0,0,0,0]
[null,0,null,0,null,null,null,0,0,0,0]
[null,0,null,0,null,null,null,0,0,0,0]
[null,0,null,0,null,null,null,0,0,0,0]
[null,0,null,0,null,null,null,0,0,0,0]
[null,0,null,0,null,null,null,0,0,0,0]
[null,0,null,0,null,null,null,0,0,0,0]
[null,0,null,0,null,null,null,0,0,0,0]
[null,0,null,0,null,null,null,0,0,0,0]
[null,0,null,0,null,null,null,0,0,0,0]
[null,0,null,0,null,null,null,0,0,0,0]
[null,0,null,0,null,null,null,0,0,0,0]
[null,0,null,0,null,null,null,0,0,0,0]
[null,0,null,0,null,null,null,0,0,0,0]
[null,0,null,0,null,null,null,0,0,0,0]
[null,0,null,0,null,null,null,0,0,0,0]
[null,0,null,0,null,null,null,0,0,0,0]
[null,0,null,0,null,null,null,0,0,0,0]
[null,0,null,0,null,null,null,0,0,0,0]
[null,0,null,0,null,null,null,0,0,0,0]
[null,0,null,0,null,null,null,0,0,0,0]
[null,0,null,0,null,null,null,0,0,0,0]
[null,0,null,0,null,null,null,0,0,0,0]
[null,0,null,0,null,null,null,0,0,0,0]
[null,0,null,0,null,null,null,0,0,0,0]
[null,0,null,0,null,null,null,0,0,0,0]
[null,0,null,0,null,null,null,0,0,0,0]
[null,0,null,0,null,null,null,0,0,0,0]
[null,0,null,0,null,null,null,0,0,0,0]
[null,0,null,0,null,null,null,0,0,0,0]
[null,0,null,0,null,null,null,0,0,0,0]
[null,0,null,0,null,null,null,0,0,0,0]
[null,0,null,0,null,null,null,0,0,0,0]
[null,0,null,0,null,null,null,0,0,0,0]
[null,0,null,0,null,null,null,0,0,0,0]
[null,0,null,0,null,null,null,0,0,0,0]
[null,0,null,0,null,null,null,0,0,0,0]
[null,0,null,0,null,null,null,0,0,0,0]
[null,0,null,0,null,null,null,0,0,0,0]
[null,0,null,0,null,null,null,0,0,0,0]
[null,0,null,0,null,null,null,0,0,0,0]
[null,0,null,0,null,null,null,0,0,0,0]
[null,0,null,0,null,null,null,0,0,0,0]
[null,0,null,0,null,null,null,0,0,0,0]
[null,0,null,0,null,null,null,0,0,0,0]
[null,0,null,0,null,null,null,0,0,0,0]
[null,0,null,0,null,null,null,0,0,0,0]
[null,0,null,0,null,null,null,0,0,0,0]
[null,0,null,0,null,null,null,0,0,0,0]
[null,0,null,0,null,null,null,0,0,0,0]
[null,0,null,0,null,null,null,0,0,0,0]
[null,0,null,0,null,null,null,0,0,0,0]
[null,0,null,0,null,null,null,0,0,0,0]
[null,0,null,0,null,null,null,0,0,0,0]
[null,0,null,0,null,null,null,0,0,0,0]
[null,0,null,0,null,null,null,0,0,0,0]
[null,0,null,0,null,null,null,0,0,0,0]
[null,0,null,0,null,null,null,0,0,0,0]
[null,0,null,0,null,null,null,0,0,0,0]
[null,0,null,0,null,null,null,0,0,0,0]
[null,0,null,0,null,null,null,0,0,0,0]
[null,0,null,0,null,null,null,0,0,0,0]
[null,0,null,0,null,null,null,0,0,0,0]
[null,0,null,0,null,null,null,0,0,0,0]
[null,0,null,0,null,null,null,0,0,0,0]
[null,0,null,0,null,null,null,0,0,0,0]
[null,0,null,0,null,null,null,0,0,0,0]
[null,0,null,0,null,null,null,0,0,0,0]
[null,0,null,0,null,null,null,0,0,0,0]
[null,0,null,0,null,null,null,0,0,0,0]
[null,0,null,0,null,null,null,0,0,0,0]
[null,0,null,0,null,null,null,0,0,0,0]
[null,0,null,0,null,null,null,0,0,0,0]
[null,0,null,0,null,null,null,0,0,0,0]
[null,0,null,0,null,null,null,0,0,0,0]
[null,0,null,0,null,null,null,0,0,0,0]
[null,0,null,0,null,null,null,0,0,0,0]
[null,0,null,0,null,null,null,0,0,0,0]
[null,0,null,0,null,null,null,0,0,0,0]
[null,0,null,0,null,null,null,0,0,0,0]
[null,0,null,0,null,null,null,0,0,0,0]
[null,0,null,0,null,null,null,0,0,0,0]
[null,0,null,0,null,null,null,0,0,0,0]
[null,0,null,0,null,null,null,0,0,0,0]
[null,0,null,0,null,null,null,0,0,0,0]
[null,0,null,0,null,null,null,0,0,0,0]
[null,0,null,0,null,null,null,0,0,0,0]
[null,0,null,0,null,null,null,0,0,0,0]
[null,0,null,0,null,null,null,0,0,0,0]
[null,0,null,0,null,null,null,0,0,0,0]
[null,0,null,0,null,null,null,0,0,0,0]
[null,0,null,0,null,null,null,0,0,0,0]
[null,0,null,0,null,null,null,0,0,0,0]
[null,0,null,0,null,null,null,0,0,0,0]
[null,0,null,0,null,null,null,0,0,0,0]
[null,0,null,0,null,null,null,0,0,0,0]
[null,0,null,0,null,null,null,0,0,0,0]
[null,0,null,0,null,null,null,0,0,0,0]
[null,0,null,0,null,null,null,0,0,0,0]
[null,0,null,0,null,null,null,0,0,0,0]
[null,0,null,0,null,null,null,0,0,0,0]
[null,0,null,0,null,null,null,0,0,0,0]
[null,0,null,0,null,null,null,0,0,0,0]
[null,0,null,0,null,null,null,0,0,0,0]
[null,0,null,0,null,null,null,0,0,0,0]
[null,0,null,0,null,null,null,0,0,0,0]
[null,0,null,0,null,null,null,0,0,0,0]
[null,0,null,0,null,null,null,0,0,0,0]
[null,0,null,0,null,null,null,0,0,0,0]
[null,0,null,0,null,null,null,0,0,0,0]
[null,0,null,0,null,null,null,0,0,0,0]
[null,0,null,0,null,null,null,0,0,0,0]
[null,0,null,0,null,null,null,0,0,0,0]
[null,0,null,0,null,null,null,0,0,0,0]
[null,0,null,0,null,null,null,0,0,0,0]
[null,0,null,0,null,null,null,0,0,0,0]
[null,0,null,0,null,null,null,0,0,0,0]
[null,0,null,0,null,null,null,0,0,0,0]
[null,0,null,0,null,null,null,0,0,0,0]
[null,0,null,0,null,null,null,0,0,0,0]
[null,0,null,0,null,null,null,0,0,0,0]
[null,0,null,0,null,null,null,0,0,0,0]
[null,0,null,0,null,null,null,0,0,0,0]
[null,0,null,0,null,null,null,0,0,0,0]
[null,0,null,0,null,null,null,0,0,0,0]
[null,0,null,0,null,null,null,0,0,0,0]
[null,0,null,0,null,null,null,0,0,0,0]
[null,0,null,0,null,null,null,0,0,0,0]
[null,0,null,0,null,null,null,0,0,0,0]
[null,0,null,0,null,null,null,0,0,0,0]
[null,0,null,0,null,null,null,0,0,0,0]
[null,0,null,0,null,null,null,0,0,0,0]
[null,0,null,0,null,null,null,0,0,0,0]
[null,0,null,0,null,null,null,0,0,0,0]
[null,0,null,0,null,null,null,0,0,0,0]
[null,0,null,0,null,null,null,0,0,0,0]
[null,0,null,0,null,null,null,0,0,0,0]
[null,0,null,0,null,null,null,0,0,0,0]
[null,0,null,0,null,null,null,0,0,0,0]
[null,0,null,0,null,null,null,0,0,0,0]
[null,0,null,0,null,null,null,0,0,0,0]
[null,0,null,0,null,null,null,0,0,0,0]
[null,0,null,0,null,null,null,0,0,0,0]
[null,0,null,0,null,null,null,0,0,0,0]
[null,0,null,0,null,null,null,0,0,0,0]
[null,0,null,0,null,null,null,0,0,0,0]
[null,0,null,0,null,null,null,0,0,0,0]
[null,0,null,0,null,null,null,0,0,0,0]
[null,0,null,0,null,null,null,0,0,0,0]
[null,0,null,0,null,null,null,0,0,0,0]
[null,0,null,0,null,null,null,0,0,0,0]
[null,0,null,0,null,null,null,0,0,0,0]
[null,0,null,0,null,null,null,0,0,0,0]
[null,0,null,0,null,null,null,0,0,0,0]
[null,0,null,0,null,null,null,0,0,0,0]
[null,0,null,0,null,null,null,0,0,0,0]
[null,0,null,0,null,null,null,0,0,0,0]
[null,0,null,0,null,null,null,0,0,0,0]
[null,0,null,0,null,null,null,0,0,0,0]
[null,0,null,0,null,null,null,0,0,0,0]
[null,0,null,0,null,null,null,0,0,0,0]
[null,0,null,0,null,null,null,0,0,0,0]
[null,0,null,0,null,null,null,0,0,0,0]
[null,0,null,0,null,null,null,0,0,0,0]
[null,0,null,0,null,null,null,0,0,0,0]
[null,0,null,0,null,null,null,0,0,0,0]
[null,0,null,0,null,null,null,0,0,0,0]
[null,0,null,0,null,null,null,0,0,0,0]
[null,0,null,0,null,null,null,0,0,0,0]
[null,0,null,0,null,null,null,0,0,0,0]
[null,0,null,0,null,null,null,0,0,0,0]
[null,0,null,0,null,null,null,0,0,0,0]
[null,0,null,0,null,null,null,0,0,0,0]
[null,0,null,0,null,null,null,0,0,0,0]
[null,0,null,0,null,null,null,0,0,0,0]
[null,0,null,0,null,null,null,0,0,0,0]
[null,0,null,0,null,null,null,0,0,0,0]
[null,0,null,0,null,null,null,0,0,0,0]
[null,0,null,0,null,null,null,0,0,0,0]
[null,0,null,0,null,null,null,0,0,0,0]
[null,0,null,0,null,null,null,0,0,0,0]
[null,0,null,0,null,null,null,0,0,0,0]
[null,0,null,0,null,null,null,0,0,0,0]
[null,0,null,0,null,null,null,0,0,0,0]
[null,0,null,0,null,null,null,0,0,0,0]
[null,0,null,0,null,null,null,0,0,0,0]
[null,0,null,0,null,null,null,0,0,0,0]
[null,0,null,0,null,null,null,0,0,0,0]
[null,0,null,0,null,null,null,0,0,0,0]
[null,0,null,0,null,null,null,0,0,0,0]
[null,0,null,0,null,null,null,0,0,0,0]
[null,0,null,0,null,null,null,0,0,0,0]
[null,0,null,0,null,null,null,0,0,0,0]
[null,0,null,0,null,null,null,0,0,0,0]
[null,0,null,0,null,null,null,0,0,0,0]
[null,0,null,0,null,null,null,0,0,0,0]
[null,0,null,0,null,null,null,0,0,0,0]
[null,0,null,0,null,null,null,0,0,0,0]
[null,0,null,0,null,null,null,0,0,0,0]
[null,0,null,0,null,null,null,0,0,0,0]
[null,0,null,0,null,null,null,0,0,0,0]
[null,0,null,0,null,null,null,0,0,0,0]
[null,0,null,0,null,null,null,0,0,0,0]
[null,0,null,0,null,null,null,0,0,0,0]
[null,0,null,0,null,null,null,0,0,0,0]
[null,0,null,0,null,null,null,0,0,0,0]
[null,0,null,0,null,null,null,0,0,0,0]
[null,0,null,0,null,null,null,0,0,0,0]
[null,0,null,0,null,null,null,0,0,0,0]
[null,0,null,0,null,null,null,0,0,0,0]
[null,0,null,0,null,null,null,0,0,0,0]
[null,0,null,0,null,null,null,0,0,0,0]
[null,0,null,0,null,null,null,0,0,0,0]
[null,0,null,0,null,null,null,0,0,0,0]
[null,0,null,0,null,null,null,0,0,0,0]
[null,0,null,0,null,null,null,0,0,0,0]
[null,0,null,0,null,null,null,0,0,0,0]
[null,0,null,0,null,null,null,0,0,0,0]
[null,0,null,0,null,null,null,0,0,0,0]
[null,0,null,0,null,null,null,0,0,0,0]
[null,0,null,0,null,null,null,0,0,0,0]
[null,0,null,0,null,null,null,0,0,0,0]
[null,0,null,0,null,null,null,0,0,0,0]
[null,0,null,0,null,null,null,0,0,0,0]
[null,0,null,0,null,null,null,0,0,0,0]
[null,0,null,0,null,null,null,0,0,0,0]
[null,0,null,0,null,null,null,0,0,0,0]
[null,0,null,0,null,null,null,0,0,0,0]
[null,0,null,0,null,null,null,0,0,0,0]
[null,0,null,0,null,null,null,0,0,0,0]
[null,0,null,0,null,null,null,0,0,0,0]
[null,0,null,0,null,null,null,0,0,0,0]
[null,0,null,0,null,null,null,0,0,0,0]
[null,0,null,0,null,null,null,0,0,0,0]
[null,0,null,0,null,null,null,0,0,0,0]
[null,0,null,0,null,null,null,0,0,0,0]
[null,0,null,0,null,null,null,0,0,0,0]
[null,0,null,0,null,null,null,0,0,0,0]
[null,0,null,0,null,null,null,0,0,0,0]
[null,0,null,0,null,null,null,0,0,0,0]
[null,0,null,0,null,null,null,0,0,0,0]
[null,0,null,0,null,null,null,0,0,0,0]
[null,0,null,0,null,null,null,0,0,0,0]
[null,0,null,0,null,null,null,0,0,0,0]
[null,0,null,0,null,null,null,0,0,0,0]
[null,0,null,0,null,null,null,0,0,0,0]
[null,0,null,0,null,null,null,0,0,0,0]
[null,0,null,0,null,null,null,0,0,0,0]
[null,0,null,0,null,null,null,0,0,0,0]
[null,0,null,0,null,null,null,0,0,0,0]
[null,0,null,0,null,null,null,0,0,0,0]
[null,0,null,0,null,null,null,0,0,0,0]
[null,0,null,0,null,null,null,0,0,0,0]
[null,0,null,0,null,null,null,0,0,0,0]
[null,0,null,0,null,null,null,0,0,0,0]
[null,0,null,0,null,null,null,0,0,0,0]
[null,0,null,0,null,null,null,0,0,0,0]
[null,0,null,0,null,null,null,0,0,0,0]
[null,0,null,0,null,null,null,0,0,0,0]
[null,0,null,0,null,null,null,0,0,0,0]
[null,0,null,0,null,null,null,0,0,0,0]
[null,0,null,0,null,null,null,0,0,0,0]
[null,0,null,0,null,null,null,0,0,0,0]
[null,0,null,0,null,null,null,0,0,0,0]
[null,0,null,0,null,null,null,0,0,0,0]
[null,0,null,0,null,null,null,0,0,0,0]
[null,0,null,0,null,null,null,0,0,0,0]
[null,0,null,0,null,null,null,0,0,0,0]
[null,0,null,0,null,null,null,0,0,0,0]
[null,0,null,0,null,null,null,0,0,0,0]
[null,0,null,0,null,null,null,0,0,0,0]
[null,0,null,0,null,null,null,0,0,0,0]
[null,0,null,0,null,null,null,0,0,0,0]
[null,0,null,0,null,null,null,0,0,0,0]
[null,0,null,0,null,null,null,0,0,0,0]
[null,0,null,0,null,null,null,0,0,0,0]
[null,0,null,0,null,null,null,0,0,0,0]
[null,0,null,0,null,null,null,0,0,0,0]
[null,0,null,0,null,null,null,0,0,0,0]
[null,0,null,0,null,null,null,0,0,0,0]
[null,0,null,0,null,null,null,0,0,0,0]
[null,0,null,0,null,null,null,0,0,0,0]
[null,0,null,0,null,null,null,0,0,0,0]
[null,0,null,0,null,null,null,0,0,0,0]
[null,0,null,0,null,null,null,0,0,0,0]
[null,0,null,0,null,null,null,0,0,0,0]
[null,0,null,0,null,null,null,0,0,0,0]
[null,0,null,0,null,null,null,0,0,0,0]
[null,0,null,0,null,null,null,0,0,0,0]
[null,0,null,0,null,null,null,0,0,0,0]
[null,0,null,0,null,null,null,0,0,0,0]
[null,0,null,0,null,null,null,0,0,0,0]
[null,0,null,0,null,null,null,0,0,0,0]
[null,0,null,0,null,null,null,0,0,0,0]
[null,0,null,0,null,null,null,0,0,0,0]
[null,0,null,0,null,null,null,0,0,0,0]
[null,0,null,0,null,null,null,0,0,0,0]
[null,0,null,0,null,null,null,0,0,0,0]
[null,0,null,0,null,null,null,0,0,0,0]
[null,0,null,0,null,null,null,0,0,0,0]
[null,0,null,0,null,null,null,0,0,0,0]
[null,0,null,0,null,null,null,0,0,0,0]
[null,0,null,0,null,null,null,0,0,0,0]
[null,0,null,0,null,null,null,0,0,0,0]
[null,0,null,0,null,null,null,0,0,0,0]
[null,0,null,0,null,null,null,0,0,0,0]
[null,0,null,0,null,null,null,0,0,0,0]
[null,0,null,0,null,null,null,0,0,0,0]
[null,0,null,0,null,null,null,0,0,0,0]
[null,0,null,0,null,null,null,0,0,0,0]
[null,0,null,0,null,null,null,0,0,0,0]
[null,0,null,0,null,null,null,0,0,0,0]
[null,0,null,0,null,null,null,0,0,0,0]
[null,0,null,0,null,null,null,0,0,0,0]
[null,0,null,0,null,null,null,0,0,0,0]
[null,0,null,0,null,null,null,0,0,0,0]
[null,0,null,0,null,null,null,0,0,0,0]
[null,0,null,0,null,null,null,0,0,0,0]
[null,0,null,0,null,null,null,0,0,0,0]
[null,0,null,0,null,null,null,0,0,0,0]
[null,0,null,0,null,null,null,0,0,0,0]
[null,0,null,0,null,null,null,0,0,0,0]
[null,0,null,0,null,null,null,0,0,0,0]
[null,0,null,0,null,null,null,0,0,0,0]
[null,0,null,0,null,null,null,0,0,0,0]
[null,0,null,0,null,null,null,0,0,0,0]
[null,0,null,0,null,null,null,0,0,0,0]
[null,0,null,0,null,null,null,0,0,0,0]
[null,0,null,0,null,null,null,0,0,0,0]
[null,0,null,0,null,null,null,0,0,0,0]
[null,0,null,0,null,null,null,0,0,0,0]
[null,0,null,0,null,null,null,0,0,0,0]
[null,0,null,0,null,null,null,0,0,0,0]
[null,0,null,0,null,null,null,0,0,0,0]
[null,0,null,0,null,null,null,0,0,0,0]
[null,0,null,0,null,null,null,0,0,0,0]
[null,0,null,0,null,null,null,0,0,0,0]
[null,0,null,0,null,null,null,0,0,0,0]
[null,0,null,0,null,null,null,0,0,0,0]
[null,0,null,0,null,null,null,0,0,0,0]
[null,0,null,0,null,null,null,0,0,0,0]
[null,0,null,0,null,null,null,0,0,0,0]
[null,0,null,0,null,null,null,0,0,0,0]
[null,0,null,0,null,null,null,0,0,0,0]
[null,0,null,0,null,null,null,0,0,0,0]
[null,0,null,0,null,null,null,0,0,0,0]
[null,0,null,0,null,null,null,0,0,0,0]
[null,0,null,0,null,null,null,0,0,0,0]
[null,0,null,0,null,null,null,0,0,0,0]
[null,0,null,0,null,null,null,0,0,0,0]
[null,0,null,0,null,null,null,0,0,0,0]
[null,0,null,0,null,null,null,0,0,0,0]
[null,0,null,0,null,null,null,0,0,0,0]
[null,0,null,0,null,null,null,0,0,0,0]
[null,0,null,0,null,null,null,0,0,0,0]
[null,0,null,0,null,null,null,0,0,0,0]
[null,0,null,0,null,null,null,0,0,0,0]
[null,0,null,0,null,null,null,0,0,0,0]
[null,0,null,0,null,null,null,0,0,0,0]
[null,0,null,0,null,null,null,0,0,0,0]
[null,0,null,0,null,null,null,0,0,0,0]
[null,0,null,0,null,null,null,0,0,0,0]
[null,0,null,0,null,null,null,0,0,0,0]
[null,0,null,0,null,null,null,0,0,0,0]
[null,0,null,0,null,null,null,0,0,0,0]
[null,0,null,0,null,null,null,0,0,0,0]
[null,0,null,0,null,null,null,0,0,0,0]
[null,0,null,0,null,null,null,0,0,0,0]
[null,0,null,0,null,null,null,0,0,0,0]
[null,0,null,0,null,null,null,0,0,0,0]
[null,0,null,0,null,null,null,0,0,0,0]
[null,0,null,0,null,null,null,0,0,0,0]
[null,0,null,0,null,null,null,0,0,0,0]
[null,0,null,0,null,null,null,0,0,0,0]
[null,0,null,0,null,null,null,0,0,0,0]
[null,0,null,0,null,null,null,0,0,0,0]
[null,0,null,0,null,null,null,0,0,0,0]
[null,0,null,0,null,null,null,0,0,0,0]
[null,0,null,0,null,null,null,0,0,0,0]
[null,0,null,0,null,null,null,0,0,0,0]
[null,0,null,0,null,null,null,0,0,0,0]
[null,0,null,0,null,null,null,0,0,0,0]
[null,0,null,0,null,null,null,0,0,0,0]
[null,0,null,0,null,null,null,0,0,0,0]
[null,0,null,0,null,null,null,0,0,0,0]
[null,0,null,0,null,null,null,0,0,0,0]
[null,0,null,0,null,null,null,0,0,0,0]
[null,0,null,0,null,null,null,0,0,0,0]
[null,0,null,0,null,null,null,0,0,0,0]
[null,0,null,0,null,null,null,0,0,0,0]
[null,0,null,0,null,null,null,0,0,0,0]
[null,0,null,0,null,null,null,0,0,0,0]
[null,0,null,0,null,null,null,0,0,0,0]
[null,0,null,0,null,null,null,0,0,0,0]
[null,0,null,0,null,null,null,0,0,0,0]
[null,0,null,0,null,null,null,0,0,0,0]
[null,0,null,0,null,null,null,0,0,0,0]
[null,0,null,0,null,null,null,0,0,0,0]
[null,0,null,0,null,null,null,0,0,0,0]
[null,0,null,0,null,null,null,0,0,0,0]
[null,0,null,0,null,null,null,0,0,0,0]
[null,0,null,0,null,null,null,0,0,0,0]
[null,0,null,0,null,null,null,0,0,0,0]
[null,0,null,0,null,null,null,0,0,0,0]
[null,0,null,0,null,null,null,0,0,0,0]
[null,0,null,0,null,null,null,0,0,0,0]
[null,0,null,0,null,null,null,0,0,0,0]
[null,0,null,0,null,null,null,0,0,0,0]
[null,0,null,0,null,null,null,0,0,0,0]
[null,0,null,0,null,null,null,0,0,0,0]
[null,0,null,0,null,null,null,0,0,0,0]
[null,0,null,0,null,null,null,0,0,0,0]
[null,0,null,0,null,null,null,0,0,0,0]
[null,0,null,0,null,null,null,0,0,0,0]
[null,0,null,0,null,null,null,0,0,0,0]
[null,0,null,0,null,null,null,0,0,0,0]
[null,0,null,0,null,null,null,0,0,0,0]
[null,0,null,0,null,null,null,0,0,0,0]
[null,0,null,0,null,null,null,0,0,0,0]
[null,0,null,0,null,null,null,0,0,0,0]
[null,0,null,0,null,null,null,0,0,0,0]
[null,0,null,0,null,null,null,0,0,0,0]
[null,0,null,0,null,null,null,0,0,0,0]
[null,0,null,0,null,null,null,0,0,0,0]
[null,0,null,0,null,null,null,0,0,0,0]
[null,0,null,0,null,null,null,0,0,0,0]
[null,0,null,0,null,null,null,0,0,0,0]
[null,0,null,0,null,null,null,0,0,0,0]
[null,0,null,0,null,null,null,0,0,0,0]
[null,0,null,0,null,null,null,0,0,0,0]
[null,0,null,0,null,null,null,0,0,0,0]
[null,0,null,0,null,null,null,0,0,0,0]
[null,0,null,0,null,null,null,0,0,0,0]
[null,0,null,0,null,null,null,0,0,0,0]
[null,0,null,0,null,null,null,0,0,0,0]
[null,0,null,0,null,null,null,0,0,0,0]

{"sheet":"NØK","index":10,"n_rows":40,"n_cols":18,"rows_kept":40,"cut":false,"hidden":false,"merged":[]}
[null,null,"Nøkkeltal",null,2022]
[null,null,{"$f":"IF(Årsoppgjer!D211=\"J\",Årsoppgjer!F3&\" og \"&Årsoppgjer!F4,Årsoppgjer!F3)","v":"test"}]
[]
["Inntekter",null,null,2022,2021,null,null,"Kostnader",null,null,2022,2021]
[3000,{"$f":"IF(Kontoplan!D43=\"\",Kontoplan!C43,Kontoplan!D43)","v":"Salsinntekt og uttak, avg.pliktig"},null,{"$f":"VRFORMEL.XLS!H49","v":144000},0,null,null,4005,{"$f":"IF(Kontoplan!D64=\"\",Kontoplan!C64,Kontoplan!D64)","v":"Varekostnad"},null,{"$f":"VRFORMEL.XLS!G73","v":28800},0]
[3001,{"$f":"IF(Kontoplan!D44=\"\",Kontoplan!C44,Kontoplan!D44)","v":"Salsinntekt og uttak, avg.pliktig"},null,{"$f":"VRFORMEL.XLS!H50","v":0},0,null,null,4006,{"$f":"IF(Kontoplan!D65=\"\",Kontoplan!C65,Kontoplan!D65)","v":"Varekostnad"},null,{"$f":"VRFORMEL.XLS!G74","v":0},0]
[3002,{"$f":"IF(Kontoplan!D45=\"\",Kontoplan!C45,Kontoplan!D45)","v":"Salsinntekt og uttak, avg.pliktig"},null,{"$f":"VRFORMEL.XLS!H51","v":0},0,null,null,4007,{"$f":"IF(Kontoplan!D66=\"\",Kontoplan!C66,Kontoplan!D66)","v":"Varekostnad"},null,{"$f":"VRFORMEL.XLS!G75","v":0},0]
[3003,{"$f":"IF(Kontoplan!D46=\"\",Kontoplan!C46,Kontoplan!D46)","v":"Salsinntekt og uttak, avg.pliktig"},null,{"$f":"VRFORMEL.XLS!H52","v":0},0,null,null,"4008-09",{"$f":"IF(Kontoplan!D67=\"\",Kontoplan!C67,Kontoplan!D67)","v":"Varekostnad"},null,{"$f":"VRFORMEL.XLS!G76+VRFORMEL.XLS!G77","v":0},0,null,null,"Grunnlag for tabellar"]
[3004,{"$f":"IF(Kontoplan!D47=\"\",Kontoplan!C47,Kontoplan!D47)","v":"Salsinntekt og uttak, avg.pliktig"},null,{"$f":"VRFORMEL.XLS!H53","v":0},0,null,null,4011,"Varekostnad matmoms",null,{"$f":"VRFORMEL.XLS!G79","v":0},0]
[3005,"Salsinntekt og uttak, matmoms",null,{"$f":"VRFORMEL.XLS!H54","v":0},0,null,null,4010,{"$f":"IF(Kontoplan!D69=\"\",Kontoplan!C69,Kontoplan!D69)","v":"Varekostnad avgiftsfritt"},null,{"$f":"VRFORMEL.XLS!G78","v":0},0,null,null,"Driftsoverskot",{"$f":"D40","v":144000},{"$f":"Årsoppgjer!K202+Årsoppgjer!K203+Årsoppgjer!K201+Årsoppgjer!K200+Årsoppgjer!K199+Årsoppgjer!K194+Årsoppgjer!K198-Årsoppgjer!K188","v":0},"Renter,skatt"]
[3050,"Persontransport",null,{"$f":"VRFORMEL.XLS!H55","v":0},0,null,null,4500,{"$f":"IF(Kontoplan!D71=\"\",Kontoplan!C71,Kontoplan!D71)","v":"Framandyting"},null,{"$f":"VRFORMEL.XLS!G80","v":0},0,null,null,"Løn utanom",{"$f":"Årsoppgjer!K182+Årsoppgjer!K189","v":0},{"$f":"Årsoppgjer!K205","v":0},"Privat forbr"]
[3100,{"$f":"Kontoplan!C50","v":"Salsinntekt og uttak, avg.fri"},null,{"$f":"VRFORMEL.XLS!H56","v":0},0,null,null,4501,{"$f":"IF(Kontoplan!D72=\"\",Kontoplan!C72,Kontoplan!D72)","v":"Framandyting"},null,{"$f":"VRFORMEL.XLS!G81","v":0},0,null,null,null,null,{"$f":"P10+P11+P13-Q10-Q11","v":144000},"Sparing"]
[3200,{"$f":"IF(Kontoplan!D51=\"\",Kontoplan!C51,Kontoplan!D51)","v":"Salsinntekt og uttak, utanf.avg.omr."},null,{"$f":"VRFORMEL.XLS!H57","v":0},0,null,null,4502,{"$f":"IF(Kontoplan!D73=\"\",Kontoplan!C73,Kontoplan!D73)","v":"Framandyting"},null,{"$f":"VRFORMEL.XLS!G82","v":0},0,null,null,"Andre inntekter",{"$f":"Årsoppgjer!K183+Årsoppgjer!K184+Årsoppgjer!K190+Årsoppgjer!K191","v":0},0]
[3400,{"$f":"IF(Kontoplan!D52=\"\",Kontoplan!C52,Kontoplan!D52)","v":"Offentlege tilskot/refusjon"},null,{"$f":"VRFORMEL.XLS!H58+VRFORMEL.XLS!H59","v":0},0,null,null,4503,{"$f":"IF(Kontoplan!D74=\"\",Kontoplan!C74,Kontoplan!D74)","v":"Framandyting"},null,{"$f":"VRFORMEL.XLS!G83","v":0},0]
[3600,{"$f":"IF(Kontoplan!D54=\"\",Kontoplan!C54,Kontoplan!D54)","v":"Utleige av fast eigedom,avg.pliktig"},null,{"$f":"VRFORMEL.XLS!H60+VRFORMEL.XLS!H61","v":0},0,null,null,4504,{"$f":"IF(Kontoplan!D75=\"\",Kontoplan!C75,Kontoplan!D75)","v":"Framandyting"},null,{"$f":"VRFORMEL.XLS!G84","v":0},0,null,null,"Driftsoverskot",{"$f":"P10","v":144000},{"$f":"Q10","v":0},"Renter,skatt"]
[3695,{"$f":"IF(Kontoplan!D57=\"\",Kontoplan!C57,Kontoplan!D57)","v":"Andre leigeinntekter"},null,{"$f":"VRFORMEL.XLS!H63","v":0},0,null,null,4510,{"$f":"IF(Kontoplan!D76=\"\",Kontoplan!C76,Kontoplan!D76)","v":"Framandyting avgiftsfritt"},null,{"$f":"VRFORMEL.XLS!G85","v":0},0]
[3700,{"$f":"IF(Kontoplan!D58=\"\",Kontoplan!C58,Kontoplan!D58)","v":"Provisjonsinntekt"},null,{"$f":"VRFORMEL.XLS!H64","v":0},0,null,null,5000,{"$f":"IF(Kontoplan!D77=\"\",Kontoplan!C77,Kontoplan!D77)","v":"Løn"},null,{"$f":"VRFORMEL.XLS!G86+VRFORMEL.XLS!G87+VRFORMEL.XLS!G88","v":0},0,null,null,"Løn utanom",{"$f":"P11","v":0},{"$f":"Q11","v":0},"Privat forbr"]
[3900,{"$f":"IF(Kontoplan!D59=\"\",Kontoplan!C59,Kontoplan!D59)","v":"Andre driftsrelaterte inntekter"},null,{"$f":"VRFORMEL.XLS!H65+VRFORMEL.XLS!H66","v":0},0,null,null,5003,{"$f":"Kontoplan!C80","v":"Feriepengar"},null,{"$f":"VRFORMEL.XLS!G89","v":0},0]
[null,"Kapitalinntekter",null,{"$f":"VRFORMEL.XLS!H67+VRFORMEL.XLS!H70","v":0},0,null,null,5400,{"$f":"Kontoplan!C82","v":"Arbeidsgjevaravgift"},null,{"$f":"VRFORMEL.XLS!G91","v":0},0]
[null,"Sum inntekter:",null,{"$f":"SUM(D5:D19)","v":144000},{"$f":"SUM(E5:E19)","v":0},null,null,6300,{"$f":"Kontoplan!C90","v":"Leige av lokale"},null,{"$f":"VRFORMEL.XLS!G99+VRFORMEL.XLS!G100","v":0},0,null,null,"Andre inntekter",{"$f":"P13","v":0}]
[null,null,null,null,null,null,null,6340,{"$f":"Kontoplan!C93","v":"Lys, varme"},null,{"$f":"VRFORMEL.XLS!G102+VRFORMEL.XLS!G103","v":0},0,null,null,"Overforbruk",{"$f":"Q15+Q17-P15-P17-P20","v":-144000}]
[null,null,null,null,null,null,null,6395,{"$f":"Kontoplan!C95","v":"Renovasjon, vatn, avløp, reinhald"},null,{"$f":"VRFORMEL.XLS!G104+VRFORMEL.XLS!G105","v":0},0]
["Nøkkeltal frå balansen:",null,null,null,null,null,null,6400,{"$f":"Kontoplan!C97","v":"Andre leigekostnader"},null,{"$f":"VRFORMEL.XLS!G106+VRFORMEL.XLS!G107","v":0},0]
[null,null,null,null,null,null,null,6500,{"$f":"IF(Kontoplan!D99=\"\",Kontoplan!C99,Kontoplan!D99)","v":"Verktøy,inventar (ikkje aktiverast)"},null,{"$f":"VRFORMEL.XLS!G108","v":0},0]
["Kapitalkonti - realisasjonar",null,null,null,null,null,null,6501,{"$f":"IF(Kontoplan!D100=\"\",Kontoplan!C100,Kontoplan!D100)","v":"Verktøy,inventar (ikkje aktiverast)"},null,{"$f":"VRFORMEL.XLS!G109","v":0},0]
[null,"Sal av bygg, anlegg",null,{"$f":"VRFORMEL.XLS!H12+VRFORMEL.XLS!H15+VRFORMEL.XLS!H24+VRFORMEL.XLS!H26","v":0},0,null,null,"6502-04","Verktøy,inventar (ikkje aktiverast)",null,{"$f":"VRFORMEL.XLS!G110+VRFORMEL.XLS!G111+VRFORMEL.XLS!G112","v":0},0]
[null,"Sal av maskiner",null,{"$f":"VRFORMEL.XLS!H29+VRFORMEL.XLS!H33+VRFORMEL.XLS!H39","v":0},0,null,null,6600,{"$f":"Kontoplan!C104","v":"Rep. og vedl.h. av bygningar"},null,{"$f":"VRFORMEL.XLS!G113+VRFORMEL.XLS!G114+VRFORMEL.XLS!G115+VRFORMEL.XLS!G116","v":0},0]
[null,"Nedskrivingstilskot",null,{"$f":"VRFORMEL.XLS!H16+VRFORMEL.XLS!H22","v":0},0,null,null,6700,{"$f":"Kontoplan!C109","v":"Tenester (rekneskap,rådgj)"},null,{"$f":"VRFORMEL.XLS!G118+VRFORMEL.XLS!G119+VRFORMEL.XLS!G120","v":0},0]
[null,null,null,null,null,null,null,6995,{"$f":"Kontoplan!C112","v":"Kontorkostnad, telefon, porto"},null,{"$f":"VRFORMEL.XLS!G122+VRFORMEL.XLS!G123+VRFORMEL.XLS!G124+VRFORMEL.XLS!G125+VRFORMEL.XLS!G126","v":0},0]
["Kapitalkonti - investeringar",null,null,null,null,null,null,7000,{"$f":"Kontoplan!C117","v":"Drivstoff transportmiddel"},null,{"$f":"VRFORMEL.XLS!G127+VRFORMEL.XLS!G128","v":0},0]
[null,"Goodwill",null,{"$f":"VRFORMEL.XLS!G9","v":0},0,null,null,7020,{"$f":"Kontoplan!C119","v":"Vedlikehald mm transportmiddel"},null,{"$f":"VRFORMEL.XLS!G129+VRFORMEL.XLS!G130","v":0},0]
[null,"Bygg, anlegg",null,{"$f":"VRFORMEL.XLS!G10+VRFORMEL.XLS!G11+VRFORMEL.XLS!G13+VRFORMEL.XLS!G14+VRFORMEL.XLS!G20+VRFORMEL.XLS!G21+VRFORMEL.XLS!G23+VRFORMEL.XLS!G25+VRFORMEL.XLS!G17+VRFORMEL.XLS!G18","v":0},0,null,null,7040,{"$f":"Kontoplan!C121","v":"Forsikring og avg. på transp.mid."},null,{"$f":"VRFORMEL.XLS!G131+VRFORMEL.XLS!G132","v":0},0]
[null,"Maskiner, bilar",null,{"$f":"VRFORMEL.XLS!G27+VRFORMEL.XLS!G28+VRFORMEL.XLS!G31+VRFORMEL.XLS!G32+VRFORMEL.XLS!G40","v":0},0,null,null,7330,"Sals og reklamekostnad",null,{"$f":"VRFORMEL.XLS!G142+VRFORMEL.XLS!G143+VRFORMEL.XLS!G144","v":0},0]
[null,"Kontormaskiner",null,{"$f":"VRFORMEL.XLS!G37+VRFORMEL.XLS!G38","v":0},0,null,null,7500,"Forsikringspremie",null,{"$f":"VRFORMEL.XLS!G147+VRFORMEL.XLS!G148+VRFORMEL.XLS!G149","v":0},0]
[null,null,null,null,null,null,null,null,"Andre kostnader",null,{"$f":"Nær.spes!K8-SUM(K5:K34)-NØK!K36","v":42720},0]
[null,null,null,null,null,null,null,null,"Kapitalkostnader",null,{"$f":"VRFORMEL.XLS!G155+VRFORMEL.XLS!G156","v":0},0]
[null,null,null,null,null,null,null,null,"Sum kostnader",null,{"$f":"SUM(K5:K36)","v":71520},{"$f":"SUM(L5:L36)","v":0}]
[]
[null,null,null,2022,2021]
[null,null,"Driftsresultat:",{"$f":"Nær.spes!K6","v":144000},0]

{"sheet":"SKATT","index":11,"n_rows":2593,"n_cols":110,"rows_kept":2593,"cut":false,"hidden":false,"merged":[[29,109,29,113],[35,109,35,110]]}
[null,null,null,"grunnbeløp folketrygda:",109784]
[null,0,null,null,{"$f":"g*7.1","v":779466.39999999991}]
["Fødselsår",{"$f":"Årsoppgjer!D210","v":0},{"$f":"Årsoppgjer!L210","v":0}]
["Gift",{"$f":"Årsoppgjer!D211","v":"N"}]
["Skatteklasse",1,null,null,null,null,"trygdeavgift","brukar","ektefelle","skattered §78","brukar","ektef"]
["Vinst med 1,22",null,null," - særfrådrag",{"$f":"B8-B19+B6+B7","v":72480},{"$f":"C8-C19+C6+C7","v":0},"låg sats",{"$f":"B14-B11","v":0},{"$f":"C14-C11","v":0},"formuetill",{"$f":"IF(B4=\"J\",IF(E22>100000,(E22-100000)*0.015,),IF(E22>200000,(E22-200000)*0.015,))","v":0},{"$f":"IF(F22>200000,(F22-200000)*0.015,)","v":0}]
["Tap med 1,22",null,null,"avrunding",{"$f":"ROUND(E6,)","v":72480},{"$f":"ROUND(F6,)","v":0},"alder",{"$f":"IF(OR($B$3>2004,$B$3<1952),H6+H13+H20,H6)","v":68770.559999999998},{"$f":"IF(OR($C$3>2004,$C$3<1952),I6+I13+I20,I6)","v":0},"alm innt",{"$f":"ROUND(B8,)","v":72480},{"$f":"ROUND(C8,)","v":0}]
["Ålmenn inntekt",{"$f":"Årsoppgjer!G245-Årsoppgjer!G246+Årsoppgjer!G247+Årsoppgjer!G248-Årsoppgjer!G249+(Nær.spes!K5*Årsoppgjer!E231/100)","v":72480},{"$f":"Årsoppgjer!I245-Årsoppgjer!I246+Årsoppgjer!I247+Årsoppgjer!I248-Årsoppgjer!I249+(Nær.spes!K5*Årsoppgjer!F231/100)","v":0},"klasse 1",{"$f":"IF(B20=\"J\",E7-58250-20000,E7-58250)","v":14230},{"$f":"IF(B20=\"J\",F7-58250-20000,F7-58250)","v":-58250},"under grense",{"$f":"IF(H7+H14+H21<64650,,H7)","v":68770.559999999998},{"$f":"IF(I7+I14+I21<64650,,I7)","v":0},"skattefr bel",{"$f":"IF(B4=\"N\",(K6+K7-147450)*0.55,(K6+K7-135550)*0.55)","v":-41233.5},{"$f":"(L6+L7-147450)*0.55","v":-81097.5}]
["Lønsinntekt",{"$f":"Årsoppgjer!G245","v":0},{"$f":"Årsoppgjer!I245","v":0},"klasse 2 finnm",{"$f":"IF(E7-(78300/2+20000/2)>0,(78300/2+20000/2),E7)","v":49150},{"$f":"IF(F7-(78300/2+20000/2)>0,(78300/2+20000/2),F7)","v":0},"avrunda",{"$f":"ROUND(H8,)","v":68771},{"$f":"ROUND(I8,)","v":0}]
["Persinntekt frå næring",{"$f":"IF(Årsoppgjer!K231>0,Årsoppgjer!K231,)","v":68770.559999999998},{"$f":"IF(Årsoppgjer!L231>0,Årsoppgjer!L231,)","v":0},"klasse 2 resten",{"$f":"IF(E7-78300/2>0,78300/2,E7)","v":39150},{"$f":"IF(F7-78300/2>0,78300/2,F7)","v":0}]
[null,null,null,"klasse 2 fordelt finnm",{"$f":"IF(F9<(78300/2+20000/2),E9+(78300/2+20000/2)-F9,E9)","v":98300},{"$f":"IF(E9<(78300/2+20000/2),F9+(78300/2+20000/2)-E9,F9)","v":0},null,null,null,"skatt ",{"$f":"H40+H41+H33+H34+H35","v":6637.9210000000003},{"$f":"J40+J41+J33+J34+J35","v":0}]
[null,null,null,"klasse 2 fordelt resten",{"$f":"IF(F10<78300/2,E10+78300/2-F10,E10)","v":78300},{"$f":"IF(E10<78300/2,F10+78300/2-E10,F10)","v":0}]
[null,null,null,"skattbar alm innt",{"$f":"IF(B5=2,IF(B20=\"J\",IF(E7-E11>0,E7-E11,),IF(E7-E12>0,E7-E12,)),IF(E8>0,E8,))","v":14230},{"$f":"IF(B5=2,IF(B20=\"J\",IF(F7-F11>0,F7-F11,),IF(F7-F12>0,F7-F12,)),IF(F8>0,F8,))","v":0},"mellomsats",{"$f":"B9+B12+B13","v":0},{"$f":"C9+C12+C13","v":0},"sum red",{"$f":"K11-K8","v":47871.421000000002},{"$f":"L11-L8","v":81097.5}]
["Pensjonar",null,null,null,null,null,"alder",{"$f":"IF(OR($B$3>2004,$B$3<1952),,H13)","v":0},{"$f":"IF(OR($C$3>2004,$C$3<1952),,I13)","v":0}]
["Bustadsparing for ungdom",null,null,"toppskatt klasse 1",{"$f":"H8+H16+H23","v":68770.559999999998},{"$f":"I8+I16+I23","v":0},"under grense",{"$f":"IF(H7+H14+H21<64650,,H14)","v":0},{"$f":"IF(I7+I14+I21<64650,,I14)","v":0}]
[null,null,null,"avrunda grunnlag",{"$f":"ROUND(E15,)","v":68771},{"$f":"ROUND(F15,)","v":0},null,{"$f":"H15","v":0},{"$f":"I15","v":0}]
[null,null,null,"minstegrense",{"$f":"IF(E16>190350,E16,)","v":0},{"$f":"IF(F16>190350,F16,)","v":0},"avrunda",{"$f":"ROUND(H16,)","v":0},{"$f":"ROUND(I16,)","v":0}]
[null,null,null,"toppskatt klasse 2",{"$f":"IF(E16+F16>190350,E16,)","v":0},{"$f":"IF(F16+E16>190350,F16,)","v":0},null,null,null,"frådrag brukar",{"$f":"IF(B4=\"N\",IF(K6+B8<147450,K11,K13),IF(K6+B8<135550,K11,K13))","v":6637.9210000000003}]
["Særfrådrag",null,null,"høvestal",{"$f":"E16/(E16+F16)","v":1},{"$f":"F16/(E16+F16)","v":0},null,null,null,"frådrag ektf",{"$f":"IF(L6+C8<147450,L11,L13)","v":0}]
["Finnmark/Nordtroms",{"$f":"Årsoppgjer!E214","v":"N"},null,"Trinnverdiar",190350,643800,"høg sats",{"$f":"B10","v":68770.559999999998},{"$f":"C10","v":0}]
["Skattered etter Skt.l.§78",{"$f":"Årsoppgjer!E215","v":"N"},null,null,267900,969200,"alder",{"$f":"IF(OR($B$3>2004,$B$3<1952),,H20)","v":0},{"$f":"IF(OR($C$3>2004,$C$3<1952),,I20)","v":0}]
["Nettoformue",{"$f":"IF(Årsoppgjer!G250>0,Årsoppgjer!G250,)","v":0},{"$f":"IF(Årsoppgjer!I250>0,Årsoppgjer!I250,)","v":0},"avrunding",{"$f":"ROUND(B22,)","v":0},{"$f":"ROUND(C22,)","v":0},"under grense",{"$f":"IF(H7+H14+H21<64650,,H21)","v":0},{"$f":"IF(I7+I14+I21<64650,,I21)","v":0}]
["Innbetalt skatt",{"$f":"Årsoppgjer!E223","v":0},{"$f":"Årsoppgjer!L223","v":0},"grunnl formuesk stat",{"$f":"IF(B4=\"J\",E22+F22-3000000,E22+F22-1500000)","v":-1500000},null,"grense 12g",{"$f":"H22","v":0},{"$f":"I22","v":0}]
[null,null,null,"grunnl formuesk kom",{"$f":"IF(B4=\"J\",E22+F22-3000000,E22+F22-1500000)","v":-1500000},null,"avrunda",{"$f":"ROUND(H23,)","v":0},{"$f":"ROUND(I23,)","v":0}]
[null,null,null,"høvestal",{"$f":"IF(E22+F22>0,E22/(E22+F22),)","v":0},{"$f":"IF(E22+F22>0,1-E25,)","v":0}]
[]
[]
[]
[null,null,null,null,null,null,"Skatteutrekning 2022",null,"Utskrift:",{"$f":"NOW()","v":"2023-02-14T14:30:01.240"}]
[null,null,null,null,null,null,null,null,null,null,null,null,null,null,null,null,null,null,null,null,null,null,null,null,null,null,null,null,null,null,null,null,null,null,null,null,null,null,null,null,null,null,null,null,null,null,null,null,null,null,null,null,null,null,null,null,null,null,null,null,null,null,null,null,null,null,null,null,null,null,null,null,null,null,null,null,null,null,null,null,null,null,null,null,null,null,null,null,null,null,null,null,null,null,null,null,null,null,null,null,null,null,null,null,null,null,null,"BRUKAR:",null,{"$f":"Årsoppgjer!L3","v":"test"}]
[null,null,null,"Klasse:",{"$f":"Årsoppgjer!D212","v":1},null,null,{"$f":"Årsoppgjer!F3","v":"test"},null,{"$f":"Årsoppgjer!F4","v":0}]
[null,null,null,null,null,null,"Grunnlag","Skatt","Grunnlag","Skatt"]
[null,null,null,"Trygdeavgift","Låg sats",5.0999999999999997E-2,{"$f":"H9","v":68771},{"$f":"G33*F33","v":3507.3209999999999},{"$f":"I9","v":0},{"$f":"I33*F33","v":0}]
[null,null,null,null,"Mellomsats",0.08,{"$f":"H17","v":0},{"$f":"G34*F34","v":0},{"$f":"I17","v":0},{"$f":"I34*F34","v":0},null,null,null,null,null,null,null,null,null,null,null,null,null,null,null,null,null,null,null,null,null,null,null,null,null,null,null,null,null,null,null,null,null,null,null,null,null,null,null,null,null,null,null,null,null,null,null,null,null,null,null,null,null,null,null,null,null,null,null,null,null,null,null,null,null,null,null,null,null,null,null,null,null,null,null,null,null,null,null,null,null,null,null,null,null,null,null,null,null,null,null,null,null,null,null,null,null,null,null," - rekneskap, anna næring"]
[null,null,null,null,"Høg sats",0.112,{"$f":"H24","v":0},{"$f":"G35*F35","v":0},{"$f":"I24","v":0},{"$f":"I35*F35","v":0}]
[null,null,null,"Trinnskatt","Trinn 1",1.7000000000000001E-2,{"$f":"E17","v":0},{"$f":"IF(G36>0,IF(G36>267900,(E21-E20)*F36,(G36-190350)*F36),)","v":0},{"$f":"IF($E$31=1,F17,F18)","v":0},{"$f":"IF(I36>0,IF(I36>267900,(E21-E20)*F36,(I36-190350)*F36),)","v":0},null,null,null,null,null,null,null,null,null,null,null,null,null,null,null,null,null,null,null,null,null,null,null,null,null,null,null,null,null,null,null,null,null,null,null,null,null,null,null,null,null,null,null,null,null,null,null,null,null,null,null,null,null,null,null,null,null,null,null,null,null,null,null,null,null,null,null,null,null,null,null,null,null,null,null,null,null,null,null,null,null,null,null,null,null,null,null,null,null,null,null,null,null,null,null,null,null,null,null,2022]
[null,null,null,null,"Trinn 2",0.04,{"$f":"IF(G36>267900,G36,)","v":0},{"$f":"IF(G37>0,IF(G37>643800,(F20-E21)*F37,(G37-267900)*F37),)","v":0},{"$f":"IF(I36>267900,I36,)","v":0},{"$f":"IF(I37>0,IF(I37>643800,(F20-E21)*F37,(I37-267900)*F37),)","v":0}]
[null,null,null,null,"Trinn 3",{"$f":"IF(B20=\"J\",11.2%,13.4%)","v":0.13400000000000001},{"$f":"IF(G37>643800,G37,)","v":0},{"$f":"IF(G38>0,IF(G38>969200,(F21-F20)*F38,(G38-643800)*F38),)","v":0},{"$f":"IF(I37>643800,I37,)","v":0},{"$f":"IF(I38>0,IF(I38>969200,(F21-F20)*F38,(I38-643800)*F38),)","v":0}]
[null,null,null,null,"Trinn 4",0.16400000000000001,{"$f":"IF(G38>969200,G38,)","v":0},{"$f":"IF(G39>0,(G39-969200)*F39,)","v":0},{"$f":"IF(I38>969200,I38,)","v":0},{"$f":"IF(I39>0,(I39-969200)*F39,)","v":0}]
[null,null,null,null,"Trinn 5",0.17399999999999999,{"$f":"IF(G39>2000000,G39,)","v":0},{"$f":"IF(G40>0,(G40-2000000)*F40,)","v":0},{"$f":"IF(I39>2000000,I39,)","v":0},{"$f":"IF(I40>0,(I40-2000000)*F40,)","v":0},null,null,null,null,null,null,null,null,null,null,null,null,null,null,null,null,null,null,null,null,null,null,null,null,null,null,null,null,null,null,null,null,null,null,null,null,null,null,null,null,null,null,null,null,null,null,null,null,null,null,null,null,null,null,null,null,null,null,null,null,null,null,null,null,null,null,null,null,null,null,null,null,null,null,null,null,null,null,null,null,null,null,null,null,null,null,null,null,null,null,null,null,null,null,null,null,null,null,"Utvikla av"]
[null,null,null,"Skatt allmenn inntekt",null,{"$f":"IF(B20=\"J\",0.185,0.22)","v":0.22},{"$f":"IF(E7>0,E7,)","v":72480},{"$f":"IF(B5=2,(E13*F41+F41*F13)*G41/(G41+I41),E13*F41)","v":3130.6},{"$f":"IF(F7>0,F7,)","v":0},{"$f":"IF(B5=2,(F13*F41+F41*E13)*I41/(I41+G41),F13*F41)","v":0}]
[null,null,null,"Formueskatt til staten",null,null,{"$f":"IF(E23>0,E22,)","v":0},{"$f":"IF(E23>0,E23*0.0015,)*E25","v":0},{"$f":"IF(E23>0,F22,)","v":0},{"$f":"IF(E23>0,E23*0.0015,)*F25","v":0}]
[null,null,null,"Formueskatt til kommunen",null,7.0000000000000001E-3,{"$f":"IF(E24>0,E22,)","v":0},{"$f":"IF(E24>0,E24*F43*E25,)","v":0},{"$f":"IF(E24>0,F22,)","v":0},{"$f":"IF(E24>0,E24*F43*F25,)","v":0}]
[null,null,null,"Sum skattar",null,null,null,{"$f":"SUM(H33:H43)","v":6637.9210000000003},null,{"$f":"SUM(J33:J43)","v":0}]
[null,null,null,"Reduksjon av trygdeavgift pga 25% regelen",null,null,null,{"$f":"IF(G33+G34+G35<64650,(H33+H34+H35)*-1,IF(H33+H34+H35>0,IF(H33+H34+H35>(G33+G34+G35-64650)/4,((H33+H34+H35-(G33+G34+G35-64650)/4))*-1,),))","v":-2477.0709999999999},null,{"$f":"IF(I33+I34+I35<64650,(J33+J34+J35)*-1,IF(J33+J34+J35>0,IF(J33+J34+J35>(I33+I34+I35-64650)/4,((J33+J34+J35-(I33+I34+I35-64650)/4)*-1),),))","v":0}]
[null,null,null,"Skattereduksjon pga lita skatteevne",null,null,null,{"$f":"IF(B21=\"J\",IF(K18*-1>0,,K18*-1),)","v":0},null,{"$f":"IF(B21=\"J\",IF(K19*-1>0,,K19*-1),)","v":0}]
[null,null,null,"Skattefrådrag for alderspensjon/AFP/særfrådrag einsleg forsørgar",null,null,null,{"$f":"Årsoppgjer!E216*-1","v":0},null,{"$f":"Årsoppgjer!L216*-1","v":0}]
[null,null,null,"Bustadsparing for ungdom",null,0.2,{"$f":"B15","v":0},{"$f":"IF(G48*F48<H44,G48*F48,)","v":0},{"$f":"C15","v":0},{"$f":"IF(I48*F48<J44,I48*F48,J44)","v":0}]
[null,null,null,"Sum skattefrådrag",null,null,null,{"$f":"SUM(H45:H48)","v":-2477.0709999999999},null,{"$f":"SUM(J45:J48)","v":0}]
[null,null,null,"Utlikna skatt",null,null,null,{"$f":"H44+H49","v":4160.8500000000004},null,{"$f":"J44+J49","v":0}]
[null,null,null,"Betalt skatt",null,null,null,{"$f":"B23","v":0},null,{"$f":"C23","v":0}]
[null,null,null,{"$f":"IF(H50-H51>0,\"Skuldig skatt:\",\"Tilgode skatt:\")","v":"Skuldig skatt:"},null,null,"(Renter kjem i tillegg)",{"$f":"IF(H50-H51>0,H50-H51,H51-H50)","v":4160.8500000000004},{"$f":"IF(J50-J51>0,\"Skuldig skatt:\",\"Tilgode skatt:\")","v":"Tilgode skatt:"},{"$f":"IF(J50-J51>0,J50-J51,J51-J50)","v":0}]
[]
[null,null,null,"Opptening av pensjonspoeng etter gamle reglar:",null,null,{"$f":"IF(Årsoppgjer!$D$210=0,,VLOOKUP(Årsoppgjer!$D$210,SKATT!$E$82:$G$112,2)&\"%\")","v":0},{"$f":"IF(Årsoppgjer!D210<1963,IF((G34+G35-gr)/gr>0,IF(G34+G35>6*gr,IF(G34+G35>12*gr,(6*gr+6*gr/3-gr)/gr,(6*gr+(G34+G35-6*gr)/3-gr)/gr),(G34+G35-gr)/gr),),)","v":0},{"$f":"IF(Årsoppgjer!$L$210=0,,VLOOKUP(Årsoppgjer!$L$210,SKATT!$E$82:$G$112,2)&\"%\")","v":0},{"$f":"IF(Årsoppgjer!L210<1963,IF((I34+I35-gr)/gr>0,IF(I34+I35>6*gr,IF(I34+I35>12*gr,(6*gr+6*gr/3-gr)/gr,(6*gr+(I34+I35-6*gr)/3-gr)/gr),(I34+I35-gr)/gr),),)","v":0}]
[null,null,null,"Opptening av pensjonsbeholdning etter nye reglar:",null,null,{"$f":"IF(Årsoppgjer!$D$210=0,,VLOOKUP(Årsoppgjer!$D$210,SKATT!$E$82:$G$112,3)&\"%\")","v":0},{"$f":"IF(Årsoppgjer!D210>1953,IF(G34+G35>E2,E2*0.181,(G34+G35)*0.181),)","v":0},{"$f":"IF(Årsoppgjer!$L$210=0,,VLOOKUP(Årsoppgjer!$L$210,SKATT!$E$82:$G$112,3)&\"%\")","v":0},{"$f":"IF(Årsoppgjer!L210>1953,IF(I34+I35>E2,E2*0.181,(I34+I35)*0.181),)","v":0}]
[null,null,null,null,null,null,"% vekting etter fødselsår (før 1954, mellom 1954 og 1962, etter 1962)"]
[null,null,null,null,null,null,"Omsorgsopptening, arbeidsledigheit og uføregrad kjem evt i tillegg."]
[]
[]
[]
[]
[]
[]
[]
[]
[]
[]
[]
[]
[]
[]
[]
[]
[]
[]
[]
[]
[]
[]
[]
[]
[null,null,null,null,1933,100]
[null,null,null,null,1934,100]
[null,null,null,null,1935,100]
[null,null,null,null,1936,100]
[null,null,null,null,1937,100]
[null,null,null,null,1938,100]
[null,null,null,null,1939,100]
[null,null,null,null,1940,100]
[null,null,null,null,1941,100,0]
[null,null,null,null,1942,100,0]
[null,null,null,null,1943,100,0]
[null,null,null,null,1944,100,0]
[null,null,null,null,1945,100,0]
[null,null,null,null,1946,100,0]
[null,null,null,null,1947,100,0]
[null,null,null,null,1948,100,0]
[null,0,null,0,1949,100,0,0,"bankstopp",0,0,{"$f":"K98*-1","v":0}]
[null,0,null,0,1950,100,0,0,0,0,0,0]
[null,0,null,0,1951,100,0,0,0,0,0,0]
[null,0,null,0,1952,100,0,0,0,0,0,0]
[null,0,null,0,1953,100,0,0,0,0,0,0]
[null,0,null,0,1954,90,10,0,0,0,0,0]
[null,0,null,0,1955,80,20,0,0,0,0,0]
[null,0,null,0,1956,70,30,0,0,0,0,0]
[null,0,null,0,1957,60,40,0,0,0,0,0]
[null,0,null,0,1958,50,50,0,0,0,0,0]
[null,0,null,0,1959,40,60,0,0,0,0,0]
[null,0,null,0,1960,30,70,0,0,0,0,0]
[null,0,null,0,1961,20,80,0,0,0,0,0]
[null,0,null,0,1962,10,90,0,0,0,0,0]
[null,0,null,0,1963,0,100,0,0,0,0,0]
[null,0,null,0,null,null,null,0,0,0,0]
[null,0,null,0,null,null,null,0,0,0,0,{"$f":"K114*-1","v":0}]
[null,0,null,0,null,null,null,0,0,0,0,0]
[null,0,null,0,null,null,null,0,0,0,0,0]
[null,0,null,0,null,null,null,0,0,0,0,0]
[null,0,null,0,null,null,null,0,0,0,0,0]
[null,0,null,0,null,null,null,0,0,0,0,0]
[null,0,null,0,null,null,null,0,0,0,0,0]
[null,0,null,0,null,null,null,0,0,0,0,0]
[null,0,null,0,null,null,null,0,0,0,0,0]
[null,0,null,0,null,null,null,0,0,0,0,0]
[null,0,null,0,null,null,null,0,0,0,0,0]
[null,0,null,0,null,null,null,0,0,0,0,0]
[null,0,null,0,null,null,null,0,0,0,0,0]
[null,0,null,0,null,null,null,0,0,0,0,0]
[null,0,null,0,null,null,null,0,0,0,0,0]
[null,0,null,0,null,null,null,0,0,0,0,0]
[null,0,null,0,null,null,null,0,0,0,0,0]
[null,0,null,0,null,null,null,0,0,0,0,0]
[null,0,null,0,null,null,null,0,0,0,0,0]
[null,0,null,0,null,null,null,0,0,0,0,0]
[null,0,null,0,null,null,null,0,0,0,0,0]
[null,0,null,0,null,null,null,0,0,0,0,0]
[null,0,null,0,null,null,null,0,0,0,0,0]
[null,0,null,0,null,null,null,0,0,0,0,0]
[null,0,null,0,null,null,null,0,0,0,0,0]
[null,0,null,0,null,null,null,0,0,0,0,0]
[null,0,null,0,null,null,null,0,0,0,0,0]
[null,0,null,0,null,null,null,0,0,0,0,0]
[null,0,null,0,null,null,null,0,0,0,0,0]
[null,0,null,0,null,null,null,0,0,0,0,0]
[null,0,null,0,null,null,null,0,0,0,0,0]
[null,0,null,0,null,null,null,0,0,0,0,0]
[null,0,null,0,null,null,null,0,0,0,0,0]
[null,0,null,0,null,null,null,0,0,0,0,0]
[null,0,null,0,null,null,null,0,0,0,0,0]
[null,0,null,0,null,null,null,0,0,0,0,0]
[null,0,null,0,null,null,null,0,0,0,0,0]
[null,0,null,0,null,null,null,0,0,0,0]
[null,0,null,0,null,null,null,0,0,0,0]
[null,0,null,0,null,null,null,0,0,0,0,{"$f":"K153*-1","v":0}]
[null,0,null,0,null,null,null,0,0,0,0,0]
[null,0,null,0,null,null,null,0,0,0,0,0]
[null,0,null,0,null,null,null,0,0,0,0,0]
[null,0,null,0,null,null,null,0,0,0,0,0]
[null,0,null,0,null,null,null,0,0,0,0,0]
[null,0,null,0,null,null,null,0,0,0,0,0]
[null,0,null,0,null,null,null,0,0,0,0,0]
[null,0,null,0,null,null,null,0,0,0,0,0]
[null,0,null,0,null,null,null,0,0,0,0,0]
[null,0,null,0,null,null,null,0,0,0,0,0]
[null,0,null,0,null,null,null,0,0,0,0,0]
[null,0,null,0,null,null,null,0,0,0,0,0]
[null,0,null,0,null,null,null,0,0,0,0,0]
[null,0,null,0,null,null,null,0,0,0,0,0]
[null,0,null,0,null,null,null,0,0,0,0,0]
[null,0,null,0,null,null,null,0,0,0,0,0]
[null,0,null,0,null,null,null,0,0,0,0,0]
[null,0,null,0,null,null,null,0,0,0,0,0]
[null,0,null,0,null,null,null,0,0,0,0,0]
[null,0,null,0,null,null,null,0,0,0,0,0]
[null,0,null,0,null,null,null,0,0,0,0,0]
[null,0,null,0,null,null,null,0,0,0,0,0]
[null,0,null,0,null,null,null,0,0,0,0,0]
[null,0,null,0,null,null,null,0,0,0,0,0]
[null,0,null,0,null,null,null,0,0,0,0,0]
[null,0,null,0,null,null,null,0,0,0,0,0]
[null,0,null,0,null,null,null,0,0,0,0]
[null,0,null,0,null,null,null,0,0,0,0,{"$f":"K181*-1","v":0}]
[null,0,null,0,null,null,null,0,0,0,0,0]
[null,0,null,0,null,null,null,0,0,0,0,0]
[null,0,null,0,null,null,null,0,0,0,0,0]
[null,0,null,0,null,null,null,0,0,0,0,0]
[null,0,null,0,null,null,null,0,0,0,0,0]
[null,0,null,0,null,null,null,0,0,0,0,0]
[null,0,null,0,null,null,null,0,0,0,0]
[null,0,null,0,null,null,null,0,0,0,0]
[null,0,null,0,null,null,null,0,0,0,0,{"$f":"K190*-1","v":0}]
[null,0,null,0,null,null,null,0,0,0,0]
[null,0,null,0,null,null,null,0,0,0,0,{"$f":"K192*-1","v":0}]
[null,0,null,0,null,null,null,0,0,0,0,{"$f":"K193*-1","v":0}]
[null,0,null,0,null,null,null,0,0,0,0,{"$f":"K194*-1","v":0}]
[null,0,null,0,null,null,null,0,0,0,0]
[null,0,null,0,null,null,null,0,0,0,0]
[null,0,null,0,null,null,null,0,0,0,0]
[null,0,null,0,null,null,null,0,0,0,0]
[null,0,null,0,null,null,null,0,0,0,0]
[null,0,null,0,null,null,null,0,0,0,0]
[null,0,null,0,null,null,null,0,0,0,0]
[null,0,null,0,null,null,null,0,0,0,0]
[null,0,null,0,null,null,null,0,0,0,0]
[null,0,null,0,null,null,null,0,0,0,0]
[null,0,null,0,null,null,null,0,0,0,0]
[null,0,null,0,null,null,null,0,0,0,0,{"$f":"K206*-1","v":0}]
[null,0,null,0,null,null,null,0,0,0,0,{"$f":"K207*-1","v":0}]
[null,0,null,0,null,null,null,0,0,0,0,{"$f":"K208*-1","v":0}]
[null,0,null,0,null,null,null,0,0,0,0,{"$f":"K209*-1","v":0}]
[null,0,null,0,null,null,null,0,0,0,0,{"$f":"K210*-1","v":0}]
[null,0,null,0,null,null,null,0,0,0,0]
[null,0,null,0,null,null,null,0,0,0,0,{"$f":"K212*-1","v":0}]
[null,0,null,0,null,null,null,0,0,0,0,{"$f":"K213*-1","v":0}]
[null,0,null,0,null,null,null,0,0,0,0,{"$f":"K214*-1","v":0}]
[null,0,null,0,null,null,null,0,0,0,0,{"$f":"K215*-1","v":0}]
[null,0,null,0,null,null,null,0,0,0,0,{"$f":"K216*-1","v":0}]
[null,0,null,0,null,null,null,0,0,0,0]
[null,0,null,0,null,null,null,0,0,0,0,{"$f":"K218*-1","v":0}]
[null,0,null,0,null,null,null,0,0,0,0,0]
[null,0,null,0,null,null,null,0,0,0,0,0]
[null,0,null,0,null,null,null,0,0,0,0,0]
[null,0,null,0,null,null,null,0,0,0,0,0]
[null,0,null,0,null,null,null,0,0,0,0,0]
[null,0,null,0,null,null,null,0,0,0,0,0]
[null,0,null,0,null,null,null,0,0,0,0,0]
[null,0,null,0,null,null,null,0,0,0,0,0]
[null,0,null,0,null,null,null,0,0,0,0]
[null,0,null,0,null,null,null,0,0,0,0,{"$f":"K228*-1","v":0}]
[null,0,null,0,null,null,null,0,0,0,0,0]
[null,0,null,0,null,null,null,0,0,0,0,0]
[null,0,null,0,null,null,null,0,0,0,0,0]
[null,0,null,0,null,null,null,0,0,0,0,0]
[null,0,null,0,null,null,null,0,0,0,0,0]
[null,0,null,0,null,null,null,0,0,0,0,0]
[null,0,null,0,null,null,null,0,0,0,0,0]
[null,0,null,0,null,null,null,0,0,0,0]
[null,0,null,0,null,null,null,0,0,0,0,{"$f":"K237*-1","v":0}]
[null,0,null,0,null,null,null,0,0,0,0,{"$f":"K238*-1","v":0}]
[null,0,null,0,null,null,null,0,0,0,0,{"$f":"K239*-1","v":0}]
[null,0,null,0,null,null,null,0,0,0,0,{"$f":"K240*-1","v":0}]
[null,0,null,0,null,null,null,0,0,0,0,{"$f":"K241*-1","v":0}]
[null,0,null,0,null,null,null,0,0,0,0]
[null,0,null,0,null,null,null,0,0,0,0,{"$f":"K243*-1","v":0}]
[null,0,null,0,null,null,null,0,0,0,0,0]
[null,0,null,0,null,null,null,0,0,0,0,0]
[null,0,null,0,null,null,null,0,0,0,0,0]
[null,0,null,0,null,null,null,0,0,0,0,0]
[null,0,null,0,null,null,null,0,0,0,0,0]
[null,0,null,0,null,null,null,0,0,0,0,0]
[null,0,null,0,null,null,null,0,0,0,0]
[null,0,null,0,null,null,null,0,0,0,0,{"$f":"K251*-1","v":0}]
[null,0,null,0,null,null,null,0,0,0,0]
[null,0,null,0,null,null,null,0,0,0,0]
[null,0,null,0,null,null,null,0,0,0,0,{"$f":"K254*-1","v":0}]
[null,0,null,0,null,null,null,0,0,0,0,{"$f":"K255*-1","v":0}]
[null,0,null,0,null,null,null,0,0,0,0,{"$f":"K256*-1","v":0}]
[null,0,null,0,null,null,null,0,0,0,0,{"$f":"K257*-1","v":0}]
[null,0,null,0,null,null,null,0,0,0,0]
[null,0,null,0,null,null,null,0,0,0,0]
[null,0,null,0,null,null,null,0,0,0,0]
[null,0,null,0,null,null,null,0,0,0,0]
[null,0,null,0,null,null,null,0,0,0,0]
[null,0,null,0,null,null,null,0,0,0,0]
[null,0,null,0,null,null,null,0,0,0,0,{"$f":"K264*-1","v":0}]
[null,0,null,0,null,null,null,0,0,0,0,0]
[null,0,null,0,null,null,null,0,0,0,0,0]
[null,0,null,0,null,null,null,0,0,0,0,0]
[null,0,null,0,null,null,null,0,0,0,0,0]
[null,0,null,0,null,null,null,0,0,0,0,0]
[null,0,null,0,null,null,null,0,0,0,0]
[null,0,null,0,null,null,null,0,0,0,0,{"$f":"K271*-1","v":0}]
[null,0,null,0,null,null,null,0,0,0,0,0]
[null,0,null,0,null,null,null,0,0,0,0,0]
[null,0,null,0,null,null,null,0,0,0,0,0]
[null,0,null,0,null,null,null,0,0,0,0,0]
[null,0,null,0,null,null,null,0,0,0,0,0]
[null,0,null,0,null,null,null,0,0,0,0,0]
[null,0,null,0,null,null,null,0,0,0,0,0]
[null,0,null,0,null,null,null,0,0,0,0]
[null,0,null,0,null,null,null,0,0,0,0]
[null,0,null,0,null,null,null,0,0,0,0]
[null,0,null,0,null,null,null,0,0,0,0,{"$f":"K282*-1","v":0}]
[null,0,null,0,null,null,null,0,0,0,0]
[null,0,null,0,null,null,null,0,0,0,0]
[null,0,null,0,null,null,null,0,0,0,0,{"$f":"K285*-1","v":0}]
[null,0,null,0,null,null,null,0,0,0,0,{"$f":"K286*-1","v":0}]
[null,0,null,0,null,null,null,0,0,0,0,{"$f":"K287*-1","v":0}]
[null,0,null,0,null,null,null,0,0,0,0,{"$f":"K288*-1","v":0}]
[null,0,null,0,null,null,null,0,0,0,0,{"$f":"K289*-1","v":0}]
[null,0,null,0,null,null,null,0,0,0,0]
[null,0,null,0,null,null,null,0,0,0,0]
[null,0,null,0,null,null,null,0,0,0,0,{"$f":"K292*-1","v":0}]
[null,0,null,0,null,null,null,0,0,0,0]
[null,0,null,0,null,null,null,0,0,0,0,{"$f":"K294*-1","v":0}]
[null,0,null,0,null,null,null,0,0,0,0,0]
[null,0,null,0,null,null,null,0,0,0,0,0]
[null,0,null,0,null,null,null,0,0,0,0,0]
[null,0,null,0,null,null,null,0,0,0,0,0]
[null,0,null,0,null,null,null,0,0,0,0,0]
[null,0,null,0,null,null,null,0,0,0,0,0]
[null,0,null,0,null,null,null,0,0,0,0,0]
[null,0,null,0,null,null,null,0,0,0,0,0]
[null,0,null,0,null,null,null,0,0,0,0,0]
[null,0,null,0,null,null,null,0,0,0,0,0]
[null,0,null,0,null,null,null,0,0,0,0,0]
[null,0,null,0,null,null,null,0,0,0,0,0]
[null,0,null,0,null,null,null,0,0,0,0,0]
[null,0,null,0,null,null,null,0,0,0,0,0]
[null,0,null,0,null,null,null,0,0,0,0,0]
[null,0,null,0,null,null,null,0,0,0,0,0]
[null,0,null,0,null,null,null,0,0,0,0,0]
[null,0,null,0,null,null,null,0,0,0,0,0]
[null,0,null,0,null,null,null,0,0,0,0,0]
[null,0,null,0,null,null,null,0,0,0,0,0]
[null,0,null,0,null,null,null,0,0,0,0,0]
[null,0,null,0,null,null,null,0,0,0,0,0]
[null,0,null,0,null,null,null,0,0,0,0,0]
[null,0,null,0,null,null,null,0,0,0,0]
[null,0,null,0,null,null,null,0,0,0,0,{"$f":"K319*-1","v":0}]
[null,0,null,0,null,null,null,0,0,0,0,0]
[null,0,null,0,null,null,null,0,0,0,0,0]
[null,0,null,0,null,null,null,0,0,0,0,0]
[null,0,null,0,null,null,null,0,0,0,0,0]
[null,0,null,0,null,null,null,0,0,0,0,0]
[null,0,null,0,null,null,null,0,0,0,0,0]
[null,0,null,0,null,null,null,0,0,0,0,0]
[null,0,null,0,null,null,null,0,0,0,0,0]
[null,0,null,0,null,null,null,0,0,0,0,0]
[null,0,null,0,null,null,null,0,0,0,0,0]
[null,0,null,0,null,null,null,0,0,0,0,0]
[null,0,null,0,null,null,null,0,0,0,0,0]
[null,0,null,0,null,null,null,0,0,0,0,0]
[null,0,null,0,null,null,null,0,0,0,0,0]
[null,0,null,0,null,null,null,0,0,0,0,0]
[null,0,null,0,null,null,null,0,0,0,0,0]
[null,0,null,0,null,null,null,0,0,0,0,0]
[null,0,null,0,null,null,null,0,0,0,0]
[null,0,null,0,null,null,null,0,0,0,0,{"$f":"K338*-1","v":0}]
[null,0,null,0,null,null,null,0,0,0,0]
[null,0,null,0,null,null,null,0,0,0,0]
[null,0,null,0,null,null,null,0,0,0,0]
[null,0,null,0,null,null,null,0,0,0,0]
[null,0,null,0,null,null,null,0,0,0,0]
[null,0,null,0,null,null,null,0,0,0,0,{"$f":"K344*-1","v":0}]
[null,0,null,0,null,null,null,0,0,0,0,{"$f":"K345*-1","v":0}]
[null,0,null,0,null,null,null,0,0,0,0]
[null,0,null,0,null,null,null,0,0,0,0]
[null,0,null,0,null,null,null,0,0,0,0]
[null,0,null,0,null,null,null,0,0,0,0]
[null,0,null,0,null,null,null,0,0,0,0]
[null,0,null,0,null,null,null,0,0,0,0]
[null,0,null,0,null,null,null,0,0,0,0]
[null,0,null,0,null,null,null,0,0,0,0]
[null,0,null,0,null,null,null,0,0,0,0]
[null,0,null,0,null,null,null,0,0,0,0]
[null,0,null,0,null,null,null,0,0,0,0]
[null,0,null,0,null,null,null,0,0,0,0]
[null,0,null,0,null,null,null,0,0,0,0]
[null,0,null,0,null,null,null,0,0,0,0]
[null,0,null,0,null,null,null,0,0,0,0]
[null,0,null,0,null,null,null,0,0,0,0]
[null,0,null,0,null,null,null,0,0,0,0]
[null,0,null,0,null,null,null,0,0,0,0]
[null,0,null,0,null,null,null,0,0,0,0]
[null,0,null,0,null,null,null,0,0,0,0]
[null,0,null,0,null,null,null,0,0,0,0]
[null,0,null,0,null,null,null,0,0,0,0]
[null,0,null,0,null,null,null,0,0,0,0]
[null,0,null,0,null,null,null,0,0,0,0]
[null,0,null,0,null,null,null,0,0,0,0]
[null,0,null,0,null,null,null,0,0,0,0]
[null,0,null,0,null,null,null,0,0,0,0]
[null,0,null,0,null,null,null,0,0,0,0]
[null,0,null,0,null,null,null,0,0,0,0]
[null,0,null,0,null,null,null,0,0,0,0]
[null,0,null,0,null,null,null,0,0,0,0]
[null,0,null,0,null,null,null,0,0,0,0]
[null,0,null,0,null,null,null,0,0,0,0]
[null,0,null,0,null,null,null,0,0,0,0]
[null,0,null,0,null,null,null,0,0,0,0]
[null,0,null,0,null,null,null,0,0,0,0]
[null,0,null,0,null,null,null,0,0,0,0]
[null,0,null,0,null,null,null,0,0,0,0]
[null,0,null,0,null,null,null,0,0,0,0]
[null,0,null,0,null,null,null,0,0,0,0]
[null,0,null,0,null,null,null,0,0,0,0]
[null,0,null,0,null,null,null,0,0,0,0]
[null,0,null,0,null,null,null,0,0,0,0]
[null,0,null,0,null,null,null,0,0,0,0]
[null,0,null,0,null,null,null,0,0,0,0]
[null,0,null,0,null,null,null,0,0,0,0]
[null,0,null,0,null,null,null,0,0,0,0]
[null,0,null,0,null,null,null,0,0,0,0]
[null,0,null,0,null,null,null,0,0,0,0]
[null,0,null,0,null,null,null,0,0,0,0]
[null,0,null,0,null,null,null,0,0,0,0]
[null,0,null,0,null,null,null,0,0,0,0]
[null,0,null,0,null,null,null,0,0,0,0]
[null,0,null,0,null,null,null,0,0,0,0]
[null,0,null,0,null,null,null,0,0,0,0]
[null,0,null,0,null,null,null,0,0,0,0]
[null,0,null,0,null,null,null,0,0,0,0]
[null,0,null,0,null,null,null,0,0,0,0]
[null,0,null,0,null,null,null,0,0,0,0]
[null,0,null,0,null,null,null,0,0,0,0]
[null,0,null,0,null,null,null,0,0,0,0]
[null,0,null,0,null,null,null,0,0,0,0]
[null,0,null,0,null,null,null,0,0,0,0]
[null,0,null,0,null,null,null,0,0,0,0]
[null,0,null,0,null,null,null,0,0,0,0]
[null,0,null,0,null,null,null,0,0,0,0]
[null,0,null,0,null,null,null,0,0,0,0]
[null,0,null,0,null,null,null,0,0,0,0]
[null,0,null,0,null,null,null,0,0,0,0]
[null,0,null,0,null,null,null,0,0,0,0]
[null,0,null,0,null,null,null,0,0,0,0]
[null,0,null,0,null,null,null,0,0,0,0]
[null,0,null,0,null,null,null,0,0,0,0]
[null,0,null,0,null,null,null,0,0,0,0]
[null,0,null,0,null,null,null,0,0,0,0]
[null,0,null,0,null,null,null,0,0,0,0]
[null,0,null,0,null,null,null,0,0,0,0]
[null,0,null,0,null,null,null,0,0,0,0]
[null,0,null,0,null,null,null,0,0,0,0]
[null,0,null,0,null,null,null,0,0,0,0]
[null,0,null,0,null,null,null,0,0,0,0]
[null,0,null,0,null,null,null,0,0,0,0]
[null,0,null,0,null,null,null,0,0,0,0]
[null,0,null,0,null,null,null,0,0,0,0]
[null,0,null,0,null,null,null,0,0,0,0]
[null,0,null,0,null,null,null,0,0,0,0]
[null,0,null,0,null,null,null,0,0,0,0]
[null,0,null,0,null,null,null,0,0,0,0]
[null,0,null,0,null,null,null,0,0,0,0]
[null,0,null,0,null,null,null,0,0,0,0]
[null,0,null,0,null,null,null,0,0,0,0]
[null,0,null,0,null,null,null,0,0,0,0]
[null,0,null,0,null,null,null,0,0,0,0]
[null,0,null,0,null,null,null,0,0,0,0]
[null,0,null,0,null,null,null,0,0,0,0]
[null,0,null,0,null,null,null,0,0,0,0]
[null,0,null,0,null,null,null,0,0,0,0]
[null,0,null,0,null,null,null,0,0,0,0]
[null,0,null,0,null,null,null,0,0,0,0]
[null,0,null,0,null,null,null,0,0,0,0]
[null,0,null,0,null,null,null,0,0,0,0]
[null,0,null,0,null,null,null,0,0,0,0]
[null,0,null,0,null,null,null,0,0,0,0]
[null,0,null,0,null,null,null,0,0,0,0]
[null,0,null,0,null,null,null,0,0,0,0]
[null,0,null,0,null,null,null,0,0,0,0]
[null,0,null,0,null,null,null,0,0,0,0]
[null,0,null,0,null,null,null,0,0,0,0]
[null,0,null,0,null,null,null,0,0,0,0]
[null,0,null,0,null,null,null,0,0,0,0]
[null,0,null,0,null,null,null,0,0,0,0]
[null,0,null,0,null,null,null,0,0,0,0]
[null,0,null,0,null,null,null,0,0,0,0]
[null,0,null,0,null,null,null,0,0,0,0]
[null,0,null,0,null,null,null,0,0,0,0]
[null,0,null,0,null,null,null,0,0,0,0]
[null,0,null,0,null,null,null,0,0,0,0]
[null,0,null,0,null,null,null,0,0,0,0]
[null,0,null,0,null,null,null,0,0,0,0]
[null,0,null,0,null,null,null,0,0,0,0]
[null,0,null,0,null,null,null,0,0,0,0]
[null,0,null,0,null,null,null,0,0,0,0]
[null,0,null,0,null,null,null,0,0,0,0]
[null,0,null,0,null,null,null,0,0,0,0]
[null,0,null,0,null,null,null,0,0,0,0]
[null,0,null,0,null,null,null,0,0,0,0]
[null,0,null,0,null,null,null,0,0,0,0]
[null,0,null,0,null,null,null,0,0,0,0]
[null,0,null,0,null,null,null,0,0,0,0]
[null,0,null,0,null,null,null,0,0,0,0]
[null,0,null,0,null,null,null,0,0,0,0]
[null,0,null,0,null,null,null,0,0,0,0]
[null,0,null,0,null,null,null,0,0,0,0]
[null,0,null,0,null,null,null,0,0,0,0]
[null,0,null,0,null,null,null,0,0,0,0]
[null,0,null,0,null,null,null,0,0,0,0]
[null,0,null,0,null,null,null,0,0,0,0]
[null,0,null,0,null,null,null,0,0,0,0]
[null,0,null,0,null,null,null,0,0,0,0]
[null,0,null,0,null,null,null,0,0,0,0]
[null,0,null,0,null,null,null,0,0,0,0]
[null,0,null,0,null,null,null,0,0,0,0]
[null,0,null,0,null,null,null,0,0,0,0]
[null,0,null,0,null,null,null,0,0,0,0]
[null,0,null,0,null,null,null,0,0,0,0]
[null,0,null,0,null,null,null,0,0,0,0]
[null,0,null,0,null,null,null,0,0,0,0]
[null,0,null,0,null,null,null,0,0,0,0]
[null,0,null,0,null,null,null,0,0,0,0]
[null,0,null,0,null,null,null,0,0,0,0]
[null,0,null,0,null,null,null,0,0,0,0]
[null,0,null,0,null,null,null,0,0,0,0]
[null,0,null,0,null,null,null,0,0,0,0]
[null,0,null,0,null,null,null,0,0,0,0]
[null,0,null,0,null,null,null,0,0,0,0]
[null,0,null,0,null,null,null,0,0,0,0]
[null,0,null,0,null,null,null,0,0,0,0]
[null,0,null,0,null,null,null,0,0,0,0]
[null,0,null,0,null,null,null,0,0,0,0]
[null,0,null,0,null,null,null,0,0,0,0]
[null,0,null,0,null,null,null,0,0,0,0]
[null,0,null,0,null,null,null,0,0,0,0]
[null,0,null,0,null,null,null,0,0,0,0]
[null,0,null,0,null,null,null,0,0,0,0]
[null,0,null,0,null,null,null,0,0,0,0]
[null,0,null,0,null,null,null,0,0,0,0]
[null,0,null,0,null,null,null,0,0,0,0]
[null,0,null,0,null,null,null,0,0,0,0]
[null,0,null,0,null,null,null,0,0,0,0]
[null,0,null,0,null,null,null,0,0,0,0]
[null,0,null,0,null,null,null,0,0,0,0]
[null,0,null,0,null,null,null,0,0,0,0]
[null,0,null,0,null,null,null,0,0,0,0]
[null,0,null,0,null,null,null,0,0,0,0]
[null,0,null,0,null,null,null,0,0,0,0]
[null,0,null,0,null,null,null,0,0,0,0]
[null,0,null,0,null,null,null,0,0,0,0]
[null,0,null,0,null,null,null,0,0,0,0]
[null,0,null,0,null,null,null,0,0,0,0]
[null,0,null,0,null,null,null,0,0,0,0]
[null,0,null,0,null,null,null,0,0,0,0]
[null,0,null,0,null,null,null,0,0,0,0]
[null,0,null,0,null,null,null,0,0,0,0]
[null,0,null,0,null,null,null,0,0,0,0]
[null,0,null,0,null,null,null,0,0,0,0]
[null,0,null,0,null,null,null,0,0,0,0]
[null,0,null,0,null,null,null,0,0,0,0]
[null,0,null,0,null,null,null,0,0,0,0]
[null,0,null,0,null,null,null,0,0,0,0]
[null,0,null,0,null,null,null,0,0,0,0]
[null,0,null,0,null,null,null,0,0,0,0]
[null,0,null,0,null,null,null,0,0,0,0]
[null,0,null,0,null,null,null,0,0,0,0]
[null,0,null,0,null,null,null,0,0,0,0]
[null,0,null,0,null,null,null,0,0,0,0]
[null,0,null,0,null,null,null,0,0,0,0]
[null,0,null,0,null,null,null,0,0,0,0]
[null,0,null,0,null,null,null,0,0,0,0]
[null,0,null,0,null,null,null,0,0,0,0]
[null,0,null,0,null,null,null,0,0,0,0]
[null,0,null,0,null,null,null,0,0,0,0]
[null,0,null,0,null,null,null,0,0,0,0]
[null,0,null,0,null,null,null,0,0,0,0]
[null,0,null,0,null,null,null,0,0,0,0]
[null,0,null,0,null,null,null,0,0,0,0]
[null,0,null,0,null,null,null,0,0,0,0]
[null,0,null,0,null,null,null,0,0,0,0]
[null,0,null,0,null,null,null,0,0,0,0]
[null,0,null,0,null,null,null,0,0,0,0]
[null,0,null,0,null,null,null,0,0,0,0]
[null,0,null,0,null,null,null,0,0,0,0]
[null,0,null,0,null,null,null,0,0,0,0]
[null,0,null,0,null,null,null,0,0,0,0]
[null,0,null,0,null,null,null,0,0,0,0]
[null,0,null,0,null,null,null,0,0,0,0]
[null,0,null,0,null,null,null,0,0,0,0]
[null,0,null,0,null,null,null,0,0,0,0]
[null,0,null,0,null,null,null,0,0,0,0]
[null,0,null,0,null,null,null,0,0,0,0]
[null,0,null,0,null,null,null,0,0,0,0]
[null,0,null,0,null,null,null,0,0,0,0]
[null,0,null,0,null,null,null,0,0,0,0]
[null,0,null,0,null,null,null,0,0,0,0]
[null,0,null,0,null,null,null,0,0,0,0]
[null,0,null,0,null,null,null,0,0,0,0]
[null,0,null,0,null,null,null,0,0,0,0]
[null,0,null,0,null,null,null,0,0,0,0]
[null,0,null,0,null,null,null,0,0,0,0]
[null,0,null,0,null,null,null,0,0,0,0]
[null,0,null,0,null,null,null,0,0,0,0]
[null,0,null,0,null,null,null,0,0,0,0]
[null,0,null,0,null,null,null,0,0,0,0]
[null,0,null,0,null,null,null,0,0,0,0]
[null,0,null,0,null,null,null,0,0,0,0]
[null,0,null,0,null,null,null,0,0,0,0]
[null,0,null,0,null,null,null,0,0,0,0]
[null,0,null,0,null,null,null,0,0,0,0]
[null,0,null,0,null,null,null,0,0,0,0]
[null,0,null,0,null,null,null,0,0,0,0]
[null,0,null,0,null,null,null,0,0,0,0]
[null,0,null,0,null,null,null,0,0,0,0]
[null,0,null,0,null,null,null,0,0,0,0]
[null,0,null,0,null,null,null,0,0,0,0]
[null,0,null,0,null,null,null,0,0,0,0]
[null,0,null,0,null,null,null,0,0,0,0]
[null,0,null,0,null,null,null,0,0,0,0]
[null,0,null,0,null,null,null,0,0,0,0]
[null,0,null,0,null,null,null,0,0,0,0]
[null,0,null,0,null,null,null,0,0,0,0]
[null,0,null,0,null,null,null,0,0,0,0]
[null,0,null,0,null,null,null,0,0,0,0]
[null,0,null,0,null,null,null,0,0,0,0]
[null,0,null,0,null,null,null,0,0,0,0]
[null,0,null,0,null,null,null,0,0,0,0]
[null,0,null,0,null,null,null,0,0,0,0]
[null,0,null,0,null,null,null,0,0,0,0]
[null,0,null,0,null,null,null,0,0,0,0]
[null,0,null,0,null,null,null,0,0,0,0]
[null,0,null,0,null,null,null,0,0,0,0]
[null,0,null,0,null,null,null,0,0,0,0]
[null,0,null,0,null,null,null,0,0,0,0]
[null,0,null,0,null,null,null,0,0,0,0]
[null,0,null,0,null,null,null,0,0,0,0]
[null,0,null,0,null,null,null,0,0,0,0]
[null,0,null,0,null,null,null,0,0,0,0]
[null,0,null,0,null,null,null,0,0,0,0]
[null,0,null,0,null,null,null,0,0,0,0]
[null,0,null,0,null,null,null,0,0,0,0]
[null,0,null,0,null,null,null,0,0,0,0]
[null,0,null,0,null,null,null,0,0,0,0]
[null,0,null,0,null,null,null,0,0,0,0]
[null,0,null,0,null,null,null,0,0,0,0]
[null,0,null,0,null,null,null,0,0,0,0]
[null,0,null,0,null,null,null,0,0,0,0]
[null,0,null,0,null,null,null,0,0,0,0]
[null,0,null,0,null,null,null,0,0,0,0]
[null,0,null,0,null,null,null,0,0,0,0]
[null,0,null,0,null,null,null,0,0,0,0]
[null,0,null,0,null,null,null,0,0,0,0]
[null,0,null,0,null,null,null,0,0,0,0]
[null,0,null,0,null,null,null,0,0,0,0]
[null,0,null,0,null,null,null,0,0,0,0]
[null,0,null,0,null,null,null,0,0,0,0]
[null,0,null,0,null,null,null,0,0,0,0]
[null,0,null,0,null,null,null,0,0,0,0]
[null,0,null,0,null,null,null,0,0,0,0]
[null,0,null,0,null,null,null,0,0,0,0]
[null,0,null,0,null,null,null,0,0,0,0]
[null,0,null,0,null,null,null,0,0,0,0]
[null,0,null,0,null,null,null,0,0,0,0]
[null,0,null,0,null,null,null,0,0,0,0]
[null,0,null,0,null,null,null,0,0,0,0]
[null,0,null,0,null,null,null,0,0,0,0]
[null,0,null,0,null,null,null,0,0,0,0]
[null,0,null,0,null,null,null,0,0,0,0]
[null,0,null,0,null,null,null,0,0,0,0]
[null,0,null,0,null,null,null,0,0,0,0]
[null,0,null,0,null,null,null,0,0,0,0]
[null,0,null,0,null,null,null,0,0,0,0]
[null,0,null,0,null,null,null,0,0,0,0]
[null,0,null,0,null,null,null,0,0,0,0]
[null,0,null,0,null,null,null,0,0,0,0]
[null,0,null,0,null,null,null,0,0,0,0]
[null,0,null,0,null,null,null,0,0,0,0]
[null,0,null,0,null,null,null,0,0,0,0]
[null,0,null,0,null,null,null,0,0,0,0]
[null,0,null,0,null,null,null,0,0,0,0]
[null,0,null,0,null,null,null,0,0,0,0]
[null,0,null,0,null,null,null,0,0,0,0]
[null,0,null,0,null,null,null,0,0,0,0]
[null,0,null,0,null,null,null,0,0,0,0]
[null,0,null,0,null,null,null,0,0,0,0]
[null,0,null,0,null,null,null,0,0,0,0]
[null,0,null,0,null,null,null,0,0,0,0]
[null,0,null,0,null,null,null,0,0,0,0]
[null,0,null,0,null,null,null,0,0,0,0]
[null,0,null,0,null,null,null,0,0,0,0]
[null,0,null,0,null,null,null,0,0,0,0]
[null,0,null,0,null,null,null,0,0,0,0]
[null,0,null,0,null,null,null,0,0,0,0]
[null,0,null,0,null,null,null,0,0,0,0]
[null,0,null,0,null,null,null,0,0,0,0]
[null,0,null,0,null,null,null,0,0,0,0]
[null,0,null,0,null,null,null,0,0,0,0]
[null,0,null,0,null,null,null,0,0,0,0]
[null,0,null,0,null,null,null,0,0,0,0]
[null,0,null,0,null,null,null,0,0,0,0]
[null,0,null,0,null,null,null,0,0,0,0]
[null,0,null,0,null,null,null,0,0,0,0]
[null,0,null,0,null,null,null,0,0,0,0]
[null,0,null,0,null,null,null,0,0,0,0]
[null,0,null,0,null,null,null,0,0,0,0]
[null,0,null,0,null,null,null,0,0,0,0]
[null,0,null,0,null,null,null,0,0,0,0]
[null,0,null,0,null,null,null,0,0,0,0]
[null,0,null,0,null,null,null,0,0,0,0]
[null,0,null,0,null,null,null,0,0,0,0]
[null,0,null,0,null,null,null,0,0,0,0]
[null,0,null,0,null,null,null,0,0,0,0]
[null,0,null,0,null,null,null,0,0,0,0]
[null,0,null,0,null,null,null,0,0,0,0]
[null,0,null,0,null,null,null,0,0,0,0]
[null,0,null,0,null,null,null,0,0,0,0]
[null,0,null,0,null,null,null,0,0,0,0]
[null,0,null,0,null,null,null,0,0,0,0]
[null,0,null,0,null,null,null,0,0,0,0]
[null,0,null,0,null,null,null,0,0,0,0]
[null,0,null,0,null,null,null,0,0,0,0]
[null,0,null,0,null,null,null,0,0,0,0]
[null,0,null,0,null,null,null,0,0,0,0]
[null,0,null,0,null,null,null,0,0,0,0]
[null,0,null,0,null,null,null,0,0,0,0]
[null,0,null,0,null,null,null,0,0,0,0]
[null,0,null,0,null,null,null,0,0,0,0]
[null,0,null,0,null,null,null,0,0,0,0]
[null,0,null,0,null,null,null,0,0,0,0]
[null,0,null,0,null,null,null,0,0,0,0]
[null,0,null,0,null,null,null,0,0,0,0]
[null,0,null,0,null,null,null,0,0,0,0]
[null,0,null,0,null,null,null,0,0,0,0]
[null,0,null,0,null,null,null,0,0,0,0]
[null,0,null,0,null,null,null,0,0,0,0]
[null,0,null,0,null,null,null,0,0,0,0]
[null,0,null,0,null,null,null,0,0,0,0]
[null,0,null,0,null,null,null,0,0,0,0]
[null,0,null,0,null,null,null,0,0,0,0]
[null,0,null,0,null,null,null,0,0,0,0]
[null,0,null,0,null,null,null,0,0,0,0]
[null,0,null,0,null,null,null,0,0,0,0]
[null,0,null,0,null,null,null,0,0,0,0]
[null,0,null,0,null,null,null,0,0,0,0]
[null,0,null,0,null,null,null,0,0,0,0]
[null,0,null,0,null,null,null,0,0,0,0]
[null,0,null,0,null,null,null,0,0,0,0]
[null,0,null,0,null,null,null,0,0,0,0]
[null,0,null,0,null,null,null,0,0,0,0]
[null,0,null,0,null,null,null,0,0,0,0]
[null,0,null,0,null,null,null,0,0,0,0]
[null,0,null,0,null,null,null,0,0,0,0]
[null,0,null,0,null,null,null,0,0,0,0]
[null,0,null,0,null,null,null,0,0,0,0]
[null,0,null,0,null,null,null,0,0,0,0]
[null,0,null,0,null,null,null,0,0,0,0]
[null,0,null,0,null,null,null,0,0,0,0]
[null,0,null,0,null,null,null,0,0,0,0]
[null,0,null,0,null,null,null,0,0,0,0]
[null,0,null,0,null,null,null,0,0,0,0]
[null,0,null,0,null,null,null,0,0,0,0]
[null,0,null,0,null,null,null,0,0,0,0]
[null,0,null,0,null,null,null,0,0,0,0]
[null,0,null,0,null,null,null,0,0,0,0]
[null,0,null,0,null,null,null,0,0,0,0]
[null,0,null,0,null,null,null,0,0,0,0]
[null,0,null,0,null,null,null,0,0,0,0]
[null,0,null,0,null,null,null,0,0,0,0]
[null,0,null,0,null,null,null,0,0,0,0]
[null,0,null,0,null,null,null,0,0,0,0]
[null,0,null,0,null,null,null,0,0,0,0]
[null,0,null,0,null,null,null,0,0,0,0]
[null,0,null,0,null,null,null,0,0,0,0]
[null,0,null,0,null,null,null,0,0,0,0]
[null,0,null,0,null,null,null,0,0,0,0]
[null,0,null,0,null,null,null,0,0,0,0]
[null,0,null,0,null,null,null,0,0,0,0]
[null,0,null,0,null,null,null,0,0,0,0]
[null,0,null,0,null,null,null,0,0,0,0]
[null,0,null,0,null,null,null,0,0,0,0]
[null,0,null,0,null,null,null,0,0,0,0]
[null,0,null,0,null,null,null,0,0,0,0]
[null,0,null,0,null,null,null,0,0,0,0]
[null,0,null,0,null,null,null,0,0,0,0]
[null,0,null,0,null,null,null,0,0,0,0]
[null,0,null,0,null,null,null,0,0,0,0]
[null,0,null,0,null,null,null,0,0,0,0]
[null,0,null,0,null,null,null,0,0,0,0]
[null,0,null,0,null,null,null,0,0,0,0]
[null,0,null,0,null,null,null,0,0,0,0]
[null,0,null,0,null,null,null,0,0,0,0]
[null,0,null,0,null,null,null,0,0,0,0]
[null,0,null,0,null,null,null,0,0,0,0]
[null,0,null,0,null,null,null,0,0,0,0]
[null,0,null,0,null,null,null,0,0,0,0]
[null,0,null,0,null,null,null,0,0,0,0]
[null,0,null,0,null,null,null,0,0,0,0]
[null,0,null,0,null,null,null,0,0,0,0]
[null,0,null,0,null,null,null,0,0,0,0]
[null,0,null,0,null,null,null,0,0,0,0]
[null,0,null,0,null,null,null,0,0,0,0]
[null,0,null,0,null,null,null,0,0,0,0]
[null,0,null,0,null,null,null,0,0,0,0]
[null,0,null,0,null,null,null,0,0,0,0]
[null,0,null,0,null,null,null,0,0,0,0]
[null,0,null,0,null,null,null,0,0,0,0]
[null,0,null,0,null,null,null,0,0,0,0]
[null,0,null,0,null,null,null,0,0,0,0]
[null,0,null,0,null,null,null,0,0,0,0]
[null,0,null,0,null,null,null,0,0,0,0]
[null,0,null,0,null,null,null,0,0,0,0]
[null,0,null,0,null,null,null,0,0,0,0]
[null,0,null,0,null,null,null,0,0,0,0]
[null,0,null,0,null,null,null,0,0,0,0]
[null,0,null,0,null,null,null,0,0,0,0]
[null,0,null,0,null,null,null,0,0,0,0]
[null,0,null,0,null,null,null,0,0,0,0]
[null,0,null,0,null,null,null,0,0,0,0]
[null,0,null,0,null,null,null,0,0,0,0]
[null,0,null,0,null,null,null,0,0,0,0]
[null,0,null,0,null,null,null,0,0,0,0]
[null,0,null,0,null,null,null,0,0,0,0]
[null,0,null,0,null,null,null,0,0,0,0]
[null,0,null,0,null,null,null,0,0,0,0]
[null,0,null,0,null,null,null,0,0,0,0]
[null,0,null,0,null,null,null,0,0,0,0]
[null,0,null,0,null,null,null,0,0,0,0]
[null,0,null,0,null,null,null,0,0,0,0]
[null,0,null,0,null,null,null,0,0,0,0]
[null,0,null,0,null,null,null,0,0,0,0]
[null,0,null,0,null,null,null,0,0,0,0]
[null,0,null,0,null,null,null,0,0,0,0]
[null,0,null,0,null,null,null,0,0,0,0]
[null,0,null,0,null,null,null,0,0,0,0]
[null,0,null,0,null,null,null,0,0,0,0]
[null,0,null,0,null,null,null,0,0,0,0]
[null,0,null,0,null,null,null,0,0,0,0]
[null,0,null,0,null,null,null,0,0,0,0]
[null,0,null,0,null,null,null,0,0,0,0]
[null,0,null,0,null,null,null,0,0,0,0]
[null,0,null,0,null,null,null,0,0,0,0]
[null,0,null,0,null,null,null,0,0,0,0]
[null,0,null,0,null,null,null,0,0,0,0]
[null,0,null,0,null,null,null,0,0,0,0]
[null,0,null,0,null,null,null,0,0,0,0]
[null,0,null,0,null,null,null,0,0,0,0]
[null,0,null,0,null,null,null,0,0,0,0]
[null,0,null,0,null,null,null,0,0,0,0]
[null,0,null,0,null,null,null,0,0,0,0]
[null,0,null,0,null,null,null,0,0,0,0]
[null,0,null,0,null,null,null,0,0,0,0]
[null,0,null,0,null,null,null,0,0,0,0]
[null,0,null,0,null,null,null,0,0,0,0]
[null,0,null,0,null,null,null,0,0,0,0]
[null,0,null,0,null,null,null,0,0,0,0]
[null,0,null,0,null,null,null,0,0,0,0]
[null,0,null,0,null,null,null,0,0,0,0]
[null,0,null,0,null,null,null,0,0,0,0]
[null,0,null,0,null,null,null,0,0,0,0]
[null,0,null,0,null,null,null,0,0,0,0]
[null,0,null,0,null,null,null,0,0,0,0]
[null,0,null,0,null,null,null,0,0,0,0]
[null,0,null,0,null,null,null,0,0,0,0]
[null,0,null,0,null,null,null,0,0,0,0]
[null,0,null,0,null,null,null,0,0,0,0]
[null,0,null,0,null,null,null,0,0,0,0]
[null,0,null,0,null,null,null,0,0,0,0]
[null,0,null,0,null,null,null,0,0,0,0]
[null,0,null,0,null,null,null,0,0,0,0]
[null,0,null,0,null,null,null,0,0,0,0]
[null,0,null,0,null,null,null,0,0,0,0]
[null,0,null,0,null,null,null,0,0,0,0]
[null,0,null,0,null,null,null,0,0,0,0]
[null,0,null,0,null,null,null,0,0,0,0]
[null,0,null,0,null,null,null,0,0,0,0]
[null,0,null,0,null,null,null,0,0,0,0]
[null,0,null,0,null,null,null,0,0,0,0]
[null,0,null,0,null,null,null,0,0,0,0]
[null,0,null,0,null,null,null,0,0,0,0]
[null,0,null,0,null,null,null,0,0,0,0]
[null,0,null,0,null,null,null,0,0,0,0]
[null,0,null,0,null,null,null,0,0,0,0]
[null,0,null,0,null,null,null,0,0,0,0]
[null,0,null,0,null,null,null,0,0,0,0]
[null,0,null,0,null,null,null,0,0,0,0]
[null,0,null,0,null,null,null,0,0,0,0]
[null,0,null,0,null,null,null,0,0,0,0]
[null,0,null,0,null,null,null,0,0,0,0]
[null,0,null,0,null,null,null,0,0,0,0]
[null,0,null,0,null,null,null,0,0,0,0]
[null,0,null,0,null,null,null,0,0,0,0]
[null,0,null,0,null,null,null,0,0,0,0]
[null,0,null,0,null,null,null,0,0,0,0]
[null,0,null,0,null,null,null,0,0,0,0]
[null,0,null,0,null,null,null,0,0,0,0]
[null,0,null,0,null,null,null,0,0,0,0]
[null,0,null,0,null,null,null,0,0,0,0]
[null,0,null,0,null,null,null,0,0,0,0]
[null,0,null,0,null,null,null,0,0,0,0]
[null,0,null,0,null,null,null,0,0,0,0]
[null,0,null,0,null,null,null,0,0,0,0]
[null,0,null,0,null,null,null,0,0,0,0]
[null,0,null,0,null,null,null,0,0,0,0]
[null,0,null,0,null,null,null,0,0,0,0]
[null,0,null,0,null,null,null,0,0,0,0]
[null,0,null,0,null,null,null,0,0,0,0]
[null,0,null,0,null,null,null,0,0,0,0]
[null,0,null,0,null,null,null,0,0,0,0]
[null,0,null,0,null,null,null,0,0,0,0]
[null,0,null,0,null,null,null,0,0,0,0]
[null,0,null,0,null,null,null,0,0,0,0]
[null,0,null,0,null,null,null,0,0,0,0]
[null,0,null,0,null,null,null,0,0,0,0]
[null,0,null,0,null,null,null,0,0,0,0]
[null,0,null,0,null,null,null,0,0,0,0]
[null,0,null,0,null,null,null,0,0,0,0]
[null,0,null,0,null,null,null,0,0,0,0]
[null,0,null,0,null,null,null,0,0,0,0]
[null,0,null,0,null,null,null,0,0,0,0]
[null,0,null,0,null,null,null,0,0,0,0]
[null,0,null,0,null,null,null,0,0,0,0]
[null,0,null,0,null,null,null,0,0,0,0]
[null,0,null,0,null,null,null,0,0,0,0]
[null,0,null,0,null,null,null,0,0,0,0]
[null,0,null,0,null,null,null,0,0,0,0]
[null,0,null,0,null,null,null,0,0,0,0]
[null,0,null,0,null,null,null,0,0,0,0]
[null,0,null,0,null,null,null,0,0,0,0]
[null,0,null,0,null,null,null,0,0,0,0]
[null,0,null,0,null,null,null,0,0,0,0]
[null,0,null,0,null,null,null,0,0,0,0]
[null,0,null,0,null,null,null,0,0,0,0]
[null,0,null,0,null,null,null,0,0,0,0]
[null,0,null,0,null,null,null,0,0,0,0]
[null,0,null,0,null,null,null,0,0,0,0]
[null,0,null,0,null,null,null,0,0,0,0]
[null,0,null,0,null,null,null,0,0,0,0]
[null,0,null,0,null,null,null,0,0,0,0]
[null,0,null,0,null,null,null,0,0,0,0]
[null,0,null,0,null,null,null,0,0,0,0]
[null,0,null,0,null,null,null,0,0,0,0]
[null,0,null,0,null,null,null,0,0,0,0]
[null,0,null,0,null,null,null,0,0,0,0]
[null,0,null,0,null,null,null,0,0,0,0]
[null,0,null,0,null,null,null,0,0,0,0]
[null,0,null,0,null,null,null,0,0,0,0]
[null,0,null,0,null,null,null,0,0,0,0]
[null,0,null,0,null,null,null,0,0,0,0]
[null,0,null,0,null,null,null,0,0,0,0]
[null,0,null,0,null,null,null,0,0,0,0]
[null,0,null,0,null,null,null,0,0,0,0]
[null,0,null,0,null,null,null,0,0,0,0]
[null,0,null,0,null,null,null,0,0,0,0]
[null,0,null,0,null,null,null,0,0,0,0]
[null,0,null,0,null,null,null,0,0,0,0]
[null,0,null,0,null,null,null,0,0,0,0]
[null,0,null,0,null,null,null,0,0,0,0]
[null,0,null,0,null,null,null,0,0,0,0]
[null,0,null,0,null,null,null,0,0,0,0]
[null,0,null,0,null,null,null,0,0,0,0]
[null,0,null,0,null,null,null,0,0,0,0]
[null,0,null,0,null,null,null,0,0,0,0]
[null,0,null,0,null,null,null,0,0,0,0]
[null,0,null,0,null,null,null,0,0,0,0]
[null,0,null,0,null,null,null,0,0,0,0]
[null,0,null,0,null,null,null,0,0,0,0]
[null,0,null,0,null,null,null,0,0,0,0]
[null,0,null,0,null,null,null,0,0,0,0]
[null,0,null,0,null,null,null,0,0,0,0]
[null,0,null,0,null,null,null,0,0,0,0]
[null,0,null,0,null,null,null,0,0,0,0]
[null,0,null,0,null,null,null,0,0,0,0]
[null,0,null,0,null,null,null,0,0,0,0]
[null,0,null,0,null,null,null,0,0,0,0]
[null,0,null,0,null,null,null,0,0,0,0]
[null,0,null,0,null,null,null,0,0,0,0]
[null,0,null,0,null,null,null,0,0,0,0]
[null,0,null,0,null,null,null,0,0,0,0]
[null,0,null,0,null,null,null,0,0,0,0]
[null,0,null,0,null,null,null,0,0,0,0]
[null,0,null,0,null,null,null,0,0,0,0]
[null,0,null,0,null,null,null,0,0,0,0]
[null,0,null,0,null,null,null,0,0,0,0]
[null,0,null,0,null,null,null,0,0,0,0]
[null,0,null,0,null,null,null,0,0,0,0]
[null,0,null,0,null,null,null,0,0,0,0]
[null,0,null,0,null,null,null,0,0,0,0]
[null,0,null,0,null,null,null,0,0,0,0]
[null,0,null,0,null,null,null,0,0,0,0]
[null,0,null,0,null,null,null,0,0,0,0]
[null,0,null,0,null,null,null,0,0,0,0]
[null,0,null,0,null,null,null,0,0,0,0]
[null,0,null,0,null,null,null,0,0,0,0]
[null,0,null,0,null,null,null,0,0,0,0]
[null,0,null,0,null,null,null,0,0,0,0]
[null,0,null,0,null,null,null,0,0,0,0]
[null,0,null,0,null,null,null,0,0,0,0]
[null,0,null,0,null,null,null,0,0,0,0]
[null,0,null,0,null,null,null,0,0,0,0]
[null,0,null,0,null,null,null,0,0,0,0]
[null,0,null,0,null,null,null,0,0,0,0]
[null,0,null,0,null,null,null,0,0,0,0]
[null,0,null,0,null,null,null,0,0,0,0]
[null,0,null,0,null,null,null,0,0,0,0]
[null,0,null,0,null,null,null,0,0,0,0]
[null,0,null,0,null,null,null,0,0,0,0]
[null,0,null,0,null,null,null,0,0,0,0]
[null,0,null,0,null,null,null,0,0,0,0]
[null,0,null,0,null,null,null,0,0,0,0]
[null,0,null,0,null,null,null,0,0,0,0]
[null,0,null,0,null,null,null,0,0,0,0]
[null,0,null,0,null,null,null,0,0,0,0]
[null,0,null,0,null,null,null,0,0,0,0]
[null,0,null,0,null,null,null,0,0,0,0]
[null,0,null,0,null,null,null,0,0,0,0]
[null,0,null,0,null,null,null,0,0,0,0]
[null,0,null,0,null,null,null,0,0,0,0]
[null,0,null,0,null,null,null,0,0,0,0]
[null,0,null,0,null,null,null,0,0,0,0]
[null,0,null,0,null,null,null,0,0,0,0]
[null,0,null,0,null,null,null,0,0,0,0]
[null,0,null,0,null,null,null,0,0,0,0]
[null,0,null,0,null,null,null,0,0,0,0]
[null,0,null,0,null,null,null,0,0,0,0]
[null,0,null,0,null,null,null,0,0,0,0]
[null,0,null,0,null,null,null,0,0,0,0]
[null,0,null,0,null,null,null,0,0,0,0]
[null,0,null,0,null,null,null,0,0,0,0]
[null,0,null,0,null,null,null,0,0,0,0]
[null,0,null,0,null,null,null,0,0,0,0]
[null,0,null,0,null,null,null,0,0,0,0]
[null,0,null,0,null,null,null,0,0,0,0]
[null,0,null,0,null,null,null,0,0,0,0]
[null,0,null,0,null,null,null,0,0,0,0]
[null,0,null,0,null,null,null,0,0,0,0]
[null,0,null,0,null,null,null,0,0,0,0]
[null,0,null,0,null,null,null,0,0,0,0]
[null,0,null,0,null,null,null,0,0,0,0]
[null,0,null,0,null,null,null,0,0,0,0]
[null,0,null,0,null,null,null,0,0,0,0]
[null,0,null,0,null,null,null,0,0,0,0]
[null,0,null,0,null,null,null,0,0,0,0]
[null,0,null,0,null,null,null,0,0,0,0]
[null,0,null,0,null,null,null,0,0,0,0]
[null,0,null,0,null,null,null,0,0,0,0]
[null,0,null,0,null,null,null,0,0,0,0]
[null,0,null,0,null,null,null,0,0,0,0]
[null,0,null,0,null,null,null,0,0,0,0]
[null,0,null,0,null,null,null,0,0,0,0]
[null,0,null,0,null,null,null,0,0,0,0]
[null,0,null,0,null,null,null,0,0,0,0]
[null,0,null,0,null,null,null,0,0,0,0]
[null,0,null,0,null,null,null,0,0,0,0]
[null,0,null,0,null,null,null,0,0,0,0]
[null,0,null,0,null,null,null,0,0,0,0]
[null,0,null,0,null,null,null,0,0,0,0]
[null,0,null,0,null,null,null,0,0,0,0]
[null,0,null,0,null,null,null,0,0,0,0]
[null,0,null,0,null,null,null,0,0,0,0]
[null,0,null,0,null,null,null,0,0,0,0]
[null,0,null,0,null,null,null,0,0,0,0]
[null,0,null,0,null,null,null,0,0,0,0]
[null,0,null,0,null,null,null,0,0,0,0]
[null,0,null,0,null,null,null,0,0,0,0]
[null,0,null,0,null,null,null,0,0,0,0]
[null,0,null,0,null,null,null,0,0,0,0]
[null,0,null,0,null,null,null,0,0,0,0]
[null,0,null,0,null,null,null,0,0,0,0]
[null,0,null,0,null,null,null,0,0,0,0]
[null,0,null,0,null,null,null,0,0,0,0]
[null,0,null,0,null,null,null,0,0,0,0]
[null,0,null,0,null,null,null,0,0,0,0]
[null,0,null,0,null,null,null,0,0,0,0]
[null,0,null,0,null,null,null,0,0,0,0]
[null,0,null,0,null,null,null,0,0,0,0]
[null,0,null,0,null,null,null,0,0,0,0]
[null,0,null,0,null,null,null,0,0,0,0]
[null,0,null,0,null,null,null,0,0,0,0]
[null,0,null,0,null,null,null,0,0,0,0]
[null,0,null,0,null,null,null,0,0,0,0]
[null,0,null,0,null,null,null,0,0,0,0]
[null,0,null,0,null,null,null,0,0,0,0]
[null,0,null,0,null,null,null,0,0,0,0]
[null,0,null,0,null,null,null,0,0,0,0]
[null,0,null,0,null,null,null,0,0,0,0]
[null,0,null,0,null,null,null,0,0,0,0]
[null,0,null,0,null,null,null,0,0,0,0]
[null,0,null,0,null,null,null,0,0,0,0]
[null,0,null,0,null,null,null,0,0,0,0]
[null,0,null,0,null,null,null,0,0,0,0]
[null,0,null,0,null,null,null,0,0,0,0]
[null,0,null,0,null,null,null,0,0,0,0]
[null,0,null,0,null,null,null,0,0,0,0]
[null,0,null,0,null,null,null,0,0,0,0]
[null,0,null,0,null,null,null,0,0,0,0]
[null,0,null,0,null,null,null,0,0,0,0]
[null,0,null,0,null,null,null,0,0,0,0]
[null,0,null,0,null,null,null,0,0,0,0]
[null,0,null,0,null,null,null,0,0,0,0]
[null,0,null,0,null,null,null,0,0,0,0]
[null,0,null,0,null,null,null,0,0,0,0]
[null,0,null,0,null,null,null,0,0,0,0]
[null,0,null,0,null,null,null,0,0,0,0]
[null,0,null,0,null,null,null,0,0,0,0]
[null,0,null,0,null,null,null,0,0,0,0]
[null,0,null,0,null,null,null,0,0,0,0]
[null,0,null,0,null,null,null,0,0,0,0]
[null,0,null,0,null,null,null,0,0,0,0]
[null,0,null,0,null,null,null,0,0,0,0]
[null,0,null,0,null,null,null,0,0,0,0]
[null,0,null,0,null,null,null,0,0,0,0]
[null,0,null,0,null,null,null,0,0,0,0]
[null,0,null,0,null,null,null,0,0,0,0]
[null,0,null,0,null,null,null,0,0,0,0]
[null,0,null,0,null,null,null,0,0,0,0]
[null,0,null,0,null,null,null,0,0,0,0]
[null,0,null,0,null,null,null,0,0,0,0]
[null,0,null,0,null,null,null,0,0,0,0]
[null,0,null,0,null,null,null,0,0,0,0]
[null,0,null,0,null,null,null,0,0,0,0]
[null,0,null,0,null,null,null,0,0,0,0]
[null,0,null,0,null,null,null,0,0,0,0]
[null,0,null,0,null,null,null,0,0,0,0]
[null,0,null,0,null,null,null,0,0,0,0]
[null,0,null,0,null,null,null,0,0,0,0]
[null,0,null,0,null,null,null,0,0,0,0]
[null,0,null,0,null,null,null,0,0,0,0]
[null,0,null,0,null,null,null,0,0,0,0]
[null,0,null,0,null,null,null,0,0,0,0]
[null,0,null,0,null,null,null,0,0,0,0]
[null,0,null,0,null,null,null,0,0,0,0]
[null,0,null,0,null,null,null,0,0,0,0]
[null,0,null,0,null,null,null,0,0,0,0]
[null,0,null,0,null,null,null,0,0,0,0]
[null,0,null,0,null,null,null,0,0,0,0]
[null,0,null,0,null,null,null,0,0,0,0]
[null,0,null,0,null,null,null,0,0,0,0]
[null,0,null,0,null,null,null,0,0,0,0]
[null,0,null,0,null,null,null,0,0,0,0]
[null,0,null,0,null,null,null,0,0,0,0]
[null,0,null,0,null,null,null,0,0,0,0]
[null,0,null,0,null,null,null,0,0,0,0]
[null,0,null,0,null,null,null,0,0,0,0]
[null,0,null,0,null,null,null,0,0,0,0]
[null,0,null,0,null,null,null,0,0,0,0]
[null,0,null,0,null,null,null,0,0,0,0]
[null,0,null,0,null,null,null,0,0,0,0]
[null,0,null,0,null,null,null,0,0,0,0]
[null,0,null,0,null,null,null,0,0,0,0]
[null,0,null,0,null,null,null,0,0,0,0]
[null,0,null,0,null,null,null,0,0,0,0]
[null,0,null,0,null,null,null,0,0,0,0]
[null,0,null,0,null,null,null,0,0,0,0]
[null,0,null,0,null,null,null,0,0,0,0]
[null,0,null,0,null,null,null,0,0,0,0]
[null,0,null,0,null,null,null,0,0,0,0]
[null,0,null,0,null,null,null,0,0,0,0]
[null,0,null,0,null,null,null,0,0,0,0]
[null,0,null,0,null,null,null,0,0,0,0]
[null,0,null,0,null,null,null,0,0,0,0]
[null,0,null,0,null,null,null,0,0,0,0]
[null,0,null,0,null,null,null,0,0,0,0]
[null,0,null,0,null,null,null,0,0,0,0]
[null,0,null,0,null,null,null,0,0,0,0]
[null,0,null,0,null,null,null,0,0,0,0]
[null,0,null,0,null,null,null,0,0,0,0]
[null,0,null,0,null,null,null,0,0,0,0]
[null,0,null,0,null,null,null,0,0,0,0]
[null,0,null,0,null,null,null,0,0,0,0]
[null,0,null,0,null,null,null,0,0,0,0]
[null,0,null,0,null,null,null,0,0,0,0]
[null,0,null,0,null,null,null,0,0,0,0]
[null,0,null,0,null,null,null,0,0,0,0]
[null,0,null,0,null,null,null,0,0,0,0]
[null,0,null,0,null,null,null,0,0,0,0]
[null,0,null,0,null,null,null,0,0,0,0]
[null,0,null,0,null,null,null,0,0,0,0]
[null,0,null,0,null,null,null,0,0,0,0]
[null,0,null,0,null,null,null,0,0,0,0]
[null,0,null,0,null,null,null,0,0,0,0]
[null,0,null,0,null,null,null,0,0,0,0]
[null,0,null,0,null,null,null,0,0,0,0]
[null,0,null,0,null,null,null,0,0,0,0]
[null,0,null,0,null,null,null,0,0,0,0]
[null,0,null,0,null,null,null,0,0,0,0]
[null,0,null,0,null,null,null,0,0,0,0]
[null,0,null,0,null,null,null,0,0,0,0]
[null,0,null,0,null,null,null,0,0,0,0]
[null,0,null,0,null,null,null,0,0,0,0]
[null,0,null,0,null,null,null,0,0,0,0]
[null,0,null,0,null,null,null,0,0,0,0]
[null,0,null,0,null,null,null,0,0,0,0]
[null,0,null,0,null,null,null,0,0,0,0]
[null,0,null,0,null,null,null,0,0,0,0]
[null,0,null,0,null,null,null,0,0,0,0]
[null,0,null,0,null,null,null,0,0,0,0]
[null,0,null,0,null,null,null,0,0,0,0]
[null,0,null,0,null,null,null,0,0,0,0]
[null,0,null,0,null,null,null,0,0,0,0]
[null,0,null,0,null,null,null,0,0,0,0]
[null,0,null,0,null,null,null,0,0,0,0]
[null,0,null,0,null,null,null,0,0,0,0]
[null,0,null,0,null,null,null,0,0,0,0]
[null,0,null,0,null,null,null,0,0,0,0]
[null,0,null,0,null,null,null,0,0,0,0]
[null,0,null,0,null,null,null,0,0,0,0]
[null,0,null,0,null,null,null,0,0,0,0]
[null,0,null,0,null,null,null,0,0,0,0]
[null,0,null,0,null,null,null,0,0,0,0]
[null,0,null,0,null,null,null,0,0,0,0]
[null,0,null,0,null,null,null,0,0,0,0]
[null,0,null,0,null,null,null,0,0,0,0]
[null,0,null,0,null,null,null,0,0,0,0]
[null,0,null,0,null,null,null,0,0,0,0]
[null,0,null,0,null,null,null,0,0,0,0]
[null,0,null,0,null,null,null,0,0,0,0]
[null,0,null,0,null,null,null,0,0,0,0]
[null,0,null,0,null,null,null,0,0,0,0]
[null,0,null,0,null,null,null,0,0,0,0]
[null,0,null,0,null,null,null,0,0,0,0]
[null,0,null,0,null,null,null,0,0,0,0]
[null,0,null,0,null,null,null,0,0,0,0]
[null,0,null,0,null,null,null,0,0,0,0]
[null,0,null,0,null,null,null,0,0,0,0]
[null,0,null,0,null,null,null,0,0,0,0]
[null,0,null,0,null,null,null,0,0,0,0]
[null,0,null,0,null,null,null,0,0,0,0]
[null,0,null,0,null,null,null,0,0,0,0]
[null,0,null,0,null,null,null,0,0,0,0]
[null,0,null,0,null,null,null,0,0,0,0]
[null,0,null,0,null,null,null,0,0,0,0]
[null,0,null,0,null,null,null,0,0,0,0]
[null,0,null,0,null,null,null,0,0,0,0]
[null,0,null,0,null,null,null,0,0,0,0]
[null,0,null,0,null,null,null,0,0,0,0]
[null,0,null,0,null,null,null,0,0,0,0]
[null,0,null,0,null,null,null,0,0,0,0]
[null,0,null,0,null,null,null,0,0,0,0]
[null,0,null,0,null,null,null,0,0,0,0]
[null,0,null,0,null,null,null,0,0,0,0]
[null,0,null,0,null,null,null,0,0,0,0]
[null,0,null,0,null,null,null,0,0,0,0]
[null,0,null,0,null,null,null,0,0,0,0]
[null,0,null,0,null,null,null,0,0,0,0]
[null,0,null,0,null,null,null,0,0,0,0]
[null,0,null,0,null,null,null,0,0,0,0]
[null,0,null,0,null,null,null,0,0,0,0]
[null,0,null,0,null,null,null,0,0,0,0]
[null,0,null,0,null,null,null,0,0,0,0]
[null,0,null,0,null,null,null,0,0,0,0]
[null,0,null,0,null,null,null,0,0,0,0]
[null,0,null,0,null,null,null,0,0,0,0]
[null,0,null,0,null,null,null,0,0,0,0]
[null,0,null,0,null,null,null,0,0,0,0]
[null,0,null,0,null,null,null,0,0,0,0]
[null,0,null,0,null,null,null,0,0,0,0]
[null,0,null,0,null,null,null,0,0,0,0]
[null,0,null,0,null,null,null,0,0,0,0]
[null,0,null,0,null,null,null,0,0,0,0]
[null,0,null,0,null,null,null,0,0,0,0]
[null,0,null,0,null,null,null,0,0,0,0]
[null,0,null,0,null,null,null,0,0,0,0]
[null,0,null,0,null,null,null,0,0,0,0]
[null,0,null,0,null,null,null,0,0,0,0]
[null,0,null,0,null,null,null,0,0,0,0]
[null,0,null,0,null,null,null,0,0,0,0]
[null,0,null,0,null,null,null,0,0,0,0]
[null,0,null,0,null,null,null,0,0,0,0]
[null,0,null,0,null,null,null,0,0,0,0]
[null,0,null,0,null,null,null,0,0,0,0]
[null,0,null,0,null,null,null,0,0,0,0]
[null,0,null,0,null,null,null,0,0,0,0]
[null,0,null,0,null,null,null,0,0,0,0]
[null,0,null,0,null,null,null,0,0,0,0]
[null,0,null,0,null,null,null,0,0,0,0]
[null,0,null,0,null,null,null,0,0,0,0]
[null,0,null,0,null,null,null,0,0,0,0]
[null,0,null,0,null,null,null,0,0,0,0]
[null,0,null,0,null,null,null,0,0,0,0]
[null,0,null,0,null,null,null,0,0,0,0]
[null,0,null,0,null,null,null,0,0,0,0]
[null,0,null,0,null,null,null,0,0,0,0]
[null,0,null,0,null,null,null,0,0,0,0]
[null,0,null,0,null,null,null,0,0,0,0]
[null,0,null,0,null,null,null,0,0,0,0]
[null,0,null,0,null,null,null,0,0,0,0]
[null,0,null,0,null,null,null,0,0,0,0]
[null,0,null,0,null,null,null,0,0,0,0]
[null,0,null,0,null,null,null,0,0,0,0]
[null,0,null,0,null,null,null,0,0,0,0]
[null,0,null,0,null,null,null,0,0,0,0]
[null,0,null,0,null,null,null,0,0,0,0]
[null,0,null,0,null,null,null,0,0,0,0]
[null,0,null,0,null,null,null,0,0,0,0]
[null,0,null,0,null,null,null,0,0,0,0]
[null,0,null,0,null,null,null,0,0,0,0]
[null,0,null,0,null,null,null,0,0,0,0]
[null,0,null,0,null,null,null,0,0,0,0]
[null,0,null,0,null,null,null,0,0,0,0]
[null,0,null,0,null,null,null,0,0,0,0]
[null,0,null,0,null,null,null,0,0,0,0]
[null,0,null,0,null,null,null,0,0,0,0]
[null,0,null,0,null,null,null,0,0,0,0]
[null,0,null,0,null,null,null,0,0,0,0]
[null,0,null,0,null,null,null,0,0,0,0]
[null,0,null,0,null,null,null,0,0,0,0]
[null,0,null,0,null,null,null,0,0,0,0]
[null,0,null,0,null,null,null,0,0,0,0]
[null,0,null,0,null,null,null,0,0,0,0]
[null,0,null,0,null,null,null,0,0,0,0]
[null,0,null,0,null,null,null,0,0,0,0]
[null,0,null,0,null,null,null,0,0,0,0]
[null,0,null,0,null,null,null,0,0,0,0]
[null,0,null,0,null,null,null,0,0,0,0]
[null,0,null,0,null,null,null,0,0,0,0]
[null,0,null,0,null,null,null,0,0,0,0]
[null,0,null,0,null,null,null,0,0,0,0]
[null,0,null,0,null,null,null,0,0,0,0]
[null,0,null,0,null,null,null,0,0,0,0]
[null,0,null,0,null,null,null,0,0,0,0]
[null,0,null,0,null,null,null,0,0,0,0]
[null,0,null,0,null,null,null,0,0,0,0]
[null,0,null,0,null,null,null,0,0,0,0]
[null,0,null,0,null,null,null,0,0,0,0]
[null,0,null,0,null,null,null,0,0,0,0]
[null,0,null,0,null,null,null,0,0,0,0]
[null,0,null,0,null,null,null,0,0,0,0]
[null,0,null,0,null,null,null,0,0,0,0]
[null,0,null,0,null,null,null,0,0,0,0]
[null,0,null,0,null,null,null,0,0,0,0]
[null,0,null,0,null,null,null,0,0,0,0]
[null,0,null,0,null,null,null,0,0,0,0]
[null,0,null,0,null,null,null,0,0,0,0]
[null,0,null,0,null,null,null,0,0,0,0]
[null,0,null,0,null,null,null,0,0,0,0]
[null,0,null,0,null,null,null,0,0,0,0]
[null,0,null,0,null,null,null,0,0,0,0]
[null,0,null,0,null,null,null,0,0,0,0]
[null,0,null,0,null,null,null,0,0,0,0]
[null,0,null,0,null,null,null,0,0,0,0]
[null,0,null,0,null,null,null,0,0,0,0]
[null,0,null,0,null,null,null,0,0,0,0]
[null,0,null,0,null,null,null,0,0,0,0]
[null,0,null,0,null,null,null,0,0,0,0]
[null,0,null,0,null,null,null,0,0,0,0]
[null,0,null,0,null,null,null,0,0,0,0]
[null,0,null,0,null,null,null,0,0,0,0]
[null,0,null,0,null,null,null,0,0,0,0]
[null,0,null,0,null,null,null,0,0,0,0]
[null,0,null,0,null,null,null,0,0,0,0]
[null,0,null,0,null,null,null,0,0,0,0]
[null,0,null,0,null,null,null,0,0,0,0]
[null,0,null,0,null,null,null,0,0,0,0]
[null,0,null,0,null,null,null,0,0,0,0]
[null,0,null,0,null,null,null,0,0,0,0]
[null,0,null,0,null,null,null,0,0,0,0]
[null,0,null,0,null,null,null,0,0,0,0]
[null,0,null,0,null,null,null,0,0,0,0]
[null,0,null,0,null,null,null,0,0,0,0]
[null,0,null,0,null,null,null,0,0,0,0]
[null,0,null,0,null,null,null,0,0,0,0]
[null,0,null,0,null,null,null,0,0,0,0]
[null,0,null,0,null,null,null,0,0,0,0]
[null,0,null,0,null,null,null,0,0,0,0]
[null,0,null,0,null,null,null,0,0,0,0]
[null,0,null,0,null,null,null,0,0,0,0]
[null,0,null,0,null,null,null,0,0,0,0]
[null,0,null,0,null,null,null,0,0,0,0]
[null,0,null,0,null,null,null,0,0,0,0]
[null,0,null,0,null,null,null,0,0,0,0]
[null,0,null,0,null,null,null,0,0,0,0]
[null,0,null,0,null,null,null,0,0,0,0]
[null,0,null,0,null,null,null,0,0,0,0]
[null,0,null,0,null,null,null,0,0,0,0]
[null,0,null,0,null,null,null,0,0,0,0]
[null,0,null,0,null,null,null,0,0,0,0]
[null,0,null,0,null,null,null,0,0,0,0]
[null,0,null,0,null,null,null,0,0,0,0]
[null,0,null,0,null,null,null,0,0,0,0]
[null,0,null,0,null,null,null,0,0,0,0]
[null,0,null,0,null,null,null,0,0,0,0]
[null,0,null,0,null,null,null,0,0,0,0]
[null,0,null,0,null,null,null,0,0,0,0]
[null,0,null,0,null,null,null,0,0,0,0]
[null,0,null,0,null,null,null,0,0,0,0]
[null,0,null,0,null,null,null,0,0,0,0]
[null,0,null,0,null,null,null,0,0,0,0]
[null,0,null,0,null,null,null,0,0,0,0]
[null,0,null,0,null,null,null,0,0,0,0]
[null,0,null,0,null,null,null,0,0,0,0]
[null,0,null,0,null,null,null,0,0,0,0]
[null,0,null,0,null,null,null,0,0,0,0]
[null,0,null,0,null,null,null,0,0,0,0]
[null,0,null,0,null,null,null,0,0,0,0]
[null,0,null,0,null,null,null,0,0,0,0]
[null,0,null,0,null,null,null,0,0,0,0]
[null,0,null,0,null,null,null,0,0,0,0]
[null,0,null,0,null,null,null,0,0,0,0]
[null,0,null,0,null,null,null,0,0,0,0]
[null,0,null,0,null,null,null,0,0,0,0]
[null,0,null,0,null,null,null,0,0,0,0]
[null,0,null,0,null,null,null,0,0,0,0]
[null,0,null,0,null,null,null,0,0,0,0]
[null,0,null,0,null,null,null,0,0,0,0]
[null,0,null,0,null,null,null,0,0,0,0]
[null,0,null,0,null,null,null,0,0,0,0]
[null,0,null,0,null,null,null,0,0,0,0]
[null,0,null,0,null,null,null,0,0,0,0]
[null,0,null,0,null,null,null,0,0,0,0]
[null,0,null,0,null,null,null,0,0,0,0]
[null,0,null,0,null,null,null,0,0,0,0]
[null,0,null,0,null,null,null,0,0,0,0]
[null,0,null,0,null,null,null,0,0,0,0]
[null,0,null,0,null,null,null,0,0,0,0]
[null,0,null,0,null,null,null,0,0,0,0]
[null,0,null,0,null,null,null,0,0,0,0]
[null,0,null,0,null,null,null,0,0,0,0]
[null,0,null,0,null,null,null,0,0,0,0]
[null,0,null,0,null,null,null,0,0,0,0]
[null,0,null,0,null,null,null,0,0,0,0]
[null,0,null,0,null,null,null,0,0,0,0]
[null,0,null,0,null,null,null,0,0,0,0]
[null,0,null,0,null,null,null,0,0,0,0]
[null,0,null,0,null,null,null,0,0,0,0]
[null,0,null,0,null,null,null,0,0,0,0]
[null,0,null,0,null,null,null,0,0,0,0]
[null,0,null,0,null,null,null,0,0,0,0]
[null,0,null,0,null,null,null,0,0,0,0]
[null,0,null,0,null,null,null,0,0,0,0]
[null,0,null,0,null,null,null,0,0,0,0]
[null,0,null,0,null,null,null,0,0,0,0]
[null,0,null,0,null,null,null,0,0,0,0]
[null,0,null,0,null,null,null,0,0,0,0]
[null,0,null,0,null,null,null,0,0,0,0]
[null,0,null,0,null,null,null,0,0,0,0]
[null,0,null,0,null,null,null,0,0,0,0]
[null,0,null,0,null,null,null,0,0,0,0]
[null,0,null,0,null,null,null,0,0,0,0]
[null,0,null,0,null,null,null,0,0,0,0]
[null,0,null,0,null,null,null,0,0,0,0]
[null,0,null,0,null,null,null,0,0,0,0]
[null,0,null,0,null,null,null,0,0,0,0]
[null,0,null,0,null,null,null,0,0,0,0]
[null,0,null,0,null,null,null,0,0,0,0]
[null,0,null,0,null,null,null,0,0,0,0]
[null,0,null,0,null,null,null,0,0,0,0]
[null,0,null,0,null,null,null,0,0,0,0]
[null,0,null,0,null,null,null,0,0,0,0]
[null,0,null,0,null,null,null,0,0,0,0]
[null,0,null,0,null,null,null,0,0,0,0]
[null,0,null,0,null,null,null,0,0,0,0]
[null,0,null,0,null,null,null,0,0,0,0]
[null,0,null,0,null,null,null,0,0,0,0]
[null,0,null,0,null,null,null,0,0,0,0]
[null,0,null,0,null,null,null,0,0,0,0]
[null,0,null,0,null,null,null,0,0,0,0]
[null,0,null,0,null,null,null,0,0,0,0]
[null,0,null,0,null,null,null,0,0,0,0]
[null,0,null,0,null,null,null,0,0,0,0]
[null,0,null,0,null,null,null,0,0,0,0]
[null,0,null,0,null,null,null,0,0,0,0]
[null,0,null,0,null,null,null,0,0,0,0]
[null,0,null,0,null,null,null,0,0,0,0]
[null,0,null,0,null,null,null,0,0,0,0]
[null,0,null,0,null,null,null,0,0,0,0]
[null,0,null,0,null,null,null,0,0,0,0]
[null,0,null,0,null,null,null,0,0,0,0]
[null,0,null,0,null,null,null,0,0,0,0]
[null,0,null,0,null,null,null,0,0,0,0]
[null,0,null,0,null,null,null,0,0,0,0]
[null,0,null,0,null,null,null,0,0,0,0]
[null,0,null,0,null,null,null,0,0,0,0]
[null,0,null,0,null,null,null,0,0,0,0]
[null,0,null,0,null,null,null,0,0,0,0]
[null,0,null,0,null,null,null,0,0,0,0]
[null,0,null,0,null,null,null,0,0,0,0]
[null,0,null,0,null,null,null,0,0,0,0]
[null,0,null,0,null,null,null,0,0,0,0]
[null,0,null,0,null,null,null,0,0,0,0]
[null,0,null,0,null,null,null,0,0,0,0]
[null,0,null,0,null,null,null,0,0,0,0]
[null,0,null,0,null,null,null,0,0,0,0]
[null,0,null,0,null,null,null,0,0,0,0]
[null,0,null,0,null,null,null,0,0,0,0]
[null,0,null,0,null,null,null,0,0,0,0]
[null,0,null,0,null,null,null,0,0,0,0]
[null,0,null,0,null,null,null,0,0,0,0]
[null,0,null,0,null,null,null,0,0,0,0]
[null,0,null,0,null,null,null,0,0,0,0]
[null,0,null,0,null,null,null,0,0,0,0]
[null,0,null,0,null,null,null,0,0,0,0]
[null,0,null,0,null,null,null,0,0,0,0]
[null,0,null,0,null,null,null,0,0,0,0]
[null,0,null,0,null,null,null,0,0,0,0]
[null,0,null,0,null,null,null,0,0,0,0]
[null,0,null,0,null,null,null,0,0,0,0]
[null,0,null,0,null,null,null,0,0,0,0]
[null,0,null,0,null,null,null,0,0,0,0]
[null,0,null,0,null,null,null,0,0,0,0]
[null,0,null,0,null,null,null,0,0,0,0]
[null,0,null,0,null,null,null,0,0,0,0]
[null,0,null,0,null,null,null,0,0,0,0]
[null,0,null,0,null,null,null,0,0,0,0]
[null,0,null,0,null,null,null,0,0,0,0]
[null,0,null,0,null,null,null,0,0,0,0]
[null,0,null,0,null,null,null,0,0,0,0]
[null,0,null,0,null,null,null,0,0,0,0]
[null,0,null,0,null,null,null,0,0,0,0]
[null,0,null,0,null,null,null,0,0,0,0]
[null,0,null,0,null,null,null,0,0,0,0]
[null,0,null,0,null,null,null,0,0,0,0]
[null,0,null,0,null,null,null,0,0,0,0]
[null,0,null,0,null,null,null,0,0,0,0]
[null,0,null,0,null,null,null,0,0,0,0]
[null,0,null,0,null,null,null,0,0,0,0]
[null,0,null,0,null,null,null,0,0,0,0]
[null,0,null,0,null,null,null,0,0,0,0]
[null,0,null,0,null,null,null,0,0,0,0]
[null,0,null,0,null,null,null,0,0,0,0]
[null,0,null,0,null,null,null,0,0,0,0]
[null,0,null,0,null,null,null,0,0,0,0]
[null,0,null,0,null,null,null,0,0,0,0]
[null,0,null,0,null,null,null,0,0,0,0]
[null,0,null,0,null,null,null,0,0,0,0]
[null,0,null,0,null,null,null,0,0,0,0]
[null,0,null,0,null,null,null,0,0,0,0]
[null,0,null,0,null,null,null,0,0,0,0]
[null,0,null,0,null,null,null,0,0,0,0]
[null,0,null,0,null,null,null,0,0,0,0]
[null,0,null,0,null,null,null,0,0,0,0]
[null,0,null,0,null,null,null,0,0,0,0]
[null,0,null,0,null,null,null,0,0,0,0]
[null,0,null,0,null,null,null,0,0,0,0]
[null,0,null,0,null,null,null,0,0,0,0]
[null,0,null,0,null,null,null,0,0,0,0]
[null,0,null,0,null,null,null,0,0,0,0]
[null,0,null,0,null,null,null,0,0,0,0]
[null,0,null,0,null,null,null,0,0,0,0]
[null,0,null,0,null,null,null,0,0,0,0]
[null,0,null,0,null,null,null,0,0,0,0]
[null,0,null,0,null,null,null,0,0,0,0]
[null,0,null,0,null,null,null,0,0,0,0]
[null,0,null,0,null,null,null,0,0,0,0]
[null,0,null,0,null,null,null,0,0,0,0]
[null,0,null,0,null,null,null,0,0,0,0]
[null,0,null,0,null,null,null,0,0,0,0]
[null,0,null,0,null,null,null,0,0,0,0]
[null,0,null,0,null,null,null,0,0,0,0]
[null,0,null,0,null,null,null,0,0,0,0]
[null,0,null,0,null,null,null,0,0,0,0]
[null,0,null,0,null,null,null,0,0,0,0]
[null,0,null,0,null,null,null,0,0,0,0]
[null,0,null,0,null,null,null,0,0,0,0]
[null,0,null,0,null,null,null,0,0,0,0]
[null,0,null,0,null,null,null,0,0,0,0]
[null,0,null,0,null,null,null,0,0,0,0]
[null,0,null,0,null,null,null,0,0,0,0]
[null,0,null,0,null,null,null,0,0,0,0]
[null,0,null,0,null,null,null,0,0,0,0]
[null,0,null,0,null,null,null,0,0,0,0]
[null,0,null,0,null,null,null,0,0,0,0]
[null,0,null,0,null,null,null,0,0,0,0]
[null,0,null,0,null,null,null,0,0,0,0]
[null,0,null,0,null,null,null,0,0,0,0]
[null,0,null,0,null,null,null,0,0,0,0]
[null,0,null,0,null,null,null,0,0,0,0]
[null,0,null,0,null,null,null,0,0,0,0]
[null,0,null,0,null,null,null,0,0,0,0]
[null,0,null,0,null,null,null,0,0,0,0]
[null,0,null,0,null,null,null,0,0,0,0]
[null,0,null,0,null,null,null,0,0,0,0]
[null,0,null,0,null,null,null,0,0,0,0]
[null,0,null,0,null,null,null,0,0,0,0]
[null,0,null,0,null,null,null,0,0,0,0]
[null,0,null,0,null,null,null,0,0,0,0]
[null,0,null,0,null,null,null,0,0,0,0]
[null,0,null,0,null,null,null,0,0,0,0]
[null,0,null,0,null,null,null,0,0,0,0]
[null,0,null,0,null,null,null,0,0,0,0]
[null,0,null,0,null,null,null,0,0,0,0]
[null,0,null,0,null,null,null,0,0,0,0]
[null,0,null,0,null,null,null,0,0,0,0]
[null,0,null,0,null,null,null,0,0,0,0]
[null,0,null,0,null,null,null,0,0,0,0]
[null,0,null,0,null,null,null,0,0,0,0]
[null,0,null,0,null,null,null,0,0,0,0]
[null,0,null,0,null,null,null,0,0,0,0]
[null,0,null,0,null,null,null,0,0,0,0]
[null,0,null,0,null,null,null,0,0,0,0]
[null,0,null,0,null,null,null,0,0,0,0]
[null,0,null,0,null,null,null,0,0,0,0]
[null,0,null,0,null,null,null,0,0,0,0]
[null,0,null,0,null,null,null,0,0,0,0]
[null,0,null,0,null,null,null,0,0,0,0]
[null,0,null,0,null,null,null,0,0,0,0]
[null,0,null,0,null,null,null,0,0,0,0]
[null,0,null,0,null,null,null,0,0,0,0]
[null,0,null,0,null,null,null,0,0,0,0]
[null,0,null,0,null,null,null,0,0,0,0]
[null,0,null,0,null,null,null,0,0,0,0]
[null,0,null,0,null,null,null,0,0,0,0]
[null,0,null,0,null,null,null,0,0,0,0]
[null,0,null,0,null,null,null,0,0,0,0]
[null,0,null,0,null,null,null,0,0,0,0]
[null,0,null,0,null,null,null,0,0,0,0]
[null,0,null,0,null,null,null,0,0,0,0]
[null,0,null,0,null,null,null,0,0,0,0]
[null,0,null,0,null,null,null,0,0,0,0]
[null,0,null,0,null,null,null,0,0,0,0]
[null,0,null,0,null,null,null,0,0,0,0]
[null,0,null,0,null,null,null,0,0,0,0]
[null,0,null,0,null,null,null,0,0,0,0]
[null,0,null,0,null,null,null,0,0,0,0]
[null,0,null,0,null,null,null,0,0,0,0]
[null,0,null,0,null,null,null,0,0,0,0]
[null,0,null,0,null,null,null,0,0,0,0]
[null,0,null,0,null,null,null,0,0,0,0]
[null,0,null,0,null,null,null,0,0,0,0]
[null,0,null,0,null,null,null,0,0,0,0]
[null,0,null,0,null,null,null,0,0,0,0]
[null,0,null,0,null,null,null,0,0,0,0]
[null,0,null,0,null,null,null,0,0,0,0]
[null,0,null,0,null,null,null,0,0,0,0]
[null,0,null,0,null,null,null,0,0,0,0]
[null,0,null,0,null,null,null,0,0,0,0]
[null,0,null,0,null,null,null,0,0,0,0]
[null,0,null,0,null,null,null,0,0,0,0]
[null,0,null,0,null,null,null,0,0,0,0]
[null,0,null,0,null,null,null,0,0,0,0]
[null,0,null,0,null,null,null,0,0,0,0]
[null,0,null,0,null,null,null,0,0,0,0]
[null,0,null,0,null,null,null,0,0,0,0]
[null,0,null,0,null,null,null,0,0,0,0]
[null,0,null,0,null,null,null,0,0,0,0]
[null,0,null,0,null,null,null,0,0,0,0]
[null,0,null,0,null,null,null,0,0,0,0]
[null,0,null,0,null,null,null,0,0,0,0]
[null,0,null,0,null,null,null,0,0,0,0]
[null,0,null,0,null,null,null,0,0,0,0]
[null,0,null,0,null,null,null,0,0,0,0]
[null,0,null,0,null,null,null,0,0,0,0]
[null,0,null,0,null,null,null,0,0,0,0]
[null,0,null,0,null,null,null,0,0,0,0]
[null,0,null,0,null,null,null,0,0,0,0]
[null,0,null,0,null,null,null,0,0,0,0]
[null,0,null,0,null,null,null,0,0,0,0]
[null,0,null,0,null,null,null,0,0,0,0]
[null,0,null,0,null,null,null,0,0,0,0]
[null,0,null,0,null,null,null,0,0,0,0]
[null,0,null,0,null,null,null,0,0,0,0]
[null,0,null,0,null,null,null,0,0,0,0]
[null,0,null,0,null,null,null,0,0,0,0]
[null,0,null,0,null,null,null,0,0,0,0]
[null,0,null,0,null,null,null,0,0,0,0]
[null,0,null,0,null,null,null,0,0,0,0]
[null,0,null,0,null,null,null,0,0,0,0]
[null,0,null,0,null,null,null,0,0,0,0]
[null,0,null,0,null,null,null,0,0,0,0]
[null,0,null,0,null,null,null,0,0,0,0]
[null,0,null,0,null,null,null,0,0,0,0]
[null,0,null,0,null,null,null,0,0,0,0]
[null,0,null,0,null,null,null,0,0,0,0]
[null,0,null,0,null,null,null,0,0,0,0]
[null,0,null,0,null,null,null,0,0,0,0]
[null,0,null,0,null,null,null,0,0,0,0]
[null,0,null,0,null,null,null,0,0,0,0]
[null,0,null,0,null,null,null,0,0,0,0]
[null,0,null,0,null,null,null,0,0,0,0]
[null,0,null,0,null,null,null,0,0,0,0]
[null,0,null,0,null,null,null,0,0,0,0]
[null,0,null,0,null,null,null,0,0,0,0]
[null,0,null,0,null,null,null,0,0,0,0]
[null,0,null,0,null,null,null,0,0,0,0]
[null,0,null,0,null,null,null,0,0,0,0]
[null,0,null,0,null,null,null,0,0,0,0]
[null,0,null,0,null,null,null,0,0,0,0]
[null,0,null,0,null,null,null,0,0,0,0]
[null,0,null,0,null,null,null,0,0,0,0]
[null,0,null,0,null,null,null,0,0,0,0]
[null,0,null,0,null,null,null,0,0,0,0]
[null,0,null,0,null,null,null,0,0,0,0]
[null,0,null,0,null,null,null,0,0,0,0]
[null,0,null,0,null,null,null,0,0,0,0]
[null,0,null,0,null,null,null,0,0,0,0]
[null,0,null,0,null,null,null,0,0,0,0]
[null,0,null,0,null,null,null,0,0,0,0]
[null,0,null,0,null,null,null,0,0,0,0]
[null,0,null,0,null,null,null,0,0,0,0]
[null,0,null,0,null,null,null,0,0,0,0]
[null,0,null,0,null,null,null,0,0,0,0]
[null,0,null,0,null,null,null,0,0,0,0]
[null,0,null,0,null,null,null,0,0,0,0]
[null,0,null,0,null,null,null,0,0,0,0]
[null,0,null,0,null,null,null,0,0,0,0]
[null,0,null,0,null,null,null,0,0,0,0]
[null,0,null,0,null,null,null,0,0,0,0]
[null,0,null,0,null,null,null,0,0,0,0]
[null,0,null,0,null,null,null,0,0,0,0]
[null,0,null,0,null,null,null,0,0,0,0]
[null,0,null,0,null,null,null,0,0,0,0]
[null,0,null,0,null,null,null,0,0,0,0]
[null,0,null,0,null,null,null,0,0,0,0]
[null,0,null,0,null,null,null,0,0,0,0]
[null,0,null,0,null,null,null,0,0,0,0]
[null,0,null,0,null,null,null,0,0,0,0]
[null,0,null,0,null,null,null,0,0,0,0]
[null,0,null,0,null,null,null,0,0,0,0]
[null,0,null,0,null,null,null,0,0,0,0]
[null,0,null,0,null,null,null,0,0,0,0]
[null,0,null,0,null,null,null,0,0,0,0]
[null,0,null,0,null,null,null,0,0,0,0]
[null,0,null,0,null,null,null,0,0,0,0]
[null,0,null,0,null,null,null,0,0,0,0]
[null,0,null,0,null,null,null,0,0,0,0]
[null,0,null,0,null,null,null,0,0,0,0]
[null,0,null,0,null,null,null,0,0,0,0]
[null,0,null,0,null,null,null,0,0,0,0]
[null,0,null,0,null,null,null,0,0,0,0]
[null,0,null,0,null,null,null,0,0,0,0]
[null,0,null,0,null,null,null,0,0,0,0]
[null,0,null,0,null,null,null,0,0,0,0]
[null,0,null,0,null,null,null,0,0,0,0]
[null,0,null,0,null,null,null,0,0,0,0]
[null,0,null,0,null,null,null,0,0,0,0]
[null,0,null,0,null,null,null,0,0,0,0]
[null,0,null,0,null,null,null,0,0,0,0]
[null,0,null,0,null,null,null,0,0,0,0]
[null,0,null,0,null,null,null,0,0,0,0]
[null,0,null,0,null,null,null,0,0,0,0]
[null,0,null,0,null,null,null,0,0,0,0]
[null,0,null,0,null,null,null,0,0,0,0]
[null,0,null,0,null,null,null,0,0,0,0]
[null,0,null,0,null,null,null,0,0,0,0]
[null,0,null,0,null,null,null,0,0,0,0]
[null,0,null,0,null,null,null,0,0,0,0]
[null,0,null,0,null,null,null,0,0,0,0]
[null,0,null,0,null,null,null,0,0,0,0]
[null,0,null,0,null,null,null,0,0,0,0]
[null,0,null,0,null,null,null,0,0,0,0]
[null,0,null,0,null,null,null,0,0,0,0]
[null,0,null,0,null,null,null,0,0,0,0]
[null,0,null,0,null,null,null,0,0,0,0]
[null,0,null,0,null,null,null,0,0,0,0]
[null,0,null,0,null,null,null,0,0,0,0]
[null,0,null,0,null,null,null,0,0,0,0]
[null,0,null,0,null,null,null,0,0,0,0]
[null,0,null,0,null,null,null,0,0,0,0]
[null,0,null,0,null,null,null,0,0,0,0]
[null,0,null,0,null,null,null,0,0,0,0]
[null,0,null,0,null,null,null,0,0,0,0]
[null,0,null,0,null,null,null,0,0,0,0]
[null,0,null,0,null,null,null,0,0,0,0]
[null,0,null,0,null,null,null,0,0,0,0]
[null,0,null,0,null,null,null,0,0,0,0]
[null,0,null,0,null,null,null,0,0,0,0]
[null,0,null,0,null,null,null,0,0,0,0]
[null,0,null,0,null,null,null,0,0,0,0]
[null,0,null,0,null,null,null,0,0,0,0]
[null,0,null,0,null,null,null,0,0,0,0]
[null,0,null,0,null,null,null,0,0,0,0]
[null,0,null,0,null,null,null,0,0,0,0]
[null,0,null,0,null,null,null,0,0,0,0]
[null,0,null,0,null,null,null,0,0,0,0]
[null,0,null,0,null,null,null,0,0,0,0]
[null,0,null,0,null,null,null,0,0,0,0]
[null,0,null,0,null,null,null,0,0,0,0]
[null,0,null,0,null,null,null,0,0,0,0]
[null,0,null,0,null,null,null,0,0,0,0]
[null,0,null,0,null,null,null,0,0,0,0]
[null,0,null,0,null,null,null,0,0,0,0]
[null,0,null,0,null,null,null,0,0,0,0]
[null,0,null,0,null,null,null,0,0,0,0]
[null,0,null,0,null,null,null,0,0,0,0]
[null,0,null,0,null,null,null,0,0,0,0]
[null,0,null,0,null,null,null,0,0,0,0]
[null,0,null,0,null,null,null,0,0,0,0]
[null,0,null,0,null,null,null,0,0,0,0]
[null,0,null,0,null,null,null,0,0,0,0]
[null,0,null,0,null,null,null,0,0,0,0]
[null,0,null,0,null,null,null,0,0,0,0]
[null,0,null,0,null,null,null,0,0,0,0]
[null,0,null,0,null,null,null,0,0,0,0]
[null,0,null,0,null,null,null,0,0,0,0]
[null,0,null,0,null,null,null,0,0,0,0]
[null,0,null,0,null,null,null,0,0,0,0]
[null,0,null,0,null,null,null,0,0,0,0]
[null,0,null,0,null,null,null,0,0,0,0]
[null,0,null,0,null,null,null,0,0,0,0]
[null,0,null,0,null,null,null,0,0,0,0]
[null,0,null,0,null,null,null,0,0,0,0]
[null,0,null,0,null,null,null,0,0,0,0]
[null,0,null,0,null,null,null,0,0,0,0]
[null,0,null,0,null,null,null,0,0,0,0]
[null,0,null,0,null,null,null,0,0,0,0]
[null,0,null,0,null,null,null,0,0,0,0]
[null,0,null,0,null,null,null,0,0,0,0]
[null,0,null,0,null,null,null,0,0,0,0]
[null,0,null,0,null,null,null,0,0,0,0]
[null,0,null,0,null,null,null,0,0,0,0]
[null,0,null,0,null,null,null,0,0,0,0]
[null,0,null,0,null,null,null,0,0,0,0]
[null,0,null,0,null,null,null,0,0,0,0]
[null,0,null,0,null,null,null,0,0,0,0]
[null,0,null,0,null,null,null,0,0,0,0]
[null,0,null,0,null,null,null,0,0,0,0]
[null,0,null,0,null,null,null,0,0,0,0]
[null,0,null,0,null,null,null,0,0,0,0]
[null,0,null,0,null,null,null,0,0,0,0]
[null,0,null,0,null,null,null,0,0,0,0]
[null,0,null,0,null,null,null,0,0,0,0]
[null,0,null,0,null,null,null,0,0,0,0]
[null,0,null,0,null,null,null,0,0,0,0]
[null,0,null,0,null,null,null,0,0,0,0]
[null,0,null,0,null,null,null,0,0,0,0]
[null,0,null,0,null,null,null,0,0,0,0]
[null,0,null,0,null,null,null,0,0,0,0]
[null,0,null,0,null,null,null,0,0,0,0]
[null,0,null,0,null,null,null,0,0,0,0]
[null,0,null,0,null,null,null,0,0,0,0]
[null,0,null,0,null,null,null,0,0,0,0]
[null,0,null,0,null,null,null,0,0,0,0]
[null,0,null,0,null,null,null,0,0,0,0]
[null,0,null,0,null,null,null,0,0,0,0]
[null,0,null,0,null,null,null,0,0,0,0]
[null,0,null,0,null,null,null,0,0,0,0]
[null,0,null,0,null,null,null,0,0,0,0]
[null,0,null,0,null,null,null,0,0,0,0]
[null,0,null,0,null,null,null,0,0,0,0]
[null,0,null,0,null,null,null,0,0,0,0]
[null,0,null,0,null,null,null,0,0,0,0]
[null,0,null,0,null,null,null,0,0,0,0]
[null,0,null,0,null,null,null,0,0,0,0]
[null,0,null,0,null,null,null,0,0,0,0]
[null,0,null,0,null,null,null,0,0,0,0]
[null,0,null,0,null,null,null,0,0,0,0]
[null,0,null,0,null,null,null,0,0,0,0]
[null,0,null,0,null,null,null,0,0,0,0]
[null,0,null,0,null,null,null,0,0,0,0]
[null,0,null,0,null,null,null,0,0,0,0]
[null,0,null,0,null,null,null,0,0,0,0]
[null,0,null,0,null,null,null,0,0,0,0]
[null,0,null,0,null,null,null,0,0,0,0]
[null,0,null,0,null,null,null,0,0,0,0]
[null,0,null,0,null,null,null,0,0,0,0]
[null,0,null,0,null,null,null,0,0,0,0]
[null,0,null,0,null,null,null,0,0,0,0]
[null,0,null,0,null,null,null,0,0,0,0]
[null,0,null,0,null,null,null,0,0,0,0]
[null,0,null,0,null,null,null,0,0,0,0]
[null,0,null,0,null,null,null,0,0,0,0]
[null,0,null,0,null,null,null,0,0,0,0]
[null,0,null,0,null,null,null,0,0,0,0]
[null,0,null,0,null,null,null,0,0,0,0]
[null,0,null,0,null,null,null,0,0,0,0]
[null,0,null,0,null,null,null,0,0,0,0]
[null,0,null,0,null,null,null,0,0,0,0]
[null,0,null,0,null,null,null,0,0,0,0]
[null,0,null,0,null,null,null,0,0,0,0]
[null,0,null,0,null,null,null,0,0,0,0]
[null,0,null,0,null,null,null,0,0,0,0]
[null,0,null,0,null,null,null,0,0,0,0]
[null,0,null,0,null,null,null,0,0,0,0]
[null,0,null,0,null,null,null,0,0,0,0]
[null,0,null,0,null,null,null,0,0,0,0]
[null,0,null,0,null,null,null,0,0,0,0]
[null,0,null,0,null,null,null,0,0,0,0]
[null,0,null,0,null,null,null,0,0,0,0]
[null,0,null,0,null,null,null,0,0,0,0]
[null,0,null,0,null,null,null,0,0,0,0]
[null,0,null,0,null,null,null,0,0,0,0]
[null,0,null,0,null,null,null,0,0,0,0]
[null,0,null,0,null,null,null,0,0,0,0]
[null,0,null,0,null,null,null,0,0,0,0]
[null,0,null,0,null,null,null,0,0,0,0]
[null,0,null,0,null,null,null,0,0,0,0]
[null,0,null,0,null,null,null,0,0,0,0]
[null,0,null,0,null,null,null,0,0,0,0]
[null,0,null,0,null,null,null,0,0,0,0]
[null,0,null,0,null,null,null,0,0,0,0]
[null,0,null,0,null,null,null,0,0,0,0]
[null,0,null,0,null,null,null,0,0,0,0]
[null,0,null,0,null,null,null,0,0,0,0]
[null,0,null,0,null,null,null,0,0,0,0]
[null,0,null,0,null,null,null,0,0,0,0]
[null,0,null,0,null,null,null,0,0,0,0]
[null,0,null,0,null,null,null,0,0,0,0]
[null,0,null,0,null,null,null,0,0,0,0]
[null,0,null,0,null,null,null,0,0,0,0]
[null,0,null,0,null,null,null,0,0,0,0]
[null,0,null,0,null,null,null,0,0,0,0]
[null,0,null,0,null,null,null,0,0,0,0]
[null,0,null,0,null,null,null,0,0,0,0]
[null,0,null,0,null,null,null,0,0,0,0]
[null,0,null,0,null,null,null,0,0,0,0]
[null,0,null,0,null,null,null,0,0,0,0]
[null,0,null,0,null,null,null,0,0,0,0]
[null,0,null,0,null,null,null,0,0,0,0]
[null,0,null,0,null,null,null,0,0,0,0]
[null,0,null,0,null,null,null,0,0,0,0]
[null,0,null,0,null,null,null,0,0,0,0]
[null,0,null,0,null,null,null,0,0,0,0]
[null,0,null,0,null,null,null,0,0,0,0]
[null,0,null,0,null,null,null,0,0,0,0]
[null,0,null,0,null,null,null,0,0,0,0]
[null,0,null,0,null,null,null,0,0,0,0]
[null,0,null,0,null,null,null,0,0,0,0]
[null,0,null,0,null,null,null,0,0,0,0]
[null,0,null,0,null,null,null,0,0,0,0]
[null,0,null,0,null,null,null,0,0,0,0]
[null,0,null,0,null,null,null,0,0,0,0]
[null,0,null,0,null,null,null,0,0,0,0]
[null,0,null,0,null,null,null,0,0,0,0]
[null,0,null,0,null,null,null,0,0,0,0]
[null,0,null,0,null,null,null,0,0,0,0]
[null,0,null,0,null,null,null,0,0,0,0]
[null,0,null,0,null,null,null,0,0,0,0]
[null,0,null,0,null,null,null,0,0,0,0]
[null,0,null,0,null,null,null,0,0,0,0]
[null,0,null,0,null,null,null,0,0,0,0]
[null,0,null,0,null,null,null,0,0,0,0]
[null,0,null,0,null,null,null,0,0,0,0]
[null,0,null,0,null,null,null,0,0,0,0]
[null,0,null,0,null,null,null,0,0,0,0]
[null,0,null,0,null,null,null,0,0,0,0]
[null,0,null,0,null,null,null,0,0,0,0]
[null,0,null,0,null,null,null,0,0,0,0]
[null,0,null,0,null,null,null,0,0,0,0]
[null,0,null,0,null,null,null,0,0,0,0]
[null,0,null,0,null,null,null,0,0,0,0]
[null,0,null,0,null,null,null,0,0,0,0]
[null,0,null,0,null,null,null,0,0,0,0]
[null,0,null,0,null,null,null,0,0,0,0]
[null,0,null,0,null,null,null,0,0,0,0]
[null,0,null,0,null,null,null,0,0,0,0]
[null,0,null,0,null,null,null,0,0,0,0]
[null,0,null,0,null,null,null,0,0,0,0]
[null,0,null,0,null,null,null,0,0,0,0]
[null,0,null,0,null,null,null,0,0,0,0]
[null,0,null,0,null,null,null,0,0,0,0]
[null,0,null,0,null,null,null,0,0,0,0]
[null,0,null,0,null,null,null,0,0,0,0]
[null,0,null,0,null,null,null,0,0,0,0]
[null,0,null,0,null,null,null,0,0,0,0]
[null,0,null,0,null,null,null,0,0,0,0]
[null,0,null,0,null,null,null,0,0,0,0]
[null,0,null,0,null,null,null,0,0,0,0]
[null,0,null,0,null,null,null,0,0,0,0]
[null,0,null,0,null,null,null,0,0,0,0]
[null,0,null,0,null,null,null,0,0,0,0]
[null,0,null,0,null,null,null,0,0,0,0]
[null,0,null,0,null,null,null,0,0,0,0]
[null,0,null,0,null,null,null,0,0,0,0]
[null,0,null,0,null,null,null,0,0,0,0]
[null,0,null,0,null,null,null,0,0,0,0]
[null,0,null,0,null,null,null,0,0,0,0]
[null,0,null,0,null,null,null,0,0,0,0]
[null,0,null,0,null,null,null,0,0,0,0]
[null,0,null,0,null,null,null,0,0,0,0]
[null,0,null,0,null,null,null,0,0,0,0]
[null,0,null,0,null,null,null,0,0,0,0]
[null,0,null,0,null,null,null,0,0,0,0]
[null,0,null,0,null,null,null,0,0,0,0]
[null,0,null,0,null,null,null,0,0,0,0]
[null,0,null,0,null,null,null,0,0,0,0]
[null,0,null,0,null,null,null,0,0,0,0]
[null,0,null,0,null,null,null,0,0,0,0]
[null,0,null,0,null,null,null,0,0,0,0]
[null,0,null,0,null,null,null,0,0,0,0]
[null,0,null,0,null,null,null,0,0,0,0]
[null,0,null,0,null,null,null,0,0,0,0]
[null,0,null,0,null,null,null,0,0,0,0]
[null,0,null,0,null,null,null,0,0,0,0]
[null,0,null,0,null,null,null,0,0,0,0]
[null,0,null,0,null,null,null,0,0,0,0]
[null,0,null,0,null,null,null,0,0,0,0]
[null,0,null,0,null,null,null,0,0,0,0]
[null,0,null,0,null,null,null,0,0,0,0]
[null,0,null,0,null,null,null,0,0,0,0]
[null,0,null,0,null,null,null,0,0,0,0]
[null,0,null,0,null,null,null,0,0,0,0]
[null,0,null,0,null,null,null,0,0,0,0]
[null,0,null,0,null,null,null,0,0,0,0]
[null,0,null,0,null,null,null,0,0,0,0]
[null,0,null,0,null,null,null,0,0,0,0]
[null,0,null,0,null,null,null,0,0,0,0]
[null,0,null,0,null,null,null,0,0,0,0]
[null,0,null,0,null,null,null,0,0,0,0]
[null,0,null,0,null,null,null,0,0,0,0]
[null,0,null,0,null,null,null,0,0,0,0]
[null,0,null,0,null,null,null,0,0,0,0]
[null,0,null,0,null,null,null,0,0,0,0]
[null,0,null,0,null,null,null,0,0,0,0]
[null,0,null,0,null,null,null,0,0,0,0]
[null,0,null,0,null,null,null,0,0,0,0]
[null,0,null,0,null,null,null,0,0,0,0]
[null,0,null,0,null,null,null,0,0,0,0]
[null,0,null,0,null,null,null,0,0,0,0]
[null,0,null,0,null,null,null,0,0,0,0]
[null,0,null,0,null,null,null,0,0,0,0]
[null,0,null,0,null,null,null,0,0,0,0]
[null,0,null,0,null,null,null,0,0,0,0]
[null,0,null,0,null,null,null,0,0,0,0]
[null,0,null,0,null,null,null,0,0,0,0]
[null,0,null,0,null,null,null,0,0,0,0]
[null,0,null,0,null,null,null,0,0,0,0]
[null,0,null,0,null,null,null,0,0,0,0]
[null,0,null,0,null,null,null,0,0,0,0]
[null,0,null,0,null,null,null,0,0,0,0]
[null,0,null,0,null,null,null,0,0,0,0]
[null,0,null,0,null,null,null,0,0,0,0]
[null,0,null,0,null,null,null,0,0,0,0]
[null,0,null,0,null,null,null,0,0,0,0]
[null,0,null,0,null,null,null,0,0,0,0]
[null,0,null,0,null,null,null,0,0,0,0]
[null,0,null,0,null,null,null,0,0,0,0]
[null,0,null,0,null,null,null,0,0,0,0]
[null,0,null,0,null,null,null,0,0,0,0]
[null,0,null,0,null,null,null,0,0,0,0]
[null,0,null,0,null,null,null,0,0,0,0]
[null,0,null,0,null,null,null,0,0,0,0]
[null,0,null,0,null,null,null,0,0,0,0]
[null,0,null,0,null,null,null,0,0,0,0]
[null,0,null,0,null,null,null,0,0,0,0]
[null,0,null,0,null,null,null,0,0,0,0]
[null,0,null,0,null,null,null,0,0,0,0]
[null,0,null,0,null,null,null,0,0,0,0]
[null,0,null,0,null,null,null,0,0,0,0]
[null,0,null,0,null,null,null,0,0,0,0]
[null,0,null,0,null,null,null,0,0,0,0]
[null,0,null,0,null,null,null,0,0,0,0]
[null,0,null,0,null,null,null,0,0,0,0]
[null,0,null,0,null,null,null,0,0,0,0]
[null,0,null,0,null,null,null,0,0,0,0]
[null,0,null,0,null,null,null,0,0,0,0]
[null,0,null,0,null,null,null,0,0,0,0]
[null,0,null,0,null,null,null,0,0,0,0]
[null,0,null,0,null,null,null,0,0,0,0]
[null,0,null,0,null,null,null,0,0,0,0]
[null,0,null,0,null,null,null,0,0,0,0]
[null,0,null,0,null,null,null,0,0,0,0]
[null,0,null,0,null,null,null,0,0,0,0]
[null,0,null,0,null,null,null,0,0,0,0]
[null,0,null,0,null,null,null,0,0,0,0]
[null,0,null,0,null,null,null,0,0,0,0]
[null,0,null,0,null,null,null,0,0,0,0]
[null,0,null,0,null,null,null,0,0,0,0]
[null,0,null,0,null,null,null,0,0,0,0]
[null,0,null,0,null,null,null,0,0,0,0]
[null,0,null,0,null,null,null,0,0,0,0]
[null,0,null,0,null,null,null,0,0,0,0]
[null,0,null,0,null,null,null,0,0,0,0]
[null,0,null,0,null,null,null,0,0,0,0]
[null,0,null,0,null,null,null,0,0,0,0]
[null,0,null,0,null,null,null,0,0,0,0]
[null,0,null,0,null,null,null,0,0,0,0]
[null,0,null,0,null,null,null,0,0,0,0]
[null,0,null,0,null,null,null,0,0,0,0]
[null,0,null,0,null,null,null,0,0,0,0]
[null,0,null,0,null,null,null,0,0,0,0]
[null,0,null,0,null,null,null,0,0,0,0]
[null,0,null,0,null,null,null,0,0,0,0]
[null,0,null,0,null,null,null,0,0,0,0]
[null,0,null,0,null,null,null,0,0,0,0]
[null,0,null,0,null,null,null,0,0,0,0]
[null,0,null,0,null,null,null,0,0,0,0]
[null,0,null,0,null,null,null,0,0,0,0]
[null,0,null,0,null,null,null,0,0,0,0]
[null,0,null,0,null,null,null,0,0,0,0]
[null,0,null,0,null,null,null,0,0,0,0]
[null,0,null,0,null,null,null,0,0,0,0]
[null,0,null,0,null,null,null,0,0,0,0]
[null,0,null,0,null,null,null,0,0,0,0]
[null,0,null,0,null,null,null,0,0,0,0]
[null,0,null,0,null,null,null,0,0,0,0]
[null,0,null,0,null,null,null,0,0,0,0]
[null,0,null,0,null,null,null,0,0,0,0]
[null,0,null,0,null,null,null,0,0,0,0]
[null,0,null,0,null,null,null,0,0,0,0]
[null,0,null,0,null,null,null,0,0,0,0]
[null,0,null,0,null,null,null,0,0,0,0]
[null,0,null,0,null,null,null,0,0,0,0]
[null,0,null,0,null,null,null,0,0,0,0]
[null,0,null,0,null,null,null,0,0,0,0]
[null,0,null,0,null,null,null,0,0,0,0]
[null,0,null,0,null,null,null,0,0,0,0]
[null,0,null,0,null,null,null,0,0,0,0]
[null,0,null,0,null,null,null,0,0,0,0]
[null,0,null,0,null,null,null,0,0,0,0]
[null,0,null,0,null,null,null,0,0,0,0]
[null,0,null,0,null,null,null,0,0,0,0]
[null,0,null,0,null,null,null,0,0,0,0]
[null,0,null,0,null,null,null,0,0,0,0]
[null,0,null,0,null,null,null,0,0,0,0]
[null,0,null,0,null,null,null,0,0,0,0]
[null,0,null,0,null,null,null,0,0,0,0]
[null,0,null,0,null,null,null,0,0,0,0]
[null,0,null,0,null,null,null,0,0,0,0]
[null,0,null,0,null,null,null,0,0,0,0]
[null,0,null,0,null,null,null,0,0,0,0]
[null,0,null,0,null,null,null,0,0,0,0]
[null,0,null,0,null,null,null,0,0,0,0]
[null,0,null,0,null,null,null,0,0,0,0]
[null,0,null,0,null,null,null,0,0,0,0]
[null,0,null,0,null,null,null,0,0,0,0]
[null,0,null,0,null,null,null,0,0,0,0]
[null,0,null,0,null,null,null,0,0,0,0]
[null,0,null,0,null,null,null,0,0,0,0]
[null,0,null,0,null,null,null,0,0,0,0]
[null,0,null,0,null,null,null,0,0,0,0]
[null,0,null,0,null,null,null,0,0,0,0]
[null,0,null,0,null,null,null,0,0,0,0]
[null,0,null,0,null,null,null,0,0,0,0]
[null,0,null,0,null,null,null,0,0,0,0]
[null,0,null,0,null,null,null,0,0,0,0]
[null,0,null,0,null,null,null,0,0,0,0]
[null,0,null,0,null,null,null,0,0,0,0]
[null,0,null,0,null,null,null,0,0,0,0]
[null,0,null,0,null,null,null,0,0,0,0]
[null,0,null,0,null,null,null,0,0,0,0]
[null,0,null,0,null,null,null,0,0,0,0]
[null,0,null,0,null,null,null,0,0,0,0]
[null,0,null,0,null,null,null,0,0,0,0]
[null,0,null,0,null,null,null,0,0,0,0]
[null,0,null,0,null,null,null,0,0,0,0]
[null,0,null,0,null,null,null,0,0,0,0]
[null,0,null,0,null,null,null,0,0,0,0]
[null,0,null,0,null,null,null,0,0,0,0]
[null,0,null,0,null,null,null,0,0,0,0]
[null,0,null,0,null,null,null,0,0,0,0]
[null,0,null,0,null,null,null,0,0,0,0]
[null,0,null,0,null,null,null,0,0,0,0]
[null,0,null,0,null,null,null,0,0,0,0]
[null,0,null,0,null,null,null,0,0,0,0]
[null,0,null,0,null,null,null,0,0,0,0]
[null,0,null,0,null,null,null,0,0,0,0]
[null,0,null,0,null,null,null,0,0,0,0]
[null,0,null,0,null,null,null,0,0,0,0]
[null,0,null,0,null,null,null,0,0,0,0]
[null,0,null,0,null,null,null,0,0,0,0]
[null,0,null,0,null,null,null,0,0,0,0]
[null,0,null,0,null,null,null,0,0,0,0]
[null,0,null,0,null,null,null,0,0,0,0]
[null,0,null,0,null,null,null,0,0,0,0]
[null,0,null,0,null,null,null,0,0,0,0]
[null,0,null,0,null,null,null,0,0,0,0]
[null,0,null,0,null,null,null,0,0,0,0]
[null,0,null,0,null,null,null,0,0,0,0]
[null,0,null,0,null,null,null,0,0,0,0]
[null,0,null,0,null,null,null,0,0,0,0]
[null,0,null,0,null,null,null,0,0,0,0]
[null,0,null,0,null,null,null,0,0,0,0]
[null,0,null,0,null,null,null,0,0,0,0]
[null,0,null,0,null,null,null,0,0,0,0]
[null,0,null,0,null,null,null,0,0,0,0]
[null,0,null,0,null,null,null,0,0,0,0]
[null,0,null,0,null,null,null,0,0,0,0]
[null,0,null,0,null,null,null,0,0,0,0]
[null,0,null,0,null,null,null,0,0,0,0]
[null,0,null,0,null,null,null,0,0,0,0]
[null,0,null,0,null,null,null,0,0,0,0]
[null,0,null,0,null,null,null,0,0,0,0]
[null,0,null,0,null,null,null,0,0,0,0]
[null,0,null,0,null,null,null,0,0,0,0]
[null,0,null,0,null,null,null,0,0,0,0]
[null,0,null,0,null,null,null,0,0,0,0]
[null,0,null,0,null,null,null,0,0,0,0]
[null,0,null,0,null,null,null,0,0,0,0]
[null,0,null,0,null,null,null,0,0,0,0]
[null,0,null,0,null,null,null,0,0,0,0]
[null,0,null,0,null,null,null,0,0,0,0]
[null,0,null,0,null,null,null,0,0,0,0]
[null,0,null,0,null,null,null,0,0,0,0]
[null,0,null,0,null,null,null,0,0,0,0]
[null,0,null,0,null,null,null,0,0,0,0]
[null,0,null,0,null,null,null,0,0,0,0]
[null,0,null,0,null,null,null,0,0,0,0]
[null,0,null,0,null,null,null,0,0,0,0]
[null,0,null,0,null,null,null,0,0,0,0]
[null,0,null,0,null,null,null,0,0,0,0]
[null,0,null,0,null,null,null,0,0,0,0]
[null,0,null,0,null,null,null,0,0,0,0]
[null,0,null,0,null,null,null,0,0,0,0]
[null,0,null,0,null,null,null,0,0,0,0]
[null,0,null,0,null,null,null,0,0,0,0]
[null,0,null,0,null,null,null,0,0,0,0]
[null,0,null,0,null,null,null,0,0,0,0]
[null,0,null,0,null,null,null,0,0,0,0]
[null,0,null,0,null,null,null,0,0,0,0]
[null,0,null,0,null,null,null,0,0,0,0]
[null,0,null,0,null,null,null,0,0,0,0]
[null,0,null,0,null,null,null,0,0,0,0]
[null,0,null,0,null,null,null,0,0,0,0]
[null,0,null,0,null,null,null,0,0,0,0]
[null,0,null,0,null,null,null,0,0,0,0]
[null,0,null,0,null,null,null,0,0,0,0]
[null,0,null,0,null,null,null,0,0,0,0]
[null,0,null,0,null,null,null,0,0,0,0]
[null,0,null,0,null,null,null,0,0,0,0]
[null,0,null,0,null,null,null,0,0,0,0]
[null,0,null,0,null,null,null,0,0,0,0]
[null,0,null,0,null,null,null,0,0,0,0]
[null,0,null,0,null,null,null,0,0,0,0]
[null,0,null,0,null,null,null,0,0,0,0]
[null,0,null,0,null,null,null,0,0,0,0]
[null,0,null,0,null,null,null,0,0,0,0]
[null,0,null,0,null,null,null,0,0,0,0]
[null,0,null,0,null,null,null,0,0,0,0]
[null,0,null,0,null,null,null,0,0,0,0]
[null,0,null,0,null,null,null,0,0,0,0]
[null,0,null,0,null,null,null,0,0,0,0]
[null,0,null,0,null,null,null,0,0,0,0]
[null,0,null,0,null,null,null,0,0,0,0]
[null,0,null,0,null,null,null,0,0,0,0]
[null,0,null,0,null,null,null,0,0,0,0]
[null,0,null,0,null,null,null,0,0,0,0]
[null,0,null,0,null,null,null,0,0,0,0]
[null,0,null,0,null,null,null,0,0,0,0]
[null,0,null,0,null,null,null,0,0,0,0]
[null,0,null,0,null,null,null,0,0,0,0]
[null,0,null,0,null,null,null,0,0,0,0]
[null,0,null,0,null,null,null,0,0,0,0]
[null,0,null,0,null,null,null,0,0,0,0]
[null,0,null,0,null,null,null,0,0,0,0]
[null,0,null,0,null,null,null,0,0,0,0]
[null,0,null,0,null,null,null,0,0,0,0]
[null,0,null,0,null,null,null,0,0,0,0]
[null,0,null,0,null,null,null,0,0,0,0]
[null,0,null,0,null,null,null,0,0,0,0]
[null,0,null,0,null,null,null,0,0,0,0]
[null,0,null,0,null,null,null,0,0,0,0]
[null,0,null,0,null,null,null,0,0,0,0]
[null,0,null,0,null,null,null,0,0,0,0]
[null,0,null,0,null,null,null,0,0,0,0]
[null,0,null,0,null,null,null,0,0,0,0]
[null,0,null,0,null,null,null,0,0,0,0]
[null,0,null,0,null,null,null,0,0,0,0]
[null,0,null,0,null,null,null,0,0,0,0]
[null,0,null,0,null,null,null,0,0,0,0]
[null,0,null,0,null,null,null,0,0,0,0]
[null,0,null,0,null,null,null,0,0,0,0]
[null,0,null,0,null,null,null,0,0,0,0]
[null,0,null,0,null,null,null,0,0,0,0]
[null,0,null,0,null,null,null,0,0,0,0]
[null,0,null,0,null,null,null,0,0,0,0]
[null,0,null,0,null,null,null,0,0,0,0]
[null,0,null,0,null,null,null,0,0,0,0]
[null,0,null,0,null,null,null,0,0,0,0]
[null,0,null,0,null,null,null,0,0,0,0]
[null,0,null,0,null,null,null,0,0,0,0]
[null,0,null,0,null,null,null,0,0,0,0]
[null,0,null,0,null,null,null,0,0,0,0]
[null,0,null,0,null,null,null,0,0,0,0]
[null,0,null,0,null,null,null,0,0,0,0]
[null,0,null,0,null,null,null,0,0,0,0]
[null,0,null,0,null,null,null,0,0,0,0]
[null,0,null,0,null,null,null,0,0,0,0]
[null,0,null,0,null,null,null,0,0,0,0]
[null,0,null,0,null,null,null,0,0,0,0]
[null,0,null,0,null,null,null,0,0,0,0]
[null,0,null,0,null,null,null,0,0,0,0]
[null,0,null,0,null,null,null,0,0,0,0]
[null,0,null,0,null,null,null,0,0,0,0]
[null,0,null,0,null,null,null,0,0,0,0]
[null,0,null,0,null,null,null,0,0,0,0]
[null,0,null,0,null,null,null,0,0,0,0]
[null,0,null,0,null,null,null,0,0,0,0]
[null,0,null,0,null,null,null,0,0,0,0]
[null,0,null,0,null,null,null,0,0,0,0]
[null,0,null,0,null,null,null,0,0,0,0]
[null,0,null,0,null,null,null,0,0,0,0]
[null,0,null,0,null,null,null,0,0,0,0]
[null,0,null,0,null,null,null,0,0,0,0]
[null,0,null,0,null,null,null,0,0,0,0]
[null,0,null,0,null,null,null,0,0,0,0]
[null,0,null,0,null,null,null,0,0,0,0]
[null,0,null,0,null,null,null,0,0,0,0]
[null,0,null,0,null,null,null,0,0,0,0]
[null,0,null,0,null,null,null,0,0,0,0]
[null,0,null,0,null,null,null,0,0,0,0]
[null,0,null,0,null,null,null,0,0,0,0]
[null,0,null,0,null,null,null,0,0,0,0]
[null,0,null,0,null,null,null,0,0,0,0]
[null,0,null,0,null,null,null,0,0,0,0]
[null,0,null,0,null,null,null,0,0,0,0]
[null,0,null,0,null,null,null,0,0,0,0]
[null,0,null,0,null,null,null,0,0,0,0]
[null,0,null,0,null,null,null,0,0,0,0]
[null,0,null,0,null,null,null,0,0,0,0]
[null,0,null,0,null,null,null,0,0,0,0]
[null,0,null,0,null,null,null,0,0,0,0]
[null,0,null,0,null,null,null,0,0,0,0]
[null,0,null,0,null,null,null,0,0,0,0]
[null,0,null,0,null,null,null,0,0,0,0]
[null,0,null,0,null,null,null,0,0,0,0]
[null,0,null,0,null,null,null,0,0,0,0]
[null,0,null,0,null,null,null,0,0,0,0]
[null,0,null,0,null,null,null,0,0,0,0]
[null,0,null,0,null,null,null,0,0,0,0]
[null,0,null,0,null,null,null,0,0,0,0]
[null,0,null,0,null,null,null,0,0,0,0]
[null,0,null,0,null,null,null,0,0,0,0]
[null,0,null,0,null,null,null,0,0,0,0]
[null,0,null,0,null,null,null,0,0,0,0]
[null,0,null,0,null,null,null,0,0,0,0]
[null,0,null,0,null,null,null,0,0,0,0]
[null,0,null,0,null,null,null,0,0,0,0]
[null,0,null,0,null,null,null,0,0,0,0]
[null,0,null,0,null,null,null,0,0,0,0]
[null,0,null,0,null,null,null,0,0,0,0]
[null,0,null,0,null,null,null,0,0,0,0]
[null,0,null,0,null,null,null,0,0,0,0]
[null,0,null,0,null,null,null,0,0,0,0]
[null,0,null,0,null,null,null,0,0,0,0]
[null,0,null,0,null,null,null,0,0,0,0]
[null,0,null,0,null,null,null,0,0,0,0]
[null,0,null,0,null,null,null,0,0,0,0]
[null,0,null,0,null,null,null,0,0,0,0]
[null,0,null,0,null,null,null,0,0,0,0]
[null,0,null,0,null,null,null,0,0,0,0]
[null,0,null,0,null,null,null,0,0,0,0]
[null,0,null,0,null,null,null,0,0,0,0]
[null,0,null,0,null,null,null,0,0,0,0]
[null,0,null,0,null,null,null,0,0,0,0]
[null,0,null,0,null,null,null,0,0,0,0]
[null,0,null,0,null,null,null,0,0,0,0]
[null,0,null,0,null,null,null,0,0,0,0]
[null,0,null,0,null,null,null,0,0,0,0]
[null,0,null,0,null,null,null,0,0,0,0]
[null,0,null,0,null,null,null,0,0,0,0]
[null,0,null,0,null,null,null,0,0,0,0]
[null,0,null,0,null,null,null,0,0,0,0]
[null,0,null,0,null,null,null,0,0,0,0]
[null,0,null,0,null,null,null,0,0,0,0]
[null,0,null,0,null,null,null,0,0,0,0]
[null,0,null,0,null,null,null,0,0,0,0]
[null,0,null,0,null,null,null,0,0,0,0]
[null,0,null,0,null,null,null,0,0,0,0]
[null,0,null,0,null,null,null,0,0,0,0]
[null,0,null,0,null,null,null,0,0,0,0]
[null,0,null,0,null,null,null,0,0,0,0]
[null,0,null,0,null,null,null,0,0,0,0]
[null,0,null,0,null,null,null,0,0,0,0]
[null,0,null,0,null,null,null,0,0,0,0]
[null,0,null,0,null,null,null,0,0,0,0]
[null,0,null,0,null,null,null,0,0,0,0]
[null,0,null,0,null,null,null,0,0,0,0]
[null,0,null,0,null,null,null,0,0,0,0]
[null,0,null,0,null,null,null,0,0,0,0]
[null,0,null,0,null,null,null,0,0,0,0]
[null,0,null,0,null,null,null,0,0,0,0]
[null,0,null,0,null,null,null,0,0,0,0]
[null,0,null,0,null,null,null,0,0,0,0]
[null,0,null,0,null,null,null,0,0,0,0]
[null,0,null,0,null,null,null,0,0,0,0]
[null,0,null,0,null,null,null,0,0,0,0]
[null,0,null,0,null,null,null,0,0,0,0]
[null,0,null,0,null,null,null,0,0,0,0]
[null,0,null,0,null,null,null,0,0,0,0]
[null,0,null,0,null,null,null,0,0,0,0]
[null,0,null,0,null,null,null,0,0,0,0]
[null,0,null,0,null,null,null,0,0,0,0]
[null,0,null,0,null,null,null,0,0,0,0]
[null,0,null,0,null,null,null,0,0,0,0]
[null,0,null,0,null,null,null,0,0,0,0]
[null,0,null,0,null,null,null,0,0,0,0]
[null,0,null,0,null,null,null,0,0,0,0]
[null,0,null,0,null,null,null,0,0,0,0]
[null,0,null,0,null,null,null,0,0,0,0]
[null,0,null,0,null,null,null,0,0,0,0]
[null,0,null,0,null,null,null,0,0,0,0]
[null,0,null,0,null,null,null,0,0,0,0]
[null,0,null,0,null,null,null,0,0,0,0]
[null,0,null,0,null,null,null,0,0,0,0]
[null,0,null,0,null,null,null,0,0,0,0]
[null,0,null,0,null,null,null,0,0,0,0]
[null,0,null,0,null,null,null,0,0,0,0]
[null,0,null,0,null,null,null,0,0,0,0]
[null,0,null,0,null,null,null,0,0,0,0]
[null,0,null,0,null,null,null,0,0,0,0]
[null,0,null,0,null,null,null,0,0,0,0]
[null,0,null,0,null,null,null,0,0,0,0]
[null,0,null,0,null,null,null,0,0,0,0]
[null,0,null,0,null,null,null,0,0,0,0]
[null,0,null,0,null,null,null,0,0,0,0]
[null,0,null,0,null,null,null,0,0,0,0]
[null,0,null,0,null,null,null,0,0,0,0]
[null,0,null,0,null,null,null,0,0,0,0]
[null,0,null,0,null,null,null,0,0,0,0]
[null,0,null,0,null,null,null,0,0,0,0]
[null,0,null,0,null,null,null,0,0,0,0]
[null,0,null,0,null,null,null,0,0,0,0]
[null,0,null,0,null,null,null,0,0,0,0]
[null,0,null,0,null,null,null,0,0,0,0]
[null,0,null,0,null,null,null,0,0,0,0]
[null,0,null,0,null,null,null,0,0,0,0]
[null,0,null,0,null,null,null,0,0,0,0]
[null,0,null,0,null,null,null,0,0,0,0]
[null,0,null,0,null,null,null,0,0,0,0]
[null,0,null,0,null,null,null,0,0,0,0]
[null,0,null,0,null,null,null,0,0,0,0]
[null,0,null,0,null,null,null,0,0,0,0]
[null,0,null,0,null,null,null,0,0,0,0]
[null,0,null,0,null,null,null,0,0,0,0]
[null,0,null,0,null,null,null,0,0,0,0]
[null,0,null,0,null,null,null,0,0,0,0]
[null,0,null,0,null,null,null,0,0,0,0]
[null,0,null,0,null,null,null,0,0,0,0]
[null,0,null,0,null,null,null,0,0,0,0]
[null,0,null,0,null,null,null,0,0,0,0]
[null,0,null,0,null,null,null,0,0,0,0]
[null,0,null,0,null,null,null,0,0,0,0]
[null,0,null,0,null,null,null,0,0,0,0]
[null,0,null,0,null,null,null,0,0,0,0]
[null,0,null,0,null,null,null,0,0,0,0]
[null,0,null,0,null,null,null,0,0,0,0]
[null,0,null,0,null,null,null,0,0,0,0]
[null,0,null,0,null,null,null,0,0,0,0]
[null,0,null,0,null,null,null,0,0,0,0]
[null,0,null,0,null,null,null,0,0,0,0]
[null,0,null,0,null,null,null,0,0,0,0]
[null,0,null,0,null,null,null,0,0,0,0]
[null,0,null,0,null,null,null,0,0,0,0]
[null,0,null,0,null,null,null,0,0,0,0]
[null,0,null,0,null,null,null,0,0,0,0]
[null,0,null,0,null,null,null,0,0,0,0]
[null,0,null,0,null,null,null,0,0,0,0]
[null,0,null,0,null,null,null,0,0,0,0]
[null,0,null,0,null,null,null,0,0,0,0]
[null,0,null,0,null,null,null,0,0,0,0]
[null,0,null,0,null,null,null,0,0,0,0]
[null,0,null,0,null,null,null,0,0,0,0]
[null,0,null,0,null,null,null,0,0,0,0]
[null,0,null,0,null,null,null,0,0,0,0]
[null,0,null,0,null,null,null,0,0,0,0]
[null,0,null,0,null,null,null,0,0,0,0]
[null,0,null,0,null,null,null,0,0,0,0]
[null,0,null,0,null,null,null,0,0,0,0]
[null,0,null,0,null,null,null,0,0,0,0]
[null,0,null,0,null,null,null,0,0,0,0]
[null,0,null,0,null,null,null,0,0,0,0]
[null,0,null,0,null,null,null,0,0,0,0]
[null,0,null,0,null,null,null,0,0,0,0]
[null,0,null,0,null,null,null,0,0,0,0]
[null,0,null,0,null,null,null,0,0,0,0]
[null,0,null,0,null,null,null,0,0,0,0]
[null,0,null,0,null,null,null,0,0,0,0]
[null,0,null,0,null,null,null,0,0,0,0]
[null,0,null,0,null,null,null,0,0,0,0]
[null,0,null,0,null,null,null,0,0,0,0]
[null,0,null,0,null,null,null,0,0,0,0]
[null,0,null,0,null,null,null,0,0,0,0]
[null,0,null,0,null,null,null,0,0,0,0]
[null,0,null,0,null,null,null,0,0,0,0]
[null,0,null,0,null,null,null,0,0,0,0]
[null,0,null,0,null,null,null,0,0,0,0]
[null,0,null,0,null,null,null,0,0,0,0]
[null,0,null,0,null,null,null,0,0,0,0]
[null,0,null,0,null,null,null,0,0,0,0]
[null,0,null,0,null,null,null,0,0,0,0]
[null,0,null,0,null,null,null,0,0,0,0]
[null,0,null,0,null,null,null,0,0,0,0]
[null,0,null,0,null,null,null,0,0,0,0]
[null,0,null,0,null,null,null,0,0,0,0]
[null,0,null,0,null,null,null,0,0,0,0]
[null,0,null,0,null,null,null,0,0,0,0]
[null,0,null,0,null,null,null,0,0,0,0]
[null,0,null,0,null,null,null,0,0,0,0]
[null,0,null,0,null,null,null,0,0,0,0]
[null,0,null,0,null,null,null,0,0,0,0]
[null,0,null,0,null,null,null,0,0,0,0]
[null,0,null,0,null,null,null,0,0,0,0]
[null,0,null,0,null,null,null,0,0,0,0]
[null,0,null,0,null,null,null,0,0,0,0]
[null,0,null,0,null,null,null,0,0,0,0]
[null,0,null,0,null,null,null,0,0,0,0]
[null,0,null,0,null,null,null,0,0,0,0]
[null,0,null,0,null,null,null,0,0,0,0]
[null,0,null,0,null,null,null,0,0,0,0]
[null,0,null,0,null,null,null,0,0,0,0]
[null,0,null,0,null,null,null,0,0,0,0]
[null,0,null,0,null,null,null,0,0,0,0]
[null,0,null,0,null,null,null,0,0,0,0]
[null,0,null,0,null,null,null,0,0,0,0]
[null,0,null,0,null,null,null,0,0,0,0]
[null,0,null,0,null,null,null,0,0,0,0]
[null,0,null,0,null,null,null,0,0,0,0]
[null,0,null,0,null,null,null,0,0,0,0]
[null,0,null,0,null,null,null,0,0,0,0]
[null,0,null,0,null,null,null,0,0,0,0]
[null,0,null,0,null,null,null,0,0,0,0]
[null,0,null,0,null,null,null,0,0,0,0]
[null,0,null,0,null,null,null,0,0,0,0]
[null,0,null,0,null,null,null,0,0,0,0]
[null,0,null,0,null,null,null,0,0,0,0]
[null,0,null,0,null,null,null,0,0,0,0]
[null,0,null,0,null,null,null,0,0,0,0]
[null,0,null,0,null,null,null,0,0,0,0]
[null,0,null,0,null,null,null,0,0,0,0]
[null,0,null,0,null,null,null,0,0,0,0]
[null,0,null,0,null,null,null,0,0,0,0]
[null,0,null,0,null,null,null,0,0,0,0]
[null,0,null,0,null,null,null,0,0,0,0]
[null,0,null,0,null,null,null,0,0,0,0]
[null,0,null,0,null,null,null,0,0,0,0]
[null,0,null,0,null,null,null,0,0,0,0]
[null,0,null,0,null,null,null,0,0,0,0]
[null,0,null,0,null,null,null,0,0,0,0]
[null,0,null,0,null,null,null,0,0,0,0]
[null,0,null,0,null,null,null,0,0,0,0]
[null,0,null,0,null,null,null,0,0,0,0]
[null,0,null,0,null,null,null,0,0,0,0]
[null,0,null,0,null,null,null,0,0,0,0]
[null,0,null,0,null,null,null,0,0,0,0]
[null,0,null,0,null,null,null,0,0,0,0]
[null,0,null,0,null,null,null,0,0,0,0]
[null,0,null,0,null,null,null,0,0,0,0]
[null,0,null,0,null,null,null,0,0,0,0]
[null,0,null,0,null,null,null,0,0,0,0]
[null,0,null,0,null,null,null,0,0,0,0]
[null,0,null,0,null,null,null,0,0,0,0]
[null,0,null,0,null,null,null,0,0,0,0]
[null,0,null,0,null,null,null,0,0,0,0]
[null,0,null,0,null,null,null,0,0,0,0]
[null,0,null,0,null,null,null,0,0,0,0]
[null,0,null,0,null,null,null,0,0,0,0]
[null,0,null,0,null,null,null,0,0,0,0]
[null,0,null,0,null,null,null,0,0,0,0]
[null,0,null,0,null,null,null,0,0,0,0]
[null,0,null,0,null,null,null,0,0,0,0]
[null,0,null,0,null,null,null,0,0,0,0]
[null,0,null,0,null,null,null,0,0,0,0]
[null,0,null,0,null,null,null,0,0,0,0]
[null,0,null,0,null,null,null,0,0,0,0]
[null,0,null,0,null,null,null,0,0,0,0]
[null,0,null,0,null,null,null,0,0,0,0]
[null,0,null,0,null,null,null,0,0,0,0]
[null,0,null,0,null,null,null,0,0,0,0]
[null,0,null,0,null,null,null,0,0,0,0]
[null,0,null,0,null,null,null,0,0,0,0]
[null,0,null,0,null,null,null,0,0,0,0]
[null,0,null,0,null,null,null,0,0,0,0]
[null,0,null,0,null,null,null,0,0,0,0]
[null,0,null,0,null,null,null,0,0,0,0]
[null,0,null,0,null,null,null,0,0,0,0]
[null,0,null,0,null,null,null,0,0,0,0]
[null,0,null,0,null,null,null,0,0,0,0]
[null,0,null,0,null,null,null,0,0,0,0]
[null,0,null,0,null,null,null,0,0,0,0]
[null,0,null,0,null,null,null,0,0,0,0]
[null,0,null,0,null,null,null,0,0,0,0]
[null,0,null,0,null,null,null,0,0,0,0]
[null,0,null,0,null,null,null,0,0,0,0]
[null,0,null,0,null,null,null,0,0,0,0]
[null,0,null,0,null,null,null,0,0,0,0]
[null,0,null,0,null,null,null,0,0,0,0]
[null,0,null,0,null,null,null,0,0,0,0]
[null,0,null,0,null,null,null,0,0,0,0]
[null,0,null,0,null,null,null,0,0,0,0]
[null,0,null,0,null,null,null,0,0,0,0]
[null,0,null,0,null,null,null,0,0,0,0]
[null,0,null,0,null,null,null,0,0,0,0]
[null,0,null,0,null,null,null,0,0,0,0]
[null,0,null,0,null,null,null,0,0,0,0]
[null,0,null,0,null,null,null,0,0,0,0]
[null,0,null,0,null,null,null,0,0,0,0]
[null,0,null,0,null,null,null,0,0,0,0]
[null,0,null,0,null,null,null,0,0,0,0]
[null,0,null,0,null,null,null,0,0,0,0]
[null,0,null,0,null,null,null,0,0,0,0]
[null,0,null,0,null,null,null,0,0,0,0]
[null,0,null,0,null,null,null,0,0,0,0]
[null,0,null,0,null,null,null,0,0,0,0]
[null,0,null,0,null,null,null,0,0,0,0]
[null,0,null,0,null,null,null,0,0,0,0]
[null,0,null,0,null,null,null,0,0,0,0]
[null,0,null,0,null,null,null,0,0,0,0]
[null,0,null,0,null,null,null,0,0,0,0]
[null,0,null,0,null,null,null,0,0,0,0]
[null,0,null,0,null,null,null,0,0,0,0]
[null,0,null,0,null,null,null,0,0,0,0]
[null,0,null,0,null,null,null,0,0,0,0]
[null,0,null,0,null,null,null,0,0,0,0]
[null,0,null,0,null,null,null,0,0,0,0]
[null,0,null,0,null,null,null,0,0,0,0]
[null,0,null,0,null,null,null,0,0,0,0]
[null,0,null,0,null,null,null,0,0,0,0]
[null,0,null,0,null,null,null,0,0,0,0]
[null,0,null,0,null,null,null,0,0,0,0]
[null,0,null,0,null,null,null,0,0,0,0]
[null,0,null,0,null,null,null,0,0,0,0]
[null,0,null,0,null,null,null,0,0,0,0]
[null,0,null,0,null,null,null,0,0,0,0]
[null,0,null,0,null,null,null,0,0,0,0]
[null,0,null,0,null,null,null,0,0,0,0]
[null,0,null,0,null,null,null,0,0,0,0]
[null,0,null,0,null,null,null,0,0,0,0]
[null,0,null,0,null,null,null,0,0,0,0]
[null,0,null,0,null,null,null,0,0,0,0]
[null,0,null,0,null,null,null,0,0,0,0]
[null,0,null,0,null,null,null,0,0,0,0]
[null,0,null,0,null,null,null,0,0,0,0]
[null,0,null,0,null,null,null,0,0,0,0]
[null,0,null,0,null,null,null,0,0,0,0]
[null,0,null,0,null,null,null,0,0,0,0]
[null,0,null,0,null,null,null,0,0,0,0]
[null,0,null,0,null,null,null,0,0,0,0]
[null,0,null,0,null,null,null,0,0,0,0]
[null,0,null,0,null,null,null,0,0,0,0]
[null,0,null,0,null,null,null,0,0,0,0]
[null,0,null,0,null,null,null,0,0,0,0]
[null,0,null,0,null,null,null,0,0,0,0]
[null,0,null,0,null,null,null,0,0,0,0]
[null,0,null,0,null,null,null,0,0,0,0]
[null,0,null,0,null,null,null,0,0,0,0]
[null,0,null,0,null,null,null,0,0,0,0]
[null,0,null,0,null,null,null,0,0,0,0]
[null,0,null,0,null,null,null,0,0,0,0]
[null,0,null,0,null,null,null,0,0,0,0]
[null,0,null,0,null,null,null,0,0,0,0]
[null,0,null,0,null,null,null,0,0,0,0]
[null,0,null,0,null,null,null,0,0,0,0]

{"sheet":"Oppdat","index":12,"n_rows":43,"n_cols":8,"rows_kept":43,"cut":false,"hidden":false,"merged":[[13,1,13,6],[42,0,42,5]]}
[]
[null,"Oppdatering frå tidlegare versjonar - anna næring"]
[]
[null,"Hente tal og opplysningar frå 2021-versjonen:"]
[null,"For å kunne hente opplysningar og statusverdiar frå fjoråret må du fyrst opne fjorårsversjonen (utan å lukke denne),"]
[null,"og deretter gå tilbake her. "]
[null,"Lukk andre opne filer.",null,null,null,"Trykk deretter på knappen:"]
[]
[null,"Oppgradering frå VossN2022A til VOSSN2022B: (Berre aktuelt dersom du har brukt A-versjonen)"]
[null,"For å kunne kopiere dagbok og opplysningar som du har ført i 2022A-versjonen, må du fyrst opne  "]
[null,"2022A-versjonen (utan å lukke denne), og deretter gå tilbake her."]
[]
[null,"Lukk andre opne filer.",null,null,null,"Trykk deretter på knappen:"]
[null,"Dersom du treng meir omfattande hjelp kan du bruke vårt tilbod om FJERNHJELP. Dette må først avtalast med Landbruksdata Voss tlf 56 52 98 55. Ved å laste ned fjernhjelp-program via linken til høgre kan dermed Landbruksdata Voss sjå din skjerm, og styre mus og tastatur. Vilkåret er at du er tilkobla breidband og at du har slått av evt brannmur. Tenesta kan bli fakturert ekstra etter avtale.",null,null,null,null,null,"www.landbruksdata.no"]
[]
[]
[]
[]
[]
[]
[]
[]
[]
[]
[]
[]
[]
[]
[]
[]
[]
[]
[]
[]
[]
[]
[]
[]
[]
[]
[]
[]
["Flytting til Voss-landbruksrekneskap, dersom du også har landbruk:"]